{"text_format":"1","workbook":"xlsx","n_sheets":68,"sheets":["Validation","Instructions","TableOfContents","S1-Start Here","S2","S3","S4","S5","S6","S7","S8","S9","S10","S11","S12","S13","S14","S15","S16","S17","S18","S19","S20","S21","S22","S23","S24","S25","S26","S27","S28","S29","S30","S31","S32","S33","S34","S35","S36","S37","S38","S39","S40","S41","S42","S43","S44","S45","S46","S47","S48","S49","S50","PartnerSearch","FocusAreas","SPcodes","NewPartner","90-2formulas","TRLs","ProgramIDs","Partner validation detail","F Area validation detail","ProjectRecords","FundingRecords","TOC generator worksheet","CHECK DATA FIT","ProjDataInput","FundDataInput"],"not_rendered":{"charts":0,"images":2,"macros":1,"external_links":0,"defined_names":56,"comments":52,"pivot_tables":0},"unopened":[],"bounds":{"document_bytes":16777216,"sheet_cells":100000,"rows_first":2000,"rows_last":500,"rows_between":2000,"halvings":0,"cell_chars":16384,"cell_head_chars":4096},"cells_cut":0,"cells_raw":0,"read":"whole","date_system":"1900"}

{"sheet":"Validation","index":0,"n_rows":930,"n_cols":34,"rows_kept":930,"cut":false,"hidden":false,"merged":[]}
[null,"SPREADSHEET VALIDATION",null,null,null,null,"Mouse-over the headers below to see more information."]
[]
[null,null,null,null,null,null,null,"FIX"]
[]
["#proj no errors",null,null,null,null,null,null,null,null,null,null,null,null,null,null,null,null,null,null,null,"CLASSIFICATION CODES",null,null,null,null,null,null,"FOCUS AREA"]
[{"$f":"SUMIF(H7:H107,\"NO\",A7:A107)","v":0},"TOTAL REQUEST SAME AS SF-424?","TOTA MATCH SAME AS SF-424?","PROG. NAME","Program name selected from drop-down list?","PROJECT NO.","first letter A,C,E,M,P, or R?","Each project has a unique no?","PROJECT TITLE","PD named correctly, with code 180 and proj no. M/?","PI NAMES","the first management project","Is the SG Director the first PI of first M project?","Name format?\nFirst Last\nFirst M. Last\nFirst Middle Last\n(not Last, First)\n(no \"Dr\", etc)","Do the yearly totals on the T.O.C. page equal the totals listed on each 90-2 tab?","Match >50%, overall and each year? ","Abstract present?","Does each research project have a Data Sharing Plan?",null,null,"Project no.","Does every project have at least one code?","\"190-Other\" code avoided?","Literacy codes 230-233 avoided?","\"Future competed\" coded with 171?",null,null,"Project no.","Do all projects have at least one focus area?","Number of errors in Focus Areas (click number to see details)","Number of errors in Partners (click number to see details)"]
[1,{"$f":"TableOfContents!O2","v":0},{"$f":"TableOfContents!P2","v":0},{"$f":"IF(I7=\"\",\"\",ProjectRecords!C3&\"\")","v":""},{"$f":"IF(I7=\"\",\"\",IF(ISERROR(SEARCH(\",\"&D7&\"\",\",AK,CA,CT,DE,FL,GA,GU,HI,IL-IN,LA,LC,ME,MD,MIT,MI,MN,MS-AL,NSGLC,NH,NJ,NY,NC,OH,OR,PA,PR,RI,SC,USC,TX,LC,VA,WA,WI,WHOI,other,\",1)),\"NO\",\"yes\"))","v":""},{"$f":"ProjectRecords!D3&\"\"","v":""},{"$f":"IF(F7=\"\",\"\",IF(ISERROR(SEARCH(LEFT(F7,1),\"ACEMPR\",1)),\"NO\",\"yes\"))","v":""},{"$f":"IF(I7=\"\",\"\",IF(OR(AND(F7=\"\",I7<>\"\"),AND(ROW(I7)<>7,NOT(ISERROR(VLOOKUP(F7,F6:F$7,1,0))))),\"NO\",\"yes\"))","v":""},{"$f":"ProjectRecords!E3&\"\"","v":""},{"$f":"IF(OR((NOT(ISERROR(SEARCH(\"Program Development\",I7)))*100+(LEFT(ProjectRecords!H3,3)=\"180\")*10+(LEFT(ProjectRecords!D3,1)=\"M\")*1)=111,(NOT(ISERROR(SEARCH(\"Program Development\",I7)))*100+(LEFT(ProjectRecords!H3,3)=\"180\")*10+(LEFT(ProjectRecords!D3,1)=\"M\")*1)<=1),\"\",\"NO\")","v":""},{"$f":"SUBSTITUTE(SUBSTITUTE(SUBSTITUTE(ProjectRecords!L3&\"; \"&ProjectRecords!N3&\"; \"&ProjectRecords!P3&\"; \"&ProjectRecords!R3&\"~\",\"; ; \",\"\"),\"; ~\",\"\"),\"~\",\"\")","v":""},{"$f":"IF(LEFT(ProjectRecords!D3,1)=\"m\",IF(L6=1,0,1),0)","v":0},{"$f":"IF(L7=0,\"\",ProjectRecords!L3)","v":""},{"$f":"IF(AND(ISERROR(SEARCH(\"PhD\",ProjectRecords!L3&ProjectRecords!N3&ProjectRecords!P3&ProjectRecords!R3)),ISERROR(SEARCH(\"Dr\",ProjectRecords!L3&ProjectRecords!N3&ProjectRecords!P3&ProjectRecords!R3)),ISERROR(SEARCH(\",\",ProjectRecords!L3&ProjectRecords!N3&ProjectRecords!P3&ProjectRecords!R3))),\"\",\"check\")","v":""},{"$f":"IF(I7=\"\",\"\",IF(AND((TableOfContents!O7=TableOfContents!S7),(TableOfContents!P7=TableOfContents!T7)),\"yes\",\"NO\"))","v":""},{"$f":"IF(I7=\"\",\"\",IF(AND(TableOfContents!H3>=0.5,TableOfContents!J3>=0.5,TableOfContents!L3>=0.5,TableOfContents!P3>=0.5),\"yes\",\"NO\"))","v":""},{"$f":"IF(I7=\"\",\"\",IF(ProjectRecords!I3=\"\",\"NO\",\"yes\"))","v":""},{"$f":"IF(I7=\"\",\"\",IF(LEFT(F7,1)<>\"R\",\"\",IF(ProjectRecords!Z3=\"\",\"NO\",\"yes\")))","v":""},null,null,{"$f":"F7&\"\"","v":""},{"$f":"IF(I7=\"\",\"\",LEFT(ProjectRecords!H3&\"NO\",3))","v":""},{"$f":"IF(ISERROR(SEARCH(\"190\",ProjectRecords!H3)),\"\",\"NO\")","v":""},{"$f":" IF(  (NOT(ISERROR(SEARCH(\"230\",ProjectRecords!H3)))*1 + NOT(ISERROR(SEARCH(\"231\",ProjectRecords!H3))))*1 +  (NOT(ISERROR(SEARCH(\"232\",ProjectRecords!H3)))*1 + NOT(ISERROR(SEARCH(\"233\",ProjectRecords!H3))))*1>0, \"NO\",\"\")","v":""},{"$f":"IF(  (NOT(ISERROR(SEARCH(\"future\",ProjectRecords!E3)))*1 + NOT(ISERROR(SEARCH(\"171\",ProjectRecords!H3))))*1 = 1,\"check\",\"\")","v":""},null,null,{"$f":"F7&\"\"","v":""},{"$f":"IF(I7=\"\",\"\",LEFT(ProjectRecords!F3&\"NO\",4))","v":""},{"$f":"'F Area validation detail'!R1","v":0},{"$f":"'Partner validation detail'!U1","v":0}]
[1,null,null,{"$f":"IF(I8=\"\",\"\",ProjectRecords!C4&\"\")","v":""},{"$f":"IF(I8=\"\",\"\",IF(ISERROR(SEARCH(\",\"&D8&\"\",\",AK,CA,CT,DE,FL,GA,GU,HI,IL-IN,LA,LC,ME,MD,MIT,MI,MN,MS-AL,NSGLC,NH,NJ,NY,NC,OH,OR,PA,PR,RI,SC,USC,TX,LC,VA,WA,WI,WHOI,other,\",1)),\"NO\",\"yes\"))","v":""},{"$f":"ProjectRecords!D4&\"\"","v":""},{"$f":"IF(F8=\"\",\"\",IF(ISERROR(SEARCH(LEFT(F8,1),\"ACEMPR\",1)),\"NO\",\"yes\"))","v":""},{"$f":"IF(I8=\"\",\"\",IF(OR(AND(F8=\"\",I8<>\"\"),AND(ROW(I8)<>7,NOT(ISERROR(VLOOKUP(F8,F7:F$7,1,0))))),\"NO\",\"yes\"))","v":""},{"$f":"ProjectRecords!E4&\"\"","v":""},{"$f":"IF(OR((NOT(ISERROR(SEARCH(\"Program Development\",I8)))*100+(LEFT(ProjectRecords!H4,3)=\"180\")*10+(LEFT(ProjectRecords!D4,1)=\"M\")*1)=111,(NOT(ISERROR(SEARCH(\"Program Development\",I8)))*100+(LEFT(ProjectRecords!H4,3)=\"180\")*10+(LEFT(ProjectRecords!D4,1)=\"M\")*1)<=1),\"\",\"NO\")","v":""},{"$f":"SUBSTITUTE(SUBSTITUTE(SUBSTITUTE(ProjectRecords!L4&\"; \"&ProjectRecords!N4&\"; \"&ProjectRecords!P4&\"; \"&ProjectRecords!R4&\"~\",\"; ; \",\"\"),\"; ~\",\"\"),\"~\",\"\")","v":""},{"$f":"IF(LEFT(ProjectRecords!D4,1)=\"m\",IF(L7=1,0,1),0)","v":0},{"$f":"IF(L8=0,\"\",ProjectRecords!L4)","v":""},{"$f":"IF(AND(ISERROR(SEARCH(\"PhD\",ProjectRecords!L4&ProjectRecords!N4&ProjectRecords!P4&ProjectRecords!R4)),ISERROR(SEARCH(\"Dr\",ProjectRecords!L4&ProjectRecords!N4&ProjectRecords!P4&ProjectRecords!R4)),ISERROR(SEARCH(\",\",ProjectRecords!L4&ProjectRecords!N4&ProjectRecords!P4&ProjectRecords!R4))),\"\",\"check\")","v":""},{"$f":"IF(I8=\"\",\"\",IF(AND((TableOfContents!O8=TableOfContents!S8),(TableOfContents!P8=TableOfContents!T8)),\"yes\",\"NO\"))","v":""},"Percent Research (Federal)",{"$f":"IF(I8=\"\",\"\",IF(ProjectRecords!I4=\"\",\"NO\",\"yes\"))","v":""},{"$f":"IF(I8=\"\",\"\",IF(LEFT(F8,1)<>\"R\",\"\",IF(ProjectRecords!Z4=\"\",\"NO\",\"yes\")))","v":""},null,null,{"$f":"F8&\"\"","v":""},{"$f":"IF(I8=\"\",\"\",LEFT(ProjectRecords!H4&\"NO\",3))","v":""},{"$f":"IF(ISERROR(SEARCH(\"190\",ProjectRecords!H4)),\"\",\"NO\")","v":""},{"$f":" IF(  (NOT(ISERROR(SEARCH(\"230\",ProjectRecords!H4)))*1 + NOT(ISERROR(SEARCH(\"231\",ProjectRecords!H4))))*1 +  (NOT(ISERROR(SEARCH(\"232\",ProjectRecords!H4)))*1 + NOT(ISERROR(SEARCH(\"233\",ProjectRecords!H4))))*1>0, \"NO\",\"\")","v":""},{"$f":"IF(  (NOT(ISERROR(SEARCH(\"future\",ProjectRecords!E4)))*1 + NOT(ISERROR(SEARCH(\"171\",ProjectRecords!H4))))*1 = 1,\"check\",\"\")","v":""},null,null,{"$f":"F8&\"\"","v":""},{"$f":"IF(I8=\"\",\"\",LEFT(ProjectRecords!F4&\"NO\",4))","v":""}]
[1,null,null,{"$f":"IF(I9=\"\",\"\",ProjectRecords!C5&\"\")","v":""},"",{"$f":"ProjectRecords!D5&\"\"","v":""},"",{"$f":"IF(I9=\"\",\"\",IF(OR(AND(F9=\"\",I9<>\"\"),AND(ROW(I9)<>7,NOT(ISERROR(VLOOKUP(F9,F$7:F8,1,0))))),\"NO\",\"yes\"))","v":""},{"$f":"ProjectRecords!E5&\"\"","v":""},{"$f":"IF(OR((NOT(ISERROR(SEARCH(\"Program Development\",I9)))*100+(LEFT(ProjectRecords!H5,3)=\"180\")*10+(LEFT(ProjectRecords!D5,1)=\"M\")*1)=111,(NOT(ISERROR(SEARCH(\"Program Development\",I9)))*100+(LEFT(ProjectRecords!H5,3)=\"180\")*10+(LEFT(ProjectRecords!D5,1)=\"M\")*1)<=1),\"\",\"NO\")","v":""},{"$f":"SUBSTITUTE(SUBSTITUTE(SUBSTITUTE(ProjectRecords!L5&\"; \"&ProjectRecords!N5&\"; \"&ProjectRecords!P5&\"; \"&ProjectRecords!R5&\"~\",\"; ; \",\"\"),\"; ~\",\"\"),\"~\",\"\")","v":""},{"$f":"IF(LEFT(ProjectRecords!D5,1)=\"m\",IF(L8=1,0,1),0)","v":0},{"$f":"IF(L9=0,\"\",ProjectRecords!L5)","v":""},{"$f":"IF(AND(ISERROR(SEARCH(\"PhD\",ProjectRecords!L5&ProjectRecords!N5&ProjectRecords!P5&ProjectRecords!R5)),ISERROR(SEARCH(\"Dr\",ProjectRecords!L5&ProjectRecords!N5&ProjectRecords!P5&ProjectRecords!R5)),ISERROR(SEARCH(\",\",ProjectRecords!L5&ProjectRecords!N5&ProjectRecords!P5&ProjectRecords!R5))),\"\",\"check\")","v":""},{"$f":"IF(I9=\"\",\"\",IF(AND((TableOfContents!O9=TableOfContents!S9),(TableOfContents!P9=TableOfContents!T9)),\"yes\",\"NO\"))","v":""},{"$f":"IF((SUM(TableOfContents!$O$2:$O$2))=0,\"\",(SUMIFS(TableOfContents!$O7:$O56,TableOfContents!$A7:$A56,\"=R/\")/(SUM(TableOfContents!$O$2:$O$2))))","v":""},{"$f":"IF(I9=\"\",\"\",IF(ProjectRecords!I5=\"\",\"NO\",\"yes\"))","v":""},{"$f":"IF(I9=\"\",\"\",IF(LEFT(F9,1)<>\"R\",\"\",IF(ProjectRecords!Z5=\"\",\"NO\",\"yes\")))","v":""},null,null,{"$f":"F9&\"\"","v":""},{"$f":"IF(I9=\"\",\"\",LEFT(ProjectRecords!H5&\"NO\",3))","v":""},{"$f":"IF(ISERROR(SEARCH(\"190\",ProjectRecords!H5)),\"\",\"NO\")","v":""},{"$f":" IF(  (NOT(ISERROR(SEARCH(\"230\",ProjectRecords!H5)))*1 + NOT(ISERROR(SEARCH(\"231\",ProjectRecords!H5))))*1 +  (NOT(ISERROR(SEARCH(\"232\",ProjectRecords!H5)))*1 + NOT(ISERROR(SEARCH(\"233\",ProjectRecords!H5))))*1>0, \"NO\",\"\")","v":""},{"$f":"IF(  (NOT(ISERROR(SEARCH(\"future\",ProjectRecords!E5)))*1 + NOT(ISERROR(SEARCH(\"171\",ProjectRecords!H5))))*1 = 1,\"check\",\"\")","v":""},null,null,"",{"$f":"IF(I9=\"\",\"\",LEFT(ProjectRecords!F5&\"NO\",4))","v":""}]
[1,null,null,{"$f":"IF(I10=\"\",\"\",ProjectRecords!C6&\"\")","v":""},{"$f":"IF(I10=\"\",\"\",IF(ISERROR(SEARCH(\",\"&D10&\"\",\",AK,CA,CT,DE,FL,GA,GU,HI,IL-IN,LA,LC,ME,MD,MIT,MI,MN,MS-AL,NSGLC,NH,NJ,NY,NC,OH,OR,PA,PR,RI,SC,USC,TX,LC,VA,WA,WI,WHOI,other,\",1)),\"NO\",\"yes\"))","v":""},{"$f":"ProjectRecords!D6&\"\"","v":""},"",{"$f":"IF(I10=\"\",\"\",IF(OR(AND(F10=\"\",I10<>\"\"),AND(ROW(I10)<>7,NOT(ISERROR(VLOOKUP(F10,F$7:F9,1,0))))),\"NO\",\"yes\"))","v":""},{"$f":"ProjectRecords!E6&\"\"","v":""},{"$f":"IF(OR((NOT(ISERROR(SEARCH(\"Program Development\",I10)))*100+(LEFT(ProjectRecords!H6,3)=\"180\")*10+(LEFT(ProjectRecords!D6,1)=\"M\")*1)=111,(NOT(ISERROR(SEARCH(\"Program Development\",I10)))*100+(LEFT(ProjectRecords!H6,3)=\"180\")*10+(LEFT(ProjectRecords!D6,1)=\"M\")*1)<=1),\"\",\"NO\")","v":""},{"$f":"SUBSTITUTE(SUBSTITUTE(SUBSTITUTE(ProjectRecords!L6&\"; \"&ProjectRecords!N6&\"; \"&ProjectRecords!P6&\"; \"&ProjectRecords!R6&\"~\",\"; ; \",\"\"),\"; ~\",\"\"),\"~\",\"\")","v":""},{"$f":"IF(LEFT(ProjectRecords!D6,1)=\"m\",IF(L9=1,0,1),0)","v":0},{"$f":"IF(L10=0,\"\",ProjectRecords!L6)","v":""},{"$f":"IF(AND(ISERROR(SEARCH(\"PhD\",ProjectRecords!L6&ProjectRecords!N6&ProjectRecords!P6&ProjectRecords!R6)),ISERROR(SEARCH(\"Dr\",ProjectRecords!L6&ProjectRecords!N6&ProjectRecords!P6&ProjectRecords!R6)),ISERROR(SEARCH(\",\",ProjectRecords!L6&ProjectRecords!N6&ProjectRecords!P6&ProjectRecords!R6))),\"\",\"check\")","v":""},{"$f":"IF(I10=\"\",\"\",IF(AND((TableOfContents!O10=TableOfContents!S10),(TableOfContents!P10=TableOfContents!T10)),\"yes\",\"NO\"))","v":""},"Percent Research (Fed+Match)",{"$f":"IF(I10=\"\",\"\",IF(ProjectRecords!I6=\"\",\"NO\",\"yes\"))","v":""},{"$f":"IF(I10=\"\",\"\",IF(LEFT(F10,1)<>\"R\",\"\",IF(ProjectRecords!Z6=\"\",\"NO\",\"yes\")))","v":""},null,null,{"$f":"F10&\"\"","v":""},{"$f":"IF(I10=\"\",\"\",LEFT(ProjectRecords!H6&\"NO\",3))","v":""},{"$f":"IF(ISERROR(SEARCH(\"190\",ProjectRecords!H6)),\"\",\"NO\")","v":""},{"$f":" IF(  (NOT(ISERROR(SEARCH(\"230\",ProjectRecords!H6)))*1 + NOT(ISERROR(SEARCH(\"231\",ProjectRecords!H6))))*1 +  (NOT(ISERROR(SEARCH(\"232\",ProjectRecords!H6)))*1 + NOT(ISERROR(SEARCH(\"233\",ProjectRecords!H6))))*1>0, \"NO\",\"\")","v":""},{"$f":"IF(  (NOT(ISERROR(SEARCH(\"future\",ProjectRecords!E6)))*1 + NOT(ISERROR(SEARCH(\"171\",ProjectRecords!H6))))*1 = 1,\"check\",\"\")","v":""},null,null,{"$f":"F10&\"\"","v":""},{"$f":"IF(I10=\"\",\"\",LEFT(ProjectRecords!F6&\"NO\",4))","v":""}]
[1,"Did they include a POC?",null,{"$f":"IF(I11=\"\",\"\",ProjectRecords!C7&\"\")","v":""},"",{"$f":"ProjectRecords!D7&\"\"","v":""},"",{"$f":"IF(I11=\"\",\"\",IF(OR(AND(F11=\"\",I11<>\"\"),AND(ROW(I11)<>7,NOT(ISERROR(VLOOKUP(F11,F$7:F10,1,0))))),\"NO\",\"yes\"))","v":""},{"$f":"ProjectRecords!E7&\"\"","v":""},{"$f":"IF(OR((NOT(ISERROR(SEARCH(\"Program Development\",I11)))*100+(LEFT(ProjectRecords!H7,3)=\"180\")*10+(LEFT(ProjectRecords!D7,1)=\"M\")*1)=111,(NOT(ISERROR(SEARCH(\"Program Development\",I11)))*100+(LEFT(ProjectRecords!H7,3)=\"180\")*10+(LEFT(ProjectRecords!D7,1)=\"M\")*1)<=1),\"\",\"NO\")","v":""},{"$f":"SUBSTITUTE(SUBSTITUTE(SUBSTITUTE(ProjectRecords!L7&\"; \"&ProjectRecords!N7&\"; \"&ProjectRecords!P7&\"; \"&ProjectRecords!R7&\"~\",\"; ; \",\"\"),\"; ~\",\"\"),\"~\",\"\")","v":""},{"$f":"IF(LEFT(ProjectRecords!D7,1)=\"m\",IF(L10=1,0,1),0)","v":0},{"$f":"IF(L11=0,\"\",ProjectRecords!L7)","v":""},{"$f":"IF(AND(ISERROR(SEARCH(\"PhD\",ProjectRecords!L7&ProjectRecords!N7&ProjectRecords!P7&ProjectRecords!R7)),ISERROR(SEARCH(\"Dr\",ProjectRecords!L7&ProjectRecords!N7&ProjectRecords!P7&ProjectRecords!R7)),ISERROR(SEARCH(\",\",ProjectRecords!L7&ProjectRecords!N7&ProjectRecords!P7&ProjectRecords!R7))),\"\",\"check\")","v":""},{"$f":"IF(I11=\"\",\"\",IF(AND((TableOfContents!O11=TableOfContents!S11),(TableOfContents!P11=TableOfContents!T11)),\"yes\",\"NO\"))","v":""},{"$f":"IF(SUM(TableOfContents!$O$2:$P$2)=0,\"\",(SUMIFS(TableOfContents!$O7:$O56,TableOfContents!$A7:$A56,\"=R/\")+SUMIFS(TableOfContents!$P7:$P56,TableOfContents!$A7:$A56,\"=R/\"))/(SUM(TableOfContents!$O$2:$P$2)))","v":""},{"$f":"IF(I11=\"\",\"\",IF(ProjectRecords!I7=\"\",\"NO\",\"yes\"))","v":""},{"$f":"IF(I11=\"\",\"\",IF(LEFT(F11,1)<>\"R\",\"\",IF(ProjectRecords!Z7=\"\",\"NO\",\"yes\")))","v":""},null,null,"",{"$f":"IF(I11=\"\",\"\",LEFT(ProjectRecords!H7&\"NO\",3))","v":""},{"$f":"IF(ISERROR(SEARCH(\"190\",ProjectRecords!H7)),\"\",\"NO\")","v":""},{"$f":" IF(  (NOT(ISERROR(SEARCH(\"230\",ProjectRecords!H7)))*1 + NOT(ISERROR(SEARCH(\"231\",ProjectRecords!H7))))*1 +  (NOT(ISERROR(SEARCH(\"232\",ProjectRecords!H7)))*1 + NOT(ISERROR(SEARCH(\"233\",ProjectRecords!H7))))*1>0, \"NO\",\"\")","v":""},{"$f":"IF(  (NOT(ISERROR(SEARCH(\"future\",ProjectRecords!E7)))*1 + NOT(ISERROR(SEARCH(\"171\",ProjectRecords!H7))))*1 = 1,\"check\",\"\")","v":""},null,null,"",{"$f":"IF(I11=\"\",\"\",LEFT(ProjectRecords!F7&\"NO\",4))","v":""}]
[1,{"$f":"IF(LEN(TRIM(TableOfContents!E3))=0,\"NO\",\"Yes\")","v":"NO"},null,{"$f":"IF(I12=\"\",\"\",ProjectRecords!C8&\"\")","v":""},"",{"$f":"ProjectRecords!D8&\"\"","v":""},"",{"$f":"IF(I12=\"\",\"\",IF(OR(AND(F12=\"\",I12<>\"\"),AND(ROW(I12)<>7,NOT(ISERROR(VLOOKUP(F12,F$7:F11,1,0))))),\"NO\",\"yes\"))","v":""},{"$f":"ProjectRecords!E8&\"\"","v":""},{"$f":"IF(OR((NOT(ISERROR(SEARCH(\"Program Development\",I12)))*100+(LEFT(ProjectRecords!H8,3)=\"180\")*10+(LEFT(ProjectRecords!D8,1)=\"M\")*1)=111,(NOT(ISERROR(SEARCH(\"Program Development\",I12)))*100+(LEFT(ProjectRecords!H8,3)=\"180\")*10+(LEFT(ProjectRecords!D8,1)=\"M\")*1)<=1),\"\",\"NO\")","v":""},{"$f":"SUBSTITUTE(SUBSTITUTE(SUBSTITUTE(ProjectRecords!L8&\"; \"&ProjectRecords!N8&\"; \"&ProjectRecords!P8&\"; \"&ProjectRecords!R8&\"~\",\"; ; \",\"\"),\"; ~\",\"\"),\"~\",\"\")","v":""},{"$f":"IF(LEFT(ProjectRecords!D8,1)=\"m\",IF(L11=1,0,1),0)","v":0},{"$f":"IF(L12=0,\"\",ProjectRecords!L8)","v":""},{"$f":"IF(AND(ISERROR(SEARCH(\"PhD\",ProjectRecords!L8&ProjectRecords!N8&ProjectRecords!P8&ProjectRecords!R8)),ISERROR(SEARCH(\"Dr\",ProjectRecords!L8&ProjectRecords!N8&ProjectRecords!P8&ProjectRecords!R8)),ISERROR(SEARCH(\",\",ProjectRecords!L8&ProjectRecords!N8&ProjectRecords!P8&ProjectRecords!R8))),\"\",\"check\")","v":""},{"$f":"IF(I12=\"\",\"\",IF(AND((TableOfContents!O12=TableOfContents!S12),(TableOfContents!P12=TableOfContents!T12)),\"yes\",\"NO\"))","v":""},"Percent Management (Federal)",{"$f":"IF(I12=\"\",\"\",IF(ProjectRecords!I8=\"\",\"NO\",\"yes\"))","v":""},{"$f":"IF(I12=\"\",\"\",IF(LEFT(F12,1)<>\"R\",\"\",IF(ProjectRecords!Z8=\"\",\"NO\",\"yes\")))","v":""},null,null,"",{"$f":"IF(I12=\"\",\"\",LEFT(ProjectRecords!H8&\"NO\",3))","v":""},{"$f":"IF(ISERROR(SEARCH(\"190\",ProjectRecords!H8)),\"\",\"NO\")","v":""},{"$f":" IF(  (NOT(ISERROR(SEARCH(\"230\",ProjectRecords!H8)))*1 + NOT(ISERROR(SEARCH(\"231\",ProjectRecords!H8))))*1 +  (NOT(ISERROR(SEARCH(\"232\",ProjectRecords!H8)))*1 + NOT(ISERROR(SEARCH(\"233\",ProjectRecords!H8))))*1>0, \"NO\",\"\")","v":""},{"$f":"IF(  (NOT(ISERROR(SEARCH(\"future\",ProjectRecords!E8)))*1 + NOT(ISERROR(SEARCH(\"171\",ProjectRecords!H8))))*1 = 1,\"check\",\"\")","v":""},null,null,"",{"$f":"IF(I12=\"\",\"\",LEFT(ProjectRecords!F8&\"NO\",4))","v":""}]
[1,null,null,{"$f":"IF(I13=\"\",\"\",ProjectRecords!C9&\"\")","v":""},"",{"$f":"ProjectRecords!D9&\"\"","v":""},"",{"$f":"IF(I13=\"\",\"\",IF(OR(AND(F13=\"\",I13<>\"\"),AND(ROW(I13)<>7,NOT(ISERROR(VLOOKUP(F13,F$7:F12,1,0))))),\"NO\",\"yes\"))","v":""},{"$f":"ProjectRecords!E9&\"\"","v":""},{"$f":"IF(OR((NOT(ISERROR(SEARCH(\"Program Development\",I13)))*100+(LEFT(ProjectRecords!H9,3)=\"180\")*10+(LEFT(ProjectRecords!D9,1)=\"M\")*1)=111,(NOT(ISERROR(SEARCH(\"Program Development\",I13)))*100+(LEFT(ProjectRecords!H9,3)=\"180\")*10+(LEFT(ProjectRecords!D9,1)=\"M\")*1)<=1),\"\",\"NO\")","v":""},{"$f":"SUBSTITUTE(SUBSTITUTE(SUBSTITUTE(ProjectRecords!L9&\"; \"&ProjectRecords!N9&\"; \"&ProjectRecords!P9&\"; \"&ProjectRecords!R9&\"~\",\"; ; \",\"\"),\"; ~\",\"\"),\"~\",\"\")","v":""},{"$f":"IF(LEFT(ProjectRecords!D9,1)=\"m\",IF(L12=1,0,1),0)","v":0},{"$f":"IF(L13=0,\"\",ProjectRecords!L9)","v":""},{"$f":"IF(AND(ISERROR(SEARCH(\"PhD\",ProjectRecords!L9&ProjectRecords!N9&ProjectRecords!P9&ProjectRecords!R9)),ISERROR(SEARCH(\"Dr\",ProjectRecords!L9&ProjectRecords!N9&ProjectRecords!P9&ProjectRecords!R9)),ISERROR(SEARCH(\",\",ProjectRecords!L9&ProjectRecords!N9&ProjectRecords!P9&ProjectRecords!R9))),\"\",\"check\")","v":""},{"$f":"IF(I13=\"\",\"\",IF(AND((TableOfContents!O13=TableOfContents!S13),(TableOfContents!P13=TableOfContents!T13)),\"yes\",\"NO\"))","v":""},{"$f":"IF(SUM(TableOfContents!$O$2:$O$2)=0,\"\",(SUMIFS(TableOfContents!$O7:$O56,TableOfContents!$A7:$A56,\"=M/\")/(SUM(TableOfContents!$O$2:$O$2))))","v":""},{"$f":"IF(I13=\"\",\"\",IF(ProjectRecords!I9=\"\",\"NO\",\"yes\"))","v":""},{"$f":"IF(I13=\"\",\"\",IF(LEFT(F13,1)<>\"R\",\"\",IF(ProjectRecords!Z9=\"\",\"NO\",\"yes\")))","v":""},null,null,"",{"$f":"IF(I13=\"\",\"\",LEFT(ProjectRecords!H9&\"NO\",3))","v":""},{"$f":"IF(ISERROR(SEARCH(\"190\",ProjectRecords!H9)),\"\",\"NO\")","v":""},{"$f":" IF(  (NOT(ISERROR(SEARCH(\"230\",ProjectRecords!H9)))*1 + NOT(ISERROR(SEARCH(\"231\",ProjectRecords!H9))))*1 +  (NOT(ISERROR(SEARCH(\"232\",ProjectRecords!H9)))*1 + NOT(ISERROR(SEARCH(\"233\",ProjectRecords!H9))))*1>0, \"NO\",\"\")","v":""},{"$f":"IF(  (NOT(ISERROR(SEARCH(\"future\",ProjectRecords!E9)))*1 + NOT(ISERROR(SEARCH(\"171\",ProjectRecords!H9))))*1 = 1,\"check\",\"\")","v":""},null,null,"",{"$f":"IF(I13=\"\",\"\",LEFT(ProjectRecords!F9&\"NO\",4))","v":""}]
[1,null,null,{"$f":"IF(I14=\"\",\"\",ProjectRecords!C10&\"\")","v":""},"",{"$f":"ProjectRecords!D10&\"\"","v":""},"",{"$f":"IF(I14=\"\",\"\",IF(OR(AND(F14=\"\",I14<>\"\"),AND(ROW(I14)<>7,NOT(ISERROR(VLOOKUP(F14,F$7:F13,1,0))))),\"NO\",\"yes\"))","v":""},{"$f":"ProjectRecords!E10&\"\"","v":""},{"$f":"IF(OR((NOT(ISERROR(SEARCH(\"Program Development\",I14)))*100+(LEFT(ProjectRecords!H10,3)=\"180\")*10+(LEFT(ProjectRecords!D10,1)=\"M\")*1)=111,(NOT(ISERROR(SEARCH(\"Program Development\",I14)))*100+(LEFT(ProjectRecords!H10,3)=\"180\")*10+(LEFT(ProjectRecords!D10,1)=\"M\")*1)<=1),\"\",\"NO\")","v":""},{"$f":"SUBSTITUTE(SUBSTITUTE(SUBSTITUTE(ProjectRecords!L10&\"; \"&ProjectRecords!N10&\"; \"&ProjectRecords!P10&\"; \"&ProjectRecords!R10&\"~\",\"; ; \",\"\"),\"; ~\",\"\"),\"~\",\"\")","v":""},{"$f":"IF(LEFT(ProjectRecords!D10,1)=\"m\",IF(L13=1,0,1),0)","v":0},{"$f":"IF(L14=0,\"\",ProjectRecords!L10)","v":""},{"$f":"IF(AND(ISERROR(SEARCH(\"PhD\",ProjectRecords!L10&ProjectRecords!N10&ProjectRecords!P10&ProjectRecords!R10)),ISERROR(SEARCH(\"Dr\",ProjectRecords!L10&ProjectRecords!N10&ProjectRecords!P10&ProjectRecords!R10)),ISERROR(SEARCH(\",\",ProjectRecords!L10&ProjectRecords!N10&ProjectRecords!P10&ProjectRecords!R10))),\"\",\"check\")","v":""},{"$f":"IF(I14=\"\",\"\",IF(AND((TableOfContents!O14=TableOfContents!S14),(TableOfContents!P14=TableOfContents!T14)),\"yes\",\"NO\"))","v":""},null,{"$f":"IF(I14=\"\",\"\",IF(ProjectRecords!I10=\"\",\"NO\",\"yes\"))","v":""},{"$f":"IF(I14=\"\",\"\",IF(LEFT(F14,1)<>\"R\",\"\",IF(ProjectRecords!Z10=\"\",\"NO\",\"yes\")))","v":""},null,null,"",{"$f":"IF(I14=\"\",\"\",LEFT(ProjectRecords!H10&\"NO\",3))","v":""},null,{"$f":" IF(  (NOT(ISERROR(SEARCH(\"230\",ProjectRecords!H10)))*1 + NOT(ISERROR(SEARCH(\"231\",ProjectRecords!H10))))*1 +  (NOT(ISERROR(SEARCH(\"232\",ProjectRecords!H10)))*1 + NOT(ISERROR(SEARCH(\"233\",ProjectRecords!H10))))*1>0, \"NO\",\"\")","v":""},null,null,null,"",{"$f":"IF(I14=\"\",\"\",LEFT(ProjectRecords!F10&\"NO\",4))","v":""}]
[1,null,null,{"$f":"IF(I15=\"\",\"\",ProjectRecords!C11&\"\")","v":""},"",{"$f":"ProjectRecords!D11&\"\"","v":""},"",{"$f":"IF(I15=\"\",\"\",IF(OR(AND(F15=\"\",I15<>\"\"),AND(ROW(I15)<>7,NOT(ISERROR(VLOOKUP(F15,F$7:F14,1,0))))),\"NO\",\"yes\"))","v":""},{"$f":"ProjectRecords!E11&\"\"","v":""},{"$f":"IF(OR((NOT(ISERROR(SEARCH(\"Program Development\",I15)))*100+(LEFT(ProjectRecords!H11,3)=\"180\")*10+(LEFT(ProjectRecords!D11,1)=\"M\")*1)=111,(NOT(ISERROR(SEARCH(\"Program Development\",I15)))*100+(LEFT(ProjectRecords!H11,3)=\"180\")*10+(LEFT(ProjectRecords!D11,1)=\"M\")*1)<=1),\"\",\"NO\")","v":""},{"$f":"SUBSTITUTE(SUBSTITUTE(SUBSTITUTE(ProjectRecords!L11&\"; \"&ProjectRecords!N11&\"; \"&ProjectRecords!P11&\"; \"&ProjectRecords!R11&\"~\",\"; ; \",\"\"),\"; ~\",\"\"),\"~\",\"\")","v":""},{"$f":"IF(LEFT(ProjectRecords!D11,1)=\"m\",IF(L14=1,0,1),0)","v":0},{"$f":"IF(L15=0,\"\",ProjectRecords!L11)","v":""},{"$f":"IF(AND(ISERROR(SEARCH(\"PhD\",ProjectRecords!L11&ProjectRecords!N11&ProjectRecords!P11&ProjectRecords!R11)),ISERROR(SEARCH(\"Dr\",ProjectRecords!L11&ProjectRecords!N11&ProjectRecords!P11&ProjectRecords!R11)),ISERROR(SEARCH(\",\",ProjectRecords!L11&ProjectRecords!N11&ProjectRecords!P11&ProjectRecords!R11))),\"\",\"check\")","v":""},{"$f":"IF(I15=\"\",\"\",IF(AND((TableOfContents!O15=TableOfContents!S15),(TableOfContents!P15=TableOfContents!T15)),\"yes\",\"NO\"))","v":""},null,{"$f":"IF(I15=\"\",\"\",IF(ProjectRecords!I11=\"\",\"NO\",\"yes\"))","v":""},{"$f":"IF(I15=\"\",\"\",IF(LEFT(F15,1)<>\"R\",\"\",IF(ProjectRecords!Z11=\"\",\"NO\",\"yes\")))","v":""},null,null,"",{"$f":"IF(I15=\"\",\"\",LEFT(ProjectRecords!H11&\"NO\",3))","v":""},null,{"$f":" IF(  (NOT(ISERROR(SEARCH(\"230\",ProjectRecords!H11)))*1 + NOT(ISERROR(SEARCH(\"231\",ProjectRecords!H11))))*1 +  (NOT(ISERROR(SEARCH(\"232\",ProjectRecords!H11)))*1 + NOT(ISERROR(SEARCH(\"233\",ProjectRecords!H11))))*1>0, \"NO\",\"\")","v":""},null,null,null,"",{"$f":"IF(I15=\"\",\"\",LEFT(ProjectRecords!F11&\"NO\",4))","v":""}]
[1,null,null,{"$f":"IF(I16=\"\",\"\",ProjectRecords!C12&\"\")","v":""},"",{"$f":"ProjectRecords!D12&\"\"","v":""},"",{"$f":"IF(I16=\"\",\"\",IF(OR(AND(F16=\"\",I16<>\"\"),AND(ROW(I16)<>7,NOT(ISERROR(VLOOKUP(F16,F$7:F15,1,0))))),\"NO\",\"yes\"))","v":""},{"$f":"ProjectRecords!E12&\"\"","v":""},{"$f":"IF(OR((NOT(ISERROR(SEARCH(\"Program Development\",I16)))*100+(LEFT(ProjectRecords!H12,3)=\"180\")*10+(LEFT(ProjectRecords!D12,1)=\"M\")*1)=111,(NOT(ISERROR(SEARCH(\"Program Development\",I16)))*100+(LEFT(ProjectRecords!H12,3)=\"180\")*10+(LEFT(ProjectRecords!D12,1)=\"M\")*1)<=1),\"\",\"NO\")","v":""},{"$f":"SUBSTITUTE(SUBSTITUTE(SUBSTITUTE(ProjectRecords!L12&\"; \"&ProjectRecords!N12&\"; \"&ProjectRecords!P12&\"; \"&ProjectRecords!R12&\"~\",\"; ; \",\"\"),\"; ~\",\"\"),\"~\",\"\")","v":""},{"$f":"IF(LEFT(ProjectRecords!D12,1)=\"m\",IF(L15=1,0,1),0)","v":0},{"$f":"IF(L16=0,\"\",ProjectRecords!L12)","v":""},{"$f":"IF(AND(ISERROR(SEARCH(\"PhD\",ProjectRecords!L12&ProjectRecords!N12&ProjectRecords!P12&ProjectRecords!R12)),ISERROR(SEARCH(\"Dr\",ProjectRecords!L12&ProjectRecords!N12&ProjectRecords!P12&ProjectRecords!R12)),ISERROR(SEARCH(\",\",ProjectRecords!L12&ProjectRecords!N12&ProjectRecords!P12&ProjectRecords!R12))),\"\",\"check\")","v":""},{"$f":"IF(I16=\"\",\"\",IF(AND((TableOfContents!O16=TableOfContents!S16),(TableOfContents!P16=TableOfContents!T16)),\"yes\",\"NO\"))","v":""},null,{"$f":"IF(I16=\"\",\"\",IF(ProjectRecords!I12=\"\",\"NO\",\"yes\"))","v":""},{"$f":"IF(I16=\"\",\"\",IF(LEFT(F16,1)<>\"R\",\"\",IF(ProjectRecords!Z12=\"\",\"NO\",\"yes\")))","v":""},null,null,"",{"$f":"IF(I16=\"\",\"\",LEFT(ProjectRecords!H12&\"NO\",3))","v":""},null,{"$f":" IF(  (NOT(ISERROR(SEARCH(\"230\",ProjectRecords!H12)))*1 + NOT(ISERROR(SEARCH(\"231\",ProjectRecords!H12))))*1 +  (NOT(ISERROR(SEARCH(\"232\",ProjectRecords!H12)))*1 + NOT(ISERROR(SEARCH(\"233\",ProjectRecords!H12))))*1>0, \"NO\",\"\")","v":""},null,null,null,"",{"$f":"IF(I16=\"\",\"\",LEFT(ProjectRecords!F12&\"NO\",4))","v":""},null,null,null,null,"`"]
[1,null,null,{"$f":"IF(I17=\"\",\"\",ProjectRecords!C13&\"\")","v":""},"",{"$f":"ProjectRecords!D13&\"\"","v":""},"",{"$f":"IF(I17=\"\",\"\",IF(OR(AND(F17=\"\",I17<>\"\"),AND(ROW(I17)<>7,NOT(ISERROR(VLOOKUP(F17,F$7:F16,1,0))))),\"NO\",\"yes\"))","v":""},{"$f":"ProjectRecords!E13&\"\"","v":""},{"$f":"IF(OR((NOT(ISERROR(SEARCH(\"Program Development\",I17)))*100+(LEFT(ProjectRecords!H13,3)=\"180\")*10+(LEFT(ProjectRecords!D13,1)=\"M\")*1)=111,(NOT(ISERROR(SEARCH(\"Program Development\",I17)))*100+(LEFT(ProjectRecords!H13,3)=\"180\")*10+(LEFT(ProjectRecords!D13,1)=\"M\")*1)<=1),\"\",\"NO\")","v":""},{"$f":"SUBSTITUTE(SUBSTITUTE(SUBSTITUTE(ProjectRecords!L13&\"; \"&ProjectRecords!N13&\"; \"&ProjectRecords!P13&\"; \"&ProjectRecords!R13&\"~\",\"; ; \",\"\"),\"; ~\",\"\"),\"~\",\"\")","v":""},{"$f":"IF(LEFT(ProjectRecords!D13,1)=\"m\",IF(L16=1,0,1),0)","v":0},{"$f":"IF(L17=0,\"\",ProjectRecords!L13)","v":""},{"$f":"IF(ISERROR(SEARCH(\",\",ProjectRecords!L13&ProjectRecords!N13&ProjectRecords!P13&ProjectRecords!R13)),\"\",\"check\")","v":""},{"$f":"IF(I17=\"\",\"\",IF(AND((TableOfContents!O17=TableOfContents!S17),(TableOfContents!P17=TableOfContents!T17)),\"yes\",\"NO\"))","v":""},null,{"$f":"IF(I17=\"\",\"\",IF(ProjectRecords!I13=\"\",\"NO\",\"yes\"))","v":""},{"$f":"IF(I17=\"\",\"\",IF(LEFT(F17,1)<>\"R\",\"\",IF(ProjectRecords!Z13=\"\",\"NO\",\"yes\")))","v":""},null,null,"",{"$f":"IF(I17=\"\",\"\",LEFT(ProjectRecords!H13&\"NO\",3))","v":""},null,{"$f":" IF(  (NOT(ISERROR(SEARCH(\"230\",ProjectRecords!H13)))*1 + NOT(ISERROR(SEARCH(\"231\",ProjectRecords!H13))))*1 +  (NOT(ISERROR(SEARCH(\"232\",ProjectRecords!H13)))*1 + NOT(ISERROR(SEARCH(\"233\",ProjectRecords!H13))))*1>0, \"NO\",\"\")","v":""},null,null,null,"",{"$f":"IF(I17=\"\",\"\",LEFT(ProjectRecords!F13&\"NO\",4))","v":""}]
[1,null,null,{"$f":"IF(I18=\"\",\"\",ProjectRecords!C14&\"\")","v":""},"",{"$f":"ProjectRecords!D14&\"\"","v":""},"",{"$f":"IF(I18=\"\",\"\",IF(OR(AND(F18=\"\",I18<>\"\"),AND(ROW(I18)<>7,NOT(ISERROR(VLOOKUP(F18,F$7:F17,1,0))))),\"NO\",\"yes\"))","v":""},{"$f":"ProjectRecords!E14&\"\"","v":""},{"$f":"IF(OR((NOT(ISERROR(SEARCH(\"Program Development\",I18)))*100+(LEFT(ProjectRecords!H14,3)=\"180\")*10+(LEFT(ProjectRecords!D14,1)=\"M\")*1)=111,(NOT(ISERROR(SEARCH(\"Program Development\",I18)))*100+(LEFT(ProjectRecords!H14,3)=\"180\")*10+(LEFT(ProjectRecords!D14,1)=\"M\")*1)<=1),\"\",\"NO\")","v":""},{"$f":"SUBSTITUTE(SUBSTITUTE(SUBSTITUTE(ProjectRecords!L14&\"; \"&ProjectRecords!N14&\"; \"&ProjectRecords!P14&\"; \"&ProjectRecords!R14&\"~\",\"; ; \",\"\"),\"; ~\",\"\"),\"~\",\"\")","v":""},{"$f":"IF(LEFT(ProjectRecords!D14,1)=\"m\",IF(L17=1,0,1),0)","v":0},{"$f":"IF(L18=0,\"\",ProjectRecords!L14)","v":""},{"$f":"IF(ISERROR(SEARCH(\",\",ProjectRecords!L14&ProjectRecords!N14&ProjectRecords!P14&ProjectRecords!R14)),\"\",\"check\")","v":""},{"$f":"IF(I18=\"\",\"\",IF(AND((TableOfContents!O18=TableOfContents!S18),(TableOfContents!P18=TableOfContents!T18)),\"yes\",\"NO\"))","v":""},null,{"$f":"IF(I18=\"\",\"\",IF(ProjectRecords!I14=\"\",\"NO\",\"yes\"))","v":""},{"$f":"IF(I18=\"\",\"\",IF(LEFT(F18,1)<>\"R\",\"\",IF(ProjectRecords!Z14=\"\",\"NO\",\"yes\")))","v":""},null,null,"",{"$f":"IF(I18=\"\",\"\",LEFT(ProjectRecords!H14&\"NO\",3))","v":""},null,{"$f":" IF(  (NOT(ISERROR(SEARCH(\"230\",ProjectRecords!H14)))*1 + NOT(ISERROR(SEARCH(\"231\",ProjectRecords!H14))))*1 +  (NOT(ISERROR(SEARCH(\"232\",ProjectRecords!H14)))*1 + NOT(ISERROR(SEARCH(\"233\",ProjectRecords!H14))))*1>0, \"NO\",\"\")","v":""},null,null,null,"",{"$f":"IF(I18=\"\",\"\",LEFT(ProjectRecords!F14&\"NO\",4))","v":""}]
[1,null,null,{"$f":"IF(I19=\"\",\"\",ProjectRecords!C15&\"\")","v":""},"",{"$f":"ProjectRecords!D15&\"\"","v":""},"",{"$f":"IF(I19=\"\",\"\",IF(OR(AND(F19=\"\",I19<>\"\"),AND(ROW(I19)<>7,NOT(ISERROR(VLOOKUP(F19,F$7:F18,1,0))))),\"NO\",\"yes\"))","v":""},{"$f":"ProjectRecords!E15&\"\"","v":""},{"$f":"IF(OR((NOT(ISERROR(SEARCH(\"Program Development\",I19)))*100+(LEFT(ProjectRecords!H15,3)=\"180\")*10+(LEFT(ProjectRecords!D15,1)=\"M\")*1)=111,(NOT(ISERROR(SEARCH(\"Program Development\",I19)))*100+(LEFT(ProjectRecords!H15,3)=\"180\")*10+(LEFT(ProjectRecords!D15,1)=\"M\")*1)<=1),\"\",\"NO\")","v":""},{"$f":"SUBSTITUTE(SUBSTITUTE(SUBSTITUTE(ProjectRecords!L15&\"; \"&ProjectRecords!N15&\"; \"&ProjectRecords!P15&\"; \"&ProjectRecords!R15&\"~\",\"; ; \",\"\"),\"; ~\",\"\"),\"~\",\"\")","v":""},{"$f":"IF(LEFT(ProjectRecords!D15,1)=\"m\",IF(L18=1,0,1),0)","v":0},{"$f":"IF(L19=0,\"\",ProjectRecords!L15)","v":""},{"$f":"IF(ISERROR(SEARCH(\",\",ProjectRecords!L15&ProjectRecords!N15&ProjectRecords!P15&ProjectRecords!R15)),\"\",\"check\")","v":""},{"$f":"IF(I19=\"\",\"\",IF(AND((TableOfContents!O19=TableOfContents!S19),(TableOfContents!P19=TableOfContents!T19)),\"yes\",\"NO\"))","v":""},null,{"$f":"IF(I19=\"\",\"\",IF(ProjectRecords!I15=\"\",\"NO\",\"yes\"))","v":""},{"$f":"IF(I19=\"\",\"\",IF(LEFT(F19,1)<>\"R\",\"\",IF(ProjectRecords!Z15=\"\",\"NO\",\"yes\")))","v":""},null,null,"",{"$f":"IF(I19=\"\",\"\",LEFT(ProjectRecords!H15&\"NO\",3))","v":""},null,{"$f":" IF(  (NOT(ISERROR(SEARCH(\"230\",ProjectRecords!H15)))*1 + NOT(ISERROR(SEARCH(\"231\",ProjectRecords!H15))))*1 +  (NOT(ISERROR(SEARCH(\"232\",ProjectRecords!H15)))*1 + NOT(ISERROR(SEARCH(\"233\",ProjectRecords!H15))))*1>0, \"NO\",\"\")","v":""},null,null,null,"",{"$f":"IF(I19=\"\",\"\",LEFT(ProjectRecords!F15&\"NO\",4))","v":""}]
[1,null,null,{"$f":"IF(I20=\"\",\"\",ProjectRecords!C16&\"\")","v":""},"",{"$f":"ProjectRecords!D16&\"\"","v":""},"",{"$f":"IF(I20=\"\",\"\",IF(OR(AND(F20=\"\",I20<>\"\"),AND(ROW(I20)<>7,NOT(ISERROR(VLOOKUP(F20,F$7:F19,1,0))))),\"NO\",\"yes\"))","v":""},{"$f":"ProjectRecords!E16&\"\"","v":""},{"$f":"IF(OR((NOT(ISERROR(SEARCH(\"Program Development\",I20)))*100+(LEFT(ProjectRecords!H16,3)=\"180\")*10+(LEFT(ProjectRecords!D16,1)=\"M\")*1)=111,(NOT(ISERROR(SEARCH(\"Program Development\",I20)))*100+(LEFT(ProjectRecords!H16,3)=\"180\")*10+(LEFT(ProjectRecords!D16,1)=\"M\")*1)<=1),\"\",\"NO\")","v":""},{"$f":"SUBSTITUTE(SUBSTITUTE(SUBSTITUTE(ProjectRecords!L16&\"; \"&ProjectRecords!N16&\"; \"&ProjectRecords!P16&\"; \"&ProjectRecords!R16&\"~\",\"; ; \",\"\"),\"; ~\",\"\"),\"~\",\"\")","v":""},{"$f":"IF(LEFT(ProjectRecords!D16,1)=\"m\",IF(L19=1,0,1),0)","v":0},{"$f":"IF(L20=0,\"\",ProjectRecords!L16)","v":""},{"$f":"IF(ISERROR(SEARCH(\",\",ProjectRecords!L16&ProjectRecords!N16&ProjectRecords!P16&ProjectRecords!R16)),\"\",\"check\")","v":""},{"$f":"IF(I20=\"\",\"\",IF(AND((TableOfContents!O20=TableOfContents!S20),(TableOfContents!P20=TableOfContents!T20)),\"yes\",\"NO\"))","v":""},null,{"$f":"IF(I20=\"\",\"\",IF(ProjectRecords!I16=\"\",\"NO\",\"yes\"))","v":""},{"$f":"IF(I20=\"\",\"\",IF(LEFT(F20,1)<>\"R\",\"\",IF(ProjectRecords!Z16=\"\",\"NO\",\"yes\")))","v":""},null,null,"",{"$f":"IF(I20=\"\",\"\",LEFT(ProjectRecords!H16&\"NO\",3))","v":""},null,{"$f":" IF(  (NOT(ISERROR(SEARCH(\"230\",ProjectRecords!H16)))*1 + NOT(ISERROR(SEARCH(\"231\",ProjectRecords!H16))))*1 +  (NOT(ISERROR(SEARCH(\"232\",ProjectRecords!H16)))*1 + NOT(ISERROR(SEARCH(\"233\",ProjectRecords!H16))))*1>0, \"NO\",\"\")","v":""},null,null,null,"",{"$f":"IF(I20=\"\",\"\",LEFT(ProjectRecords!F16&\"NO\",4))","v":""}]
[1,null,null,{"$f":"IF(I21=\"\",\"\",ProjectRecords!C17&\"\")","v":""},"",{"$f":"ProjectRecords!D17&\"\"","v":""},"",{"$f":"IF(I21=\"\",\"\",IF(OR(AND(F21=\"\",I21<>\"\"),AND(ROW(I21)<>7,NOT(ISERROR(VLOOKUP(F21,F$7:F20,1,0))))),\"NO\",\"yes\"))","v":""},{"$f":"ProjectRecords!E17&\"\"","v":""},{"$f":"IF(OR((NOT(ISERROR(SEARCH(\"Program Development\",I21)))*100+(LEFT(ProjectRecords!H17,3)=\"180\")*10+(LEFT(ProjectRecords!D17,1)=\"M\")*1)=111,(NOT(ISERROR(SEARCH(\"Program Development\",I21)))*100+(LEFT(ProjectRecords!H17,3)=\"180\")*10+(LEFT(ProjectRecords!D17,1)=\"M\")*1)<=1),\"\",\"NO\")","v":""},{"$f":"SUBSTITUTE(SUBSTITUTE(SUBSTITUTE(ProjectRecords!L17&\"; \"&ProjectRecords!N17&\"; \"&ProjectRecords!P17&\"; \"&ProjectRecords!R17&\"~\",\"; ; \",\"\"),\"; ~\",\"\"),\"~\",\"\")","v":""},{"$f":"IF(LEFT(ProjectRecords!D17,1)=\"m\",IF(L20=1,0,1),0)","v":0},{"$f":"IF(L21=0,\"\",ProjectRecords!L17)","v":""},{"$f":"IF(ISERROR(SEARCH(\",\",ProjectRecords!L17&ProjectRecords!N17&ProjectRecords!P17&ProjectRecords!R17)),\"\",\"check\")","v":""},{"$f":"IF(I21=\"\",\"\",IF(AND((TableOfContents!O21=TableOfContents!S21),(TableOfContents!P21=TableOfContents!T21)),\"yes\",\"NO\"))","v":""},null,{"$f":"IF(I21=\"\",\"\",IF(ProjectRecords!I17=\"\",\"NO\",\"yes\"))","v":""},{"$f":"IF(I21=\"\",\"\",IF(LEFT(F21,1)<>\"R\",\"\",IF(ProjectRecords!Z17=\"\",\"NO\",\"yes\")))","v":""},null,null,"",{"$f":"IF(I21=\"\",\"\",LEFT(ProjectRecords!H17&\"NO\",3))","v":""},null,{"$f":" IF(  (NOT(ISERROR(SEARCH(\"230\",ProjectRecords!H17)))*1 + NOT(ISERROR(SEARCH(\"231\",ProjectRecords!H17))))*1 +  (NOT(ISERROR(SEARCH(\"232\",ProjectRecords!H17)))*1 + NOT(ISERROR(SEARCH(\"233\",ProjectRecords!H17))))*1>0, \"NO\",\"\")","v":""},null,null,null,"",{"$f":"IF(I21=\"\",\"\",LEFT(ProjectRecords!F17&\"NO\",4))","v":""}]
[1,null,null,{"$f":"IF(I22=\"\",\"\",ProjectRecords!C18&\"\")","v":""},"",{"$f":"ProjectRecords!D18&\"\"","v":""},"",{"$f":"IF(I22=\"\",\"\",IF(OR(AND(F22=\"\",I22<>\"\"),AND(ROW(I22)<>7,NOT(ISERROR(VLOOKUP(F22,F$7:F21,1,0))))),\"NO\",\"yes\"))","v":""},{"$f":"ProjectRecords!E18&\"\"","v":""},{"$f":"IF(OR((NOT(ISERROR(SEARCH(\"Program Development\",I22)))*100+(LEFT(ProjectRecords!H18,3)=\"180\")*10+(LEFT(ProjectRecords!D18,1)=\"M\")*1)=111,(NOT(ISERROR(SEARCH(\"Program Development\",I22)))*100+(LEFT(ProjectRecords!H18,3)=\"180\")*10+(LEFT(ProjectRecords!D18,1)=\"M\")*1)<=1),\"\",\"NO\")","v":""},{"$f":"SUBSTITUTE(SUBSTITUTE(SUBSTITUTE(ProjectRecords!L18&\"; \"&ProjectRecords!N18&\"; \"&ProjectRecords!P18&\"; \"&ProjectRecords!R18&\"~\",\"; ; \",\"\"),\"; ~\",\"\"),\"~\",\"\")","v":""},{"$f":"IF(LEFT(ProjectRecords!D18,1)=\"m\",IF(L21=1,0,1),0)","v":0},{"$f":"IF(L22=0,\"\",ProjectRecords!L18)","v":""},{"$f":"IF(ISERROR(SEARCH(\",\",ProjectRecords!L18&ProjectRecords!N18&ProjectRecords!P18&ProjectRecords!R18)),\"\",\"check\")","v":""},{"$f":"IF(I22=\"\",\"\",IF(AND((TableOfContents!O22=TableOfContents!S22),(TableOfContents!P22=TableOfContents!T22)),\"yes\",\"NO\"))","v":""},null,{"$f":"IF(I22=\"\",\"\",IF(ProjectRecords!I18=\"\",\"NO\",\"yes\"))","v":""},{"$f":"IF(I22=\"\",\"\",IF(LEFT(F22,1)<>\"R\",\"\",IF(ProjectRecords!Z18=\"\",\"NO\",\"yes\")))","v":""},null,null,"",{"$f":"IF(I22=\"\",\"\",LEFT(ProjectRecords!H18&\"NO\",3))","v":""},null,{"$f":" IF(  (NOT(ISERROR(SEARCH(\"230\",ProjectRecords!H18)))*1 + NOT(ISERROR(SEARCH(\"231\",ProjectRecords!H18))))*1 +  (NOT(ISERROR(SEARCH(\"232\",ProjectRecords!H18)))*1 + NOT(ISERROR(SEARCH(\"233\",ProjectRecords!H18))))*1>0, \"NO\",\"\")","v":""},null,null,null,"",{"$f":"IF(I22=\"\",\"\",LEFT(ProjectRecords!F18&\"NO\",4))","v":""}]
[1,null,null,{"$f":"IF(I23=\"\",\"\",ProjectRecords!C19&\"\")","v":""},"",{"$f":"ProjectRecords!D19&\"\"","v":""},"",{"$f":"IF(I23=\"\",\"\",IF(OR(AND(F23=\"\",I23<>\"\"),AND(ROW(I23)<>7,NOT(ISERROR(VLOOKUP(F23,F$7:F22,1,0))))),\"NO\",\"yes\"))","v":""},{"$f":"ProjectRecords!E19&\"\"","v":""},{"$f":"IF(OR((NOT(ISERROR(SEARCH(\"Program Development\",I23)))*100+(LEFT(ProjectRecords!H19,3)=\"180\")*10+(LEFT(ProjectRecords!D19,1)=\"M\")*1)=111,(NOT(ISERROR(SEARCH(\"Program Development\",I23)))*100+(LEFT(ProjectRecords!H19,3)=\"180\")*10+(LEFT(ProjectRecords!D19,1)=\"M\")*1)<=1),\"\",\"NO\")","v":""},{"$f":"SUBSTITUTE(SUBSTITUTE(SUBSTITUTE(ProjectRecords!L19&\"; \"&ProjectRecords!N19&\"; \"&ProjectRecords!P19&\"; \"&ProjectRecords!R19&\"~\",\"; ; \",\"\"),\"; ~\",\"\"),\"~\",\"\")","v":""},{"$f":"IF(LEFT(ProjectRecords!D19,1)=\"m\",IF(L22=1,0,1),0)","v":0},{"$f":"IF(L23=0,\"\",ProjectRecords!L19)","v":""},{"$f":"IF(ISERROR(SEARCH(\",\",ProjectRecords!L19&ProjectRecords!N19&ProjectRecords!P19&ProjectRecords!R19)),\"\",\"check\")","v":""},{"$f":"IF(I23=\"\",\"\",IF(AND((TableOfContents!O23=TableOfContents!S23),(TableOfContents!P23=TableOfContents!T23)),\"yes\",\"NO\"))","v":""},null,{"$f":"IF(I23=\"\",\"\",IF(ProjectRecords!I19=\"\",\"NO\",\"yes\"))","v":""},{"$f":"IF(I23=\"\",\"\",IF(LEFT(F23,1)<>\"R\",\"\",IF(ProjectRecords!Z19=\"\",\"NO\",\"yes\")))","v":""},null,null,"",{"$f":"IF(I23=\"\",\"\",LEFT(ProjectRecords!H19&\"NO\",3))","v":""},null,{"$f":" IF(  (NOT(ISERROR(SEARCH(\"230\",ProjectRecords!H19)))*1 + NOT(ISERROR(SEARCH(\"231\",ProjectRecords!H19))))*1 +  (NOT(ISERROR(SEARCH(\"232\",ProjectRecords!H19)))*1 + NOT(ISERROR(SEARCH(\"233\",ProjectRecords!H19))))*1>0, \"NO\",\"\")","v":""},null,null,null,"",{"$f":"IF(I23=\"\",\"\",LEFT(ProjectRecords!F19&\"NO\",4))","v":""}]
[1,null,null,{"$f":"IF(I24=\"\",\"\",ProjectRecords!C20&\"\")","v":""},"",{"$f":"ProjectRecords!D20&\"\"","v":""},"",{"$f":"IF(I24=\"\",\"\",IF(OR(AND(F24=\"\",I24<>\"\"),AND(ROW(I24)<>7,NOT(ISERROR(VLOOKUP(F24,F$7:F23,1,0))))),\"NO\",\"yes\"))","v":""},{"$f":"ProjectRecords!E20&\"\"","v":""},{"$f":"IF(OR((NOT(ISERROR(SEARCH(\"Program Development\",I24)))*100+(LEFT(ProjectRecords!H20,3)=\"180\")*10+(LEFT(ProjectRecords!D20,1)=\"M\")*1)=111,(NOT(ISERROR(SEARCH(\"Program Development\",I24)))*100+(LEFT(ProjectRecords!H20,3)=\"180\")*10+(LEFT(ProjectRecords!D20,1)=\"M\")*1)<=1),\"\",\"NO\")","v":""},{"$f":"SUBSTITUTE(SUBSTITUTE(SUBSTITUTE(ProjectRecords!L20&\"; \"&ProjectRecords!N20&\"; \"&ProjectRecords!P20&\"; \"&ProjectRecords!R20&\"~\",\"; ; \",\"\"),\"; ~\",\"\"),\"~\",\"\")","v":""},{"$f":"IF(LEFT(ProjectRecords!D20,1)=\"m\",IF(L23=1,0,1),0)","v":0},{"$f":"IF(L24=0,\"\",ProjectRecords!L20)","v":""},{"$f":"IF(ISERROR(SEARCH(\",\",ProjectRecords!L20&ProjectRecords!N20&ProjectRecords!P20&ProjectRecords!R20)),\"\",\"check\")","v":""},{"$f":"IF(I24=\"\",\"\",IF(AND((TableOfContents!O24=TableOfContents!S24),(TableOfContents!P24=TableOfContents!T24)),\"yes\",\"NO\"))","v":""},null,{"$f":"IF(I24=\"\",\"\",IF(ProjectRecords!I20=\"\",\"NO\",\"yes\"))","v":""},{"$f":"IF(I24=\"\",\"\",IF(LEFT(F24,1)<>\"R\",\"\",IF(ProjectRecords!Z20=\"\",\"NO\",\"yes\")))","v":""},null,null,"",{"$f":"IF(I24=\"\",\"\",LEFT(ProjectRecords!H20&\"NO\",3))","v":""},null,{"$f":" IF(  (NOT(ISERROR(SEARCH(\"230\",ProjectRecords!H20)))*1 + NOT(ISERROR(SEARCH(\"231\",ProjectRecords!H20))))*1 +  (NOT(ISERROR(SEARCH(\"232\",ProjectRecords!H20)))*1 + NOT(ISERROR(SEARCH(\"233\",ProjectRecords!H20))))*1>0, \"NO\",\"\")","v":""},null,null,null,"",{"$f":"IF(I24=\"\",\"\",LEFT(ProjectRecords!F20&\"NO\",4))","v":""}]
[1,null,null,{"$f":"IF(I25=\"\",\"\",ProjectRecords!C21&\"\")","v":""},"",{"$f":"ProjectRecords!D21&\"\"","v":""},"",{"$f":"IF(I25=\"\",\"\",IF(OR(AND(F25=\"\",I25<>\"\"),AND(ROW(I25)<>7,NOT(ISERROR(VLOOKUP(F25,F$7:F24,1,0))))),\"NO\",\"yes\"))","v":""},{"$f":"ProjectRecords!E21&\"\"","v":""},{"$f":"IF(OR((NOT(ISERROR(SEARCH(\"Program Development\",I25)))*100+(LEFT(ProjectRecords!H21,3)=\"180\")*10+(LEFT(ProjectRecords!D21,1)=\"M\")*1)=111,(NOT(ISERROR(SEARCH(\"Program Development\",I25)))*100+(LEFT(ProjectRecords!H21,3)=\"180\")*10+(LEFT(ProjectRecords!D21,1)=\"M\")*1)<=1),\"\",\"NO\")","v":""},{"$f":"SUBSTITUTE(SUBSTITUTE(SUBSTITUTE(ProjectRecords!L21&\"; \"&ProjectRecords!N21&\"; \"&ProjectRecords!P21&\"; \"&ProjectRecords!R21&\"~\",\"; ; \",\"\"),\"; ~\",\"\"),\"~\",\"\")","v":""},{"$f":"IF(LEFT(ProjectRecords!D21,1)=\"m\",IF(L24=1,0,1),0)","v":0},{"$f":"IF(L25=0,\"\",ProjectRecords!L21)","v":""},{"$f":"IF(ISERROR(SEARCH(\",\",ProjectRecords!L21&ProjectRecords!N21&ProjectRecords!P21&ProjectRecords!R21)),\"\",\"check\")","v":""},{"$f":"IF(I25=\"\",\"\",IF(AND((TableOfContents!O25=TableOfContents!S25),(TableOfContents!P25=TableOfContents!T25)),\"yes\",\"NO\"))","v":""},null,{"$f":"IF(I25=\"\",\"\",IF(ProjectRecords!I21=\"\",\"NO\",\"yes\"))","v":""},{"$f":"IF(I25=\"\",\"\",IF(LEFT(F25,1)<>\"R\",\"\",IF(ProjectRecords!Z21=\"\",\"NO\",\"yes\")))","v":""},null,null,"",{"$f":"IF(I25=\"\",\"\",LEFT(ProjectRecords!H21&\"NO\",3))","v":""},null,{"$f":" IF(  (NOT(ISERROR(SEARCH(\"230\",ProjectRecords!H21)))*1 + NOT(ISERROR(SEARCH(\"231\",ProjectRecords!H21))))*1 +  (NOT(ISERROR(SEARCH(\"232\",ProjectRecords!H21)))*1 + NOT(ISERROR(SEARCH(\"233\",ProjectRecords!H21))))*1>0, \"NO\",\"\")","v":""},null,null,null,"",{"$f":"IF(I25=\"\",\"\",LEFT(ProjectRecords!F21&\"NO\",4))","v":""}]
[1,null,null,{"$f":"IF(I26=\"\",\"\",ProjectRecords!C22&\"\")","v":""},"",{"$f":"ProjectRecords!D22&\"\"","v":""},"",{"$f":"IF(I26=\"\",\"\",IF(OR(AND(F26=\"\",I26<>\"\"),AND(ROW(I26)<>7,NOT(ISERROR(VLOOKUP(F26,F$7:F25,1,0))))),\"NO\",\"yes\"))","v":""},{"$f":"ProjectRecords!E22&\"\"","v":""},{"$f":"IF(OR((NOT(ISERROR(SEARCH(\"Program Development\",I26)))*100+(LEFT(ProjectRecords!H22,3)=\"180\")*10+(LEFT(ProjectRecords!D22,1)=\"M\")*1)=111,(NOT(ISERROR(SEARCH(\"Program Development\",I26)))*100+(LEFT(ProjectRecords!H22,3)=\"180\")*10+(LEFT(ProjectRecords!D22,1)=\"M\")*1)<=1),\"\",\"NO\")","v":""},{"$f":"SUBSTITUTE(SUBSTITUTE(SUBSTITUTE(ProjectRecords!L22&\"; \"&ProjectRecords!N22&\"; \"&ProjectRecords!P22&\"; \"&ProjectRecords!R22&\"~\",\"; ; \",\"\"),\"; ~\",\"\"),\"~\",\"\")","v":""},{"$f":"IF(LEFT(ProjectRecords!D22,1)=\"m\",IF(L25=1,0,1),0)","v":0},{"$f":"IF(L26=0,\"\",ProjectRecords!L22)","v":""},{"$f":"IF(ISERROR(SEARCH(\",\",ProjectRecords!L22&ProjectRecords!N22&ProjectRecords!P22&ProjectRecords!R22)),\"\",\"check\")","v":""},{"$f":"IF(I26=\"\",\"\",IF(AND((TableOfContents!O26=TableOfContents!S26),(TableOfContents!P26=TableOfContents!T26)),\"yes\",\"NO\"))","v":""},null,{"$f":"IF(I26=\"\",\"\",IF(ProjectRecords!I22=\"\",\"NO\",\"yes\"))","v":""},{"$f":"IF(I26=\"\",\"\",IF(LEFT(F26,1)<>\"R\",\"\",IF(ProjectRecords!Z22=\"\",\"NO\",\"yes\")))","v":""},null,null,"",{"$f":"IF(I26=\"\",\"\",LEFT(ProjectRecords!H22&\"NO\",3))","v":""},null,{"$f":" IF(  (NOT(ISERROR(SEARCH(\"230\",ProjectRecords!H22)))*1 + NOT(ISERROR(SEARCH(\"231\",ProjectRecords!H22))))*1 +  (NOT(ISERROR(SEARCH(\"232\",ProjectRecords!H22)))*1 + NOT(ISERROR(SEARCH(\"233\",ProjectRecords!H22))))*1>0, \"NO\",\"\")","v":""},null,null,null,"",{"$f":"IF(I26=\"\",\"\",LEFT(ProjectRecords!F22&\"NO\",4))","v":""}]
[1,null,null,{"$f":"IF(I27=\"\",\"\",ProjectRecords!C23&\"\")","v":""},"",{"$f":"ProjectRecords!D23&\"\"","v":""},"",{"$f":"IF(I27=\"\",\"\",IF(OR(AND(F27=\"\",I27<>\"\"),AND(ROW(I27)<>7,NOT(ISERROR(VLOOKUP(F27,F$7:F26,1,0))))),\"NO\",\"yes\"))","v":""},{"$f":"ProjectRecords!E23&\"\"","v":""},{"$f":"IF(OR((NOT(ISERROR(SEARCH(\"Program Development\",I27)))*100+(LEFT(ProjectRecords!H23,3)=\"180\")*10+(LEFT(ProjectRecords!D23,1)=\"M\")*1)=111,(NOT(ISERROR(SEARCH(\"Program Development\",I27)))*100+(LEFT(ProjectRecords!H23,3)=\"180\")*10+(LEFT(ProjectRecords!D23,1)=\"M\")*1)<=1),\"\",\"NO\")","v":""},{"$f":"SUBSTITUTE(SUBSTITUTE(SUBSTITUTE(ProjectRecords!L23&\"; \"&ProjectRecords!N23&\"; \"&ProjectRecords!P23&\"; \"&ProjectRecords!R23&\"~\",\"; ; \",\"\"),\"; ~\",\"\"),\"~\",\"\")","v":""},{"$f":"IF(LEFT(ProjectRecords!D23,1)=\"m\",IF(L26=1,0,1),0)","v":0},{"$f":"IF(L27=0,\"\",ProjectRecords!L23)","v":""},{"$f":"IF(ISERROR(SEARCH(\",\",ProjectRecords!L23&ProjectRecords!N23&ProjectRecords!P23&ProjectRecords!R23)),\"\",\"check\")","v":""},{"$f":"IF(I27=\"\",\"\",IF(AND((TableOfContents!O27=TableOfContents!S27),(TableOfContents!P27=TableOfContents!T27)),\"yes\",\"NO\"))","v":""},null,{"$f":"IF(I27=\"\",\"\",IF(ProjectRecords!I23=\"\",\"NO\",\"yes\"))","v":""},{"$f":"IF(I27=\"\",\"\",IF(LEFT(F27,1)<>\"R\",\"\",IF(ProjectRecords!Z23=\"\",\"NO\",\"yes\")))","v":""},null,null,"",{"$f":"IF(I27=\"\",\"\",LEFT(ProjectRecords!H23&\"NO\",3))","v":""},null,{"$f":" IF(  (NOT(ISERROR(SEARCH(\"230\",ProjectRecords!H23)))*1 + NOT(ISERROR(SEARCH(\"231\",ProjectRecords!H23))))*1 +  (NOT(ISERROR(SEARCH(\"232\",ProjectRecords!H23)))*1 + NOT(ISERROR(SEARCH(\"233\",ProjectRecords!H23))))*1>0, \"NO\",\"\")","v":""},null,null,null,"",{"$f":"IF(I27=\"\",\"\",LEFT(ProjectRecords!F23&\"NO\",4))","v":""}]
[1,null,null,{"$f":"IF(I28=\"\",\"\",ProjectRecords!C24&\"\")","v":""},"",{"$f":"ProjectRecords!D24&\"\"","v":""},"",{"$f":"IF(I28=\"\",\"\",IF(OR(AND(F28=\"\",I28<>\"\"),AND(ROW(I28)<>7,NOT(ISERROR(VLOOKUP(F28,F$7:F27,1,0))))),\"NO\",\"yes\"))","v":""},{"$f":"ProjectRecords!E24&\"\"","v":""},{"$f":"IF(OR((NOT(ISERROR(SEARCH(\"Program Development\",I28)))*100+(LEFT(ProjectRecords!H24,3)=\"180\")*10+(LEFT(ProjectRecords!D24,1)=\"M\")*1)=111,(NOT(ISERROR(SEARCH(\"Program Development\",I28)))*100+(LEFT(ProjectRecords!H24,3)=\"180\")*10+(LEFT(ProjectRecords!D24,1)=\"M\")*1)<=1),\"\",\"NO\")","v":""},{"$f":"SUBSTITUTE(SUBSTITUTE(SUBSTITUTE(ProjectRecords!L24&\"; \"&ProjectRecords!N24&\"; \"&ProjectRecords!P24&\"; \"&ProjectRecords!R24&\"~\",\"; ; \",\"\"),\"; ~\",\"\"),\"~\",\"\")","v":""},{"$f":"IF(LEFT(ProjectRecords!D24,1)=\"m\",IF(L27=1,0,1),0)","v":0},{"$f":"IF(L28=0,\"\",ProjectRecords!L24)","v":""},{"$f":"IF(ISERROR(SEARCH(\",\",ProjectRecords!L24&ProjectRecords!N24&ProjectRecords!P24&ProjectRecords!R24)),\"\",\"check\")","v":""},{"$f":"IF(I28=\"\",\"\",IF(AND((TableOfContents!O28=TableOfContents!S28),(TableOfContents!P28=TableOfContents!T28)),\"yes\",\"NO\"))","v":""},null,{"$f":"IF(I28=\"\",\"\",IF(ProjectRecords!I24=\"\",\"NO\",\"yes\"))","v":""},{"$f":"IF(I28=\"\",\"\",IF(LEFT(F28,1)<>\"R\",\"\",IF(ProjectRecords!Z24=\"\",\"NO\",\"yes\")))","v":""},null,null,"",{"$f":"IF(I28=\"\",\"\",LEFT(ProjectRecords!H24&\"NO\",3))","v":""},null,{"$f":" IF(  (NOT(ISERROR(SEARCH(\"230\",ProjectRecords!H24)))*1 + NOT(ISERROR(SEARCH(\"231\",ProjectRecords!H24))))*1 +  (NOT(ISERROR(SEARCH(\"232\",ProjectRecords!H24)))*1 + NOT(ISERROR(SEARCH(\"233\",ProjectRecords!H24))))*1>0, \"NO\",\"\")","v":""},null,null,null,"",{"$f":"IF(I28=\"\",\"\",LEFT(ProjectRecords!F24&\"NO\",4))","v":""}]
[1,null,null,{"$f":"IF(I29=\"\",\"\",ProjectRecords!C25&\"\")","v":""},"",{"$f":"ProjectRecords!D25&\"\"","v":""},"",{"$f":"IF(I29=\"\",\"\",IF(OR(AND(F29=\"\",I29<>\"\"),AND(ROW(I29)<>7,NOT(ISERROR(VLOOKUP(F29,F$7:F28,1,0))))),\"NO\",\"yes\"))","v":""},{"$f":"ProjectRecords!E25&\"\"","v":""},{"$f":"IF(OR((NOT(ISERROR(SEARCH(\"Program Development\",I29)))*100+(LEFT(ProjectRecords!H25,3)=\"180\")*10+(LEFT(ProjectRecords!D25,1)=\"M\")*1)=111,(NOT(ISERROR(SEARCH(\"Program Development\",I29)))*100+(LEFT(ProjectRecords!H25,3)=\"180\")*10+(LEFT(ProjectRecords!D25,1)=\"M\")*1)<=1),\"\",\"NO\")","v":""},{"$f":"SUBSTITUTE(SUBSTITUTE(SUBSTITUTE(ProjectRecords!L25&\"; \"&ProjectRecords!N25&\"; \"&ProjectRecords!P25&\"; \"&ProjectRecords!R25&\"~\",\"; ; \",\"\"),\"; ~\",\"\"),\"~\",\"\")","v":""},{"$f":"IF(LEFT(ProjectRecords!D25,1)=\"m\",IF(L28=1,0,1),0)","v":0},{"$f":"IF(L29=0,\"\",ProjectRecords!L25)","v":""},{"$f":"IF(ISERROR(SEARCH(\",\",ProjectRecords!L25&ProjectRecords!N25&ProjectRecords!P25&ProjectRecords!R25)),\"\",\"check\")","v":""},{"$f":"IF(I29=\"\",\"\",IF(AND((TableOfContents!O29=TableOfContents!S29),(TableOfContents!P29=TableOfContents!T29)),\"yes\",\"NO\"))","v":""},null,{"$f":"IF(I29=\"\",\"\",IF(ProjectRecords!I25=\"\",\"NO\",\"yes\"))","v":""},{"$f":"IF(I29=\"\",\"\",IF(LEFT(F29,1)<>\"R\",\"\",IF(ProjectRecords!Z25=\"\",\"NO\",\"yes\")))","v":""},null,null,"",{"$f":"IF(I29=\"\",\"\",LEFT(ProjectRecords!H25&\"NO\",3))","v":""},null,{"$f":" IF(  (NOT(ISERROR(SEARCH(\"230\",ProjectRecords!H25)))*1 + NOT(ISERROR(SEARCH(\"231\",ProjectRecords!H25))))*1 +  (NOT(ISERROR(SEARCH(\"232\",ProjectRecords!H25)))*1 + NOT(ISERROR(SEARCH(\"233\",ProjectRecords!H25))))*1>0, \"NO\",\"\")","v":""},null,null,null,"",{"$f":"IF(I29=\"\",\"\",LEFT(ProjectRecords!F25&\"NO\",4))","v":""}]
[1,null,null,{"$f":"IF(I30=\"\",\"\",ProjectRecords!C26&\"\")","v":""},"",{"$f":"ProjectRecords!D26&\"\"","v":""},"",{"$f":"IF(I30=\"\",\"\",IF(OR(AND(F30=\"\",I30<>\"\"),AND(ROW(I30)<>7,NOT(ISERROR(VLOOKUP(F30,F$7:F29,1,0))))),\"NO\",\"yes\"))","v":""},{"$f":"ProjectRecords!E26&\"\"","v":""},{"$f":"IF(OR((NOT(ISERROR(SEARCH(\"Program Development\",I30)))*100+(LEFT(ProjectRecords!H26,3)=\"180\")*10+(LEFT(ProjectRecords!D26,1)=\"M\")*1)=111,(NOT(ISERROR(SEARCH(\"Program Development\",I30)))*100+(LEFT(ProjectRecords!H26,3)=\"180\")*10+(LEFT(ProjectRecords!D26,1)=\"M\")*1)<=1),\"\",\"NO\")","v":""},{"$f":"SUBSTITUTE(SUBSTITUTE(SUBSTITUTE(ProjectRecords!L26&\"; \"&ProjectRecords!N26&\"; \"&ProjectRecords!P26&\"; \"&ProjectRecords!R26&\"~\",\"; ; \",\"\"),\"; ~\",\"\"),\"~\",\"\")","v":""},{"$f":"IF(LEFT(ProjectRecords!D26,1)=\"m\",IF(L29=1,0,1),0)","v":0},{"$f":"IF(L30=0,\"\",ProjectRecords!L26)","v":""},{"$f":"IF(ISERROR(SEARCH(\",\",ProjectRecords!L26&ProjectRecords!N26&ProjectRecords!P26&ProjectRecords!R26)),\"\",\"check\")","v":""},{"$f":"IF(I30=\"\",\"\",IF(AND((TableOfContents!O30=TableOfContents!S30),(TableOfContents!P30=TableOfContents!T30)),\"yes\",\"NO\"))","v":""},null,{"$f":"IF(I30=\"\",\"\",IF(ProjectRecords!I26=\"\",\"NO\",\"yes\"))","v":""},{"$f":"IF(I30=\"\",\"\",IF(LEFT(F30,1)<>\"R\",\"\",IF(ProjectRecords!Z26=\"\",\"NO\",\"yes\")))","v":""},null,null,"",{"$f":"IF(I30=\"\",\"\",LEFT(ProjectRecords!H26&\"NO\",3))","v":""},null,{"$f":" IF(  (NOT(ISERROR(SEARCH(\"230\",ProjectRecords!H26)))*1 + NOT(ISERROR(SEARCH(\"231\",ProjectRecords!H26))))*1 +  (NOT(ISERROR(SEARCH(\"232\",ProjectRecords!H26)))*1 + NOT(ISERROR(SEARCH(\"233\",ProjectRecords!H26))))*1>0, \"NO\",\"\")","v":""},null,null,null,"",{"$f":"IF(I30=\"\",\"\",LEFT(ProjectRecords!F26&\"NO\",4))","v":""}]
[1,null,null,{"$f":"IF(I31=\"\",\"\",ProjectRecords!C27&\"\")","v":""},"",{"$f":"ProjectRecords!D27&\"\"","v":""},"",{"$f":"IF(I31=\"\",\"\",IF(OR(AND(F31=\"\",I31<>\"\"),AND(ROW(I31)<>7,NOT(ISERROR(VLOOKUP(F31,F$7:F30,1,0))))),\"NO\",\"yes\"))","v":""},{"$f":"ProjectRecords!E27&\"\"","v":""},{"$f":"IF(OR((NOT(ISERROR(SEARCH(\"Program Development\",I31)))*100+(LEFT(ProjectRecords!H27,3)=\"180\")*10+(LEFT(ProjectRecords!D27,1)=\"M\")*1)=111,(NOT(ISERROR(SEARCH(\"Program Development\",I31)))*100+(LEFT(ProjectRecords!H27,3)=\"180\")*10+(LEFT(ProjectRecords!D27,1)=\"M\")*1)<=1),\"\",\"NO\")","v":""},{"$f":"SUBSTITUTE(SUBSTITUTE(SUBSTITUTE(ProjectRecords!L27&\"; \"&ProjectRecords!N27&\"; \"&ProjectRecords!P27&\"; \"&ProjectRecords!R27&\"~\",\"; ; \",\"\"),\"; ~\",\"\"),\"~\",\"\")","v":""},{"$f":"IF(LEFT(ProjectRecords!D27,1)=\"m\",IF(L30=1,0,1),0)","v":0},{"$f":"IF(L31=0,\"\",ProjectRecords!L27)","v":""},{"$f":"IF(ISERROR(SEARCH(\",\",ProjectRecords!L27&ProjectRecords!N27&ProjectRecords!P27&ProjectRecords!R27)),\"\",\"check\")","v":""},{"$f":"IF(I31=\"\",\"\",IF(AND((TableOfContents!O31=TableOfContents!S31),(TableOfContents!P31=TableOfContents!T31)),\"yes\",\"NO\"))","v":""},null,{"$f":"IF(I31=\"\",\"\",IF(ProjectRecords!I27=\"\",\"NO\",\"yes\"))","v":""},{"$f":"IF(I31=\"\",\"\",IF(LEFT(F31,1)<>\"R\",\"\",IF(ProjectRecords!Z27=\"\",\"NO\",\"yes\")))","v":""},null,null,"",{"$f":"IF(I31=\"\",\"\",LEFT(ProjectRecords!H27&\"NO\",3))","v":""},null,{"$f":" IF(  (NOT(ISERROR(SEARCH(\"230\",ProjectRecords!H27)))*1 + NOT(ISERROR(SEARCH(\"231\",ProjectRecords!H27))))*1 +  (NOT(ISERROR(SEARCH(\"232\",ProjectRecords!H27)))*1 + NOT(ISERROR(SEARCH(\"233\",ProjectRecords!H27))))*1>0, \"NO\",\"\")","v":""},null,null,null,"",{"$f":"IF(I31=\"\",\"\",LEFT(ProjectRecords!F27&\"NO\",4))","v":""}]
[1,null,null,{"$f":"IF(I32=\"\",\"\",ProjectRecords!C28&\"\")","v":""},"",{"$f":"ProjectRecords!D28&\"\"","v":""},"",{"$f":"IF(I32=\"\",\"\",IF(OR(AND(F32=\"\",I32<>\"\"),AND(ROW(I32)<>7,NOT(ISERROR(VLOOKUP(F32,F$7:F31,1,0))))),\"NO\",\"yes\"))","v":""},{"$f":"ProjectRecords!E28&\"\"","v":""},{"$f":"IF(OR((NOT(ISERROR(SEARCH(\"Program Development\",I32)))*100+(LEFT(ProjectRecords!H28,3)=\"180\")*10+(LEFT(ProjectRecords!D28,1)=\"M\")*1)=111,(NOT(ISERROR(SEARCH(\"Program Development\",I32)))*100+(LEFT(ProjectRecords!H28,3)=\"180\")*10+(LEFT(ProjectRecords!D28,1)=\"M\")*1)<=1),\"\",\"NO\")","v":""},{"$f":"SUBSTITUTE(SUBSTITUTE(SUBSTITUTE(ProjectRecords!L28&\"; \"&ProjectRecords!N28&\"; \"&ProjectRecords!P28&\"; \"&ProjectRecords!R28&\"~\",\"; ; \",\"\"),\"; ~\",\"\"),\"~\",\"\")","v":""},{"$f":"IF(LEFT(ProjectRecords!D28,1)=\"m\",IF(L31=1,0,1),0)","v":0},{"$f":"IF(L32=0,\"\",ProjectRecords!L28)","v":""},{"$f":"IF(ISERROR(SEARCH(\",\",ProjectRecords!L28&ProjectRecords!N28&ProjectRecords!P28&ProjectRecords!R28)),\"\",\"check\")","v":""},{"$f":"IF(I32=\"\",\"\",IF(AND((TableOfContents!O32=TableOfContents!S32),(TableOfContents!P32=TableOfContents!T32)),\"yes\",\"NO\"))","v":""},null,{"$f":"IF(I32=\"\",\"\",IF(ProjectRecords!I28=\"\",\"NO\",\"yes\"))","v":""},{"$f":"IF(I32=\"\",\"\",IF(LEFT(F32,1)<>\"R\",\"\",IF(ProjectRecords!Z28=\"\",\"NO\",\"yes\")))","v":""},null,null,"",{"$f":"IF(I32=\"\",\"\",LEFT(ProjectRecords!H28&\"NO\",3))","v":""},null,{"$f":" IF(  (NOT(ISERROR(SEARCH(\"230\",ProjectRecords!H28)))*1 + NOT(ISERROR(SEARCH(\"231\",ProjectRecords!H28))))*1 +  (NOT(ISERROR(SEARCH(\"232\",ProjectRecords!H28)))*1 + NOT(ISERROR(SEARCH(\"233\",ProjectRecords!H28))))*1>0, \"NO\",\"\")","v":""},null,null,null,"",{"$f":"IF(I32=\"\",\"\",LEFT(ProjectRecords!F28&\"NO\",4))","v":""}]
[1,null,null,{"$f":"IF(I33=\"\",\"\",ProjectRecords!C29&\"\")","v":""},"",{"$f":"ProjectRecords!D29&\"\"","v":""},"",{"$f":"IF(I33=\"\",\"\",IF(OR(AND(F33=\"\",I33<>\"\"),AND(ROW(I33)<>7,NOT(ISERROR(VLOOKUP(F33,F$7:F32,1,0))))),\"NO\",\"yes\"))","v":""},{"$f":"ProjectRecords!E29&\"\"","v":""},{"$f":"IF(OR((NOT(ISERROR(SEARCH(\"Program Development\",I33)))*100+(LEFT(ProjectRecords!H29,3)=\"180\")*10+(LEFT(ProjectRecords!D29,1)=\"M\")*1)=111,(NOT(ISERROR(SEARCH(\"Program Development\",I33)))*100+(LEFT(ProjectRecords!H29,3)=\"180\")*10+(LEFT(ProjectRecords!D29,1)=\"M\")*1)<=1),\"\",\"NO\")","v":""},{"$f":"SUBSTITUTE(SUBSTITUTE(SUBSTITUTE(ProjectRecords!L29&\"; \"&ProjectRecords!N29&\"; \"&ProjectRecords!P29&\"; \"&ProjectRecords!R29&\"~\",\"; ; \",\"\"),\"; ~\",\"\"),\"~\",\"\")","v":""},{"$f":"IF(LEFT(ProjectRecords!D29,1)=\"m\",IF(L32=1,0,1),0)","v":0},{"$f":"IF(L33=0,\"\",ProjectRecords!L29)","v":""},{"$f":"IF(ISERROR(SEARCH(\",\",ProjectRecords!L29&ProjectRecords!N29&ProjectRecords!P29&ProjectRecords!R29)),\"\",\"check\")","v":""},{"$f":"IF(I33=\"\",\"\",IF(AND((TableOfContents!O33=TableOfContents!S33),(TableOfContents!P33=TableOfContents!T33)),\"yes\",\"NO\"))","v":""},null,{"$f":"IF(I33=\"\",\"\",IF(ProjectRecords!I29=\"\",\"NO\",\"yes\"))","v":""},{"$f":"IF(I33=\"\",\"\",IF(LEFT(F33,1)<>\"R\",\"\",IF(ProjectRecords!Z29=\"\",\"NO\",\"yes\")))","v":""},null,null,"",{"$f":"IF(I33=\"\",\"\",LEFT(ProjectRecords!H29&\"NO\",3))","v":""},null,{"$f":" IF(  (NOT(ISERROR(SEARCH(\"230\",ProjectRecords!H29)))*1 + NOT(ISERROR(SEARCH(\"231\",ProjectRecords!H29))))*1 +  (NOT(ISERROR(SEARCH(\"232\",ProjectRecords!H29)))*1 + NOT(ISERROR(SEARCH(\"233\",ProjectRecords!H29))))*1>0, \"NO\",\"\")","v":""},null,null,null,"",{"$f":"IF(I33=\"\",\"\",LEFT(ProjectRecords!F29&\"NO\",4))","v":""}]
[1,null,null,{"$f":"IF(I34=\"\",\"\",ProjectRecords!C30&\"\")","v":""},"",{"$f":"ProjectRecords!D30&\"\"","v":""},"",{"$f":"IF(I34=\"\",\"\",IF(OR(AND(F34=\"\",I34<>\"\"),AND(ROW(I34)<>7,NOT(ISERROR(VLOOKUP(F34,F$7:F33,1,0))))),\"NO\",\"yes\"))","v":""},{"$f":"ProjectRecords!E30&\"\"","v":""},{"$f":"IF(OR((NOT(ISERROR(SEARCH(\"Program Development\",I34)))*100+(LEFT(ProjectRecords!H30,3)=\"180\")*10+(LEFT(ProjectRecords!D30,1)=\"M\")*1)=111,(NOT(ISERROR(SEARCH(\"Program Development\",I34)))*100+(LEFT(ProjectRecords!H30,3)=\"180\")*10+(LEFT(ProjectRecords!D30,1)=\"M\")*1)<=1),\"\",\"NO\")","v":""},{"$f":"SUBSTITUTE(SUBSTITUTE(SUBSTITUTE(ProjectRecords!L30&\"; \"&ProjectRecords!N30&\"; \"&ProjectRecords!P30&\"; \"&ProjectRecords!R30&\"~\",\"; ; \",\"\"),\"; ~\",\"\"),\"~\",\"\")","v":""},{"$f":"IF(LEFT(ProjectRecords!D30,1)=\"m\",IF(L33=1,0,1),0)","v":0},{"$f":"IF(L34=0,\"\",ProjectRecords!L30)","v":""},{"$f":"IF(ISERROR(SEARCH(\",\",ProjectRecords!L30&ProjectRecords!N30&ProjectRecords!P30&ProjectRecords!R30)),\"\",\"check\")","v":""},{"$f":"IF(I34=\"\",\"\",IF(AND((TableOfContents!O34=TableOfContents!S34),(TableOfContents!P34=TableOfContents!T34)),\"yes\",\"NO\"))","v":""},null,{"$f":"IF(I34=\"\",\"\",IF(ProjectRecords!I30=\"\",\"NO\",\"yes\"))","v":""},{"$f":"IF(I34=\"\",\"\",IF(LEFT(F34,1)<>\"R\",\"\",IF(ProjectRecords!Z30=\"\",\"NO\",\"yes\")))","v":""},null,null,"",{"$f":"IF(I34=\"\",\"\",LEFT(ProjectRecords!H30&\"NO\",3))","v":""},null,{"$f":" IF(  (NOT(ISERROR(SEARCH(\"230\",ProjectRecords!H30)))*1 + NOT(ISERROR(SEARCH(\"231\",ProjectRecords!H30))))*1 +  (NOT(ISERROR(SEARCH(\"232\",ProjectRecords!H30)))*1 + NOT(ISERROR(SEARCH(\"233\",ProjectRecords!H30))))*1>0, \"NO\",\"\")","v":""},null,null,null,"",{"$f":"IF(I34=\"\",\"\",LEFT(ProjectRecords!F30&\"NO\",4))","v":""}]
[1,null,null,{"$f":"IF(I35=\"\",\"\",ProjectRecords!C31&\"\")","v":""},"",{"$f":"ProjectRecords!D31&\"\"","v":""},"",{"$f":"IF(I35=\"\",\"\",IF(OR(AND(F35=\"\",I35<>\"\"),AND(ROW(I35)<>7,NOT(ISERROR(VLOOKUP(F35,F$7:F34,1,0))))),\"NO\",\"yes\"))","v":""},{"$f":"ProjectRecords!E31&\"\"","v":""},{"$f":"IF(OR((NOT(ISERROR(SEARCH(\"Program Development\",I35)))*100+(LEFT(ProjectRecords!H31,3)=\"180\")*10+(LEFT(ProjectRecords!D31,1)=\"M\")*1)=111,(NOT(ISERROR(SEARCH(\"Program Development\",I35)))*100+(LEFT(ProjectRecords!H31,3)=\"180\")*10+(LEFT(ProjectRecords!D31,1)=\"M\")*1)<=1),\"\",\"NO\")","v":""},{"$f":"SUBSTITUTE(SUBSTITUTE(SUBSTITUTE(ProjectRecords!L31&\"; \"&ProjectRecords!N31&\"; \"&ProjectRecords!P31&\"; \"&ProjectRecords!R31&\"~\",\"; ; \",\"\"),\"; ~\",\"\"),\"~\",\"\")","v":""},{"$f":"IF(LEFT(ProjectRecords!D31,1)=\"m\",IF(L34=1,0,1),0)","v":0},{"$f":"IF(L35=0,\"\",ProjectRecords!L31)","v":""},{"$f":"IF(ISERROR(SEARCH(\",\",ProjectRecords!L31&ProjectRecords!N31&ProjectRecords!P31&ProjectRecords!R31)),\"\",\"check\")","v":""},{"$f":"IF(I35=\"\",\"\",IF(AND((TableOfContents!O35=TableOfContents!S35),(TableOfContents!P35=TableOfContents!T35)),\"yes\",\"NO\"))","v":""},null,{"$f":"IF(I35=\"\",\"\",IF(ProjectRecords!I31=\"\",\"NO\",\"yes\"))","v":""},{"$f":"IF(I35=\"\",\"\",IF(LEFT(F35,1)<>\"R\",\"\",IF(ProjectRecords!Z31=\"\",\"NO\",\"yes\")))","v":""},null,null,"",{"$f":"IF(I35=\"\",\"\",LEFT(ProjectRecords!H31&\"NO\",3))","v":""},null,{"$f":" IF(  (NOT(ISERROR(SEARCH(\"230\",ProjectRecords!H31)))*1 + NOT(ISERROR(SEARCH(\"231\",ProjectRecords!H31))))*1 +  (NOT(ISERROR(SEARCH(\"232\",ProjectRecords!H31)))*1 + NOT(ISERROR(SEARCH(\"233\",ProjectRecords!H31))))*1>0, \"NO\",\"\")","v":""},null,null,null,"",{"$f":"IF(I35=\"\",\"\",LEFT(ProjectRecords!F31&\"NO\",4))","v":""}]
[1,null,null,{"$f":"IF(I36=\"\",\"\",ProjectRecords!C32&\"\")","v":""},"",{"$f":"ProjectRecords!D32&\"\"","v":""},"",{"$f":"IF(I36=\"\",\"\",IF(OR(AND(F36=\"\",I36<>\"\"),AND(ROW(I36)<>7,NOT(ISERROR(VLOOKUP(F36,F$7:F35,1,0))))),\"NO\",\"yes\"))","v":""},{"$f":"ProjectRecords!E32&\"\"","v":""},{"$f":"IF(OR((NOT(ISERROR(SEARCH(\"Program Development\",I36)))*100+(LEFT(ProjectRecords!H32,3)=\"180\")*10+(LEFT(ProjectRecords!D32,1)=\"M\")*1)=111,(NOT(ISERROR(SEARCH(\"Program Development\",I36)))*100+(LEFT(ProjectRecords!H32,3)=\"180\")*10+(LEFT(ProjectRecords!D32,1)=\"M\")*1)<=1),\"\",\"NO\")","v":""},{"$f":"SUBSTITUTE(SUBSTITUTE(SUBSTITUTE(ProjectRecords!L32&\"; \"&ProjectRecords!N32&\"; \"&ProjectRecords!P32&\"; \"&ProjectRecords!R32&\"~\",\"; ; \",\"\"),\"; ~\",\"\"),\"~\",\"\")","v":""},{"$f":"IF(LEFT(ProjectRecords!D32,1)=\"m\",IF(L35=1,0,1),0)","v":0},{"$f":"IF(L36=0,\"\",ProjectRecords!L32)","v":""},{"$f":"IF(ISERROR(SEARCH(\",\",ProjectRecords!L32&ProjectRecords!N32&ProjectRecords!P32&ProjectRecords!R32)),\"\",\"check\")","v":""},{"$f":"IF(I36=\"\",\"\",IF(AND((TableOfContents!O36=TableOfContents!S36),(TableOfContents!P36=TableOfContents!T36)),\"yes\",\"NO\"))","v":""},null,{"$f":"IF(I36=\"\",\"\",IF(ProjectRecords!I32=\"\",\"NO\",\"yes\"))","v":""},{"$f":"IF(I36=\"\",\"\",IF(LEFT(F36,1)<>\"R\",\"\",IF(ProjectRecords!Z32=\"\",\"NO\",\"yes\")))","v":""},null,null,"",{"$f":"IF(I36=\"\",\"\",LEFT(ProjectRecords!H32&\"NO\",3))","v":""},null,{"$f":" IF(  (NOT(ISERROR(SEARCH(\"230\",ProjectRecords!H32)))*1 + NOT(ISERROR(SEARCH(\"231\",ProjectRecords!H32))))*1 +  (NOT(ISERROR(SEARCH(\"232\",ProjectRecords!H32)))*1 + NOT(ISERROR(SEARCH(\"233\",ProjectRecords!H32))))*1>0, \"NO\",\"\")","v":""},null,null,null,"",{"$f":"IF(I36=\"\",\"\",LEFT(ProjectRecords!F32&\"NO\",4))","v":""}]
[1,null,null,{"$f":"IF(I37=\"\",\"\",ProjectRecords!C33&\"\")","v":""},"",{"$f":"ProjectRecords!D33&\"\"","v":""},"",{"$f":"IF(I37=\"\",\"\",IF(OR(AND(F37=\"\",I37<>\"\"),AND(ROW(I37)<>7,NOT(ISERROR(VLOOKUP(F37,F$7:F36,1,0))))),\"NO\",\"yes\"))","v":""},{"$f":"ProjectRecords!E33&\"\"","v":""},{"$f":"IF(OR((NOT(ISERROR(SEARCH(\"Program Development\",I37)))*100+(LEFT(ProjectRecords!H33,3)=\"180\")*10+(LEFT(ProjectRecords!D33,1)=\"M\")*1)=111,(NOT(ISERROR(SEARCH(\"Program Development\",I37)))*100+(LEFT(ProjectRecords!H33,3)=\"180\")*10+(LEFT(ProjectRecords!D33,1)=\"M\")*1)<=1),\"\",\"NO\")","v":""},{"$f":"SUBSTITUTE(SUBSTITUTE(SUBSTITUTE(ProjectRecords!L33&\"; \"&ProjectRecords!N33&\"; \"&ProjectRecords!P33&\"; \"&ProjectRecords!R33&\"~\",\"; ; \",\"\"),\"; ~\",\"\"),\"~\",\"\")","v":""},{"$f":"IF(LEFT(ProjectRecords!D33,1)=\"m\",IF(L36=1,0,1),0)","v":0},{"$f":"IF(L37=0,\"\",ProjectRecords!L33)","v":""},{"$f":"IF(ISERROR(SEARCH(\",\",ProjectRecords!L33&ProjectRecords!N33&ProjectRecords!P33&ProjectRecords!R33)),\"\",\"check\")","v":""},{"$f":"IF(I37=\"\",\"\",IF(AND((TableOfContents!O37=TableOfContents!S37),(TableOfContents!P37=TableOfContents!T37)),\"yes\",\"NO\"))","v":""},null,{"$f":"IF(I37=\"\",\"\",IF(ProjectRecords!I33=\"\",\"NO\",\"yes\"))","v":""},{"$f":"IF(I37=\"\",\"\",IF(LEFT(F37,1)<>\"R\",\"\",IF(ProjectRecords!Z33=\"\",\"NO\",\"yes\")))","v":""},null,null,"",{"$f":"IF(I37=\"\",\"\",LEFT(ProjectRecords!H33&\"NO\",3))","v":""},null,{"$f":" IF(  (NOT(ISERROR(SEARCH(\"230\",ProjectRecords!H33)))*1 + NOT(ISERROR(SEARCH(\"231\",ProjectRecords!H33))))*1 +  (NOT(ISERROR(SEARCH(\"232\",ProjectRecords!H33)))*1 + NOT(ISERROR(SEARCH(\"233\",ProjectRecords!H33))))*1>0, \"NO\",\"\")","v":""},null,null,null,"",{"$f":"IF(I37=\"\",\"\",LEFT(ProjectRecords!F33&\"NO\",4))","v":""}]
[1,null,null,{"$f":"IF(I38=\"\",\"\",ProjectRecords!C34&\"\")","v":""},"",{"$f":"ProjectRecords!D34&\"\"","v":""},"",{"$f":"IF(I38=\"\",\"\",IF(OR(AND(F38=\"\",I38<>\"\"),AND(ROW(I38)<>7,NOT(ISERROR(VLOOKUP(F38,F$7:F37,1,0))))),\"NO\",\"yes\"))","v":""},{"$f":"ProjectRecords!E34&\"\"","v":""},{"$f":"IF(OR((NOT(ISERROR(SEARCH(\"Program Development\",I38)))*100+(LEFT(ProjectRecords!H34,3)=\"180\")*10+(LEFT(ProjectRecords!D34,1)=\"M\")*1)=111,(NOT(ISERROR(SEARCH(\"Program Development\",I38)))*100+(LEFT(ProjectRecords!H34,3)=\"180\")*10+(LEFT(ProjectRecords!D34,1)=\"M\")*1)<=1),\"\",\"NO\")","v":""},{"$f":"SUBSTITUTE(SUBSTITUTE(SUBSTITUTE(ProjectRecords!L34&\"; \"&ProjectRecords!N34&\"; \"&ProjectRecords!P34&\"; \"&ProjectRecords!R34&\"~\",\"; ; \",\"\"),\"; ~\",\"\"),\"~\",\"\")","v":""},{"$f":"IF(LEFT(ProjectRecords!D34,1)=\"m\",IF(L37=1,0,1),0)","v":0},{"$f":"IF(L38=0,\"\",ProjectRecords!L34)","v":""},{"$f":"IF(ISERROR(SEARCH(\",\",ProjectRecords!L34&ProjectRecords!N34&ProjectRecords!P34&ProjectRecords!R34)),\"\",\"check\")","v":""},{"$f":"IF(I38=\"\",\"\",IF(AND((TableOfContents!O38=TableOfContents!S38),(TableOfContents!P38=TableOfContents!T38)),\"yes\",\"NO\"))","v":""},null,{"$f":"IF(I38=\"\",\"\",IF(ProjectRecords!I34=\"\",\"NO\",\"yes\"))","v":""},{"$f":"IF(I38=\"\",\"\",IF(LEFT(F38,1)<>\"R\",\"\",IF(ProjectRecords!Z34=\"\",\"NO\",\"yes\")))","v":""},null,null,"",{"$f":"IF(I38=\"\",\"\",LEFT(ProjectRecords!H34&\"NO\",3))","v":""},null,{"$f":" IF(  (NOT(ISERROR(SEARCH(\"230\",ProjectRecords!H34)))*1 + NOT(ISERROR(SEARCH(\"231\",ProjectRecords!H34))))*1 +  (NOT(ISERROR(SEARCH(\"232\",ProjectRecords!H34)))*1 + NOT(ISERROR(SEARCH(\"233\",ProjectRecords!H34))))*1>0, \"NO\",\"\")","v":""},null,null,null,"",{"$f":"IF(I38=\"\",\"\",LEFT(ProjectRecords!F34&\"NO\",4))","v":""}]
[1,null,null,{"$f":"IF(I39=\"\",\"\",ProjectRecords!C35&\"\")","v":""},"",{"$f":"ProjectRecords!D35&\"\"","v":""},"",{"$f":"IF(I39=\"\",\"\",IF(OR(AND(F39=\"\",I39<>\"\"),AND(ROW(I39)<>7,NOT(ISERROR(VLOOKUP(F39,F$7:F38,1,0))))),\"NO\",\"yes\"))","v":""},{"$f":"ProjectRecords!E35&\"\"","v":""},{"$f":"IF(OR((NOT(ISERROR(SEARCH(\"Program Development\",I39)))*100+(LEFT(ProjectRecords!H35,3)=\"180\")*10+(LEFT(ProjectRecords!D35,1)=\"M\")*1)=111,(NOT(ISERROR(SEARCH(\"Program Development\",I39)))*100+(LEFT(ProjectRecords!H35,3)=\"180\")*10+(LEFT(ProjectRecords!D35,1)=\"M\")*1)<=1),\"\",\"NO\")","v":""},{"$f":"SUBSTITUTE(SUBSTITUTE(SUBSTITUTE(ProjectRecords!L35&\"; \"&ProjectRecords!N35&\"; \"&ProjectRecords!P35&\"; \"&ProjectRecords!R35&\"~\",\"; ; \",\"\"),\"; ~\",\"\"),\"~\",\"\")","v":""},{"$f":"IF(LEFT(ProjectRecords!D35,1)=\"m\",IF(L38=1,0,1),0)","v":0},{"$f":"IF(L39=0,\"\",ProjectRecords!L35)","v":""},{"$f":"IF(ISERROR(SEARCH(\",\",ProjectRecords!L35&ProjectRecords!N35&ProjectRecords!P35&ProjectRecords!R35)),\"\",\"check\")","v":""},{"$f":"IF(I39=\"\",\"\",IF(AND((TableOfContents!O39=TableOfContents!S39),(TableOfContents!P39=TableOfContents!T39)),\"yes\",\"NO\"))","v":""},null,{"$f":"IF(I39=\"\",\"\",IF(ProjectRecords!I35=\"\",\"NO\",\"yes\"))","v":""},{"$f":"IF(I39=\"\",\"\",IF(LEFT(F39,1)<>\"R\",\"\",IF(ProjectRecords!Z35=\"\",\"NO\",\"yes\")))","v":""},null,null,"",{"$f":"IF(I39=\"\",\"\",LEFT(ProjectRecords!H35&\"NO\",3))","v":""},null,{"$f":" IF(  (NOT(ISERROR(SEARCH(\"230\",ProjectRecords!H35)))*1 + NOT(ISERROR(SEARCH(\"231\",ProjectRecords!H35))))*1 +  (NOT(ISERROR(SEARCH(\"232\",ProjectRecords!H35)))*1 + NOT(ISERROR(SEARCH(\"233\",ProjectRecords!H35))))*1>0, \"NO\",\"\")","v":""},null,null,null,"",{"$f":"IF(I39=\"\",\"\",LEFT(ProjectRecords!F35&\"NO\",4))","v":""}]
[1,null,null,{"$f":"IF(I40=\"\",\"\",ProjectRecords!C36&\"\")","v":""},"",{"$f":"ProjectRecords!D36&\"\"","v":""},"",{"$f":"IF(I40=\"\",\"\",IF(OR(AND(F40=\"\",I40<>\"\"),AND(ROW(I40)<>7,NOT(ISERROR(VLOOKUP(F40,F$7:F39,1,0))))),\"NO\",\"yes\"))","v":""},{"$f":"ProjectRecords!E36&\"\"","v":""},{"$f":"IF(OR((NOT(ISERROR(SEARCH(\"Program Development\",I40)))*100+(LEFT(ProjectRecords!H36,3)=\"180\")*10+(LEFT(ProjectRecords!D36,1)=\"M\")*1)=111,(NOT(ISERROR(SEARCH(\"Program Development\",I40)))*100+(LEFT(ProjectRecords!H36,3)=\"180\")*10+(LEFT(ProjectRecords!D36,1)=\"M\")*1)<=1),\"\",\"NO\")","v":""},{"$f":"SUBSTITUTE(SUBSTITUTE(SUBSTITUTE(ProjectRecords!L36&\"; \"&ProjectRecords!N36&\"; \"&ProjectRecords!P36&\"; \"&ProjectRecords!R36&\"~\",\"; ; \",\"\"),\"; ~\",\"\"),\"~\",\"\")","v":""},{"$f":"IF(LEFT(ProjectRecords!D36,1)=\"m\",IF(L39=1,0,1),0)","v":0},{"$f":"IF(L40=0,\"\",ProjectRecords!L36)","v":""},{"$f":"IF(ISERROR(SEARCH(\",\",ProjectRecords!L36&ProjectRecords!N36&ProjectRecords!P36&ProjectRecords!R36)),\"\",\"check\")","v":""},{"$f":"IF(I40=\"\",\"\",IF(AND((TableOfContents!O40=TableOfContents!S40),(TableOfContents!P40=TableOfContents!T40)),\"yes\",\"NO\"))","v":""},null,{"$f":"IF(I40=\"\",\"\",IF(ProjectRecords!I36=\"\",\"NO\",\"yes\"))","v":""},{"$f":"IF(I40=\"\",\"\",IF(LEFT(F40,1)<>\"R\",\"\",IF(ProjectRecords!Z36=\"\",\"NO\",\"yes\")))","v":""},null,null,"",{"$f":"IF(I40=\"\",\"\",LEFT(ProjectRecords!H36&\"NO\",3))","v":""},null,{"$f":" IF(  (NOT(ISERROR(SEARCH(\"230\",ProjectRecords!H36)))*1 + NOT(ISERROR(SEARCH(\"231\",ProjectRecords!H36))))*1 +  (NOT(ISERROR(SEARCH(\"232\",ProjectRecords!H36)))*1 + NOT(ISERROR(SEARCH(\"233\",ProjectRecords!H36))))*1>0, \"NO\",\"\")","v":""},null,null,null,"",{"$f":"IF(I40=\"\",\"\",LEFT(ProjectRecords!F36&\"NO\",4))","v":""}]
[1,null,null,{"$f":"IF(I41=\"\",\"\",ProjectRecords!C37&\"\")","v":""},"",{"$f":"ProjectRecords!D37&\"\"","v":""},"",{"$f":"IF(I41=\"\",\"\",IF(OR(AND(F41=\"\",I41<>\"\"),AND(ROW(I41)<>7,NOT(ISERROR(VLOOKUP(F41,F$7:F40,1,0))))),\"NO\",\"yes\"))","v":""},{"$f":"ProjectRecords!E37&\"\"","v":""},{"$f":"IF(OR((NOT(ISERROR(SEARCH(\"Program Development\",I41)))*100+(LEFT(ProjectRecords!H37,3)=\"180\")*10+(LEFT(ProjectRecords!D37,1)=\"M\")*1)=111,(NOT(ISERROR(SEARCH(\"Program Development\",I41)))*100+(LEFT(ProjectRecords!H37,3)=\"180\")*10+(LEFT(ProjectRecords!D37,1)=\"M\")*1)<=1),\"\",\"NO\")","v":""},{"$f":"SUBSTITUTE(SUBSTITUTE(SUBSTITUTE(ProjectRecords!L37&\"; \"&ProjectRecords!N37&\"; \"&ProjectRecords!P37&\"; \"&ProjectRecords!R37&\"~\",\"; ; \",\"\"),\"; ~\",\"\"),\"~\",\"\")","v":""},{"$f":"IF(LEFT(ProjectRecords!D37,1)=\"m\",IF(L40=1,0,1),0)","v":0},{"$f":"IF(L41=0,\"\",ProjectRecords!L37)","v":""},{"$f":"IF(ISERROR(SEARCH(\",\",ProjectRecords!L37&ProjectRecords!N37&ProjectRecords!P37&ProjectRecords!R37)),\"\",\"check\")","v":""},{"$f":"IF(I41=\"\",\"\",IF(AND((TableOfContents!O41=TableOfContents!S41),(TableOfContents!P41=TableOfContents!T41)),\"yes\",\"NO\"))","v":""},null,{"$f":"IF(I41=\"\",\"\",IF(ProjectRecords!I37=\"\",\"NO\",\"yes\"))","v":""},{"$f":"IF(I41=\"\",\"\",IF(LEFT(F41,1)<>\"R\",\"\",IF(ProjectRecords!Z37=\"\",\"NO\",\"yes\")))","v":""},null,null,"",{"$f":"IF(I41=\"\",\"\",LEFT(ProjectRecords!H37&\"NO\",3))","v":""},null,{"$f":" IF(  (NOT(ISERROR(SEARCH(\"230\",ProjectRecords!H37)))*1 + NOT(ISERROR(SEARCH(\"231\",ProjectRecords!H37))))*1 +  (NOT(ISERROR(SEARCH(\"232\",ProjectRecords!H37)))*1 + NOT(ISERROR(SEARCH(\"233\",ProjectRecords!H37))))*1>0, \"NO\",\"\")","v":""},null,null,null,"",{"$f":"IF(I41=\"\",\"\",LEFT(ProjectRecords!F37&\"NO\",4))","v":""}]
[1,null,null,{"$f":"IF(I42=\"\",\"\",ProjectRecords!C38&\"\")","v":""},"",{"$f":"ProjectRecords!D38&\"\"","v":""},"",{"$f":"IF(I42=\"\",\"\",IF(OR(AND(F42=\"\",I42<>\"\"),AND(ROW(I42)<>7,NOT(ISERROR(VLOOKUP(F42,F$7:F41,1,0))))),\"NO\",\"yes\"))","v":""},{"$f":"ProjectRecords!E38&\"\"","v":""},{"$f":"IF(OR((NOT(ISERROR(SEARCH(\"Program Development\",I42)))*100+(LEFT(ProjectRecords!H38,3)=\"180\")*10+(LEFT(ProjectRecords!D38,1)=\"M\")*1)=111,(NOT(ISERROR(SEARCH(\"Program Development\",I42)))*100+(LEFT(ProjectRecords!H38,3)=\"180\")*10+(LEFT(ProjectRecords!D38,1)=\"M\")*1)<=1),\"\",\"NO\")","v":""},{"$f":"SUBSTITUTE(SUBSTITUTE(SUBSTITUTE(ProjectRecords!L38&\"; \"&ProjectRecords!N38&\"; \"&ProjectRecords!P38&\"; \"&ProjectRecords!R38&\"~\",\"; ; \",\"\"),\"; ~\",\"\"),\"~\",\"\")","v":""},{"$f":"IF(LEFT(ProjectRecords!D38,1)=\"m\",IF(L41=1,0,1),0)","v":0},{"$f":"IF(L42=0,\"\",ProjectRecords!L38)","v":""},{"$f":"IF(ISERROR(SEARCH(\",\",ProjectRecords!L38&ProjectRecords!N38&ProjectRecords!P38&ProjectRecords!R38)),\"\",\"check\")","v":""},{"$f":"IF(I42=\"\",\"\",IF(AND((TableOfContents!O42=TableOfContents!S42),(TableOfContents!P42=TableOfContents!T42)),\"yes\",\"NO\"))","v":""},null,{"$f":"IF(I42=\"\",\"\",IF(ProjectRecords!I38=\"\",\"NO\",\"yes\"))","v":""},{"$f":"IF(I42=\"\",\"\",IF(LEFT(F42,1)<>\"R\",\"\",IF(ProjectRecords!Z38=\"\",\"NO\",\"yes\")))","v":""},null,null,"",{"$f":"IF(I42=\"\",\"\",LEFT(ProjectRecords!H38&\"NO\",3))","v":""},null,{"$f":" IF(  (NOT(ISERROR(SEARCH(\"230\",ProjectRecords!H38)))*1 + NOT(ISERROR(SEARCH(\"231\",ProjectRecords!H38))))*1 +  (NOT(ISERROR(SEARCH(\"232\",ProjectRecords!H38)))*1 + NOT(ISERROR(SEARCH(\"233\",ProjectRecords!H38))))*1>0, \"NO\",\"\")","v":""},null,null,null,"",{"$f":"IF(I42=\"\",\"\",LEFT(ProjectRecords!F38&\"NO\",4))","v":""}]
[1,null,null,{"$f":"IF(I43=\"\",\"\",ProjectRecords!C39&\"\")","v":""},"",{"$f":"ProjectRecords!D39&\"\"","v":""},"",{"$f":"IF(I43=\"\",\"\",IF(OR(AND(F43=\"\",I43<>\"\"),AND(ROW(I43)<>7,NOT(ISERROR(VLOOKUP(F43,F$7:F42,1,0))))),\"NO\",\"yes\"))","v":""},{"$f":"ProjectRecords!E39&\"\"","v":""},{"$f":"IF(OR((NOT(ISERROR(SEARCH(\"Program Development\",I43)))*100+(LEFT(ProjectRecords!H39,3)=\"180\")*10+(LEFT(ProjectRecords!D39,1)=\"M\")*1)=111,(NOT(ISERROR(SEARCH(\"Program Development\",I43)))*100+(LEFT(ProjectRecords!H39,3)=\"180\")*10+(LEFT(ProjectRecords!D39,1)=\"M\")*1)<=1),\"\",\"NO\")","v":""},{"$f":"SUBSTITUTE(SUBSTITUTE(SUBSTITUTE(ProjectRecords!L39&\"; \"&ProjectRecords!N39&\"; \"&ProjectRecords!P39&\"; \"&ProjectRecords!R39&\"~\",\"; ; \",\"\"),\"; ~\",\"\"),\"~\",\"\")","v":""},{"$f":"IF(LEFT(ProjectRecords!D39,1)=\"m\",IF(L42=1,0,1),0)","v":0},{"$f":"IF(L43=0,\"\",ProjectRecords!L39)","v":""},{"$f":"IF(ISERROR(SEARCH(\",\",ProjectRecords!L39&ProjectRecords!N39&ProjectRecords!P39&ProjectRecords!R39)),\"\",\"check\")","v":""},{"$f":"IF(I43=\"\",\"\",IF(AND((TableOfContents!O43=TableOfContents!S43),(TableOfContents!P43=TableOfContents!T43)),\"yes\",\"NO\"))","v":""},null,{"$f":"IF(I43=\"\",\"\",IF(ProjectRecords!I39=\"\",\"NO\",\"yes\"))","v":""},{"$f":"IF(I43=\"\",\"\",IF(LEFT(F43,1)<>\"R\",\"\",IF(ProjectRecords!Z39=\"\",\"NO\",\"yes\")))","v":""},null,null,"",{"$f":"IF(I43=\"\",\"\",LEFT(ProjectRecords!H39&\"NO\",3))","v":""},null,{"$f":" IF(  (NOT(ISERROR(SEARCH(\"230\",ProjectRecords!H39)))*1 + NOT(ISERROR(SEARCH(\"231\",ProjectRecords!H39))))*1 +  (NOT(ISERROR(SEARCH(\"232\",ProjectRecords!H39)))*1 + NOT(ISERROR(SEARCH(\"233\",ProjectRecords!H39))))*1>0, \"NO\",\"\")","v":""},null,null,null,"",{"$f":"IF(I43=\"\",\"\",LEFT(ProjectRecords!F39&\"NO\",4))","v":""}]
[1,null,null,{"$f":"IF(I44=\"\",\"\",ProjectRecords!C40&\"\")","v":""},"",{"$f":"ProjectRecords!D40&\"\"","v":""},"",{"$f":"IF(I44=\"\",\"\",IF(OR(AND(F44=\"\",I44<>\"\"),AND(ROW(I44)<>7,NOT(ISERROR(VLOOKUP(F44,F$7:F43,1,0))))),\"NO\",\"yes\"))","v":""},{"$f":"ProjectRecords!E40&\"\"","v":""},{"$f":"IF(OR((NOT(ISERROR(SEARCH(\"Program Development\",I44)))*100+(LEFT(ProjectRecords!H40,3)=\"180\")*10+(LEFT(ProjectRecords!D40,1)=\"M\")*1)=111,(NOT(ISERROR(SEARCH(\"Program Development\",I44)))*100+(LEFT(ProjectRecords!H40,3)=\"180\")*10+(LEFT(ProjectRecords!D40,1)=\"M\")*1)<=1),\"\",\"NO\")","v":""},{"$f":"SUBSTITUTE(SUBSTITUTE(SUBSTITUTE(ProjectRecords!L40&\"; \"&ProjectRecords!N40&\"; \"&ProjectRecords!P40&\"; \"&ProjectRecords!R40&\"~\",\"; ; \",\"\"),\"; ~\",\"\"),\"~\",\"\")","v":""},{"$f":"IF(LEFT(ProjectRecords!D40,1)=\"m\",IF(L43=1,0,1),0)","v":0},{"$f":"IF(L44=0,\"\",ProjectRecords!L40)","v":""},{"$f":"IF(ISERROR(SEARCH(\",\",ProjectRecords!L40&ProjectRecords!N40&ProjectRecords!P40&ProjectRecords!R40)),\"\",\"check\")","v":""},{"$f":"IF(I44=\"\",\"\",IF(AND((TableOfContents!O44=TableOfContents!S44),(TableOfContents!P44=TableOfContents!T44)),\"yes\",\"NO\"))","v":""},null,{"$f":"IF(I44=\"\",\"\",IF(ProjectRecords!I40=\"\",\"NO\",\"yes\"))","v":""},{"$f":"IF(I44=\"\",\"\",IF(LEFT(F44,1)<>\"R\",\"\",IF(ProjectRecords!Z40=\"\",\"NO\",\"yes\")))","v":""},null,null,"",{"$f":"IF(I44=\"\",\"\",LEFT(ProjectRecords!H40&\"NO\",3))","v":""},null,{"$f":" IF(  (NOT(ISERROR(SEARCH(\"230\",ProjectRecords!H40)))*1 + NOT(ISERROR(SEARCH(\"231\",ProjectRecords!H40))))*1 +  (NOT(ISERROR(SEARCH(\"232\",ProjectRecords!H40)))*1 + NOT(ISERROR(SEARCH(\"233\",ProjectRecords!H40))))*1>0, \"NO\",\"\")","v":""},null,null,null,"",{"$f":"IF(I44=\"\",\"\",LEFT(ProjectRecords!F40&\"NO\",4))","v":""}]
[1,null,null,{"$f":"IF(I45=\"\",\"\",ProjectRecords!C41&\"\")","v":""},"",{"$f":"ProjectRecords!D41&\"\"","v":""},"",{"$f":"IF(I45=\"\",\"\",IF(OR(AND(F45=\"\",I45<>\"\"),AND(ROW(I45)<>7,NOT(ISERROR(VLOOKUP(F45,F$7:F44,1,0))))),\"NO\",\"yes\"))","v":""},{"$f":"ProjectRecords!E41&\"\"","v":""},{"$f":"IF(OR((NOT(ISERROR(SEARCH(\"Program Development\",I45)))*100+(LEFT(ProjectRecords!H41,3)=\"180\")*10+(LEFT(ProjectRecords!D41,1)=\"M\")*1)=111,(NOT(ISERROR(SEARCH(\"Program Development\",I45)))*100+(LEFT(ProjectRecords!H41,3)=\"180\")*10+(LEFT(ProjectRecords!D41,1)=\"M\")*1)<=1),\"\",\"NO\")","v":""},{"$f":"SUBSTITUTE(SUBSTITUTE(SUBSTITUTE(ProjectRecords!L41&\"; \"&ProjectRecords!N41&\"; \"&ProjectRecords!P41&\"; \"&ProjectRecords!R41&\"~\",\"; ; \",\"\"),\"; ~\",\"\"),\"~\",\"\")","v":""},{"$f":"IF(LEFT(ProjectRecords!D41,1)=\"m\",IF(L44=1,0,1),0)","v":0},{"$f":"IF(L45=0,\"\",ProjectRecords!L41)","v":""},{"$f":"IF(ISERROR(SEARCH(\",\",ProjectRecords!L41&ProjectRecords!N41&ProjectRecords!P41&ProjectRecords!R41)),\"\",\"check\")","v":""},{"$f":"IF(I45=\"\",\"\",IF(AND((TableOfContents!O45=TableOfContents!S45),(TableOfContents!P45=TableOfContents!T45)),\"yes\",\"NO\"))","v":""},null,{"$f":"IF(I45=\"\",\"\",IF(ProjectRecords!I41=\"\",\"NO\",\"yes\"))","v":""},{"$f":"IF(I45=\"\",\"\",IF(LEFT(F45,1)<>\"R\",\"\",IF(ProjectRecords!Z41=\"\",\"NO\",\"yes\")))","v":""},null,null,"",{"$f":"IF(I45=\"\",\"\",LEFT(ProjectRecords!H41&\"NO\",3))","v":""},null,{"$f":" IF(  (NOT(ISERROR(SEARCH(\"230\",ProjectRecords!H41)))*1 + NOT(ISERROR(SEARCH(\"231\",ProjectRecords!H41))))*1 +  (NOT(ISERROR(SEARCH(\"232\",ProjectRecords!H41)))*1 + NOT(ISERROR(SEARCH(\"233\",ProjectRecords!H41))))*1>0, \"NO\",\"\")","v":""},null,null,null,"",{"$f":"IF(I45=\"\",\"\",LEFT(ProjectRecords!F41&\"NO\",4))","v":""}]
[1,null,null,{"$f":"IF(I46=\"\",\"\",ProjectRecords!C42&\"\")","v":""},"",{"$f":"ProjectRecords!D42&\"\"","v":""},"",{"$f":"IF(I46=\"\",\"\",IF(OR(AND(F46=\"\",I46<>\"\"),AND(ROW(I46)<>7,NOT(ISERROR(VLOOKUP(F46,F$7:F45,1,0))))),\"NO\",\"yes\"))","v":""},{"$f":"ProjectRecords!E42&\"\"","v":""},{"$f":"IF(OR((NOT(ISERROR(SEARCH(\"Program Development\",I46)))*100+(LEFT(ProjectRecords!H42,3)=\"180\")*10+(LEFT(ProjectRecords!D42,1)=\"M\")*1)=111,(NOT(ISERROR(SEARCH(\"Program Development\",I46)))*100+(LEFT(ProjectRecords!H42,3)=\"180\")*10+(LEFT(ProjectRecords!D42,1)=\"M\")*1)<=1),\"\",\"NO\")","v":""},{"$f":"SUBSTITUTE(SUBSTITUTE(SUBSTITUTE(ProjectRecords!L42&\"; \"&ProjectRecords!N42&\"; \"&ProjectRecords!P42&\"; \"&ProjectRecords!R42&\"~\",\"; ; \",\"\"),\"; ~\",\"\"),\"~\",\"\")","v":""},{"$f":"IF(LEFT(ProjectRecords!D42,1)=\"m\",IF(L45=1,0,1),0)","v":0},{"$f":"IF(L46=0,\"\",ProjectRecords!L42)","v":""},{"$f":"IF(ISERROR(SEARCH(\",\",ProjectRecords!L42&ProjectRecords!N42&ProjectRecords!P42&ProjectRecords!R42)),\"\",\"check\")","v":""},{"$f":"IF(I46=\"\",\"\",IF(AND((TableOfContents!O46=TableOfContents!S46),(TableOfContents!P46=TableOfContents!T46)),\"yes\",\"NO\"))","v":""},null,{"$f":"IF(I46=\"\",\"\",IF(ProjectRecords!I42=\"\",\"NO\",\"yes\"))","v":""},{"$f":"IF(I46=\"\",\"\",IF(LEFT(F46,1)<>\"R\",\"\",IF(ProjectRecords!Z42=\"\",\"NO\",\"yes\")))","v":""},null,null,"",{"$f":"IF(I46=\"\",\"\",LEFT(ProjectRecords!H42&\"NO\",3))","v":""},null,{"$f":" IF(  (NOT(ISERROR(SEARCH(\"230\",ProjectRecords!H42)))*1 + NOT(ISERROR(SEARCH(\"231\",ProjectRecords!H42))))*1 +  (NOT(ISERROR(SEARCH(\"232\",ProjectRecords!H42)))*1 + NOT(ISERROR(SEARCH(\"233\",ProjectRecords!H42))))*1>0, \"NO\",\"\")","v":""},null,null,null,"",{"$f":"IF(I46=\"\",\"\",LEFT(ProjectRecords!F42&\"NO\",4))","v":""}]
[1,null,null,{"$f":"IF(I47=\"\",\"\",ProjectRecords!C43&\"\")","v":""},"",{"$f":"ProjectRecords!D43&\"\"","v":""},"",{"$f":"IF(I47=\"\",\"\",IF(OR(AND(F47=\"\",I47<>\"\"),AND(ROW(I47)<>7,NOT(ISERROR(VLOOKUP(F47,F$7:F46,1,0))))),\"NO\",\"yes\"))","v":""},{"$f":"ProjectRecords!E43&\"\"","v":""},{"$f":"IF(OR((NOT(ISERROR(SEARCH(\"Program Development\",I47)))*100+(LEFT(ProjectRecords!H43,3)=\"180\")*10+(LEFT(ProjectRecords!D43,1)=\"M\")*1)=111,(NOT(ISERROR(SEARCH(\"Program Development\",I47)))*100+(LEFT(ProjectRecords!H43,3)=\"180\")*10+(LEFT(ProjectRecords!D43,1)=\"M\")*1)<=1),\"\",\"NO\")","v":""},{"$f":"SUBSTITUTE(SUBSTITUTE(SUBSTITUTE(ProjectRecords!L43&\"; \"&ProjectRecords!N43&\"; \"&ProjectRecords!P43&\"; \"&ProjectRecords!R43&\"~\",\"; ; \",\"\"),\"; ~\",\"\"),\"~\",\"\")","v":""},{"$f":"IF(LEFT(ProjectRecords!D43,1)=\"m\",IF(L46=1,0,1),0)","v":0},{"$f":"IF(L47=0,\"\",ProjectRecords!L43)","v":""},{"$f":"IF(ISERROR(SEARCH(\",\",ProjectRecords!L43&ProjectRecords!N43&ProjectRecords!P43&ProjectRecords!R43)),\"\",\"check\")","v":""},{"$f":"IF(I47=\"\",\"\",IF(AND((TableOfContents!O47=TableOfContents!S47),(TableOfContents!P47=TableOfContents!T47)),\"yes\",\"NO\"))","v":""},null,{"$f":"IF(I47=\"\",\"\",IF(ProjectRecords!I43=\"\",\"NO\",\"yes\"))","v":""},{"$f":"IF(I47=\"\",\"\",IF(LEFT(F47,1)<>\"R\",\"\",IF(ProjectRecords!Z43=\"\",\"NO\",\"yes\")))","v":""},null,null,"",{"$f":"IF(I47=\"\",\"\",LEFT(ProjectRecords!H43&\"NO\",3))","v":""},null,{"$f":" IF(  (NOT(ISERROR(SEARCH(\"230\",ProjectRecords!H43)))*1 + NOT(ISERROR(SEARCH(\"231\",ProjectRecords!H43))))*1 +  (NOT(ISERROR(SEARCH(\"232\",ProjectRecords!H43)))*1 + NOT(ISERROR(SEARCH(\"233\",ProjectRecords!H43))))*1>0, \"NO\",\"\")","v":""},null,null,null,"",{"$f":"IF(I47=\"\",\"\",LEFT(ProjectRecords!F43&\"NO\",4))","v":""}]
[1,null,null,{"$f":"IF(I48=\"\",\"\",ProjectRecords!C44&\"\")","v":""},"",{"$f":"ProjectRecords!D44&\"\"","v":""},"",{"$f":"IF(I48=\"\",\"\",IF(OR(AND(F48=\"\",I48<>\"\"),AND(ROW(I48)<>7,NOT(ISERROR(VLOOKUP(F48,F$7:F47,1,0))))),\"NO\",\"yes\"))","v":""},{"$f":"ProjectRecords!E44&\"\"","v":""},{"$f":"IF(OR((NOT(ISERROR(SEARCH(\"Program Development\",I48)))*100+(LEFT(ProjectRecords!H44,3)=\"180\")*10+(LEFT(ProjectRecords!D44,1)=\"M\")*1)=111,(NOT(ISERROR(SEARCH(\"Program Development\",I48)))*100+(LEFT(ProjectRecords!H44,3)=\"180\")*10+(LEFT(ProjectRecords!D44,1)=\"M\")*1)<=1),\"\",\"NO\")","v":""},{"$f":"SUBSTITUTE(SUBSTITUTE(SUBSTITUTE(ProjectRecords!L44&\"; \"&ProjectRecords!N44&\"; \"&ProjectRecords!P44&\"; \"&ProjectRecords!R44&\"~\",\"; ; \",\"\"),\"; ~\",\"\"),\"~\",\"\")","v":""},{"$f":"IF(LEFT(ProjectRecords!D44,1)=\"m\",IF(L47=1,0,1),0)","v":0},{"$f":"IF(L48=0,\"\",ProjectRecords!L44)","v":""},{"$f":"IF(ISERROR(SEARCH(\",\",ProjectRecords!L44&ProjectRecords!N44&ProjectRecords!P44&ProjectRecords!R44)),\"\",\"check\")","v":""},{"$f":"IF(I48=\"\",\"\",IF(AND((TableOfContents!O48=TableOfContents!S48),(TableOfContents!P48=TableOfContents!T48)),\"yes\",\"NO\"))","v":""},null,{"$f":"IF(I48=\"\",\"\",IF(ProjectRecords!I44=\"\",\"NO\",\"yes\"))","v":""},{"$f":"IF(I48=\"\",\"\",IF(LEFT(F48,1)<>\"R\",\"\",IF(ProjectRecords!Z44=\"\",\"NO\",\"yes\")))","v":""},null,null,"",{"$f":"IF(I48=\"\",\"\",LEFT(ProjectRecords!H44&\"NO\",3))","v":""},null,{"$f":" IF(  (NOT(ISERROR(SEARCH(\"230\",ProjectRecords!H44)))*1 + NOT(ISERROR(SEARCH(\"231\",ProjectRecords!H44))))*1 +  (NOT(ISERROR(SEARCH(\"232\",ProjectRecords!H44)))*1 + NOT(ISERROR(SEARCH(\"233\",ProjectRecords!H44))))*1>0, \"NO\",\"\")","v":""},null,null,null,"",{"$f":"IF(I48=\"\",\"\",LEFT(ProjectRecords!F44&\"NO\",4))","v":""}]
[1,null,null,{"$f":"IF(I49=\"\",\"\",ProjectRecords!C45&\"\")","v":""},"",{"$f":"ProjectRecords!D45&\"\"","v":""},"",{"$f":"IF(I49=\"\",\"\",IF(OR(AND(F49=\"\",I49<>\"\"),AND(ROW(I49)<>7,NOT(ISERROR(VLOOKUP(F49,F$7:F48,1,0))))),\"NO\",\"yes\"))","v":""},{"$f":"ProjectRecords!E45&\"\"","v":""},{"$f":"IF(OR((NOT(ISERROR(SEARCH(\"Program Development\",I49)))*100+(LEFT(ProjectRecords!H45,3)=\"180\")*10+(LEFT(ProjectRecords!D45,1)=\"M\")*1)=111,(NOT(ISERROR(SEARCH(\"Program Development\",I49)))*100+(LEFT(ProjectRecords!H45,3)=\"180\")*10+(LEFT(ProjectRecords!D45,1)=\"M\")*1)<=1),\"\",\"NO\")","v":""},{"$f":"SUBSTITUTE(SUBSTITUTE(SUBSTITUTE(ProjectRecords!L45&\"; \"&ProjectRecords!N45&\"; \"&ProjectRecords!P45&\"; \"&ProjectRecords!R45&\"~\",\"; ; \",\"\"),\"; ~\",\"\"),\"~\",\"\")","v":""},{"$f":"IF(LEFT(ProjectRecords!D45,1)=\"m\",IF(L48=1,0,1),0)","v":0},{"$f":"IF(L49=0,\"\",ProjectRecords!L45)","v":""},{"$f":"IF(ISERROR(SEARCH(\",\",ProjectRecords!L45&ProjectRecords!N45&ProjectRecords!P45&ProjectRecords!R45)),\"\",\"check\")","v":""},{"$f":"IF(I49=\"\",\"\",IF(AND((TableOfContents!O49=TableOfContents!S49),(TableOfContents!P49=TableOfContents!T49)),\"yes\",\"NO\"))","v":""},null,{"$f":"IF(I49=\"\",\"\",IF(ProjectRecords!I45=\"\",\"NO\",\"yes\"))","v":""},{"$f":"IF(I49=\"\",\"\",IF(LEFT(F49,1)<>\"R\",\"\",IF(ProjectRecords!Z45=\"\",\"NO\",\"yes\")))","v":""},null,null,"",{"$f":"IF(I49=\"\",\"\",LEFT(ProjectRecords!H45&\"NO\",3))","v":""},null,{"$f":" IF(  (NOT(ISERROR(SEARCH(\"230\",ProjectRecords!H45)))*1 + NOT(ISERROR(SEARCH(\"231\",ProjectRecords!H45))))*1 +  (NOT(ISERROR(SEARCH(\"232\",ProjectRecords!H45)))*1 + NOT(ISERROR(SEARCH(\"233\",ProjectRecords!H45))))*1>0, \"NO\",\"\")","v":""},null,null,null,"",{"$f":"IF(I49=\"\",\"\",LEFT(ProjectRecords!F45&\"NO\",4))","v":""}]
[1,null,null,{"$f":"IF(I50=\"\",\"\",ProjectRecords!C46&\"\")","v":""},"",{"$f":"ProjectRecords!D46&\"\"","v":""},"",{"$f":"IF(I50=\"\",\"\",IF(OR(AND(F50=\"\",I50<>\"\"),AND(ROW(I50)<>7,NOT(ISERROR(VLOOKUP(F50,F$7:F49,1,0))))),\"NO\",\"yes\"))","v":""},{"$f":"ProjectRecords!E46&\"\"","v":""},{"$f":"IF(OR((NOT(ISERROR(SEARCH(\"Program Development\",I50)))*100+(LEFT(ProjectRecords!H46,3)=\"180\")*10+(LEFT(ProjectRecords!D46,1)=\"M\")*1)=111,(NOT(ISERROR(SEARCH(\"Program Development\",I50)))*100+(LEFT(ProjectRecords!H46,3)=\"180\")*10+(LEFT(ProjectRecords!D46,1)=\"M\")*1)<=1),\"\",\"NO\")","v":""},{"$f":"SUBSTITUTE(SUBSTITUTE(SUBSTITUTE(ProjectRecords!L46&\"; \"&ProjectRecords!N46&\"; \"&ProjectRecords!P46&\"; \"&ProjectRecords!R46&\"~\",\"; ; \",\"\"),\"; ~\",\"\"),\"~\",\"\")","v":""},{"$f":"IF(LEFT(ProjectRecords!D46,1)=\"m\",IF(L49=1,0,1),0)","v":0},{"$f":"IF(L50=0,\"\",ProjectRecords!L46)","v":""},{"$f":"IF(ISERROR(SEARCH(\",\",ProjectRecords!L46&ProjectRecords!N46&ProjectRecords!P46&ProjectRecords!R46)),\"\",\"check\")","v":""},{"$f":"IF(I50=\"\",\"\",IF(AND((TableOfContents!O50=TableOfContents!S50),(TableOfContents!P50=TableOfContents!T50)),\"yes\",\"NO\"))","v":""},null,{"$f":"IF(I50=\"\",\"\",IF(ProjectRecords!I46=\"\",\"NO\",\"yes\"))","v":""},{"$f":"IF(I50=\"\",\"\",IF(LEFT(F50,1)<>\"R\",\"\",IF(ProjectRecords!Z46=\"\",\"NO\",\"yes\")))","v":""},null,null,"",{"$f":"IF(I50=\"\",\"\",LEFT(ProjectRecords!H46&\"NO\",3))","v":""},null,{"$f":" IF(  (NOT(ISERROR(SEARCH(\"230\",ProjectRecords!H46)))*1 + NOT(ISERROR(SEARCH(\"231\",ProjectRecords!H46))))*1 +  (NOT(ISERROR(SEARCH(\"232\",ProjectRecords!H46)))*1 + NOT(ISERROR(SEARCH(\"233\",ProjectRecords!H46))))*1>0, \"NO\",\"\")","v":""},null,null,null,"",{"$f":"IF(I50=\"\",\"\",LEFT(ProjectRecords!F46&\"NO\",4))","v":""}]
[1,null,null,{"$f":"IF(I51=\"\",\"\",ProjectRecords!C47&\"\")","v":""},"",{"$f":"ProjectRecords!D47&\"\"","v":""},"",{"$f":"IF(I51=\"\",\"\",IF(OR(AND(F51=\"\",I51<>\"\"),AND(ROW(I51)<>7,NOT(ISERROR(VLOOKUP(F51,F$7:F50,1,0))))),\"NO\",\"yes\"))","v":""},{"$f":"ProjectRecords!E47&\"\"","v":""},{"$f":"IF(OR((NOT(ISERROR(SEARCH(\"Program Development\",I51)))*100+(LEFT(ProjectRecords!H47,3)=\"180\")*10+(LEFT(ProjectRecords!D47,1)=\"M\")*1)=111,(NOT(ISERROR(SEARCH(\"Program Development\",I51)))*100+(LEFT(ProjectRecords!H47,3)=\"180\")*10+(LEFT(ProjectRecords!D47,1)=\"M\")*1)<=1),\"\",\"NO\")","v":""},{"$f":"SUBSTITUTE(SUBSTITUTE(SUBSTITUTE(ProjectRecords!L47&\"; \"&ProjectRecords!N47&\"; \"&ProjectRecords!P47&\"; \"&ProjectRecords!R47&\"~\",\"; ; \",\"\"),\"; ~\",\"\"),\"~\",\"\")","v":""},{"$f":"IF(LEFT(ProjectRecords!D47,1)=\"m\",IF(L50=1,0,1),0)","v":0},{"$f":"IF(L51=0,\"\",ProjectRecords!L47)","v":""},{"$f":"IF(ISERROR(SEARCH(\",\",ProjectRecords!L47&ProjectRecords!N47&ProjectRecords!P47&ProjectRecords!R47)),\"\",\"check\")","v":""},{"$f":"IF(I51=\"\",\"\",IF(AND((TableOfContents!O51=TableOfContents!S51),(TableOfContents!P51=TableOfContents!T51)),\"yes\",\"NO\"))","v":""},null,{"$f":"IF(I51=\"\",\"\",IF(ProjectRecords!I47=\"\",\"NO\",\"yes\"))","v":""},{"$f":"IF(I51=\"\",\"\",IF(LEFT(F51,1)<>\"R\",\"\",IF(ProjectRecords!Z47=\"\",\"NO\",\"yes\")))","v":""},null,null,"",{"$f":"IF(I51=\"\",\"\",LEFT(ProjectRecords!H47&\"NO\",3))","v":""},null,{"$f":" IF(  (NOT(ISERROR(SEARCH(\"230\",ProjectRecords!H47)))*1 + NOT(ISERROR(SEARCH(\"231\",ProjectRecords!H47))))*1 +  (NOT(ISERROR(SEARCH(\"232\",ProjectRecords!H47)))*1 + NOT(ISERROR(SEARCH(\"233\",ProjectRecords!H47))))*1>0, \"NO\",\"\")","v":""},null,null,null,"",{"$f":"IF(I51=\"\",\"\",LEFT(ProjectRecords!F47&\"NO\",4))","v":""}]
[1,null,null,{"$f":"IF(I52=\"\",\"\",ProjectRecords!C48&\"\")","v":""},"",{"$f":"ProjectRecords!D48&\"\"","v":""},"",{"$f":"IF(I52=\"\",\"\",IF(OR(AND(F52=\"\",I52<>\"\"),AND(ROW(I52)<>7,NOT(ISERROR(VLOOKUP(F52,F$7:F51,1,0))))),\"NO\",\"yes\"))","v":""},{"$f":"ProjectRecords!E48&\"\"","v":""},{"$f":"IF(OR((NOT(ISERROR(SEARCH(\"Program Development\",I52)))*100+(LEFT(ProjectRecords!H48,3)=\"180\")*10+(LEFT(ProjectRecords!D48,1)=\"M\")*1)=111,(NOT(ISERROR(SEARCH(\"Program Development\",I52)))*100+(LEFT(ProjectRecords!H48,3)=\"180\")*10+(LEFT(ProjectRecords!D48,1)=\"M\")*1)<=1),\"\",\"NO\")","v":""},{"$f":"SUBSTITUTE(SUBSTITUTE(SUBSTITUTE(ProjectRecords!L48&\"; \"&ProjectRecords!N48&\"; \"&ProjectRecords!P48&\"; \"&ProjectRecords!R48&\"~\",\"; ; \",\"\"),\"; ~\",\"\"),\"~\",\"\")","v":""},{"$f":"IF(LEFT(ProjectRecords!D48,1)=\"m\",IF(L51=1,0,1),0)","v":0},{"$f":"IF(L52=0,\"\",ProjectRecords!L48)","v":""},{"$f":"IF(ISERROR(SEARCH(\",\",ProjectRecords!L48&ProjectRecords!N48&ProjectRecords!P48&ProjectRecords!R48)),\"\",\"check\")","v":""},{"$f":"IF(I52=\"\",\"\",IF(AND((TableOfContents!O52=TableOfContents!S52),(TableOfContents!P52=TableOfContents!T52)),\"yes\",\"NO\"))","v":""},null,{"$f":"IF(I52=\"\",\"\",IF(ProjectRecords!I48=\"\",\"NO\",\"yes\"))","v":""},{"$f":"IF(I52=\"\",\"\",IF(LEFT(F52,1)<>\"R\",\"\",IF(ProjectRecords!Z48=\"\",\"NO\",\"yes\")))","v":""},null,null,"",{"$f":"IF(I52=\"\",\"\",LEFT(ProjectRecords!H48&\"NO\",3))","v":""},null,{"$f":" IF(  (NOT(ISERROR(SEARCH(\"230\",ProjectRecords!H48)))*1 + NOT(ISERROR(SEARCH(\"231\",ProjectRecords!H48))))*1 +  (NOT(ISERROR(SEARCH(\"232\",ProjectRecords!H48)))*1 + NOT(ISERROR(SEARCH(\"233\",ProjectRecords!H48))))*1>0, \"NO\",\"\")","v":""},null,null,null,"",{"$f":"IF(I52=\"\",\"\",LEFT(ProjectRecords!F48&\"NO\",4))","v":""}]
[1,null,null,{"$f":"IF(I53=\"\",\"\",ProjectRecords!C49&\"\")","v":""},"",{"$f":"ProjectRecords!D49&\"\"","v":""},"",{"$f":"IF(I53=\"\",\"\",IF(OR(AND(F53=\"\",I53<>\"\"),AND(ROW(I53)<>7,NOT(ISERROR(VLOOKUP(F53,F$7:F52,1,0))))),\"NO\",\"yes\"))","v":""},{"$f":"ProjectRecords!E49&\"\"","v":""},{"$f":"IF(OR((NOT(ISERROR(SEARCH(\"Program Development\",I53)))*100+(LEFT(ProjectRecords!H49,3)=\"180\")*10+(LEFT(ProjectRecords!D49,1)=\"M\")*1)=111,(NOT(ISERROR(SEARCH(\"Program Development\",I53)))*100+(LEFT(ProjectRecords!H49,3)=\"180\")*10+(LEFT(ProjectRecords!D49,1)=\"M\")*1)<=1),\"\",\"NO\")","v":""},{"$f":"SUBSTITUTE(SUBSTITUTE(SUBSTITUTE(ProjectRecords!L49&\"; \"&ProjectRecords!N49&\"; \"&ProjectRecords!P49&\"; \"&ProjectRecords!R49&\"~\",\"; ; \",\"\"),\"; ~\",\"\"),\"~\",\"\")","v":""},{"$f":"IF(LEFT(ProjectRecords!D49,1)=\"m\",IF(L52=1,0,1),0)","v":0},{"$f":"IF(L53=0,\"\",ProjectRecords!L49)","v":""},{"$f":"IF(ISERROR(SEARCH(\",\",ProjectRecords!L49&ProjectRecords!N49&ProjectRecords!P49&ProjectRecords!R49)),\"\",\"check\")","v":""},{"$f":"IF(I53=\"\",\"\",IF(AND((TableOfContents!O53=TableOfContents!S53),(TableOfContents!P53=TableOfContents!T53)),\"yes\",\"NO\"))","v":""},null,{"$f":"IF(I53=\"\",\"\",IF(ProjectRecords!I49=\"\",\"NO\",\"yes\"))","v":""},{"$f":"IF(I53=\"\",\"\",IF(LEFT(F53,1)<>\"R\",\"\",IF(ProjectRecords!Z49=\"\",\"NO\",\"yes\")))","v":""},null,null,"",{"$f":"IF(I53=\"\",\"\",LEFT(ProjectRecords!H49&\"NO\",3))","v":""},null,{"$f":" IF(  (NOT(ISERROR(SEARCH(\"230\",ProjectRecords!H49)))*1 + NOT(ISERROR(SEARCH(\"231\",ProjectRecords!H49))))*1 +  (NOT(ISERROR(SEARCH(\"232\",ProjectRecords!H49)))*1 + NOT(ISERROR(SEARCH(\"233\",ProjectRecords!H49))))*1>0, \"NO\",\"\")","v":""},null,null,null,"",{"$f":"IF(I53=\"\",\"\",LEFT(ProjectRecords!F49&\"NO\",4))","v":""}]
[1,null,null,{"$f":"IF(I54=\"\",\"\",ProjectRecords!C50&\"\")","v":""},"",{"$f":"ProjectRecords!D50&\"\"","v":""},"",{"$f":"IF(I54=\"\",\"\",IF(OR(AND(F54=\"\",I54<>\"\"),AND(ROW(I54)<>7,NOT(ISERROR(VLOOKUP(F54,F$7:F53,1,0))))),\"NO\",\"yes\"))","v":""},{"$f":"ProjectRecords!E50&\"\"","v":""},{"$f":"IF(OR((NOT(ISERROR(SEARCH(\"Program Development\",I54)))*100+(LEFT(ProjectRecords!H50,3)=\"180\")*10+(LEFT(ProjectRecords!D50,1)=\"M\")*1)=111,(NOT(ISERROR(SEARCH(\"Program Development\",I54)))*100+(LEFT(ProjectRecords!H50,3)=\"180\")*10+(LEFT(ProjectRecords!D50,1)=\"M\")*1)<=1),\"\",\"NO\")","v":""},{"$f":"SUBSTITUTE(SUBSTITUTE(SUBSTITUTE(ProjectRecords!L50&\"; \"&ProjectRecords!N50&\"; \"&ProjectRecords!P50&\"; \"&ProjectRecords!R50&\"~\",\"; ; \",\"\"),\"; ~\",\"\"),\"~\",\"\")","v":""},{"$f":"IF(LEFT(ProjectRecords!D50,1)=\"m\",IF(L53=1,0,1),0)","v":0},{"$f":"IF(L54=0,\"\",ProjectRecords!L50)","v":""},{"$f":"IF(ISERROR(SEARCH(\",\",ProjectRecords!L50&ProjectRecords!N50&ProjectRecords!P50&ProjectRecords!R50)),\"\",\"check\")","v":""},{"$f":"IF(I54=\"\",\"\",IF(AND((TableOfContents!O54=TableOfContents!S54),(TableOfContents!P54=TableOfContents!T54)),\"yes\",\"NO\"))","v":""},null,{"$f":"IF(I54=\"\",\"\",IF(ProjectRecords!I50=\"\",\"NO\",\"yes\"))","v":""},{"$f":"IF(I54=\"\",\"\",IF(LEFT(F54,1)<>\"R\",\"\",IF(ProjectRecords!Z50=\"\",\"NO\",\"yes\")))","v":""},null,null,"",{"$f":"IF(I54=\"\",\"\",LEFT(ProjectRecords!H50&\"NO\",3))","v":""},null,{"$f":" IF(  (NOT(ISERROR(SEARCH(\"230\",ProjectRecords!H50)))*1 + NOT(ISERROR(SEARCH(\"231\",ProjectRecords!H50))))*1 +  (NOT(ISERROR(SEARCH(\"232\",ProjectRecords!H50)))*1 + NOT(ISERROR(SEARCH(\"233\",ProjectRecords!H50))))*1>0, \"NO\",\"\")","v":""},null,null,null,"",{"$f":"IF(I54=\"\",\"\",LEFT(ProjectRecords!F50&\"NO\",4))","v":""}]
[1,null,null,{"$f":"IF(I55=\"\",\"\",ProjectRecords!C51&\"\")","v":""},"",{"$f":"ProjectRecords!D51&\"\"","v":""},"",{"$f":"IF(I55=\"\",\"\",IF(OR(AND(F55=\"\",I55<>\"\"),AND(ROW(I55)<>7,NOT(ISERROR(VLOOKUP(F55,F$7:F54,1,0))))),\"NO\",\"yes\"))","v":""},{"$f":"ProjectRecords!E51&\"\"","v":""},{"$f":"IF(OR((NOT(ISERROR(SEARCH(\"Program Development\",I55)))*100+(LEFT(ProjectRecords!H51,3)=\"180\")*10+(LEFT(ProjectRecords!D51,1)=\"M\")*1)=111,(NOT(ISERROR(SEARCH(\"Program Development\",I55)))*100+(LEFT(ProjectRecords!H51,3)=\"180\")*10+(LEFT(ProjectRecords!D51,1)=\"M\")*1)<=1),\"\",\"NO\")","v":""},{"$f":"SUBSTITUTE(SUBSTITUTE(SUBSTITUTE(ProjectRecords!L51&\"; \"&ProjectRecords!N51&\"; \"&ProjectRecords!P51&\"; \"&ProjectRecords!R51&\"~\",\"; ; \",\"\"),\"; ~\",\"\"),\"~\",\"\")","v":""},{"$f":"IF(LEFT(ProjectRecords!D51,1)=\"m\",IF(L54=1,0,1),0)","v":0},{"$f":"IF(L55=0,\"\",ProjectRecords!L51)","v":""},{"$f":"IF(ISERROR(SEARCH(\",\",ProjectRecords!L51&ProjectRecords!N51&ProjectRecords!P51&ProjectRecords!R51)),\"\",\"check\")","v":""},{"$f":"IF(I55=\"\",\"\",IF(AND((TableOfContents!O55=TableOfContents!S55),(TableOfContents!P55=TableOfContents!T55)),\"yes\",\"NO\"))","v":""},null,{"$f":"IF(I55=\"\",\"\",IF(ProjectRecords!I51=\"\",\"NO\",\"yes\"))","v":""},{"$f":"IF(I55=\"\",\"\",IF(LEFT(F55,1)<>\"R\",\"\",IF(ProjectRecords!Z51=\"\",\"NO\",\"yes\")))","v":""},null,null,"",{"$f":"IF(I55=\"\",\"\",LEFT(ProjectRecords!H51&\"NO\",3))","v":""},null,{"$f":" IF(  (NOT(ISERROR(SEARCH(\"230\",ProjectRecords!H51)))*1 + NOT(ISERROR(SEARCH(\"231\",ProjectRecords!H51))))*1 +  (NOT(ISERROR(SEARCH(\"232\",ProjectRecords!H51)))*1 + NOT(ISERROR(SEARCH(\"233\",ProjectRecords!H51))))*1>0, \"NO\",\"\")","v":""},null,null,null,"",{"$f":"IF(I55=\"\",\"\",LEFT(ProjectRecords!F51&\"NO\",4))","v":""}]
[1,null,null,{"$f":"IF(I56=\"\",\"\",ProjectRecords!C52&\"\")","v":""},"",{"$f":"ProjectRecords!D52&\"\"","v":""},"",{"$f":"IF(I56=\"\",\"\",IF(OR(AND(F56=\"\",I56<>\"\"),AND(ROW(I56)<>7,NOT(ISERROR(VLOOKUP(F56,F$7:F55,1,0))))),\"NO\",\"yes\"))","v":""},{"$f":"ProjectRecords!E52&\"\"","v":""},{"$f":"IF(OR((NOT(ISERROR(SEARCH(\"Program Development\",I56)))*100+(LEFT(ProjectRecords!H52,3)=\"180\")*10+(LEFT(ProjectRecords!D52,1)=\"M\")*1)=111,(NOT(ISERROR(SEARCH(\"Program Development\",I56)))*100+(LEFT(ProjectRecords!H52,3)=\"180\")*10+(LEFT(ProjectRecords!D52,1)=\"M\")*1)<=1),\"\",\"NO\")","v":""},{"$f":"SUBSTITUTE(SUBSTITUTE(SUBSTITUTE(ProjectRecords!L52&\"; \"&ProjectRecords!N52&\"; \"&ProjectRecords!P52&\"; \"&ProjectRecords!R52&\"~\",\"; ; \",\"\"),\"; ~\",\"\"),\"~\",\"\")","v":""},{"$f":"IF(LEFT(ProjectRecords!D52,1)=\"m\",IF(L55=1,0,1),0)","v":0},{"$f":"IF(L56=0,\"\",ProjectRecords!L52)","v":""},{"$f":"IF(ISERROR(SEARCH(\",\",ProjectRecords!L52&ProjectRecords!N52&ProjectRecords!P52&ProjectRecords!R52)),\"\",\"check\")","v":""},{"$f":"IF(I56=\"\",\"\",IF(AND((TableOfContents!O56=TableOfContents!S56),(TableOfContents!P56=TableOfContents!T56)),\"yes\",\"NO\"))","v":""},null,{"$f":"IF(I56=\"\",\"\",IF(ProjectRecords!I52=\"\",\"NO\",\"yes\"))","v":""},{"$f":"IF(I56=\"\",\"\",IF(LEFT(F56,1)<>\"R\",\"\",IF(ProjectRecords!Z52=\"\",\"NO\",\"yes\")))","v":""},null,null,"",{"$f":"IF(I56=\"\",\"\",LEFT(ProjectRecords!H52&\"NO\",3))","v":""},null,{"$f":" IF(  (NOT(ISERROR(SEARCH(\"230\",ProjectRecords!H52)))*1 + NOT(ISERROR(SEARCH(\"231\",ProjectRecords!H52))))*1 +  (NOT(ISERROR(SEARCH(\"232\",ProjectRecords!H52)))*1 + NOT(ISERROR(SEARCH(\"233\",ProjectRecords!H52))))*1>0, \"NO\",\"\")","v":""},null,null,null,"",{"$f":"IF(I56=\"\",\"\",LEFT(ProjectRecords!F52&\"NO\",4))","v":""}]
[1,null,null,{"$f":"IF(I57=\"\",\"\",ProjectRecords!C53&\"\")","v":""},"",{"$f":"ProjectRecords!D53&\"\"","v":""},"",{"$f":"IF(I57=\"\",\"\",IF(OR(AND(F57=\"\",I57<>\"\"),AND(ROW(I57)<>7,NOT(ISERROR(VLOOKUP(F57,F$7:F56,1,0))))),\"NO\",\"yes\"))","v":""},{"$f":"ProjectRecords!E53&\"\"","v":""},{"$f":"IF(OR((NOT(ISERROR(SEARCH(\"Program Development\",I57)))*100+(LEFT(ProjectRecords!H53,3)=\"180\")*10+(LEFT(ProjectRecords!D53,1)=\"M\")*1)=111,(NOT(ISERROR(SEARCH(\"Program Development\",I57)))*100+(LEFT(ProjectRecords!H53,3)=\"180\")*10+(LEFT(ProjectRecords!D53,1)=\"M\")*1)<=1),\"\",\"NO\")","v":""},{"$f":"SUBSTITUTE(SUBSTITUTE(SUBSTITUTE(ProjectRecords!L53&\"; \"&ProjectRecords!N53&\"; \"&ProjectRecords!P53&\"; \"&ProjectRecords!R53&\"~\",\"; ; \",\"\"),\"; ~\",\"\"),\"~\",\"\")","v":""},{"$f":"IF(LEFT(ProjectRecords!D53,1)=\"m\",IF(L56=1,0,1),0)","v":0},{"$f":"IF(L57=0,\"\",ProjectRecords!L53)","v":""},{"$f":"IF(ISERROR(SEARCH(\",\",ProjectRecords!L53&ProjectRecords!N53&ProjectRecords!P53&ProjectRecords!R53)),\"\",\"check\")","v":""},{"$f":"IF(I57=\"\",\"\",IF(AND((TableOfContents!O57=TableOfContents!S57),(TableOfContents!P57=TableOfContents!T57)),\"yes\",\"NO\"))","v":""},null,{"$f":"IF(I57=\"\",\"\",IF(ProjectRecords!I53=\"\",\"NO\",\"yes\"))","v":""},{"$f":"IF(I57=\"\",\"\",IF(LEFT(F57,1)<>\"R\",\"\",IF(ProjectRecords!Z53=\"\",\"NO\",\"yes\")))","v":""},null,null,"",{"$f":"IF(I57=\"\",\"\",LEFT(ProjectRecords!H53&\"NO\",3))","v":""},null,null,null,null,null,"",{"$f":"IF(I57=\"\",\"\",LEFT(ProjectRecords!F53&\"NO\",4))","v":""}]
[1,null,null,{"$f":"IF(I58=\"\",\"\",ProjectRecords!C54&\"\")","v":""},"",{"$f":"ProjectRecords!D54&\"\"","v":""},"",{"$f":"IF(I58=\"\",\"\",IF(OR(AND(F58=\"\",I58<>\"\"),AND(ROW(I58)<>7,NOT(ISERROR(VLOOKUP(F58,F$7:F57,1,0))))),\"NO\",\"yes\"))","v":""},{"$f":"ProjectRecords!E54&\"\"","v":""},{"$f":"IF(OR((NOT(ISERROR(SEARCH(\"Program Development\",I58)))*100+(LEFT(ProjectRecords!H54,3)=\"180\")*10+(LEFT(ProjectRecords!D54,1)=\"M\")*1)=111,(NOT(ISERROR(SEARCH(\"Program Development\",I58)))*100+(LEFT(ProjectRecords!H54,3)=\"180\")*10+(LEFT(ProjectRecords!D54,1)=\"M\")*1)<=1),\"\",\"NO\")","v":""},{"$f":"SUBSTITUTE(SUBSTITUTE(SUBSTITUTE(ProjectRecords!L54&\"; \"&ProjectRecords!N54&\"; \"&ProjectRecords!P54&\"; \"&ProjectRecords!R54&\"~\",\"; ; \",\"\"),\"; ~\",\"\"),\"~\",\"\")","v":""},{"$f":"IF(LEFT(ProjectRecords!D54,1)=\"m\",IF(L57=1,0,1),0)","v":0},{"$f":"IF(L58=0,\"\",ProjectRecords!L54)","v":""},{"$f":"IF(ISERROR(SEARCH(\",\",ProjectRecords!L54&ProjectRecords!N54&ProjectRecords!P54&ProjectRecords!R54)),\"\",\"check\")","v":""},{"$f":"IF(I58=\"\",\"\",IF(AND((TableOfContents!O58=TableOfContents!S58),(TableOfContents!P58=TableOfContents!T58)),\"yes\",\"NO\"))","v":""},null,{"$f":"IF(I58=\"\",\"\",IF(ProjectRecords!I54=\"\",\"NO\",\"yes\"))","v":""},{"$f":"IF(I58=\"\",\"\",IF(LEFT(F58,1)<>\"R\",\"\",IF(ProjectRecords!Z54=\"\",\"NO\",\"yes\")))","v":""},null,null,"",{"$f":"IF(I58=\"\",\"\",LEFT(ProjectRecords!H54&\"NO\",3))","v":""},null,null,null,null,null,"",{"$f":"IF(I58=\"\",\"\",LEFT(ProjectRecords!F54&\"NO\",4))","v":""}]
[1,null,null,{"$f":"IF(I59=\"\",\"\",ProjectRecords!C55&\"\")","v":""},"",{"$f":"ProjectRecords!D55&\"\"","v":""},"",{"$f":"IF(I59=\"\",\"\",IF(OR(AND(F59=\"\",I59<>\"\"),AND(ROW(I59)<>7,NOT(ISERROR(VLOOKUP(F59,F$7:F58,1,0))))),\"NO\",\"yes\"))","v":""},{"$f":"ProjectRecords!E55&\"\"","v":""},{"$f":"IF(OR((NOT(ISERROR(SEARCH(\"Program Development\",I59)))*100+(LEFT(ProjectRecords!H55,3)=\"180\")*10+(LEFT(ProjectRecords!D55,1)=\"M\")*1)=111,(NOT(ISERROR(SEARCH(\"Program Development\",I59)))*100+(LEFT(ProjectRecords!H55,3)=\"180\")*10+(LEFT(ProjectRecords!D55,1)=\"M\")*1)<=1),\"\",\"NO\")","v":""},{"$f":"SUBSTITUTE(SUBSTITUTE(SUBSTITUTE(ProjectRecords!L55&\"; \"&ProjectRecords!N55&\"; \"&ProjectRecords!P55&\"; \"&ProjectRecords!R55&\"~\",\"; ; \",\"\"),\"; ~\",\"\"),\"~\",\"\")","v":""},{"$f":"IF(LEFT(ProjectRecords!D55,1)=\"m\",IF(L58=1,0,1),0)","v":0},{"$f":"IF(L59=0,\"\",ProjectRecords!L55)","v":""},{"$f":"IF(ISERROR(SEARCH(\",\",ProjectRecords!L55&ProjectRecords!N55&ProjectRecords!P55&ProjectRecords!R55)),\"\",\"check\")","v":""},{"$f":"IF(I59=\"\",\"\",IF(AND((TableOfContents!O59=TableOfContents!S59),(TableOfContents!P59=TableOfContents!T59)),\"yes\",\"NO\"))","v":""},null,{"$f":"IF(I59=\"\",\"\",IF(ProjectRecords!I55=\"\",\"NO\",\"yes\"))","v":""},{"$f":"IF(I59=\"\",\"\",IF(LEFT(F59,1)<>\"R\",\"\",IF(ProjectRecords!Z55=\"\",\"NO\",\"yes\")))","v":""},null,null,"",{"$f":"IF(I59=\"\",\"\",LEFT(ProjectRecords!H55&\"NO\",3))","v":""},null,null,null,null,null,"",{"$f":"IF(I59=\"\",\"\",LEFT(ProjectRecords!F55&\"NO\",4))","v":""}]
[1,null,null,{"$f":"IF(I60=\"\",\"\",ProjectRecords!C56&\"\")","v":""},"",{"$f":"ProjectRecords!D56&\"\"","v":""},"",{"$f":"IF(I60=\"\",\"\",IF(OR(AND(F60=\"\",I60<>\"\"),AND(ROW(I60)<>7,NOT(ISERROR(VLOOKUP(F60,F$7:F59,1,0))))),\"NO\",\"yes\"))","v":""},{"$f":"ProjectRecords!E56&\"\"","v":""},{"$f":"IF(OR((NOT(ISERROR(SEARCH(\"Program Development\",I60)))*100+(LEFT(ProjectRecords!H56,3)=\"180\")*10+(LEFT(ProjectRecords!D56,1)=\"M\")*1)=111,(NOT(ISERROR(SEARCH(\"Program Development\",I60)))*100+(LEFT(ProjectRecords!H56,3)=\"180\")*10+(LEFT(ProjectRecords!D56,1)=\"M\")*1)<=1),\"\",\"NO\")","v":""},{"$f":"SUBSTITUTE(SUBSTITUTE(SUBSTITUTE(ProjectRecords!L56&\"; \"&ProjectRecords!N56&\"; \"&ProjectRecords!P56&\"; \"&ProjectRecords!R56&\"~\",\"; ; \",\"\"),\"; ~\",\"\"),\"~\",\"\")","v":""},{"$f":"IF(LEFT(ProjectRecords!D56,1)=\"m\",IF(L59=1,0,1),0)","v":0},{"$f":"IF(L60=0,\"\",ProjectRecords!L56)","v":""},{"$f":"IF(ISERROR(SEARCH(\",\",ProjectRecords!L56&ProjectRecords!N56&ProjectRecords!P56&ProjectRecords!R56)),\"\",\"check\")","v":""},{"$f":"IF(I60=\"\",\"\",IF(AND((TableOfContents!O60=TableOfContents!S60),(TableOfContents!P60=TableOfContents!T60)),\"yes\",\"NO\"))","v":""},null,{"$f":"IF(I60=\"\",\"\",IF(ProjectRecords!I56=\"\",\"NO\",\"yes\"))","v":""},{"$f":"IF(I60=\"\",\"\",IF(LEFT(F60,1)<>\"R\",\"\",IF(ProjectRecords!Z56=\"\",\"NO\",\"yes\")))","v":""},null,null,"",{"$f":"IF(I60=\"\",\"\",LEFT(ProjectRecords!H56&\"NO\",3))","v":""},null,null,null,null,null,"",{"$f":"IF(I60=\"\",\"\",LEFT(ProjectRecords!F56&\"NO\",4))","v":""}]
[1,null,null,{"$f":"IF(I61=\"\",\"\",ProjectRecords!C57&\"\")","v":""},"",{"$f":"ProjectRecords!D57&\"\"","v":""},"",{"$f":"IF(I61=\"\",\"\",IF(OR(AND(F61=\"\",I61<>\"\"),AND(ROW(I61)<>7,NOT(ISERROR(VLOOKUP(F61,F$7:F60,1,0))))),\"NO\",\"yes\"))","v":""},{"$f":"ProjectRecords!E57&\"\"","v":""},{"$f":"IF(OR((NOT(ISERROR(SEARCH(\"Program Development\",I61)))*100+(LEFT(ProjectRecords!H57,3)=\"180\")*10+(LEFT(ProjectRecords!D57,1)=\"M\")*1)=111,(NOT(ISERROR(SEARCH(\"Program Development\",I61)))*100+(LEFT(ProjectRecords!H57,3)=\"180\")*10+(LEFT(ProjectRecords!D57,1)=\"M\")*1)<=1),\"\",\"NO\")","v":""},{"$f":"SUBSTITUTE(SUBSTITUTE(SUBSTITUTE(ProjectRecords!L57&\"; \"&ProjectRecords!N57&\"; \"&ProjectRecords!P57&\"; \"&ProjectRecords!R57&\"~\",\"; ; \",\"\"),\"; ~\",\"\"),\"~\",\"\")","v":""},{"$f":"IF(LEFT(ProjectRecords!D57,1)=\"m\",IF(L60=1,0,1),0)","v":0},{"$f":"IF(L61=0,\"\",ProjectRecords!L57)","v":""},{"$f":"IF(ISERROR(SEARCH(\",\",ProjectRecords!L57&ProjectRecords!N57&ProjectRecords!P57&ProjectRecords!R57)),\"\",\"check\")","v":""},{"$f":"IF(I61=\"\",\"\",IF(AND((TableOfContents!O61=TableOfContents!S61),(TableOfContents!P61=TableOfContents!T61)),\"yes\",\"NO\"))","v":""},null,{"$f":"IF(I61=\"\",\"\",IF(ProjectRecords!I57=\"\",\"NO\",\"yes\"))","v":""},{"$f":"IF(I61=\"\",\"\",IF(LEFT(F61,1)<>\"R\",\"\",IF(ProjectRecords!Z57=\"\",\"NO\",\"yes\")))","v":""},null,null,"",{"$f":"IF(I61=\"\",\"\",LEFT(ProjectRecords!H57&\"NO\",3))","v":""},null,null,null,null,null,"",{"$f":"IF(I61=\"\",\"\",LEFT(ProjectRecords!F57&\"NO\",4))","v":""}]
[1,null,null,{"$f":"IF(I62=\"\",\"\",ProjectRecords!C58&\"\")","v":""},"",{"$f":"ProjectRecords!D58&\"\"","v":""},"",{"$f":"IF(I62=\"\",\"\",IF(OR(AND(F62=\"\",I62<>\"\"),AND(ROW(I62)<>7,NOT(ISERROR(VLOOKUP(F62,F$7:F61,1,0))))),\"NO\",\"yes\"))","v":""},{"$f":"ProjectRecords!E58&\"\"","v":""},{"$f":"IF(OR((NOT(ISERROR(SEARCH(\"Program Development\",I62)))*100+(LEFT(ProjectRecords!H58,3)=\"180\")*10+(LEFT(ProjectRecords!D58,1)=\"M\")*1)=111,(NOT(ISERROR(SEARCH(\"Program Development\",I62)))*100+(LEFT(ProjectRecords!H58,3)=\"180\")*10+(LEFT(ProjectRecords!D58,1)=\"M\")*1)<=1),\"\",\"NO\")","v":""},{"$f":"SUBSTITUTE(SUBSTITUTE(SUBSTITUTE(ProjectRecords!L58&\"; \"&ProjectRecords!N58&\"; \"&ProjectRecords!P58&\"; \"&ProjectRecords!R58&\"~\",\"; ; \",\"\"),\"; ~\",\"\"),\"~\",\"\")","v":""},{"$f":"IF(LEFT(ProjectRecords!D58,1)=\"m\",IF(L61=1,0,1),0)","v":0},{"$f":"IF(L62=0,\"\",ProjectRecords!L58)","v":""},{"$f":"IF(ISERROR(SEARCH(\",\",ProjectRecords!L58&ProjectRecords!N58&ProjectRecords!P58&ProjectRecords!R58)),\"\",\"check\")","v":""},{"$f":"IF(I62=\"\",\"\",IF(AND((TableOfContents!O62=TableOfContents!S62),(TableOfContents!P62=TableOfContents!T62)),\"yes\",\"NO\"))","v":""},null,{"$f":"IF(I62=\"\",\"\",IF(ProjectRecords!I58=\"\",\"NO\",\"yes\"))","v":""},{"$f":"IF(I62=\"\",\"\",IF(LEFT(F62,1)<>\"R\",\"\",IF(ProjectRecords!Z58=\"\",\"NO\",\"yes\")))","v":""},null,null,"",{"$f":"IF(I62=\"\",\"\",LEFT(ProjectRecords!H58&\"NO\",3))","v":""},null,null,null,null,null,"",{"$f":"IF(I62=\"\",\"\",LEFT(ProjectRecords!F58&\"NO\",4))","v":""}]
[1,null,null,{"$f":"IF(I63=\"\",\"\",ProjectRecords!C59&\"\")","v":""},"",{"$f":"ProjectRecords!D59&\"\"","v":""},"",{"$f":"IF(I63=\"\",\"\",IF(OR(AND(F63=\"\",I63<>\"\"),AND(ROW(I63)<>7,NOT(ISERROR(VLOOKUP(F63,F$7:F62,1,0))))),\"NO\",\"yes\"))","v":""},{"$f":"ProjectRecords!E59&\"\"","v":""},{"$f":"IF(OR((NOT(ISERROR(SEARCH(\"Program Development\",I63)))*100+(LEFT(ProjectRecords!H59,3)=\"180\")*10+(LEFT(ProjectRecords!D59,1)=\"M\")*1)=111,(NOT(ISERROR(SEARCH(\"Program Development\",I63)))*100+(LEFT(ProjectRecords!H59,3)=\"180\")*10+(LEFT(ProjectRecords!D59,1)=\"M\")*1)<=1),\"\",\"NO\")","v":""},{"$f":"SUBSTITUTE(SUBSTITUTE(SUBSTITUTE(ProjectRecords!L59&\"; \"&ProjectRecords!N59&\"; \"&ProjectRecords!P59&\"; \"&ProjectRecords!R59&\"~\",\"; ; \",\"\"),\"; ~\",\"\"),\"~\",\"\")","v":""},{"$f":"IF(LEFT(ProjectRecords!D59,1)=\"m\",IF(L62=1,0,1),0)","v":0},{"$f":"IF(L63=0,\"\",ProjectRecords!L59)","v":""},{"$f":"IF(ISERROR(SEARCH(\",\",ProjectRecords!L59&ProjectRecords!N59&ProjectRecords!P59&ProjectRecords!R59)),\"\",\"check\")","v":""},{"$f":"IF(I63=\"\",\"\",IF(AND((TableOfContents!O63=TableOfContents!S63),(TableOfContents!P63=TableOfContents!T63)),\"yes\",\"NO\"))","v":""},null,{"$f":"IF(I63=\"\",\"\",IF(ProjectRecords!I59=\"\",\"NO\",\"yes\"))","v":""},{"$f":"IF(I63=\"\",\"\",IF(LEFT(F63,1)<>\"R\",\"\",IF(ProjectRecords!Z59=\"\",\"NO\",\"yes\")))","v":""},null,null,"",{"$f":"IF(I63=\"\",\"\",LEFT(ProjectRecords!H59&\"NO\",3))","v":""},null,null,null,null,null,"",{"$f":"IF(I63=\"\",\"\",LEFT(ProjectRecords!F59&\"NO\",4))","v":""}]
[1,null,null,{"$f":"IF(I64=\"\",\"\",ProjectRecords!C60&\"\")","v":""},"",{"$f":"ProjectRecords!D60&\"\"","v":""},"",{"$f":"IF(I64=\"\",\"\",IF(OR(AND(F64=\"\",I64<>\"\"),AND(ROW(I64)<>7,NOT(ISERROR(VLOOKUP(F64,F$7:F63,1,0))))),\"NO\",\"yes\"))","v":""},{"$f":"ProjectRecords!E60&\"\"","v":""},{"$f":"IF(OR((NOT(ISERROR(SEARCH(\"Program Development\",I64)))*100+(LEFT(ProjectRecords!H60,3)=\"180\")*10+(LEFT(ProjectRecords!D60,1)=\"M\")*1)=111,(NOT(ISERROR(SEARCH(\"Program Development\",I64)))*100+(LEFT(ProjectRecords!H60,3)=\"180\")*10+(LEFT(ProjectRecords!D60,1)=\"M\")*1)<=1),\"\",\"NO\")","v":""},{"$f":"SUBSTITUTE(SUBSTITUTE(SUBSTITUTE(ProjectRecords!L60&\"; \"&ProjectRecords!N60&\"; \"&ProjectRecords!P60&\"; \"&ProjectRecords!R60&\"~\",\"; ; \",\"\"),\"; ~\",\"\"),\"~\",\"\")","v":""},{"$f":"IF(LEFT(ProjectRecords!D60,1)=\"m\",IF(L63=1,0,1),0)","v":0},{"$f":"IF(L64=0,\"\",ProjectRecords!L60)","v":""},{"$f":"IF(ISERROR(SEARCH(\",\",ProjectRecords!L60&ProjectRecords!N60&ProjectRecords!P60&ProjectRecords!R60)),\"\",\"check\")","v":""},{"$f":"IF(I64=\"\",\"\",IF(AND((TableOfContents!O64=TableOfContents!S64),(TableOfContents!P64=TableOfContents!T64)),\"yes\",\"NO\"))","v":""},null,{"$f":"IF(I64=\"\",\"\",IF(ProjectRecords!I60=\"\",\"NO\",\"yes\"))","v":""},{"$f":"IF(I64=\"\",\"\",IF(LEFT(F64,1)<>\"R\",\"\",IF(ProjectRecords!Z60=\"\",\"NO\",\"yes\")))","v":""},null,null,"",{"$f":"IF(I64=\"\",\"\",LEFT(ProjectRecords!H60&\"NO\",3))","v":""},null,null,null,null,null,"",{"$f":"IF(I64=\"\",\"\",LEFT(ProjectRecords!F60&\"NO\",4))","v":""}]
[1,null,null,{"$f":"IF(I65=\"\",\"\",ProjectRecords!C61&\"\")","v":""},"",{"$f":"ProjectRecords!D61&\"\"","v":""},"",{"$f":"IF(I65=\"\",\"\",IF(OR(AND(F65=\"\",I65<>\"\"),AND(ROW(I65)<>7,NOT(ISERROR(VLOOKUP(F65,F$7:F64,1,0))))),\"NO\",\"yes\"))","v":""},{"$f":"ProjectRecords!E61&\"\"","v":""},{"$f":"IF(OR((NOT(ISERROR(SEARCH(\"Program Development\",I65)))*100+(LEFT(ProjectRecords!H61,3)=\"180\")*10+(LEFT(ProjectRecords!D61,1)=\"M\")*1)=111,(NOT(ISERROR(SEARCH(\"Program Development\",I65)))*100+(LEFT(ProjectRecords!H61,3)=\"180\")*10+(LEFT(ProjectRecords!D61,1)=\"M\")*1)<=1),\"\",\"NO\")","v":""},{"$f":"SUBSTITUTE(SUBSTITUTE(SUBSTITUTE(ProjectRecords!L61&\"; \"&ProjectRecords!N61&\"; \"&ProjectRecords!P61&\"; \"&ProjectRecords!R61&\"~\",\"; ; \",\"\"),\"; ~\",\"\"),\"~\",\"\")","v":""},{"$f":"IF(LEFT(ProjectRecords!D61,1)=\"m\",IF(L64=1,0,1),0)","v":0},{"$f":"IF(L65=0,\"\",ProjectRecords!L61)","v":""},{"$f":"IF(ISERROR(SEARCH(\",\",ProjectRecords!L61&ProjectRecords!N61&ProjectRecords!P61&ProjectRecords!R61)),\"\",\"check\")","v":""},{"$f":"IF(I65=\"\",\"\",IF(AND((TableOfContents!O65=TableOfContents!S65),(TableOfContents!P65=TableOfContents!T65)),\"yes\",\"NO\"))","v":""},null,{"$f":"IF(I65=\"\",\"\",IF(ProjectRecords!I61=\"\",\"NO\",\"yes\"))","v":""},{"$f":"IF(I65=\"\",\"\",IF(LEFT(F65,1)<>\"R\",\"\",IF(ProjectRecords!Z61=\"\",\"NO\",\"yes\")))","v":""},null,null,"",{"$f":"IF(I65=\"\",\"\",LEFT(ProjectRecords!H61&\"NO\",3))","v":""},null,null,null,null,null,"",{"$f":"IF(I65=\"\",\"\",LEFT(ProjectRecords!F61&\"NO\",4))","v":""}]
[1,null,null,{"$f":"IF(I66=\"\",\"\",ProjectRecords!C62&\"\")","v":""},"",{"$f":"ProjectRecords!D62&\"\"","v":""},"",{"$f":"IF(I66=\"\",\"\",IF(OR(AND(F66=\"\",I66<>\"\"),AND(ROW(I66)<>7,NOT(ISERROR(VLOOKUP(F66,F$7:F65,1,0))))),\"NO\",\"yes\"))","v":""},{"$f":"ProjectRecords!E62&\"\"","v":""},{"$f":"IF(OR((NOT(ISERROR(SEARCH(\"Program Development\",I66)))*100+(LEFT(ProjectRecords!H62,3)=\"180\")*10+(LEFT(ProjectRecords!D62,1)=\"M\")*1)=111,(NOT(ISERROR(SEARCH(\"Program Development\",I66)))*100+(LEFT(ProjectRecords!H62,3)=\"180\")*10+(LEFT(ProjectRecords!D62,1)=\"M\")*1)<=1),\"\",\"NO\")","v":""},{"$f":"SUBSTITUTE(SUBSTITUTE(SUBSTITUTE(ProjectRecords!L62&\"; \"&ProjectRecords!N62&\"; \"&ProjectRecords!P62&\"; \"&ProjectRecords!R62&\"~\",\"; ; \",\"\"),\"; ~\",\"\"),\"~\",\"\")","v":""},{"$f":"IF(LEFT(ProjectRecords!D62,1)=\"m\",IF(L65=1,0,1),0)","v":0},{"$f":"IF(L66=0,\"\",ProjectRecords!L62)","v":""},{"$f":"IF(ISERROR(SEARCH(\",\",ProjectRecords!L62&ProjectRecords!N62&ProjectRecords!P62&ProjectRecords!R62)),\"\",\"check\")","v":""},{"$f":"IF(I66=\"\",\"\",IF(AND((TableOfContents!O66=TableOfContents!S66),(TableOfContents!P66=TableOfContents!T66)),\"yes\",\"NO\"))","v":""},null,{"$f":"IF(I66=\"\",\"\",IF(ProjectRecords!I62=\"\",\"NO\",\"yes\"))","v":""},{"$f":"IF(I66=\"\",\"\",IF(LEFT(F66,1)<>\"R\",\"\",IF(ProjectRecords!Z62=\"\",\"NO\",\"yes\")))","v":""},null,null,"",{"$f":"IF(I66=\"\",\"\",LEFT(ProjectRecords!H62&\"NO\",3))","v":""},null,null,null,null,null,"",{"$f":"IF(I66=\"\",\"\",LEFT(ProjectRecords!F62&\"NO\",4))","v":""}]
[1,null,null,{"$f":"IF(I67=\"\",\"\",ProjectRecords!C63&\"\")","v":""},"",{"$f":"ProjectRecords!D63&\"\"","v":""},"",{"$f":"IF(I67=\"\",\"\",IF(OR(AND(F67=\"\",I67<>\"\"),AND(ROW(I67)<>7,NOT(ISERROR(VLOOKUP(F67,F$7:F66,1,0))))),\"NO\",\"yes\"))","v":""},{"$f":"ProjectRecords!E63&\"\"","v":""},{"$f":"IF(OR((NOT(ISERROR(SEARCH(\"Program Development\",I67)))*100+(LEFT(ProjectRecords!H63,3)=\"180\")*10+(LEFT(ProjectRecords!D63,1)=\"M\")*1)=111,(NOT(ISERROR(SEARCH(\"Program Development\",I67)))*100+(LEFT(ProjectRecords!H63,3)=\"180\")*10+(LEFT(ProjectRecords!D63,1)=\"M\")*1)<=1),\"\",\"NO\")","v":""},{"$f":"SUBSTITUTE(SUBSTITUTE(SUBSTITUTE(ProjectRecords!L63&\"; \"&ProjectRecords!N63&\"; \"&ProjectRecords!P63&\"; \"&ProjectRecords!R63&\"~\",\"; ; \",\"\"),\"; ~\",\"\"),\"~\",\"\")","v":""},{"$f":"IF(LEFT(ProjectRecords!D63,1)=\"m\",IF(L66=1,0,1),0)","v":0},{"$f":"IF(L67=0,\"\",ProjectRecords!L63)","v":""},{"$f":"IF(ISERROR(SEARCH(\",\",ProjectRecords!L63&ProjectRecords!N63&ProjectRecords!P63&ProjectRecords!R63)),\"\",\"check\")","v":""},{"$f":"IF(I67=\"\",\"\",IF(AND((TableOfContents!O67=TableOfContents!S67),(TableOfContents!P67=TableOfContents!T67)),\"yes\",\"NO\"))","v":""},null,{"$f":"IF(I67=\"\",\"\",IF(ProjectRecords!I63=\"\",\"NO\",\"yes\"))","v":""},{"$f":"IF(I67=\"\",\"\",IF(LEFT(F67,1)<>\"R\",\"\",IF(ProjectRecords!Z63=\"\",\"NO\",\"yes\")))","v":""},null,null,"",{"$f":"IF(I67=\"\",\"\",LEFT(ProjectRecords!H63&\"NO\",3))","v":""},null,null,null,null,null,"",{"$f":"IF(I67=\"\",\"\",LEFT(ProjectRecords!F63&\"NO\",4))","v":""}]
[1,null,null,{"$f":"IF(I68=\"\",\"\",ProjectRecords!C64&\"\")","v":""},"",{"$f":"ProjectRecords!D64&\"\"","v":""},"",{"$f":"IF(I68=\"\",\"\",IF(OR(AND(F68=\"\",I68<>\"\"),AND(ROW(I68)<>7,NOT(ISERROR(VLOOKUP(F68,F$7:F67,1,0))))),\"NO\",\"yes\"))","v":""},{"$f":"ProjectRecords!E64&\"\"","v":""},{"$f":"IF(OR((NOT(ISERROR(SEARCH(\"Program Development\",I68)))*100+(LEFT(ProjectRecords!H64,3)=\"180\")*10+(LEFT(ProjectRecords!D64,1)=\"M\")*1)=111,(NOT(ISERROR(SEARCH(\"Program Development\",I68)))*100+(LEFT(ProjectRecords!H64,3)=\"180\")*10+(LEFT(ProjectRecords!D64,1)=\"M\")*1)<=1),\"\",\"NO\")","v":""},{"$f":"SUBSTITUTE(SUBSTITUTE(SUBSTITUTE(ProjectRecords!L64&\"; \"&ProjectRecords!N64&\"; \"&ProjectRecords!P64&\"; \"&ProjectRecords!R64&\"~\",\"; ; \",\"\"),\"; ~\",\"\"),\"~\",\"\")","v":""},{"$f":"IF(LEFT(ProjectRecords!D64,1)=\"m\",IF(L67=1,0,1),0)","v":0},{"$f":"IF(L68=0,\"\",ProjectRecords!L64)","v":""},{"$f":"IF(ISERROR(SEARCH(\",\",ProjectRecords!L64&ProjectRecords!N64&ProjectRecords!P64&ProjectRecords!R64)),\"\",\"check\")","v":""},{"$f":"IF(I68=\"\",\"\",IF(AND((TableOfContents!O68=TableOfContents!S68),(TableOfContents!P68=TableOfContents!T68)),\"yes\",\"NO\"))","v":""},null,{"$f":"IF(I68=\"\",\"\",IF(ProjectRecords!I64=\"\",\"NO\",\"yes\"))","v":""},{"$f":"IF(I68=\"\",\"\",IF(LEFT(F68,1)<>\"R\",\"\",IF(ProjectRecords!Z64=\"\",\"NO\",\"yes\")))","v":""},null,null,"",{"$f":"IF(I68=\"\",\"\",LEFT(ProjectRecords!H64&\"NO\",3))","v":""},null,null,null,null,null,"",{"$f":"IF(I68=\"\",\"\",LEFT(ProjectRecords!F64&\"NO\",4))","v":""}]
[1,null,null,{"$f":"IF(I69=\"\",\"\",ProjectRecords!C65&\"\")","v":""},"",{"$f":"ProjectRecords!D65&\"\"","v":""},"",{"$f":"IF(I69=\"\",\"\",IF(OR(AND(F69=\"\",I69<>\"\"),AND(ROW(I69)<>7,NOT(ISERROR(VLOOKUP(F69,F$7:F68,1,0))))),\"NO\",\"yes\"))","v":""},{"$f":"ProjectRecords!E65&\"\"","v":""},{"$f":"IF(OR((NOT(ISERROR(SEARCH(\"Program Development\",I69)))*100+(LEFT(ProjectRecords!H65,3)=\"180\")*10+(LEFT(ProjectRecords!D65,1)=\"M\")*1)=111,(NOT(ISERROR(SEARCH(\"Program Development\",I69)))*100+(LEFT(ProjectRecords!H65,3)=\"180\")*10+(LEFT(ProjectRecords!D65,1)=\"M\")*1)<=1),\"\",\"NO\")","v":""},{"$f":"SUBSTITUTE(SUBSTITUTE(SUBSTITUTE(ProjectRecords!L65&\"; \"&ProjectRecords!N65&\"; \"&ProjectRecords!P65&\"; \"&ProjectRecords!R65&\"~\",\"; ; \",\"\"),\"; ~\",\"\"),\"~\",\"\")","v":""},{"$f":"IF(LEFT(ProjectRecords!D65,1)=\"m\",IF(L68=1,0,1),0)","v":0},{"$f":"IF(L69=0,\"\",ProjectRecords!L65)","v":""},{"$f":"IF(ISERROR(SEARCH(\",\",ProjectRecords!L65&ProjectRecords!N65&ProjectRecords!P65&ProjectRecords!R65)),\"\",\"check\")","v":""},{"$f":"IF(I69=\"\",\"\",IF(AND((TableOfContents!O69=TableOfContents!S69),(TableOfContents!P69=TableOfContents!T69)),\"yes\",\"NO\"))","v":""},null,{"$f":"IF(I69=\"\",\"\",IF(ProjectRecords!I65=\"\",\"NO\",\"yes\"))","v":""},{"$f":"IF(I69=\"\",\"\",IF(LEFT(F69,1)<>\"R\",\"\",IF(ProjectRecords!Z65=\"\",\"NO\",\"yes\")))","v":""},null,null,"",{"$f":"IF(I69=\"\",\"\",LEFT(ProjectRecords!H65&\"NO\",3))","v":""},null,null,null,null,null,"",{"$f":"IF(I69=\"\",\"\",LEFT(ProjectRecords!F65&\"NO\",4))","v":""}]
[1,null,null,{"$f":"IF(I70=\"\",\"\",ProjectRecords!C66&\"\")","v":""},"",{"$f":"ProjectRecords!D66&\"\"","v":""},"",{"$f":"IF(I70=\"\",\"\",IF(OR(AND(F70=\"\",I70<>\"\"),AND(ROW(I70)<>7,NOT(ISERROR(VLOOKUP(F70,F$7:F69,1,0))))),\"NO\",\"yes\"))","v":""},{"$f":"ProjectRecords!E66&\"\"","v":""},{"$f":"IF(OR((NOT(ISERROR(SEARCH(\"Program Development\",I70)))*100+(LEFT(ProjectRecords!H66,3)=\"180\")*10+(LEFT(ProjectRecords!D66,1)=\"M\")*1)=111,(NOT(ISERROR(SEARCH(\"Program Development\",I70)))*100+(LEFT(ProjectRecords!H66,3)=\"180\")*10+(LEFT(ProjectRecords!D66,1)=\"M\")*1)<=1),\"\",\"NO\")","v":""},{"$f":"SUBSTITUTE(SUBSTITUTE(SUBSTITUTE(ProjectRecords!L66&\"; \"&ProjectRecords!N66&\"; \"&ProjectRecords!P66&\"; \"&ProjectRecords!R66&\"~\",\"; ; \",\"\"),\"; ~\",\"\"),\"~\",\"\")","v":""},{"$f":"IF(LEFT(ProjectRecords!D66,1)=\"m\",IF(L69=1,0,1),0)","v":0},{"$f":"IF(L70=0,\"\",ProjectRecords!L66)","v":""},{"$f":"IF(ISERROR(SEARCH(\",\",ProjectRecords!L66&ProjectRecords!N66&ProjectRecords!P66&ProjectRecords!R66)),\"\",\"check\")","v":""},{"$f":"IF(I70=\"\",\"\",IF(AND((TableOfContents!O70=TableOfContents!S70),(TableOfContents!P70=TableOfContents!T70)),\"yes\",\"NO\"))","v":""},null,{"$f":"IF(I70=\"\",\"\",IF(ProjectRecords!I66=\"\",\"NO\",\"yes\"))","v":""},{"$f":"IF(I70=\"\",\"\",IF(LEFT(F70,1)<>\"R\",\"\",IF(ProjectRecords!Z66=\"\",\"NO\",\"yes\")))","v":""},null,null,"",{"$f":"IF(I70=\"\",\"\",LEFT(ProjectRecords!H66&\"NO\",3))","v":""},null,null,null,null,null,"",{"$f":"IF(I70=\"\",\"\",LEFT(ProjectRecords!F66&\"NO\",4))","v":""}]
[1,null,null,{"$f":"IF(I71=\"\",\"\",ProjectRecords!C67&\"\")","v":""},"",{"$f":"ProjectRecords!D67&\"\"","v":""},"",{"$f":"IF(I71=\"\",\"\",IF(OR(AND(F71=\"\",I71<>\"\"),AND(ROW(I71)<>7,NOT(ISERROR(VLOOKUP(F71,F$7:F70,1,0))))),\"NO\",\"yes\"))","v":""},{"$f":"ProjectRecords!E67&\"\"","v":""},{"$f":"IF(OR((NOT(ISERROR(SEARCH(\"Program Development\",I71)))*100+(LEFT(ProjectRecords!H67,3)=\"180\")*10+(LEFT(ProjectRecords!D67,1)=\"M\")*1)=111,(NOT(ISERROR(SEARCH(\"Program Development\",I71)))*100+(LEFT(ProjectRecords!H67,3)=\"180\")*10+(LEFT(ProjectRecords!D67,1)=\"M\")*1)<=1),\"\",\"NO\")","v":""},{"$f":"SUBSTITUTE(SUBSTITUTE(SUBSTITUTE(ProjectRecords!L67&\"; \"&ProjectRecords!N67&\"; \"&ProjectRecords!P67&\"; \"&ProjectRecords!R67&\"~\",\"; ; \",\"\"),\"; ~\",\"\"),\"~\",\"\")","v":""},{"$f":"IF(LEFT(ProjectRecords!D67,1)=\"m\",IF(L70=1,0,1),0)","v":0},{"$f":"IF(L71=0,\"\",ProjectRecords!L67)","v":""},{"$f":"IF(ISERROR(SEARCH(\",\",ProjectRecords!L67&ProjectRecords!N67&ProjectRecords!P67&ProjectRecords!R67)),\"\",\"check\")","v":""},{"$f":"IF(I71=\"\",\"\",IF(AND((TableOfContents!O71=TableOfContents!S71),(TableOfContents!P71=TableOfContents!T71)),\"yes\",\"NO\"))","v":""},null,{"$f":"IF(I71=\"\",\"\",IF(ProjectRecords!I67=\"\",\"NO\",\"yes\"))","v":""},{"$f":"IF(I71=\"\",\"\",IF(LEFT(F71,1)<>\"R\",\"\",IF(ProjectRecords!Z67=\"\",\"NO\",\"yes\")))","v":""},null,null,"",{"$f":"IF(I71=\"\",\"\",LEFT(ProjectRecords!H67&\"NO\",3))","v":""},null,null,null,null,null,"",{"$f":"IF(I71=\"\",\"\",LEFT(ProjectRecords!F67&\"NO\",4))","v":""}]
[1,null,null,{"$f":"IF(I72=\"\",\"\",ProjectRecords!C68&\"\")","v":""},"",{"$f":"ProjectRecords!D68&\"\"","v":""},{"$f":"IF(F72=\"\",\"\",IF(ISERROR(SEARCH(LEFT(F72,1),\"ACEMPR\",1)),\"NO\",\"yes\"))","v":""},{"$f":"IF(I72=\"\",\"\",IF(OR(AND(F72=\"\",I72<>\"\"),AND(ROW(I72)<>7,NOT(ISERROR(VLOOKUP(F72,F$7:F71,1,0))))),\"NO\",\"yes\"))","v":""},{"$f":"ProjectRecords!E68&\"\"","v":""},{"$f":"IF(OR((NOT(ISERROR(SEARCH(\"Program Development\",I72)))*100+(LEFT(ProjectRecords!H68,3)=\"180\")*10+(LEFT(ProjectRecords!D68,1)=\"M\")*1)=111,(NOT(ISERROR(SEARCH(\"Program Development\",I72)))*100+(LEFT(ProjectRecords!H68,3)=\"180\")*10+(LEFT(ProjectRecords!D68,1)=\"M\")*1)<=1),\"\",\"NO\")","v":""},{"$f":"SUBSTITUTE(SUBSTITUTE(SUBSTITUTE(ProjectRecords!L68&\"; \"&ProjectRecords!N68&\"; \"&ProjectRecords!P68&\"; \"&ProjectRecords!R68&\"~\",\"; ; \",\"\"),\"; ~\",\"\"),\"~\",\"\")","v":""},{"$f":"IF(LEFT(ProjectRecords!D68,1)=\"m\",IF(L71=1,0,1),0)","v":0},{"$f":"IF(L72=0,\"\",ProjectRecords!L68)","v":""},{"$f":"IF(ISERROR(SEARCH(\",\",ProjectRecords!L68&ProjectRecords!N68&ProjectRecords!P68&ProjectRecords!R68)),\"\",\"check\")","v":""},{"$f":"IF(I72=\"\",\"\",IF(AND((TableOfContents!O72=TableOfContents!S72),(TableOfContents!P72=TableOfContents!T72)),\"yes\",\"NO\"))","v":""},null,{"$f":"IF(I72=\"\",\"\",IF(ProjectRecords!I68=\"\",\"NO\",\"yes\"))","v":""},{"$f":"IF(I72=\"\",\"\",IF(LEFT(F72,1)<>\"R\",\"\",IF(ProjectRecords!Z68=\"\",\"NO\",\"yes\")))","v":""},null,null,"",{"$f":"IF(I72=\"\",\"\",LEFT(ProjectRecords!H68&\"NO\",3))","v":""},null,null,null,null,null,"",{"$f":"IF(I72=\"\",\"\",LEFT(ProjectRecords!F68&\"NO\",4))","v":""}]
[1,null,null,{"$f":"IF(I73=\"\",\"\",ProjectRecords!C69&\"\")","v":""},"",{"$f":"ProjectRecords!D69&\"\"","v":""},"",{"$f":"IF(I73=\"\",\"\",IF(OR(AND(F73=\"\",I73<>\"\"),AND(ROW(I73)<>7,NOT(ISERROR(VLOOKUP(F73,F$7:F72,1,0))))),\"NO\",\"yes\"))","v":""},{"$f":"ProjectRecords!E69&\"\"","v":""},{"$f":"IF(OR((NOT(ISERROR(SEARCH(\"Program Development\",I73)))*100+(LEFT(ProjectRecords!H69,3)=\"180\")*10+(LEFT(ProjectRecords!D69,1)=\"M\")*1)=111,(NOT(ISERROR(SEARCH(\"Program Development\",I73)))*100+(LEFT(ProjectRecords!H69,3)=\"180\")*10+(LEFT(ProjectRecords!D69,1)=\"M\")*1)<=1),\"\",\"NO\")","v":""},{"$f":"SUBSTITUTE(SUBSTITUTE(SUBSTITUTE(ProjectRecords!L69&\"; \"&ProjectRecords!N69&\"; \"&ProjectRecords!P69&\"; \"&ProjectRecords!R69&\"~\",\"; ; \",\"\"),\"; ~\",\"\"),\"~\",\"\")","v":""},{"$f":"IF(LEFT(ProjectRecords!D69,1)=\"m\",IF(L72=1,0,1),0)","v":0},{"$f":"IF(L73=0,\"\",ProjectRecords!L69)","v":""},{"$f":"IF(ISERROR(SEARCH(\",\",ProjectRecords!L69&ProjectRecords!N69&ProjectRecords!P69&ProjectRecords!R69)),\"\",\"check\")","v":""},{"$f":"IF(I73=\"\",\"\",IF(AND((TableOfContents!O73=TableOfContents!S73),(TableOfContents!P73=TableOfContents!T73)),\"yes\",\"NO\"))","v":""},null,{"$f":"IF(I73=\"\",\"\",IF(ProjectRecords!I69=\"\",\"NO\",\"yes\"))","v":""},{"$f":"IF(I73=\"\",\"\",IF(LEFT(F73,1)<>\"R\",\"\",IF(ProjectRecords!Z69=\"\",\"NO\",\"yes\")))","v":""},null,null,"",{"$f":"IF(I73=\"\",\"\",LEFT(ProjectRecords!H69&\"NO\",3))","v":""},null,null,null,null,null,"",{"$f":"IF(I73=\"\",\"\",LEFT(ProjectRecords!F69&\"NO\",4))","v":""}]
[1,null,null,{"$f":"IF(I74=\"\",\"\",ProjectRecords!C70&\"\")","v":""},{"$f":"IF(I74=\"\",\"\",IF(ISERROR(SEARCH(\",\"&D74&\"\",\",AK,CA,CT,DE,FL,GA,GU,HI,IL-IN,LA,LC,ME,MD,MIT,MI,MN,MS-AL,NSGLC,NH,NJ,NY,NC,OH,OR,PA,PR,RI,SC,USC,TX,LC,VA,WA,WI,WHOI,other,\",1)),\"NO\",\"yes\"))","v":""},{"$f":"ProjectRecords!D70&\"\"","v":""},"",{"$f":"IF(I74=\"\",\"\",IF(OR(AND(F74=\"\",I74<>\"\"),AND(ROW(I74)<>7,NOT(ISERROR(VLOOKUP(F74,F$7:F73,1,0))))),\"NO\",\"yes\"))","v":""},{"$f":"ProjectRecords!E70&\"\"","v":""},{"$f":"IF(OR((NOT(ISERROR(SEARCH(\"Program Development\",I74)))*100+(LEFT(ProjectRecords!H70,3)=\"180\")*10+(LEFT(ProjectRecords!D70,1)=\"M\")*1)=111,(NOT(ISERROR(SEARCH(\"Program Development\",I74)))*100+(LEFT(ProjectRecords!H70,3)=\"180\")*10+(LEFT(ProjectRecords!D70,1)=\"M\")*1)<=1),\"\",\"NO\")","v":""},{"$f":"SUBSTITUTE(SUBSTITUTE(SUBSTITUTE(ProjectRecords!L70&\"; \"&ProjectRecords!N70&\"; \"&ProjectRecords!P70&\"; \"&ProjectRecords!R70&\"~\",\"; ; \",\"\"),\"; ~\",\"\"),\"~\",\"\")","v":""},{"$f":"IF(LEFT(ProjectRecords!D70,1)=\"m\",IF(L73=1,0,1),0)","v":0},{"$f":"IF(L74=0,\"\",ProjectRecords!L70)","v":""},{"$f":"IF(ISERROR(SEARCH(\",\",ProjectRecords!L70&ProjectRecords!N70&ProjectRecords!P70&ProjectRecords!R70)),\"\",\"check\")","v":""},{"$f":"IF(I74=\"\",\"\",IF(AND((TableOfContents!O74=TableOfContents!S74),(TableOfContents!P74=TableOfContents!T74)),\"yes\",\"NO\"))","v":""},null,{"$f":"IF(I74=\"\",\"\",IF(ProjectRecords!I70=\"\",\"NO\",\"yes\"))","v":""},{"$f":"IF(I74=\"\",\"\",IF(LEFT(F74,1)<>\"R\",\"\",IF(ProjectRecords!Z70=\"\",\"NO\",\"yes\")))","v":""},null,null,{"$f":"F74&\"\"","v":""},{"$f":"IF(I74=\"\",\"\",LEFT(ProjectRecords!H70&\"NO\",3))","v":""},null,null,null,null,null,{"$f":"F74&\"\"","v":""},{"$f":"IF(I74=\"\",\"\",LEFT(ProjectRecords!F70&\"NO\",4))","v":""}]
[1,null,null,{"$f":"IF(I75=\"\",\"\",ProjectRecords!C71&\"\")","v":""},"",{"$f":"ProjectRecords!D71&\"\"","v":""},"",{"$f":"IF(I75=\"\",\"\",IF(OR(AND(F75=\"\",I75<>\"\"),AND(ROW(I75)<>7,NOT(ISERROR(VLOOKUP(F75,F$7:F74,1,0))))),\"NO\",\"yes\"))","v":""},{"$f":"ProjectRecords!E71&\"\"","v":""},{"$f":"IF(OR((NOT(ISERROR(SEARCH(\"Program Development\",I75)))*100+(LEFT(ProjectRecords!H71,3)=\"180\")*10+(LEFT(ProjectRecords!D71,1)=\"M\")*1)=111,(NOT(ISERROR(SEARCH(\"Program Development\",I75)))*100+(LEFT(ProjectRecords!H71,3)=\"180\")*10+(LEFT(ProjectRecords!D71,1)=\"M\")*1)<=1),\"\",\"NO\")","v":""},{"$f":"SUBSTITUTE(SUBSTITUTE(SUBSTITUTE(ProjectRecords!L71&\"; \"&ProjectRecords!N71&\"; \"&ProjectRecords!P71&\"; \"&ProjectRecords!R71&\"~\",\"; ; \",\"\"),\"; ~\",\"\"),\"~\",\"\")","v":""},{"$f":"IF(LEFT(ProjectRecords!D71,1)=\"m\",IF(L74=1,0,1),0)","v":0},{"$f":"IF(L75=0,\"\",ProjectRecords!L71)","v":""},{"$f":"IF(ISERROR(SEARCH(\",\",ProjectRecords!L71&ProjectRecords!N71&ProjectRecords!P71&ProjectRecords!R71)),\"\",\"check\")","v":""},{"$f":"IF(I75=\"\",\"\",IF(AND((TableOfContents!O75=TableOfContents!S75),(TableOfContents!P75=TableOfContents!T75)),\"yes\",\"NO\"))","v":""},null,{"$f":"IF(I75=\"\",\"\",IF(ProjectRecords!I71=\"\",\"NO\",\"yes\"))","v":""},{"$f":"IF(I75=\"\",\"\",IF(LEFT(F75,1)<>\"R\",\"\",IF(ProjectRecords!Z71=\"\",\"NO\",\"yes\")))","v":""},null,null,"",{"$f":"IF(I75=\"\",\"\",LEFT(ProjectRecords!H71&\"NO\",3))","v":""},null,null,null,null,null,"",{"$f":"IF(I75=\"\",\"\",LEFT(ProjectRecords!F71&\"NO\",4))","v":""}]
[1,null,null,{"$f":"IF(I76=\"\",\"\",ProjectRecords!C72&\"\")","v":""},"",{"$f":"ProjectRecords!D72&\"\"","v":""},"",{"$f":"IF(I76=\"\",\"\",IF(OR(AND(F76=\"\",I76<>\"\"),AND(ROW(I76)<>7,NOT(ISERROR(VLOOKUP(F76,F$7:F75,1,0))))),\"NO\",\"yes\"))","v":""},{"$f":"ProjectRecords!E72&\"\"","v":""},{"$f":"IF(OR((NOT(ISERROR(SEARCH(\"Program Development\",I76)))*100+(LEFT(ProjectRecords!H72,3)=\"180\")*10+(LEFT(ProjectRecords!D72,1)=\"M\")*1)=111,(NOT(ISERROR(SEARCH(\"Program Development\",I76)))*100+(LEFT(ProjectRecords!H72,3)=\"180\")*10+(LEFT(ProjectRecords!D72,1)=\"M\")*1)<=1),\"\",\"NO\")","v":""},{"$f":"SUBSTITUTE(SUBSTITUTE(SUBSTITUTE(ProjectRecords!L72&\"; \"&ProjectRecords!N72&\"; \"&ProjectRecords!P72&\"; \"&ProjectRecords!R72&\"~\",\"; ; \",\"\"),\"; ~\",\"\"),\"~\",\"\")","v":""},{"$f":"IF(LEFT(ProjectRecords!D72,1)=\"m\",IF(L75=1,0,1),0)","v":0},{"$f":"IF(L76=0,\"\",ProjectRecords!L72)","v":""},{"$f":"IF(ISERROR(SEARCH(\",\",ProjectRecords!L72&ProjectRecords!N72&ProjectRecords!P72&ProjectRecords!R72)),\"\",\"check\")","v":""},{"$f":"IF(I76=\"\",\"\",IF(AND((TableOfContents!O76=TableOfContents!S76),(TableOfContents!P76=TableOfContents!T76)),\"yes\",\"NO\"))","v":""},null,{"$f":"IF(I76=\"\",\"\",IF(ProjectRecords!I72=\"\",\"NO\",\"yes\"))","v":""},{"$f":"IF(I76=\"\",\"\",IF(LEFT(F76,1)<>\"R\",\"\",IF(ProjectRecords!Z72=\"\",\"NO\",\"yes\")))","v":""},null,null,"",{"$f":"IF(I76=\"\",\"\",LEFT(ProjectRecords!H72&\"NO\",3))","v":""},null,null,null,null,null,"",{"$f":"IF(I76=\"\",\"\",LEFT(ProjectRecords!F72&\"NO\",4))","v":""}]
[1,null,null,{"$f":"IF(I77=\"\",\"\",ProjectRecords!C73&\"\")","v":""},"",{"$f":"ProjectRecords!D73&\"\"","v":""},"",{"$f":"IF(I77=\"\",\"\",IF(OR(AND(F77=\"\",I77<>\"\"),AND(ROW(I77)<>7,NOT(ISERROR(VLOOKUP(F77,F$7:F76,1,0))))),\"NO\",\"yes\"))","v":""},{"$f":"ProjectRecords!E73&\"\"","v":""},{"$f":"IF(OR((NOT(ISERROR(SEARCH(\"Program Development\",I77)))*100+(LEFT(ProjectRecords!H73,3)=\"180\")*10+(LEFT(ProjectRecords!D73,1)=\"M\")*1)=111,(NOT(ISERROR(SEARCH(\"Program Development\",I77)))*100+(LEFT(ProjectRecords!H73,3)=\"180\")*10+(LEFT(ProjectRecords!D73,1)=\"M\")*1)<=1),\"\",\"NO\")","v":""},{"$f":"SUBSTITUTE(SUBSTITUTE(SUBSTITUTE(ProjectRecords!L73&\"; \"&ProjectRecords!N73&\"; \"&ProjectRecords!P73&\"; \"&ProjectRecords!R73&\"~\",\"; ; \",\"\"),\"; ~\",\"\"),\"~\",\"\")","v":""},{"$f":"IF(LEFT(ProjectRecords!D73,1)=\"m\",IF(L76=1,0,1),0)","v":0},{"$f":"IF(L77=0,\"\",ProjectRecords!L73)","v":""},{"$f":"IF(ISERROR(SEARCH(\",\",ProjectRecords!L73&ProjectRecords!N73&ProjectRecords!P73&ProjectRecords!R73)),\"\",\"check\")","v":""},{"$f":"IF(I77=\"\",\"\",IF(AND((TableOfContents!O77=TableOfContents!S77),(TableOfContents!P77=TableOfContents!T77)),\"yes\",\"NO\"))","v":""},null,{"$f":"IF(I77=\"\",\"\",IF(ProjectRecords!I73=\"\",\"NO\",\"yes\"))","v":""},{"$f":"IF(I77=\"\",\"\",IF(LEFT(F77,1)<>\"R\",\"\",IF(ProjectRecords!Z73=\"\",\"NO\",\"yes\")))","v":""},null,null,"",{"$f":"IF(I77=\"\",\"\",LEFT(ProjectRecords!H73&\"NO\",3))","v":""},null,null,null,null,null,"",{"$f":"IF(I77=\"\",\"\",LEFT(ProjectRecords!F73&\"NO\",4))","v":""}]
[1,null,null,{"$f":"IF(I78=\"\",\"\",ProjectRecords!C74&\"\")","v":""},"",{"$f":"ProjectRecords!D74&\"\"","v":""},"",{"$f":"IF(I78=\"\",\"\",IF(OR(AND(F78=\"\",I78<>\"\"),AND(ROW(I78)<>7,NOT(ISERROR(VLOOKUP(F78,F$7:F77,1,0))))),\"NO\",\"yes\"))","v":""},{"$f":"ProjectRecords!E74&\"\"","v":""},{"$f":"IF(OR((NOT(ISERROR(SEARCH(\"Program Development\",I78)))*100+(LEFT(ProjectRecords!H74,3)=\"180\")*10+(LEFT(ProjectRecords!D74,1)=\"M\")*1)=111,(NOT(ISERROR(SEARCH(\"Program Development\",I78)))*100+(LEFT(ProjectRecords!H74,3)=\"180\")*10+(LEFT(ProjectRecords!D74,1)=\"M\")*1)<=1),\"\",\"NO\")","v":""},{"$f":"SUBSTITUTE(SUBSTITUTE(SUBSTITUTE(ProjectRecords!L74&\"; \"&ProjectRecords!N74&\"; \"&ProjectRecords!P74&\"; \"&ProjectRecords!R74&\"~\",\"; ; \",\"\"),\"; ~\",\"\"),\"~\",\"\")","v":""},{"$f":"IF(LEFT(ProjectRecords!D74,1)=\"m\",IF(L77=1,0,1),0)","v":0},{"$f":"IF(L78=0,\"\",ProjectRecords!L74)","v":""},{"$f":"IF(ISERROR(SEARCH(\",\",ProjectRecords!L74&ProjectRecords!N74&ProjectRecords!P74&ProjectRecords!R74)),\"\",\"check\")","v":""},{"$f":"IF(I78=\"\",\"\",IF(AND((TableOfContents!O78=TableOfContents!S78),(TableOfContents!P78=TableOfContents!T78)),\"yes\",\"NO\"))","v":""},null,{"$f":"IF(I78=\"\",\"\",IF(ProjectRecords!I74=\"\",\"NO\",\"yes\"))","v":""},{"$f":"IF(I78=\"\",\"\",IF(LEFT(F78,1)<>\"R\",\"\",IF(ProjectRecords!Z74=\"\",\"NO\",\"yes\")))","v":""},null,null,"",{"$f":"IF(I78=\"\",\"\",LEFT(ProjectRecords!H74&\"NO\",3))","v":""},null,null,null,null,null,"",{"$f":"IF(I78=\"\",\"\",LEFT(ProjectRecords!F74&\"NO\",4))","v":""}]
[1,null,null,{"$f":"IF(I79=\"\",\"\",ProjectRecords!C75&\"\")","v":""},"",{"$f":"ProjectRecords!D75&\"\"","v":""},"",{"$f":"IF(I79=\"\",\"\",IF(OR(AND(F79=\"\",I79<>\"\"),AND(ROW(I79)<>7,NOT(ISERROR(VLOOKUP(F79,F$7:F78,1,0))))),\"NO\",\"yes\"))","v":""},{"$f":"ProjectRecords!E75&\"\"","v":""},{"$f":"IF(OR((NOT(ISERROR(SEARCH(\"Program Development\",I79)))*100+(LEFT(ProjectRecords!H75,3)=\"180\")*10+(LEFT(ProjectRecords!D75,1)=\"M\")*1)=111,(NOT(ISERROR(SEARCH(\"Program Development\",I79)))*100+(LEFT(ProjectRecords!H75,3)=\"180\")*10+(LEFT(ProjectRecords!D75,1)=\"M\")*1)<=1),\"\",\"NO\")","v":""},{"$f":"SUBSTITUTE(SUBSTITUTE(SUBSTITUTE(ProjectRecords!L75&\"; \"&ProjectRecords!N75&\"; \"&ProjectRecords!P75&\"; \"&ProjectRecords!R75&\"~\",\"; ; \",\"\"),\"; ~\",\"\"),\"~\",\"\")","v":""},{"$f":"IF(LEFT(ProjectRecords!D75,1)=\"m\",IF(L78=1,0,1),0)","v":0},{"$f":"IF(L79=0,\"\",ProjectRecords!L75)","v":""},{"$f":"IF(ISERROR(SEARCH(\",\",ProjectRecords!L75&ProjectRecords!N75&ProjectRecords!P75&ProjectRecords!R75)),\"\",\"check\")","v":""},{"$f":"IF(I79=\"\",\"\",IF(AND((TableOfContents!O79=TableOfContents!S79),(TableOfContents!P79=TableOfContents!T79)),\"yes\",\"NO\"))","v":""},null,{"$f":"IF(I79=\"\",\"\",IF(ProjectRecords!I75=\"\",\"NO\",\"yes\"))","v":""},{"$f":"IF(I79=\"\",\"\",IF(LEFT(F79,1)<>\"R\",\"\",IF(ProjectRecords!Z75=\"\",\"NO\",\"yes\")))","v":""},null,null,"",{"$f":"IF(I79=\"\",\"\",LEFT(ProjectRecords!H75&\"NO\",3))","v":""},null,null,null,null,null,"",{"$f":"IF(I79=\"\",\"\",LEFT(ProjectRecords!F75&\"NO\",4))","v":""}]
[1,null,null,{"$f":"IF(I80=\"\",\"\",ProjectRecords!C76&\"\")","v":""},"",{"$f":"ProjectRecords!D76&\"\"","v":""},"",{"$f":"IF(I80=\"\",\"\",IF(OR(AND(F80=\"\",I80<>\"\"),AND(ROW(I80)<>7,NOT(ISERROR(VLOOKUP(F80,F$7:F79,1,0))))),\"NO\",\"yes\"))","v":""},{"$f":"ProjectRecords!E76&\"\"","v":""},{"$f":"IF(OR((NOT(ISERROR(SEARCH(\"Program Development\",I80)))*100+(LEFT(ProjectRecords!H76,3)=\"180\")*10+(LEFT(ProjectRecords!D76,1)=\"M\")*1)=111,(NOT(ISERROR(SEARCH(\"Program Development\",I80)))*100+(LEFT(ProjectRecords!H76,3)=\"180\")*10+(LEFT(ProjectRecords!D76,1)=\"M\")*1)<=1),\"\",\"NO\")","v":""},{"$f":"SUBSTITUTE(SUBSTITUTE(SUBSTITUTE(ProjectRecords!L76&\"; \"&ProjectRecords!N76&\"; \"&ProjectRecords!P76&\"; \"&ProjectRecords!R76&\"~\",\"; ; \",\"\"),\"; ~\",\"\"),\"~\",\"\")","v":""},{"$f":"IF(LEFT(ProjectRecords!D76,1)=\"m\",IF(L79=1,0,1),0)","v":0},{"$f":"IF(L80=0,\"\",ProjectRecords!L76)","v":""},{"$f":"IF(ISERROR(SEARCH(\",\",ProjectRecords!L76&ProjectRecords!N76&ProjectRecords!P76&ProjectRecords!R76)),\"\",\"check\")","v":""},{"$f":"IF(I80=\"\",\"\",IF(AND((TableOfContents!O80=TableOfContents!S80),(TableOfContents!P80=TableOfContents!T80)),\"yes\",\"NO\"))","v":""},null,{"$f":"IF(I80=\"\",\"\",IF(ProjectRecords!I76=\"\",\"NO\",\"yes\"))","v":""},{"$f":"IF(I80=\"\",\"\",IF(LEFT(F80,1)<>\"R\",\"\",IF(ProjectRecords!Z76=\"\",\"NO\",\"yes\")))","v":""},null,null,"",{"$f":"IF(I80=\"\",\"\",LEFT(ProjectRecords!H76&\"NO\",3))","v":""},null,null,null,null,null,"",{"$f":"IF(I80=\"\",\"\",LEFT(ProjectRecords!F76&\"NO\",4))","v":""}]
[1,null,null,{"$f":"IF(I81=\"\",\"\",ProjectRecords!C77&\"\")","v":""},"",{"$f":"ProjectRecords!D77&\"\"","v":""},"",{"$f":"IF(I81=\"\",\"\",IF(OR(AND(F81=\"\",I81<>\"\"),AND(ROW(I81)<>7,NOT(ISERROR(VLOOKUP(F81,F$7:F80,1,0))))),\"NO\",\"yes\"))","v":""},{"$f":"ProjectRecords!E77&\"\"","v":""},{"$f":"IF(OR((NOT(ISERROR(SEARCH(\"Program Development\",I81)))*100+(LEFT(ProjectRecords!H77,3)=\"180\")*10+(LEFT(ProjectRecords!D77,1)=\"M\")*1)=111,(NOT(ISERROR(SEARCH(\"Program Development\",I81)))*100+(LEFT(ProjectRecords!H77,3)=\"180\")*10+(LEFT(ProjectRecords!D77,1)=\"M\")*1)<=1),\"\",\"NO\")","v":""},{"$f":"SUBSTITUTE(SUBSTITUTE(SUBSTITUTE(ProjectRecords!L77&\"; \"&ProjectRecords!N77&\"; \"&ProjectRecords!P77&\"; \"&ProjectRecords!R77&\"~\",\"; ; \",\"\"),\"; ~\",\"\"),\"~\",\"\")","v":""},{"$f":"IF(LEFT(ProjectRecords!D77,1)=\"m\",IF(L80=1,0,1),0)","v":0},{"$f":"IF(L81=0,\"\",ProjectRecords!L77)","v":""},{"$f":"IF(ISERROR(SEARCH(\",\",ProjectRecords!L77&ProjectRecords!N77&ProjectRecords!P77&ProjectRecords!R77)),\"\",\"check\")","v":""},{"$f":"IF(I81=\"\",\"\",IF(AND((TableOfContents!O81=TableOfContents!S81),(TableOfContents!P81=TableOfContents!T81)),\"yes\",\"NO\"))","v":""},null,{"$f":"IF(I81=\"\",\"\",IF(ProjectRecords!I77=\"\",\"NO\",\"yes\"))","v":""},{"$f":"IF(I81=\"\",\"\",IF(LEFT(F81,1)<>\"R\",\"\",IF(ProjectRecords!Z77=\"\",\"NO\",\"yes\")))","v":""},null,null,"",{"$f":"IF(I81=\"\",\"\",LEFT(ProjectRecords!H77&\"NO\",3))","v":""},null,null,null,null,null,"",{"$f":"IF(I81=\"\",\"\",LEFT(ProjectRecords!F77&\"NO\",4))","v":""}]
[1,null,null,{"$f":"IF(I82=\"\",\"\",ProjectRecords!C78&\"\")","v":""},"",{"$f":"ProjectRecords!D78&\"\"","v":""},"",{"$f":"IF(I82=\"\",\"\",IF(OR(AND(F82=\"\",I82<>\"\"),AND(ROW(I82)<>7,NOT(ISERROR(VLOOKUP(F82,F$7:F81,1,0))))),\"NO\",\"yes\"))","v":""},{"$f":"ProjectRecords!E78&\"\"","v":""},{"$f":"IF(OR((NOT(ISERROR(SEARCH(\"Program Development\",I82)))*100+(LEFT(ProjectRecords!H78,3)=\"180\")*10+(LEFT(ProjectRecords!D78,1)=\"M\")*1)=111,(NOT(ISERROR(SEARCH(\"Program Development\",I82)))*100+(LEFT(ProjectRecords!H78,3)=\"180\")*10+(LEFT(ProjectRecords!D78,1)=\"M\")*1)<=1),\"\",\"NO\")","v":""},{"$f":"SUBSTITUTE(SUBSTITUTE(SUBSTITUTE(ProjectRecords!L78&\"; \"&ProjectRecords!N78&\"; \"&ProjectRecords!P78&\"; \"&ProjectRecords!R78&\"~\",\"; ; \",\"\"),\"; ~\",\"\"),\"~\",\"\")","v":""},{"$f":"IF(LEFT(ProjectRecords!D78,1)=\"m\",IF(L81=1,0,1),0)","v":0},{"$f":"IF(L82=0,\"\",ProjectRecords!L78)","v":""},{"$f":"IF(ISERROR(SEARCH(\",\",ProjectRecords!L78&ProjectRecords!N78&ProjectRecords!P78&ProjectRecords!R78)),\"\",\"check\")","v":""},{"$f":"IF(I82=\"\",\"\",IF(AND((TableOfContents!O82=TableOfContents!S82),(TableOfContents!P82=TableOfContents!T82)),\"yes\",\"NO\"))","v":""},null,{"$f":"IF(I82=\"\",\"\",IF(ProjectRecords!I78=\"\",\"NO\",\"yes\"))","v":""},{"$f":"IF(I82=\"\",\"\",IF(LEFT(F82,1)<>\"R\",\"\",IF(ProjectRecords!Z78=\"\",\"NO\",\"yes\")))","v":""},null,null,"",{"$f":"IF(I82=\"\",\"\",LEFT(ProjectRecords!H78&\"NO\",3))","v":""},null,null,null,null,null,"",{"$f":"IF(I82=\"\",\"\",LEFT(ProjectRecords!F78&\"NO\",4))","v":""}]
[1,null,null,{"$f":"IF(I83=\"\",\"\",ProjectRecords!C79&\"\")","v":""},"",{"$f":"ProjectRecords!D79&\"\"","v":""},"",{"$f":"IF(I83=\"\",\"\",IF(OR(AND(F83=\"\",I83<>\"\"),AND(ROW(I83)<>7,NOT(ISERROR(VLOOKUP(F83,F$7:F82,1,0))))),\"NO\",\"yes\"))","v":""},{"$f":"ProjectRecords!E79&\"\"","v":""},{"$f":"IF(OR((NOT(ISERROR(SEARCH(\"Program Development\",I83)))*100+(LEFT(ProjectRecords!H79,3)=\"180\")*10+(LEFT(ProjectRecords!D79,1)=\"M\")*1)=111,(NOT(ISERROR(SEARCH(\"Program Development\",I83)))*100+(LEFT(ProjectRecords!H79,3)=\"180\")*10+(LEFT(ProjectRecords!D79,1)=\"M\")*1)<=1),\"\",\"NO\")","v":""},{"$f":"SUBSTITUTE(SUBSTITUTE(SUBSTITUTE(ProjectRecords!L79&\"; \"&ProjectRecords!N79&\"; \"&ProjectRecords!P79&\"; \"&ProjectRecords!R79&\"~\",\"; ; \",\"\"),\"; ~\",\"\"),\"~\",\"\")","v":""},{"$f":"IF(LEFT(ProjectRecords!D79,1)=\"m\",IF(L82=1,0,1),0)","v":0},{"$f":"IF(L83=0,\"\",ProjectRecords!L79)","v":""},{"$f":"IF(ISERROR(SEARCH(\",\",ProjectRecords!L79&ProjectRecords!N79&ProjectRecords!P79&ProjectRecords!R79)),\"\",\"check\")","v":""},{"$f":"IF(I83=\"\",\"\",IF(AND((TableOfContents!O83=TableOfContents!S83),(TableOfContents!P83=TableOfContents!T83)),\"yes\",\"NO\"))","v":""},null,{"$f":"IF(I83=\"\",\"\",IF(ProjectRecords!I79=\"\",\"NO\",\"yes\"))","v":""},{"$f":"IF(I83=\"\",\"\",IF(LEFT(F83,1)<>\"R\",\"\",IF(ProjectRecords!Z79=\"\",\"NO\",\"yes\")))","v":""},null,null,"",{"$f":"IF(I83=\"\",\"\",LEFT(ProjectRecords!H79&\"NO\",3))","v":""},null,null,null,null,null,"",{"$f":"IF(I83=\"\",\"\",LEFT(ProjectRecords!F79&\"NO\",4))","v":""}]
[1,null,null,{"$f":"IF(I84=\"\",\"\",ProjectRecords!C80&\"\")","v":""},"",{"$f":"ProjectRecords!D80&\"\"","v":""},"",{"$f":"IF(I84=\"\",\"\",IF(OR(AND(F84=\"\",I84<>\"\"),AND(ROW(I84)<>7,NOT(ISERROR(VLOOKUP(F84,F$7:F83,1,0))))),\"NO\",\"yes\"))","v":""},{"$f":"ProjectRecords!E80&\"\"","v":""},{"$f":"IF(OR((NOT(ISERROR(SEARCH(\"Program Development\",I84)))*100+(LEFT(ProjectRecords!H80,3)=\"180\")*10+(LEFT(ProjectRecords!D80,1)=\"M\")*1)=111,(NOT(ISERROR(SEARCH(\"Program Development\",I84)))*100+(LEFT(ProjectRecords!H80,3)=\"180\")*10+(LEFT(ProjectRecords!D80,1)=\"M\")*1)<=1),\"\",\"NO\")","v":""},{"$f":"SUBSTITUTE(SUBSTITUTE(SUBSTITUTE(ProjectRecords!L80&\"; \"&ProjectRecords!N80&\"; \"&ProjectRecords!P80&\"; \"&ProjectRecords!R80&\"~\",\"; ; \",\"\"),\"; ~\",\"\"),\"~\",\"\")","v":""},{"$f":"IF(LEFT(ProjectRecords!D80,1)=\"m\",IF(L83=1,0,1),0)","v":0},{"$f":"IF(L84=0,\"\",ProjectRecords!L80)","v":""},{"$f":"IF(ISERROR(SEARCH(\",\",ProjectRecords!L80&ProjectRecords!N80&ProjectRecords!P80&ProjectRecords!R80)),\"\",\"check\")","v":""},{"$f":"IF(I84=\"\",\"\",IF(AND((TableOfContents!O84=TableOfContents!S84),(TableOfContents!P84=TableOfContents!T84)),\"yes\",\"NO\"))","v":""},null,{"$f":"IF(I84=\"\",\"\",IF(ProjectRecords!I80=\"\",\"NO\",\"yes\"))","v":""},{"$f":"IF(I84=\"\",\"\",IF(LEFT(F84,1)<>\"R\",\"\",IF(ProjectRecords!Z80=\"\",\"NO\",\"yes\")))","v":""},null,null,"",{"$f":"IF(I84=\"\",\"\",LEFT(ProjectRecords!H80&\"NO\",3))","v":""},null,null,null,null,null,"",{"$f":"IF(I84=\"\",\"\",LEFT(ProjectRecords!F80&\"NO\",4))","v":""}]
[1,null,null,{"$f":"IF(I85=\"\",\"\",ProjectRecords!C81&\"\")","v":""},"",{"$f":"ProjectRecords!D81&\"\"","v":""},"",{"$f":"IF(I85=\"\",\"\",IF(OR(AND(F85=\"\",I85<>\"\"),AND(ROW(I85)<>7,NOT(ISERROR(VLOOKUP(F85,F$7:F84,1,0))))),\"NO\",\"yes\"))","v":""},{"$f":"ProjectRecords!E81&\"\"","v":""},{"$f":"IF(OR((NOT(ISERROR(SEARCH(\"Program Development\",I85)))*100+(LEFT(ProjectRecords!H81,3)=\"180\")*10+(LEFT(ProjectRecords!D81,1)=\"M\")*1)=111,(NOT(ISERROR(SEARCH(\"Program Development\",I85)))*100+(LEFT(ProjectRecords!H81,3)=\"180\")*10+(LEFT(ProjectRecords!D81,1)=\"M\")*1)<=1),\"\",\"NO\")","v":""},{"$f":"SUBSTITUTE(SUBSTITUTE(SUBSTITUTE(ProjectRecords!L81&\"; \"&ProjectRecords!N81&\"; \"&ProjectRecords!P81&\"; \"&ProjectRecords!R81&\"~\",\"; ; \",\"\"),\"; ~\",\"\"),\"~\",\"\")","v":""},{"$f":"IF(LEFT(ProjectRecords!D81,1)=\"m\",IF(L84=1,0,1),0)","v":0},{"$f":"IF(L85=0,\"\",ProjectRecords!L81)","v":""},{"$f":"IF(ISERROR(SEARCH(\",\",ProjectRecords!L81&ProjectRecords!N81&ProjectRecords!P81&ProjectRecords!R81)),\"\",\"check\")","v":""},{"$f":"IF(I85=\"\",\"\",IF(AND((TableOfContents!O85=TableOfContents!S85),(TableOfContents!P85=TableOfContents!T85)),\"yes\",\"NO\"))","v":""},null,{"$f":"IF(I85=\"\",\"\",IF(ProjectRecords!I81=\"\",\"NO\",\"yes\"))","v":""},{"$f":"IF(I85=\"\",\"\",IF(LEFT(F85,1)<>\"R\",\"\",IF(ProjectRecords!Z81=\"\",\"NO\",\"yes\")))","v":""},null,null,"",{"$f":"IF(I85=\"\",\"\",LEFT(ProjectRecords!H81&\"NO\",3))","v":""},null,null,null,null,null,"",{"$f":"IF(I85=\"\",\"\",LEFT(ProjectRecords!F81&\"NO\",4))","v":""}]
[1,null,null,{"$f":"IF(I86=\"\",\"\",ProjectRecords!C82&\"\")","v":""},"",{"$f":"ProjectRecords!D82&\"\"","v":""},"",{"$f":"IF(I86=\"\",\"\",IF(OR(AND(F86=\"\",I86<>\"\"),AND(ROW(I86)<>7,NOT(ISERROR(VLOOKUP(F86,F$7:F85,1,0))))),\"NO\",\"yes\"))","v":""},{"$f":"ProjectRecords!E82&\"\"","v":""},{"$f":"IF(OR((NOT(ISERROR(SEARCH(\"Program Development\",I86)))*100+(LEFT(ProjectRecords!H82,3)=\"180\")*10+(LEFT(ProjectRecords!D82,1)=\"M\")*1)=111,(NOT(ISERROR(SEARCH(\"Program Development\",I86)))*100+(LEFT(ProjectRecords!H82,3)=\"180\")*10+(LEFT(ProjectRecords!D82,1)=\"M\")*1)<=1),\"\",\"NO\")","v":""},{"$f":"SUBSTITUTE(SUBSTITUTE(SUBSTITUTE(ProjectRecords!L82&\"; \"&ProjectRecords!N82&\"; \"&ProjectRecords!P82&\"; \"&ProjectRecords!R82&\"~\",\"; ; \",\"\"),\"; ~\",\"\"),\"~\",\"\")","v":""},{"$f":"IF(LEFT(ProjectRecords!D82,1)=\"m\",IF(L85=1,0,1),0)","v":0},{"$f":"IF(L86=0,\"\",ProjectRecords!L82)","v":""},{"$f":"IF(ISERROR(SEARCH(\",\",ProjectRecords!L82&ProjectRecords!N82&ProjectRecords!P82&ProjectRecords!R82)),\"\",\"check\")","v":""},{"$f":"IF(I86=\"\",\"\",IF(AND((TableOfContents!O86=TableOfContents!S86),(TableOfContents!P86=TableOfContents!T86)),\"yes\",\"NO\"))","v":""},null,{"$f":"IF(I86=\"\",\"\",IF(ProjectRecords!I82=\"\",\"NO\",\"yes\"))","v":""},{"$f":"IF(I86=\"\",\"\",IF(LEFT(F86,1)<>\"R\",\"\",IF(ProjectRecords!Z82=\"\",\"NO\",\"yes\")))","v":""},null,null,"",{"$f":"IF(I86=\"\",\"\",LEFT(ProjectRecords!H82&\"NO\",3))","v":""},null,null,null,null,null,"",{"$f":"IF(I86=\"\",\"\",LEFT(ProjectRecords!F82&\"NO\",4))","v":""}]
[1,null,null,{"$f":"IF(I87=\"\",\"\",ProjectRecords!C83&\"\")","v":""},"",{"$f":"ProjectRecords!D83&\"\"","v":""},"",{"$f":"IF(I87=\"\",\"\",IF(OR(AND(F87=\"\",I87<>\"\"),AND(ROW(I87)<>7,NOT(ISERROR(VLOOKUP(F87,F$7:F86,1,0))))),\"NO\",\"yes\"))","v":""},{"$f":"ProjectRecords!E83&\"\"","v":""},{"$f":"IF(OR((NOT(ISERROR(SEARCH(\"Program Development\",I87)))*100+(LEFT(ProjectRecords!H83,3)=\"180\")*10+(LEFT(ProjectRecords!D83,1)=\"M\")*1)=111,(NOT(ISERROR(SEARCH(\"Program Development\",I87)))*100+(LEFT(ProjectRecords!H83,3)=\"180\")*10+(LEFT(ProjectRecords!D83,1)=\"M\")*1)<=1),\"\",\"NO\")","v":""},{"$f":"SUBSTITUTE(SUBSTITUTE(SUBSTITUTE(ProjectRecords!L83&\"; \"&ProjectRecords!N83&\"; \"&ProjectRecords!P83&\"; \"&ProjectRecords!R83&\"~\",\"; ; \",\"\"),\"; ~\",\"\"),\"~\",\"\")","v":""},{"$f":"IF(LEFT(ProjectRecords!D83,1)=\"m\",IF(L86=1,0,1),0)","v":0},{"$f":"IF(L87=0,\"\",ProjectRecords!L83)","v":""},{"$f":"IF(ISERROR(SEARCH(\",\",ProjectRecords!L83&ProjectRecords!N83&ProjectRecords!P83&ProjectRecords!R83)),\"\",\"check\")","v":""},{"$f":"IF(I87=\"\",\"\",IF(AND((TableOfContents!O87=TableOfContents!S87),(TableOfContents!P87=TableOfContents!T87)),\"yes\",\"NO\"))","v":""},null,{"$f":"IF(I87=\"\",\"\",IF(ProjectRecords!I83=\"\",\"NO\",\"yes\"))","v":""},{"$f":"IF(I87=\"\",\"\",IF(LEFT(F87,1)<>\"R\",\"\",IF(ProjectRecords!Z83=\"\",\"NO\",\"yes\")))","v":""},null,null,"",{"$f":"IF(I87=\"\",\"\",LEFT(ProjectRecords!H83&\"NO\",3))","v":""},null,null,null,null,null,"",{"$f":"IF(I87=\"\",\"\",LEFT(ProjectRecords!F83&\"NO\",4))","v":""}]
[1,null,null,{"$f":"IF(I88=\"\",\"\",ProjectRecords!C84&\"\")","v":""},"",{"$f":"ProjectRecords!D84&\"\"","v":""},"",{"$f":"IF(I88=\"\",\"\",IF(OR(AND(F88=\"\",I88<>\"\"),AND(ROW(I88)<>7,NOT(ISERROR(VLOOKUP(F88,F$7:F87,1,0))))),\"NO\",\"yes\"))","v":""},{"$f":"ProjectRecords!E84&\"\"","v":""},{"$f":"IF(OR((NOT(ISERROR(SEARCH(\"Program Development\",I88)))*100+(LEFT(ProjectRecords!H84,3)=\"180\")*10+(LEFT(ProjectRecords!D84,1)=\"M\")*1)=111,(NOT(ISERROR(SEARCH(\"Program Development\",I88)))*100+(LEFT(ProjectRecords!H84,3)=\"180\")*10+(LEFT(ProjectRecords!D84,1)=\"M\")*1)<=1),\"\",\"NO\")","v":""},{"$f":"SUBSTITUTE(SUBSTITUTE(SUBSTITUTE(ProjectRecords!L84&\"; \"&ProjectRecords!N84&\"; \"&ProjectRecords!P84&\"; \"&ProjectRecords!R84&\"~\",\"; ; \",\"\"),\"; ~\",\"\"),\"~\",\"\")","v":""},{"$f":"IF(LEFT(ProjectRecords!D84,1)=\"m\",IF(L87=1,0,1),0)","v":0},{"$f":"IF(L88=0,\"\",ProjectRecords!L84)","v":""},{"$f":"IF(ISERROR(SEARCH(\",\",ProjectRecords!L84&ProjectRecords!N84&ProjectRecords!P84&ProjectRecords!R84)),\"\",\"check\")","v":""},{"$f":"IF(I88=\"\",\"\",IF(AND((TableOfContents!O88=TableOfContents!S88),(TableOfContents!P88=TableOfContents!T88)),\"yes\",\"NO\"))","v":""},null,{"$f":"IF(I88=\"\",\"\",IF(ProjectRecords!I84=\"\",\"NO\",\"yes\"))","v":""},{"$f":"IF(I88=\"\",\"\",IF(LEFT(F88,1)<>\"R\",\"\",IF(ProjectRecords!Z84=\"\",\"NO\",\"yes\")))","v":""},null,null,"",{"$f":"IF(I88=\"\",\"\",LEFT(ProjectRecords!H84&\"NO\",3))","v":""},null,null,null,null,null,"",{"$f":"IF(I88=\"\",\"\",LEFT(ProjectRecords!F84&\"NO\",4))","v":""}]
[1,null,null,{"$f":"IF(I89=\"\",\"\",ProjectRecords!C85&\"\")","v":""},"",{"$f":"ProjectRecords!D85&\"\"","v":""},"",{"$f":"IF(I89=\"\",\"\",IF(OR(AND(F89=\"\",I89<>\"\"),AND(ROW(I89)<>7,NOT(ISERROR(VLOOKUP(F89,F$7:F88,1,0))))),\"NO\",\"yes\"))","v":""},{"$f":"ProjectRecords!E85&\"\"","v":""},{"$f":"IF(OR((NOT(ISERROR(SEARCH(\"Program Development\",I89)))*100+(LEFT(ProjectRecords!H85,3)=\"180\")*10+(LEFT(ProjectRecords!D85,1)=\"M\")*1)=111,(NOT(ISERROR(SEARCH(\"Program Development\",I89)))*100+(LEFT(ProjectRecords!H85,3)=\"180\")*10+(LEFT(ProjectRecords!D85,1)=\"M\")*1)<=1),\"\",\"NO\")","v":""},{"$f":"SUBSTITUTE(SUBSTITUTE(SUBSTITUTE(ProjectRecords!L85&\"; \"&ProjectRecords!N85&\"; \"&ProjectRecords!P85&\"; \"&ProjectRecords!R85&\"~\",\"; ; \",\"\"),\"; ~\",\"\"),\"~\",\"\")","v":""},{"$f":"IF(LEFT(ProjectRecords!D85,1)=\"m\",IF(L88=1,0,1),0)","v":0},{"$f":"IF(L89=0,\"\",ProjectRecords!L85)","v":""},{"$f":"IF(ISERROR(SEARCH(\",\",ProjectRecords!L85&ProjectRecords!N85&ProjectRecords!P85&ProjectRecords!R85)),\"\",\"check\")","v":""},{"$f":"IF(I89=\"\",\"\",IF(AND((TableOfContents!O89=TableOfContents!S89),(TableOfContents!P89=TableOfContents!T89)),\"yes\",\"NO\"))","v":""},null,{"$f":"IF(I89=\"\",\"\",IF(ProjectRecords!I85=\"\",\"NO\",\"yes\"))","v":""},{"$f":"IF(I89=\"\",\"\",IF(LEFT(F89,1)<>\"R\",\"\",IF(ProjectRecords!Z85=\"\",\"NO\",\"yes\")))","v":""},null,null,"",{"$f":"IF(I89=\"\",\"\",LEFT(ProjectRecords!H85&\"NO\",3))","v":""},null,null,null,null,null,"",{"$f":"IF(I89=\"\",\"\",LEFT(ProjectRecords!F85&\"NO\",4))","v":""}]
[1,null,null,{"$f":"IF(I90=\"\",\"\",ProjectRecords!C86&\"\")","v":""},"",{"$f":"ProjectRecords!D86&\"\"","v":""},"",{"$f":"IF(I90=\"\",\"\",IF(OR(AND(F90=\"\",I90<>\"\"),AND(ROW(I90)<>7,NOT(ISERROR(VLOOKUP(F90,F$7:F89,1,0))))),\"NO\",\"yes\"))","v":""},{"$f":"ProjectRecords!E86&\"\"","v":""},{"$f":"IF(OR((NOT(ISERROR(SEARCH(\"Program Development\",I90)))*100+(LEFT(ProjectRecords!H86,3)=\"180\")*10+(LEFT(ProjectRecords!D86,1)=\"M\")*1)=111,(NOT(ISERROR(SEARCH(\"Program Development\",I90)))*100+(LEFT(ProjectRecords!H86,3)=\"180\")*10+(LEFT(ProjectRecords!D86,1)=\"M\")*1)<=1),\"\",\"NO\")","v":""},{"$f":"SUBSTITUTE(SUBSTITUTE(SUBSTITUTE(ProjectRecords!L86&\"; \"&ProjectRecords!N86&\"; \"&ProjectRecords!P86&\"; \"&ProjectRecords!R86&\"~\",\"; ; \",\"\"),\"; ~\",\"\"),\"~\",\"\")","v":""},{"$f":"IF(LEFT(ProjectRecords!D86,1)=\"m\",IF(L89=1,0,1),0)","v":0},{"$f":"IF(L90=0,\"\",ProjectRecords!L86)","v":""},{"$f":"IF(ISERROR(SEARCH(\",\",ProjectRecords!L86&ProjectRecords!N86&ProjectRecords!P86&ProjectRecords!R86)),\"\",\"check\")","v":""},{"$f":"IF(I90=\"\",\"\",IF(AND((TableOfContents!O90=TableOfContents!S90),(TableOfContents!P90=TableOfContents!T90)),\"yes\",\"NO\"))","v":""},null,{"$f":"IF(I90=\"\",\"\",IF(ProjectRecords!I86=\"\",\"NO\",\"yes\"))","v":""},{"$f":"IF(I90=\"\",\"\",IF(LEFT(F90,1)<>\"R\",\"\",IF(ProjectRecords!Z86=\"\",\"NO\",\"yes\")))","v":""},null,null,"",{"$f":"IF(I90=\"\",\"\",LEFT(ProjectRecords!H86&\"NO\",3))","v":""},null,null,null,null,null,"",{"$f":"IF(I90=\"\",\"\",LEFT(ProjectRecords!F86&\"NO\",4))","v":""}]
[1,null,null,{"$f":"IF(I91=\"\",\"\",ProjectRecords!C87&\"\")","v":""},"",{"$f":"ProjectRecords!D87&\"\"","v":""},"",{"$f":"IF(I91=\"\",\"\",IF(OR(AND(F91=\"\",I91<>\"\"),AND(ROW(I91)<>7,NOT(ISERROR(VLOOKUP(F91,F$7:F90,1,0))))),\"NO\",\"yes\"))","v":""},{"$f":"ProjectRecords!E87&\"\"","v":""},{"$f":"IF(OR((NOT(ISERROR(SEARCH(\"Program Development\",I91)))*100+(LEFT(ProjectRecords!H87,3)=\"180\")*10+(LEFT(ProjectRecords!D87,1)=\"M\")*1)=111,(NOT(ISERROR(SEARCH(\"Program Development\",I91)))*100+(LEFT(ProjectRecords!H87,3)=\"180\")*10+(LEFT(ProjectRecords!D87,1)=\"M\")*1)<=1),\"\",\"NO\")","v":""},{"$f":"SUBSTITUTE(SUBSTITUTE(SUBSTITUTE(ProjectRecords!L87&\"; \"&ProjectRecords!N87&\"; \"&ProjectRecords!P87&\"; \"&ProjectRecords!R87&\"~\",\"; ; \",\"\"),\"; ~\",\"\"),\"~\",\"\")","v":""},{"$f":"IF(LEFT(ProjectRecords!D87,1)=\"m\",IF(L90=1,0,1),0)","v":0},{"$f":"IF(L91=0,\"\",ProjectRecords!L87)","v":""},{"$f":"IF(ISERROR(SEARCH(\",\",ProjectRecords!L87&ProjectRecords!N87&ProjectRecords!P87&ProjectRecords!R87)),\"\",\"check\")","v":""},{"$f":"IF(I91=\"\",\"\",IF(AND((TableOfContents!O91=TableOfContents!S91),(TableOfContents!P91=TableOfContents!T91)),\"yes\",\"NO\"))","v":""},null,{"$f":"IF(I91=\"\",\"\",IF(ProjectRecords!I87=\"\",\"NO\",\"yes\"))","v":""},{"$f":"IF(I91=\"\",\"\",IF(LEFT(F91,1)<>\"R\",\"\",IF(ProjectRecords!Z87=\"\",\"NO\",\"yes\")))","v":""},null,null,"",{"$f":"IF(I91=\"\",\"\",LEFT(ProjectRecords!H87&\"NO\",3))","v":""},null,null,null,null,null,"",{"$f":"IF(I91=\"\",\"\",LEFT(ProjectRecords!F87&\"NO\",4))","v":""}]
[1,null,null,{"$f":"IF(I92=\"\",\"\",ProjectRecords!C88&\"\")","v":""},"",{"$f":"ProjectRecords!D88&\"\"","v":""},"",{"$f":"IF(I92=\"\",\"\",IF(OR(AND(F92=\"\",I92<>\"\"),AND(ROW(I92)<>7,NOT(ISERROR(VLOOKUP(F92,F$7:F91,1,0))))),\"NO\",\"yes\"))","v":""},{"$f":"ProjectRecords!E88&\"\"","v":""},{"$f":"IF(OR((NOT(ISERROR(SEARCH(\"Program Development\",I92)))*100+(LEFT(ProjectRecords!H88,3)=\"180\")*10+(LEFT(ProjectRecords!D88,1)=\"M\")*1)=111,(NOT(ISERROR(SEARCH(\"Program Development\",I92)))*100+(LEFT(ProjectRecords!H88,3)=\"180\")*10+(LEFT(ProjectRecords!D88,1)=\"M\")*1)<=1),\"\",\"NO\")","v":""},{"$f":"SUBSTITUTE(SUBSTITUTE(SUBSTITUTE(ProjectRecords!L88&\"; \"&ProjectRecords!N88&\"; \"&ProjectRecords!P88&\"; \"&ProjectRecords!R88&\"~\",\"; ; \",\"\"),\"; ~\",\"\"),\"~\",\"\")","v":""},{"$f":"IF(LEFT(ProjectRecords!D88,1)=\"m\",IF(L91=1,0,1),0)","v":0},{"$f":"IF(L92=0,\"\",ProjectRecords!L88)","v":""},{"$f":"IF(ISERROR(SEARCH(\",\",ProjectRecords!L88&ProjectRecords!N88&ProjectRecords!P88&ProjectRecords!R88)),\"\",\"check\")","v":""},{"$f":"IF(I92=\"\",\"\",IF(AND((TableOfContents!O92=TableOfContents!S92),(TableOfContents!P92=TableOfContents!T92)),\"yes\",\"NO\"))","v":""},null,{"$f":"IF(I92=\"\",\"\",IF(ProjectRecords!I88=\"\",\"NO\",\"yes\"))","v":""},{"$f":"IF(I92=\"\",\"\",IF(LEFT(F92,1)<>\"R\",\"\",IF(ProjectRecords!Z88=\"\",\"NO\",\"yes\")))","v":""},null,null,"",{"$f":"IF(I92=\"\",\"\",LEFT(ProjectRecords!H88&\"NO\",3))","v":""},null,null,null,null,null,"",{"$f":"IF(I92=\"\",\"\",LEFT(ProjectRecords!F88&\"NO\",4))","v":""}]
[1,null,null,{"$f":"IF(I93=\"\",\"\",ProjectRecords!C89&\"\")","v":""},"",{"$f":"ProjectRecords!D89&\"\"","v":""},"",{"$f":"IF(I93=\"\",\"\",IF(OR(AND(F93=\"\",I93<>\"\"),AND(ROW(I93)<>7,NOT(ISERROR(VLOOKUP(F93,F$7:F92,1,0))))),\"NO\",\"yes\"))","v":""},{"$f":"ProjectRecords!E89&\"\"","v":""},{"$f":"IF(OR((NOT(ISERROR(SEARCH(\"Program Development\",I93)))*100+(LEFT(ProjectRecords!H89,3)=\"180\")*10+(LEFT(ProjectRecords!D89,1)=\"M\")*1)=111,(NOT(ISERROR(SEARCH(\"Program Development\",I93)))*100+(LEFT(ProjectRecords!H89,3)=\"180\")*10+(LEFT(ProjectRecords!D89,1)=\"M\")*1)<=1),\"\",\"NO\")","v":""},{"$f":"SUBSTITUTE(SUBSTITUTE(SUBSTITUTE(ProjectRecords!L89&\"; \"&ProjectRecords!N89&\"; \"&ProjectRecords!P89&\"; \"&ProjectRecords!R89&\"~\",\"; ; \",\"\"),\"; ~\",\"\"),\"~\",\"\")","v":""},{"$f":"IF(LEFT(ProjectRecords!D89,1)=\"m\",IF(L92=1,0,1),0)","v":0},{"$f":"IF(L93=0,\"\",ProjectRecords!L89)","v":""},{"$f":"IF(ISERROR(SEARCH(\",\",ProjectRecords!L89&ProjectRecords!N89&ProjectRecords!P89&ProjectRecords!R89)),\"\",\"check\")","v":""},{"$f":"IF(I93=\"\",\"\",IF(AND((TableOfContents!O93=TableOfContents!S93),(TableOfContents!P93=TableOfContents!T93)),\"yes\",\"NO\"))","v":""},null,{"$f":"IF(I93=\"\",\"\",IF(ProjectRecords!I89=\"\",\"NO\",\"yes\"))","v":""},{"$f":"IF(I93=\"\",\"\",IF(LEFT(F93,1)<>\"R\",\"\",IF(ProjectRecords!Z89=\"\",\"NO\",\"yes\")))","v":""},null,null,"",{"$f":"IF(I93=\"\",\"\",LEFT(ProjectRecords!H89&\"NO\",3))","v":""},null,null,null,null,null,"",{"$f":"IF(I93=\"\",\"\",LEFT(ProjectRecords!F89&\"NO\",4))","v":""}]
[1,null,null,{"$f":"IF(I94=\"\",\"\",ProjectRecords!C90&\"\")","v":""},"",{"$f":"ProjectRecords!D90&\"\"","v":""},"",{"$f":"IF(I94=\"\",\"\",IF(OR(AND(F94=\"\",I94<>\"\"),AND(ROW(I94)<>7,NOT(ISERROR(VLOOKUP(F94,F$7:F93,1,0))))),\"NO\",\"yes\"))","v":""},{"$f":"ProjectRecords!E90&\"\"","v":""},{"$f":"IF(OR((NOT(ISERROR(SEARCH(\"Program Development\",I94)))*100+(LEFT(ProjectRecords!H90,3)=\"180\")*10+(LEFT(ProjectRecords!D90,1)=\"M\")*1)=111,(NOT(ISERROR(SEARCH(\"Program Development\",I94)))*100+(LEFT(ProjectRecords!H90,3)=\"180\")*10+(LEFT(ProjectRecords!D90,1)=\"M\")*1)<=1),\"\",\"NO\")","v":""},{"$f":"SUBSTITUTE(SUBSTITUTE(SUBSTITUTE(ProjectRecords!L90&\"; \"&ProjectRecords!N90&\"; \"&ProjectRecords!P90&\"; \"&ProjectRecords!R90&\"~\",\"; ; \",\"\"),\"; ~\",\"\"),\"~\",\"\")","v":""},{"$f":"IF(LEFT(ProjectRecords!D90,1)=\"m\",IF(L93=1,0,1),0)","v":0},{"$f":"IF(L94=0,\"\",ProjectRecords!L90)","v":""},{"$f":"IF(ISERROR(SEARCH(\",\",ProjectRecords!L90&ProjectRecords!N90&ProjectRecords!P90&ProjectRecords!R90)),\"\",\"check\")","v":""},{"$f":"IF(I94=\"\",\"\",IF(AND((TableOfContents!O94=TableOfContents!S94),(TableOfContents!P94=TableOfContents!T94)),\"yes\",\"NO\"))","v":""},null,{"$f":"IF(I94=\"\",\"\",IF(ProjectRecords!I90=\"\",\"NO\",\"yes\"))","v":""},{"$f":"IF(I94=\"\",\"\",IF(LEFT(F94,1)<>\"R\",\"\",IF(ProjectRecords!Z90=\"\",\"NO\",\"yes\")))","v":""},null,null,"",{"$f":"IF(I94=\"\",\"\",LEFT(ProjectRecords!H90&\"NO\",3))","v":""},null,null,null,null,null,"",{"$f":"IF(I94=\"\",\"\",LEFT(ProjectRecords!F90&\"NO\",4))","v":""}]
[1,null,null,{"$f":"IF(I95=\"\",\"\",ProjectRecords!C91&\"\")","v":""},"",{"$f":"ProjectRecords!D91&\"\"","v":""},"",{"$f":"IF(I95=\"\",\"\",IF(OR(AND(F95=\"\",I95<>\"\"),AND(ROW(I95)<>7,NOT(ISERROR(VLOOKUP(F95,F$7:F94,1,0))))),\"NO\",\"yes\"))","v":""},{"$f":"ProjectRecords!E91&\"\"","v":""},{"$f":"IF(OR((NOT(ISERROR(SEARCH(\"Program Development\",I95)))*100+(LEFT(ProjectRecords!H91,3)=\"180\")*10+(LEFT(ProjectRecords!D91,1)=\"M\")*1)=111,(NOT(ISERROR(SEARCH(\"Program Development\",I95)))*100+(LEFT(ProjectRecords!H91,3)=\"180\")*10+(LEFT(ProjectRecords!D91,1)=\"M\")*1)<=1),\"\",\"NO\")","v":""},{"$f":"SUBSTITUTE(SUBSTITUTE(SUBSTITUTE(ProjectRecords!L91&\"; \"&ProjectRecords!N91&\"; \"&ProjectRecords!P91&\"; \"&ProjectRecords!R91&\"~\",\"; ; \",\"\"),\"; ~\",\"\"),\"~\",\"\")","v":""},{"$f":"IF(LEFT(ProjectRecords!D91,1)=\"m\",IF(L94=1,0,1),0)","v":0},{"$f":"IF(L95=0,\"\",ProjectRecords!L91)","v":""},{"$f":"IF(ISERROR(SEARCH(\",\",ProjectRecords!L91&ProjectRecords!N91&ProjectRecords!P91&ProjectRecords!R91)),\"\",\"check\")","v":""},{"$f":"IF(I95=\"\",\"\",IF(AND((TableOfContents!O95=TableOfContents!S95),(TableOfContents!P95=TableOfContents!T95)),\"yes\",\"NO\"))","v":""},null,{"$f":"IF(I95=\"\",\"\",IF(ProjectRecords!I91=\"\",\"NO\",\"yes\"))","v":""},{"$f":"IF(I95=\"\",\"\",IF(LEFT(F95,1)<>\"R\",\"\",IF(ProjectRecords!Z91=\"\",\"NO\",\"yes\")))","v":""},null,null,"",{"$f":"IF(I95=\"\",\"\",LEFT(ProjectRecords!H91&\"NO\",3))","v":""},null,null,null,null,null,"",{"$f":"IF(I95=\"\",\"\",LEFT(ProjectRecords!F91&\"NO\",4))","v":""}]
[1,null,null,{"$f":"IF(I96=\"\",\"\",ProjectRecords!C92&\"\")","v":""},"",{"$f":"ProjectRecords!D92&\"\"","v":""},"",{"$f":"IF(I96=\"\",\"\",IF(OR(AND(F96=\"\",I96<>\"\"),AND(ROW(I96)<>7,NOT(ISERROR(VLOOKUP(F96,F$7:F95,1,0))))),\"NO\",\"yes\"))","v":""},{"$f":"ProjectRecords!E92&\"\"","v":""},{"$f":"IF(OR((NOT(ISERROR(SEARCH(\"Program Development\",I96)))*100+(LEFT(ProjectRecords!H92,3)=\"180\")*10+(LEFT(ProjectRecords!D92,1)=\"M\")*1)=111,(NOT(ISERROR(SEARCH(\"Program Development\",I96)))*100+(LEFT(ProjectRecords!H92,3)=\"180\")*10+(LEFT(ProjectRecords!D92,1)=\"M\")*1)<=1),\"\",\"NO\")","v":""},{"$f":"SUBSTITUTE(SUBSTITUTE(SUBSTITUTE(ProjectRecords!L92&\"; \"&ProjectRecords!N92&\"; \"&ProjectRecords!P92&\"; \"&ProjectRecords!R92&\"~\",\"; ; \",\"\"),\"; ~\",\"\"),\"~\",\"\")","v":""},{"$f":"IF(LEFT(ProjectRecords!D92,1)=\"m\",IF(L95=1,0,1),0)","v":0},{"$f":"IF(L96=0,\"\",ProjectRecords!L92)","v":""},{"$f":"IF(ISERROR(SEARCH(\",\",ProjectRecords!L92&ProjectRecords!N92&ProjectRecords!P92&ProjectRecords!R92)),\"\",\"check\")","v":""},{"$f":"IF(I96=\"\",\"\",IF(AND((TableOfContents!O96=TableOfContents!S96),(TableOfContents!P96=TableOfContents!T96)),\"yes\",\"NO\"))","v":""},null,{"$f":"IF(I96=\"\",\"\",IF(ProjectRecords!I92=\"\",\"NO\",\"yes\"))","v":""},{"$f":"IF(I96=\"\",\"\",IF(LEFT(F96,1)<>\"R\",\"\",IF(ProjectRecords!Z92=\"\",\"NO\",\"yes\")))","v":""},null,null,"",{"$f":"IF(I96=\"\",\"\",LEFT(ProjectRecords!H92&\"NO\",3))","v":""},null,null,null,null,null,"",{"$f":"IF(I96=\"\",\"\",LEFT(ProjectRecords!F92&\"NO\",4))","v":""}]
[1,null,null,{"$f":"IF(I97=\"\",\"\",ProjectRecords!C93&\"\")","v":""},"",{"$f":"ProjectRecords!D93&\"\"","v":""},"",{"$f":"IF(I97=\"\",\"\",IF(OR(AND(F97=\"\",I97<>\"\"),AND(ROW(I97)<>7,NOT(ISERROR(VLOOKUP(F97,F$7:F96,1,0))))),\"NO\",\"yes\"))","v":""},{"$f":"ProjectRecords!E93&\"\"","v":""},{"$f":"IF(OR((NOT(ISERROR(SEARCH(\"Program Development\",I97)))*100+(LEFT(ProjectRecords!H93,3)=\"180\")*10+(LEFT(ProjectRecords!D93,1)=\"M\")*1)=111,(NOT(ISERROR(SEARCH(\"Program Development\",I97)))*100+(LEFT(ProjectRecords!H93,3)=\"180\")*10+(LEFT(ProjectRecords!D93,1)=\"M\")*1)<=1),\"\",\"NO\")","v":""},{"$f":"SUBSTITUTE(SUBSTITUTE(SUBSTITUTE(ProjectRecords!L93&\"; \"&ProjectRecords!N93&\"; \"&ProjectRecords!P93&\"; \"&ProjectRecords!R93&\"~\",\"; ; \",\"\"),\"; ~\",\"\"),\"~\",\"\")","v":""},{"$f":"IF(LEFT(ProjectRecords!D93,1)=\"m\",IF(L96=1,0,1),0)","v":0},{"$f":"IF(L97=0,\"\",ProjectRecords!L93)","v":""},{"$f":"IF(ISERROR(SEARCH(\",\",ProjectRecords!L93&ProjectRecords!N93&ProjectRecords!P93&ProjectRecords!R93)),\"\",\"check\")","v":""},{"$f":"IF(I97=\"\",\"\",IF(AND((TableOfContents!O97=TableOfContents!S97),(TableOfContents!P97=TableOfContents!T97)),\"yes\",\"NO\"))","v":""},null,{"$f":"IF(I97=\"\",\"\",IF(ProjectRecords!I93=\"\",\"NO\",\"yes\"))","v":""},{"$f":"IF(I97=\"\",\"\",IF(LEFT(F97,1)<>\"R\",\"\",IF(ProjectRecords!Z93=\"\",\"NO\",\"yes\")))","v":""},null,null,"",{"$f":"IF(I97=\"\",\"\",LEFT(ProjectRecords!H93&\"NO\",3))","v":""},null,null,null,null,null,"",{"$f":"IF(I97=\"\",\"\",LEFT(ProjectRecords!F93&\"NO\",4))","v":""}]
[1,null,null,{"$f":"IF(I98=\"\",\"\",ProjectRecords!C94&\"\")","v":""},"",{"$f":"ProjectRecords!D94&\"\"","v":""},"",{"$f":"IF(I98=\"\",\"\",IF(OR(AND(F98=\"\",I98<>\"\"),AND(ROW(I98)<>7,NOT(ISERROR(VLOOKUP(F98,F$7:F97,1,0))))),\"NO\",\"yes\"))","v":""},{"$f":"ProjectRecords!E94&\"\"","v":""},{"$f":"IF(OR((NOT(ISERROR(SEARCH(\"Program Development\",I98)))*100+(LEFT(ProjectRecords!H94,3)=\"180\")*10+(LEFT(ProjectRecords!D94,1)=\"M\")*1)=111,(NOT(ISERROR(SEARCH(\"Program Development\",I98)))*100+(LEFT(ProjectRecords!H94,3)=\"180\")*10+(LEFT(ProjectRecords!D94,1)=\"M\")*1)<=1),\"\",\"NO\")","v":""},{"$f":"SUBSTITUTE(SUBSTITUTE(SUBSTITUTE(ProjectRecords!L94&\"; \"&ProjectRecords!N94&\"; \"&ProjectRecords!P94&\"; \"&ProjectRecords!R94&\"~\",\"; ; \",\"\"),\"; ~\",\"\"),\"~\",\"\")","v":""},{"$f":"IF(LEFT(ProjectRecords!D94,1)=\"m\",IF(L97=1,0,1),0)","v":0},{"$f":"IF(L98=0,\"\",ProjectRecords!L94)","v":""},{"$f":"IF(ISERROR(SEARCH(\",\",ProjectRecords!L94&ProjectRecords!N94&ProjectRecords!P94&ProjectRecords!R94)),\"\",\"check\")","v":""},{"$f":"IF(I98=\"\",\"\",IF(AND((TableOfContents!O98=TableOfContents!S98),(TableOfContents!P98=TableOfContents!T98)),\"yes\",\"NO\"))","v":""},null,{"$f":"IF(I98=\"\",\"\",IF(ProjectRecords!I94=\"\",\"NO\",\"yes\"))","v":""},{"$f":"IF(I98=\"\",\"\",IF(LEFT(F98,1)<>\"R\",\"\",IF(ProjectRecords!Z94=\"\",\"NO\",\"yes\")))","v":""},null,null,"",{"$f":"IF(I98=\"\",\"\",LEFT(ProjectRecords!H94&\"NO\",3))","v":""},null,null,null,null,null,"",{"$f":"IF(I98=\"\",\"\",LEFT(ProjectRecords!F94&\"NO\",4))","v":""}]
[1,null,null,{"$f":"IF(I99=\"\",\"\",ProjectRecords!C95&\"\")","v":""},"",{"$f":"ProjectRecords!D95&\"\"","v":""},"",{"$f":"IF(I99=\"\",\"\",IF(OR(AND(F99=\"\",I99<>\"\"),AND(ROW(I99)<>7,NOT(ISERROR(VLOOKUP(F99,F$7:F98,1,0))))),\"NO\",\"yes\"))","v":""},{"$f":"ProjectRecords!E95&\"\"","v":""},{"$f":"IF(OR((NOT(ISERROR(SEARCH(\"Program Development\",I99)))*100+(LEFT(ProjectRecords!H95,3)=\"180\")*10+(LEFT(ProjectRecords!D95,1)=\"M\")*1)=111,(NOT(ISERROR(SEARCH(\"Program Development\",I99)))*100+(LEFT(ProjectRecords!H95,3)=\"180\")*10+(LEFT(ProjectRecords!D95,1)=\"M\")*1)<=1),\"\",\"NO\")","v":""},{"$f":"SUBSTITUTE(SUBSTITUTE(SUBSTITUTE(ProjectRecords!L95&\"; \"&ProjectRecords!N95&\"; \"&ProjectRecords!P95&\"; \"&ProjectRecords!R95&\"~\",\"; ; \",\"\"),\"; ~\",\"\"),\"~\",\"\")","v":""},{"$f":"IF(LEFT(ProjectRecords!D95,1)=\"m\",IF(L98=1,0,1),0)","v":0},{"$f":"IF(L99=0,\"\",ProjectRecords!L95)","v":""},{"$f":"IF(ISERROR(SEARCH(\",\",ProjectRecords!L95&ProjectRecords!N95&ProjectRecords!P95&ProjectRecords!R95)),\"\",\"check\")","v":""},{"$f":"IF(I99=\"\",\"\",IF(AND((TableOfContents!O99=TableOfContents!S99),(TableOfContents!P99=TableOfContents!T99)),\"yes\",\"NO\"))","v":""},null,{"$f":"IF(I99=\"\",\"\",IF(ProjectRecords!I95=\"\",\"NO\",\"yes\"))","v":""},{"$f":"IF(I99=\"\",\"\",IF(LEFT(F99,1)<>\"R\",\"\",IF(ProjectRecords!Z95=\"\",\"NO\",\"yes\")))","v":""},null,null,"",{"$f":"IF(I99=\"\",\"\",LEFT(ProjectRecords!H95&\"NO\",3))","v":""},null,null,null,null,null,"",{"$f":"IF(I99=\"\",\"\",LEFT(ProjectRecords!F95&\"NO\",4))","v":""}]
[1,null,null,{"$f":"IF(I100=\"\",\"\",ProjectRecords!C96&\"\")","v":""},"",{"$f":"ProjectRecords!D96&\"\"","v":""},"",{"$f":"IF(I100=\"\",\"\",IF(OR(AND(F100=\"\",I100<>\"\"),AND(ROW(I100)<>7,NOT(ISERROR(VLOOKUP(F100,F$7:F99,1,0))))),\"NO\",\"yes\"))","v":""},{"$f":"ProjectRecords!E96&\"\"","v":""},{"$f":"IF(OR((NOT(ISERROR(SEARCH(\"Program Development\",I100)))*100+(LEFT(ProjectRecords!H96,3)=\"180\")*10+(LEFT(ProjectRecords!D96,1)=\"M\")*1)=111,(NOT(ISERROR(SEARCH(\"Program Development\",I100)))*100+(LEFT(ProjectRecords!H96,3)=\"180\")*10+(LEFT(ProjectRecords!D96,1)=\"M\")*1)<=1),\"\",\"NO\")","v":""},{"$f":"SUBSTITUTE(SUBSTITUTE(SUBSTITUTE(ProjectRecords!L96&\"; \"&ProjectRecords!N96&\"; \"&ProjectRecords!P96&\"; \"&ProjectRecords!R96&\"~\",\"; ; \",\"\"),\"; ~\",\"\"),\"~\",\"\")","v":""},{"$f":"IF(LEFT(ProjectRecords!D96,1)=\"m\",IF(L99=1,0,1),0)","v":0},{"$f":"IF(L100=0,\"\",ProjectRecords!L96)","v":""},{"$f":"IF(ISERROR(SEARCH(\",\",ProjectRecords!L96&ProjectRecords!N96&ProjectRecords!P96&ProjectRecords!R96)),\"\",\"check\")","v":""},{"$f":"IF(I100=\"\",\"\",IF(AND((TableOfContents!O100=TableOfContents!S100),(TableOfContents!P100=TableOfContents!T100)),\"yes\",\"NO\"))","v":""},null,{"$f":"IF(I100=\"\",\"\",IF(ProjectRecords!I96=\"\",\"NO\",\"yes\"))","v":""},{"$f":"IF(I100=\"\",\"\",IF(LEFT(F100,1)<>\"R\",\"\",IF(ProjectRecords!Z96=\"\",\"NO\",\"yes\")))","v":""},null,null,"",{"$f":"IF(I100=\"\",\"\",LEFT(ProjectRecords!H96&\"NO\",3))","v":""},null,null,null,null,null,"",{"$f":"IF(I100=\"\",\"\",LEFT(ProjectRecords!F96&\"NO\",4))","v":""}]
[1,null,null,{"$f":"IF(I101=\"\",\"\",ProjectRecords!C97&\"\")","v":""},"",{"$f":"ProjectRecords!D97&\"\"","v":""},"",{"$f":"IF(I101=\"\",\"\",IF(OR(AND(F101=\"\",I101<>\"\"),AND(ROW(I101)<>7,NOT(ISERROR(VLOOKUP(F101,F$7:F100,1,0))))),\"NO\",\"yes\"))","v":""},{"$f":"ProjectRecords!E97&\"\"","v":""},{"$f":"IF(OR((NOT(ISERROR(SEARCH(\"Program Development\",I101)))*100+(LEFT(ProjectRecords!H97,3)=\"180\")*10+(LEFT(ProjectRecords!D97,1)=\"M\")*1)=111,(NOT(ISERROR(SEARCH(\"Program Development\",I101)))*100+(LEFT(ProjectRecords!H97,3)=\"180\")*10+(LEFT(ProjectRecords!D97,1)=\"M\")*1)<=1),\"\",\"NO\")","v":""},{"$f":"SUBSTITUTE(SUBSTITUTE(SUBSTITUTE(ProjectRecords!L97&\"; \"&ProjectRecords!N97&\"; \"&ProjectRecords!P97&\"; \"&ProjectRecords!R97&\"~\",\"; ; \",\"\"),\"; ~\",\"\"),\"~\",\"\")","v":""},{"$f":"IF(LEFT(ProjectRecords!D97,1)=\"m\",IF(L100=1,0,1),0)","v":0},{"$f":"IF(L101=0,\"\",ProjectRecords!L97)","v":""},{"$f":"IF(ISERROR(SEARCH(\",\",ProjectRecords!L97&ProjectRecords!N97&ProjectRecords!P97&ProjectRecords!R97)),\"\",\"check\")","v":""},{"$f":"IF(I101=\"\",\"\",IF(AND((TableOfContents!O101=TableOfContents!S101),(TableOfContents!P101=TableOfContents!T101)),\"yes\",\"NO\"))","v":""},null,{"$f":"IF(I101=\"\",\"\",IF(ProjectRecords!I97=\"\",\"NO\",\"yes\"))","v":""},{"$f":"IF(I101=\"\",\"\",IF(LEFT(F101,1)<>\"R\",\"\",IF(ProjectRecords!Z97=\"\",\"NO\",\"yes\")))","v":""},null,null,"",{"$f":"IF(I101=\"\",\"\",LEFT(ProjectRecords!H97&\"NO\",3))","v":""},null,null,null,null,null,"",{"$f":"IF(I101=\"\",\"\",LEFT(ProjectRecords!F97&\"NO\",4))","v":""}]
[1,null,null,{"$f":"IF(I102=\"\",\"\",ProjectRecords!C98&\"\")","v":""},"",{"$f":"ProjectRecords!D98&\"\"","v":""},"",{"$f":"IF(I102=\"\",\"\",IF(OR(AND(F102=\"\",I102<>\"\"),AND(ROW(I102)<>7,NOT(ISERROR(VLOOKUP(F102,F$7:F101,1,0))))),\"NO\",\"yes\"))","v":""},{"$f":"ProjectRecords!E98&\"\"","v":""},{"$f":"IF(OR((NOT(ISERROR(SEARCH(\"Program Development\",I102)))*100+(LEFT(ProjectRecords!H98,3)=\"180\")*10+(LEFT(ProjectRecords!D98,1)=\"M\")*1)=111,(NOT(ISERROR(SEARCH(\"Program Development\",I102)))*100+(LEFT(ProjectRecords!H98,3)=\"180\")*10+(LEFT(ProjectRecords!D98,1)=\"M\")*1)<=1),\"\",\"NO\")","v":""},{"$f":"SUBSTITUTE(SUBSTITUTE(SUBSTITUTE(ProjectRecords!L98&\"; \"&ProjectRecords!N98&\"; \"&ProjectRecords!P98&\"; \"&ProjectRecords!R98&\"~\",\"; ; \",\"\"),\"; ~\",\"\"),\"~\",\"\")","v":""},{"$f":"IF(LEFT(ProjectRecords!D98,1)=\"m\",IF(L101=1,0,1),0)","v":0},{"$f":"IF(L102=0,\"\",ProjectRecords!L98)","v":""},{"$f":"IF(ISERROR(SEARCH(\",\",ProjectRecords!L98&ProjectRecords!N98&ProjectRecords!P98&ProjectRecords!R98)),\"\",\"check\")","v":""},{"$f":"IF(I102=\"\",\"\",IF(AND((TableOfContents!O102=TableOfContents!S102),(TableOfContents!P102=TableOfContents!T102)),\"yes\",\"NO\"))","v":""},null,{"$f":"IF(I102=\"\",\"\",IF(ProjectRecords!I98=\"\",\"NO\",\"yes\"))","v":""},{"$f":"IF(I102=\"\",\"\",IF(LEFT(F102,1)<>\"R\",\"\",IF(ProjectRecords!Z98=\"\",\"NO\",\"yes\")))","v":""},null,null,"",{"$f":"IF(I102=\"\",\"\",LEFT(ProjectRecords!H98&\"NO\",3))","v":""},null,null,null,null,null,"",{"$f":"IF(I102=\"\",\"\",LEFT(ProjectRecords!F98&\"NO\",4))","v":""}]
[1,null,null,{"$f":"IF(I103=\"\",\"\",ProjectRecords!C99&\"\")","v":""},"",{"$f":"ProjectRecords!D99&\"\"","v":""},"",{"$f":"IF(I103=\"\",\"\",IF(OR(AND(F103=\"\",I103<>\"\"),AND(ROW(I103)<>7,NOT(ISERROR(VLOOKUP(F103,F$7:F102,1,0))))),\"NO\",\"yes\"))","v":""},{"$f":"ProjectRecords!E99&\"\"","v":""},{"$f":"IF(OR((NOT(ISERROR(SEARCH(\"Program Development\",I103)))*100+(LEFT(ProjectRecords!H99,3)=\"180\")*10+(LEFT(ProjectRecords!D99,1)=\"M\")*1)=111,(NOT(ISERROR(SEARCH(\"Program Development\",I103)))*100+(LEFT(ProjectRecords!H99,3)=\"180\")*10+(LEFT(ProjectRecords!D99,1)=\"M\")*1)<=1),\"\",\"NO\")","v":""},{"$f":"SUBSTITUTE(SUBSTITUTE(SUBSTITUTE(ProjectRecords!L99&\"; \"&ProjectRecords!N99&\"; \"&ProjectRecords!P99&\"; \"&ProjectRecords!R99&\"~\",\"; ; \",\"\"),\"; ~\",\"\"),\"~\",\"\")","v":""},{"$f":"IF(LEFT(ProjectRecords!D99,1)=\"m\",IF(L102=1,0,1),0)","v":0},{"$f":"IF(L103=0,\"\",ProjectRecords!L99)","v":""},{"$f":"IF(ISERROR(SEARCH(\",\",ProjectRecords!L99&ProjectRecords!N99&ProjectRecords!P99&ProjectRecords!R99)),\"\",\"check\")","v":""},{"$f":"IF(I103=\"\",\"\",IF(AND((TableOfContents!O103=TableOfContents!S103),(TableOfContents!P103=TableOfContents!T103)),\"yes\",\"NO\"))","v":""},null,{"$f":"IF(I103=\"\",\"\",IF(ProjectRecords!I99=\"\",\"NO\",\"yes\"))","v":""},{"$f":"IF(I103=\"\",\"\",IF(LEFT(F103,1)<>\"R\",\"\",IF(ProjectRecords!Z99=\"\",\"NO\",\"yes\")))","v":""},null,null,"",{"$f":"IF(I103=\"\",\"\",LEFT(ProjectRecords!H99&\"NO\",3))","v":""},null,null,null,null,null,"",{"$f":"IF(I103=\"\",\"\",LEFT(ProjectRecords!F99&\"NO\",4))","v":""}]
[1,null,null,{"$f":"IF(I104=\"\",\"\",ProjectRecords!C100&\"\")","v":""},"",{"$f":"ProjectRecords!D100&\"\"","v":""},"",{"$f":"IF(I104=\"\",\"\",IF(OR(AND(F104=\"\",I104<>\"\"),AND(ROW(I104)<>7,NOT(ISERROR(VLOOKUP(F104,F$7:F103,1,0))))),\"NO\",\"yes\"))","v":""},{"$f":"ProjectRecords!E100&\"\"","v":""},{"$f":"IF(OR((NOT(ISERROR(SEARCH(\"Program Development\",I104)))*100+(LEFT(ProjectRecords!H100,3)=\"180\")*10+(LEFT(ProjectRecords!D100,1)=\"M\")*1)=111,(NOT(ISERROR(SEARCH(\"Program Development\",I104)))*100+(LEFT(ProjectRecords!H100,3)=\"180\")*10+(LEFT(ProjectRecords!D100,1)=\"M\")*1)<=1),\"\",\"NO\")","v":""},{"$f":"SUBSTITUTE(SUBSTITUTE(SUBSTITUTE(ProjectRecords!L100&\"; \"&ProjectRecords!N100&\"; \"&ProjectRecords!P100&\"; \"&ProjectRecords!R100&\"~\",\"; ; \",\"\"),\"; ~\",\"\"),\"~\",\"\")","v":""},{"$f":"IF(LEFT(ProjectRecords!D100,1)=\"m\",IF(L103=1,0,1),0)","v":0},{"$f":"IF(L104=0,\"\",ProjectRecords!L100)","v":""},{"$f":"IF(ISERROR(SEARCH(\",\",ProjectRecords!L100&ProjectRecords!N100&ProjectRecords!P100&ProjectRecords!R100)),\"\",\"check\")","v":""},{"$f":"IF(I104=\"\",\"\",IF(AND((TableOfContents!O104=TableOfContents!S104),(TableOfContents!P104=TableOfContents!T104)),\"yes\",\"NO\"))","v":""},null,{"$f":"IF(I104=\"\",\"\",IF(ProjectRecords!I100=\"\",\"NO\",\"yes\"))","v":""},{"$f":"IF(I104=\"\",\"\",IF(LEFT(F104,1)<>\"R\",\"\",IF(ProjectRecords!Z100=\"\",\"NO\",\"yes\")))","v":""},null,null,"",{"$f":"IF(I104=\"\",\"\",LEFT(ProjectRecords!H100&\"NO\",3))","v":""},null,null,null,null,null,"",{"$f":"IF(I104=\"\",\"\",LEFT(ProjectRecords!F100&\"NO\",4))","v":""}]
[1,null,null,{"$f":"IF(I105=\"\",\"\",ProjectRecords!C101&\"\")","v":""},"",{"$f":"ProjectRecords!D101&\"\"","v":""},"",{"$f":"IF(I105=\"\",\"\",IF(OR(AND(F105=\"\",I105<>\"\"),AND(ROW(I105)<>7,NOT(ISERROR(VLOOKUP(F105,F$7:F104,1,0))))),\"NO\",\"yes\"))","v":""},{"$f":"ProjectRecords!E101&\"\"","v":""},{"$f":"IF(OR((NOT(ISERROR(SEARCH(\"Program Development\",I105)))*100+(LEFT(ProjectRecords!H101,3)=\"180\")*10+(LEFT(ProjectRecords!D101,1)=\"M\")*1)=111,(NOT(ISERROR(SEARCH(\"Program Development\",I105)))*100+(LEFT(ProjectRecords!H101,3)=\"180\")*10+(LEFT(ProjectRecords!D101,1)=\"M\")*1)<=1),\"\",\"NO\")","v":""},{"$f":"SUBSTITUTE(SUBSTITUTE(SUBSTITUTE(ProjectRecords!L101&\"; \"&ProjectRecords!N101&\"; \"&ProjectRecords!P101&\"; \"&ProjectRecords!R101&\"~\",\"; ; \",\"\"),\"; ~\",\"\"),\"~\",\"\")","v":""},{"$f":"IF(LEFT(ProjectRecords!D101,1)=\"m\",IF(L104=1,0,1),0)","v":0},{"$f":"IF(L105=0,\"\",ProjectRecords!L101)","v":""},{"$f":"IF(ISERROR(SEARCH(\",\",ProjectRecords!L101&ProjectRecords!N101&ProjectRecords!P101&ProjectRecords!R101)),\"\",\"check\")","v":""},{"$f":"IF(I105=\"\",\"\",IF(AND((TableOfContents!O105=TableOfContents!S105),(TableOfContents!P105=TableOfContents!T105)),\"yes\",\"NO\"))","v":""},null,{"$f":"IF(I105=\"\",\"\",IF(ProjectRecords!I101=\"\",\"NO\",\"yes\"))","v":""},{"$f":"IF(I105=\"\",\"\",IF(LEFT(F105,1)<>\"R\",\"\",IF(ProjectRecords!Z101=\"\",\"NO\",\"yes\")))","v":""},null,null,"",{"$f":"IF(I105=\"\",\"\",LEFT(ProjectRecords!H101&\"NO\",3))","v":""},null,null,null,null,null,"",{"$f":"IF(I105=\"\",\"\",LEFT(ProjectRecords!F101&\"NO\",4))","v":""}]
[1,null,null,{"$f":"IF(I106=\"\",\"\",ProjectRecords!C102&\"\")","v":""},"",{"$f":"ProjectRecords!D102&\"\"","v":""},"",{"$f":"IF(I106=\"\",\"\",IF(OR(AND(F106=\"\",I106<>\"\"),AND(ROW(I106)<>7,NOT(ISERROR(VLOOKUP(F106,F$7:F105,1,0))))),\"NO\",\"yes\"))","v":""},{"$f":"ProjectRecords!E102&\"\"","v":""},{"$f":"IF(OR((NOT(ISERROR(SEARCH(\"Program Development\",I106)))*100+(LEFT(ProjectRecords!H102,3)=\"180\")*10+(LEFT(ProjectRecords!D102,1)=\"M\")*1)=111,(NOT(ISERROR(SEARCH(\"Program Development\",I106)))*100+(LEFT(ProjectRecords!H102,3)=\"180\")*10+(LEFT(ProjectRecords!D102,1)=\"M\")*1)<=1),\"\",\"NO\")","v":""},{"$f":"SUBSTITUTE(SUBSTITUTE(SUBSTITUTE(ProjectRecords!L102&\"; \"&ProjectRecords!N102&\"; \"&ProjectRecords!P102&\"; \"&ProjectRecords!R102&\"~\",\"; ; \",\"\"),\"; ~\",\"\"),\"~\",\"\")","v":""},{"$f":"IF(LEFT(ProjectRecords!D102,1)=\"m\",IF(L105=1,0,1),0)","v":0},{"$f":"IF(L106=0,\"\",ProjectRecords!L102)","v":""},{"$f":"IF(ISERROR(SEARCH(\",\",ProjectRecords!L102&ProjectRecords!N102&ProjectRecords!P102&ProjectRecords!R102)),\"\",\"check\")","v":""},{"$f":"IF(I106=\"\",\"\",IF(AND((TableOfContents!O106=TableOfContents!S106),(TableOfContents!P106=TableOfContents!T106)),\"yes\",\"NO\"))","v":""},null,{"$f":"IF(I106=\"\",\"\",IF(ProjectRecords!I102=\"\",\"NO\",\"yes\"))","v":""},{"$f":"IF(I106=\"\",\"\",IF(LEFT(F106,1)<>\"R\",\"\",IF(ProjectRecords!Z102=\"\",\"NO\",\"yes\")))","v":""},null,null,"",{"$f":"IF(I106=\"\",\"\",LEFT(ProjectRecords!H102&\"NO\",3))","v":""},null,null,null,null,null,"",{"$f":"IF(I106=\"\",\"\",LEFT(ProjectRecords!F102&\"NO\",4))","v":""}]
[1,null,null,{"$f":"IF(I107=\"\",\"\",ProjectRecords!C103&\"\")","v":""},"",{"$f":"ProjectRecords!D103&\"\"","v":""},"",{"$f":"IF(I107=\"\",\"\",IF(OR(AND(F107=\"\",I107<>\"\"),AND(ROW(I107)<>7,NOT(ISERROR(VLOOKUP(F107,F$7:F106,1,0))))),\"NO\",\"yes\"))","v":""},{"$f":"ProjectRecords!E103&\"\"","v":""},{"$f":"IF(OR((NOT(ISERROR(SEARCH(\"Program Development\",I107)))*100+(LEFT(ProjectRecords!H103,3)=\"180\")*10+(LEFT(ProjectRecords!D103,1)=\"M\")*1)=111,(NOT(ISERROR(SEARCH(\"Program Development\",I107)))*100+(LEFT(ProjectRecords!H103,3)=\"180\")*10+(LEFT(ProjectRecords!D103,1)=\"M\")*1)<=1),\"\",\"NO\")","v":""},{"$f":"SUBSTITUTE(SUBSTITUTE(SUBSTITUTE(ProjectRecords!L103&\"; \"&ProjectRecords!N103&\"; \"&ProjectRecords!P103&\"; \"&ProjectRecords!R103&\"~\",\"; ; \",\"\"),\"; ~\",\"\"),\"~\",\"\")","v":""},{"$f":"IF(LEFT(ProjectRecords!D103,1)=\"m\",IF(L106=1,0,1),0)","v":0},{"$f":"IF(L107=0,\"\",ProjectRecords!L103)","v":""},{"$f":"IF(ISERROR(SEARCH(\",\",ProjectRecords!L103&ProjectRecords!N103&ProjectRecords!P103&ProjectRecords!R103)),\"\",\"check\")","v":""},{"$f":"IF(I107=\"\",\"\",IF(AND((TableOfContents!O107=TableOfContents!S107),(TableOfContents!P107=TableOfContents!T107)),\"yes\",\"NO\"))","v":""},null,{"$f":"IF(I107=\"\",\"\",IF(ProjectRecords!I103=\"\",\"NO\",\"yes\"))","v":""},{"$f":"IF(I107=\"\",\"\",IF(LEFT(F107,1)<>\"R\",\"\",IF(ProjectRecords!Z103=\"\",\"NO\",\"yes\")))","v":""},null,null,"",{"$f":"IF(I107=\"\",\"\",LEFT(ProjectRecords!H103&\"NO\",3))","v":""},null,null,null,null,null,"",{"$f":"IF(I107=\"\",\"\",LEFT(ProjectRecords!F103&\"NO\",4))","v":""}]
[1,null,null,{"$f":"IF(I108=\"\",\"\",ProjectRecords!C104&\"\")","v":""},"",{"$f":"ProjectRecords!D104&\"\"","v":""},"",{"$f":"IF(I108=\"\",\"\",IF(OR(AND(F108=\"\",I108<>\"\"),AND(ROW(I108)<>7,NOT(ISERROR(VLOOKUP(F108,F$7:F107,1,0))))),\"NO\",\"yes\"))","v":""},{"$f":"ProjectRecords!E104&\"\"","v":""},{"$f":"IF(OR((NOT(ISERROR(SEARCH(\"Program Development\",I108)))*100+(LEFT(ProjectRecords!H104,3)=\"180\")*10+(LEFT(ProjectRecords!D104,1)=\"M\")*1)=111,(NOT(ISERROR(SEARCH(\"Program Development\",I108)))*100+(LEFT(ProjectRecords!H104,3)=\"180\")*10+(LEFT(ProjectRecords!D104,1)=\"M\")*1)<=1),\"\",\"NO\")","v":""},{"$f":"SUBSTITUTE(SUBSTITUTE(SUBSTITUTE(ProjectRecords!L104&\"; \"&ProjectRecords!N104&\"; \"&ProjectRecords!P104&\"; \"&ProjectRecords!R104&\"~\",\"; ; \",\"\"),\"; ~\",\"\"),\"~\",\"\")","v":""},{"$f":"IF(LEFT(ProjectRecords!D104,1)=\"m\",IF(L107=1,0,1),0)","v":0},{"$f":"IF(L108=0,\"\",ProjectRecords!L104)","v":""},{"$f":"IF(ISERROR(SEARCH(\",\",ProjectRecords!L104&ProjectRecords!N104&ProjectRecords!P104&ProjectRecords!R104)),\"\",\"check\")","v":""},{"$f":"IF(I108=\"\",\"\",IF(AND((TableOfContents!O108=TableOfContents!S108),(TableOfContents!P108=TableOfContents!T108)),\"yes\",\"NO\"))","v":""},null,{"$f":"IF(I108=\"\",\"\",IF(ProjectRecords!I104=\"\",\"NO\",\"yes\"))","v":""},{"$f":"IF(I108=\"\",\"\",IF(LEFT(F108,1)<>\"R\",\"\",IF(ProjectRecords!Z104=\"\",\"NO\",\"yes\")))","v":""},null,null,"",{"$f":"IF(I108=\"\",\"\",LEFT(ProjectRecords!H104&\"NO\",3))","v":""},null,null,null,null,null,"",{"$f":"IF(I108=\"\",\"\",LEFT(ProjectRecords!F104&\"NO\",4))","v":""}]
[1,null,null,{"$f":"IF(I109=\"\",\"\",ProjectRecords!C105&\"\")","v":""},"",{"$f":"ProjectRecords!D105&\"\"","v":""},"",{"$f":"IF(I109=\"\",\"\",IF(OR(AND(F109=\"\",I109<>\"\"),AND(ROW(I109)<>7,NOT(ISERROR(VLOOKUP(F109,F$7:F108,1,0))))),\"NO\",\"yes\"))","v":""},{"$f":"ProjectRecords!E105&\"\"","v":""},{"$f":"IF(OR((NOT(ISERROR(SEARCH(\"Program Development\",I109)))*100+(LEFT(ProjectRecords!H105,3)=\"180\")*10+(LEFT(ProjectRecords!D105,1)=\"M\")*1)=111,(NOT(ISERROR(SEARCH(\"Program Development\",I109)))*100+(LEFT(ProjectRecords!H105,3)=\"180\")*10+(LEFT(ProjectRecords!D105,1)=\"M\")*1)<=1),\"\",\"NO\")","v":""},{"$f":"SUBSTITUTE(SUBSTITUTE(SUBSTITUTE(ProjectRecords!L105&\"; \"&ProjectRecords!N105&\"; \"&ProjectRecords!P105&\"; \"&ProjectRecords!R105&\"~\",\"; ; \",\"\"),\"; ~\",\"\"),\"~\",\"\")","v":""},{"$f":"IF(LEFT(ProjectRecords!D105,1)=\"m\",IF(L108=1,0,1),0)","v":0},{"$f":"IF(L109=0,\"\",ProjectRecords!L105)","v":""},{"$f":"IF(ISERROR(SEARCH(\",\",ProjectRecords!L105&ProjectRecords!N105&ProjectRecords!P105&ProjectRecords!R105)),\"\",\"check\")","v":""},{"$f":"IF(I109=\"\",\"\",IF(AND((TableOfContents!O109=TableOfContents!S109),(TableOfContents!P109=TableOfContents!T109)),\"yes\",\"NO\"))","v":""},null,{"$f":"IF(I109=\"\",\"\",IF(ProjectRecords!I105=\"\",\"NO\",\"yes\"))","v":""},{"$f":"IF(I109=\"\",\"\",IF(LEFT(F109,1)<>\"R\",\"\",IF(ProjectRecords!Z105=\"\",\"NO\",\"yes\")))","v":""},null,null,"",{"$f":"IF(I109=\"\",\"\",LEFT(ProjectRecords!H105&\"NO\",3))","v":""},null,null,null,null,null,"",{"$f":"IF(I109=\"\",\"\",LEFT(ProjectRecords!F105&\"NO\",4))","v":""}]
[1]
[1]
[1]
[1]
[1]
[1]
[1]
[1]
[1]
[1]
[1]
[1]
[1]
[1]
[1]
[1]
[1]
[1]
[1]
[1]
[1]
[1]
[1]
[1]
[1]
[1]
[1]
[1]
[1]
[1]
[1]
[1]
[1]
[1]
[1]
[1]
[1]
[1]
[1]
[1]
[1]
[1]
[1]
[1]
[1]
[1]
[1]
[1]
[1]
[1]
[1]
[1]
[1]
[1]
[1]
[1]
[1]
[1]
[1]
[1]
[1]
[1]
[1]
[1]
[1]
[1]
[1]
[1]
[1]
[1]
[1]
[1]
[1]
[1]
[1]
[1]
[1]
[1]
[1]
[1]
[1]
[1]
[1]
[1]
[1]
[1]
[1]
[1]
[1]
[1]
[1]
[1]
[1]
[1]
[1]
[1]
[1]
[1]
[1]
[1]
[1]
[1]
[1]
[1]
[1]
[1]
[1]
[1]
[1]
[1]
[1]
[1]
[1]
[1]
[1]
[1]
[1]
[1]
[1]
[1]
[1]
[1]
[1]
[1]
[1]
[1]
[1]
[1]
[1]
[1]
[1]
[1]
[1]
[1]
[1]
[1]
[1]
[1]
[1]
[1]
[1]
[1]
[1]
[1]
[1]
[1]
[1]
[1]
[1]
[1]
[1]
[1]
[1]
[1]
[1]
[1]
[1]
[1]
[1]
[1]
[1]
[1]
[1]
[1]
[1]
[1]
[1]
[1]
[1]
[1]
[1]
[1]
[1]
[1]
[1]
[1]
[1]
[1]
[1]
[1]
[1]
[1]
[1]
[1]
[1]
[1]
[1]
[1]
[1]
[1]
[1]
[1]
[1]
[1]
[1]
[1]
[1]
[1]
[1]
[1]
[1]
[1]
[1]
[1]
[1]
[1]
[1]
[1]
[1]
[1]
[1]
[1]
[1]
[1]
[1]
[1]
[1]
[1]
[1]
[1]
[1]
[1]
[1]
[1]
[1]
[1]
[1]
[1]
[1]
[1]
[1]
[1]
[1]
[1]
[1]
[1]
[1]
[1]
[1]
[1]
[1]
[1]
[1]
[1]
[1]
[1]
[1]
[1]
[1]
[1]
[1]
[1]
[1]
[1]
[1]
[1]
[1]
[1]
[1]
[1]
[1]
[1]
[1]
[1]
[1]
[1]
[1]
[1]
[1]
[1]
[1]
[1]
[1]
[1]
[1]
[1]
[1]
[1]
[1]
[1]
[1]
[1]
[1]
[1]
[1]
[1]
[1]
[1]
[1]
[1]
[1]
[1]
[1]
[1]
[1]
[1]
[1]
[1]
[1]
[1]
[1]
[1]
[1]
[1]
[1]
[1]
[1]
[1]
[1]
[1]
[1]
[1]
[1]
[1]
[1]
[1]
[1]
[1]
[1]
[1]
[1]
[1]
[1]
[1]
[1]
[1]
[1]
[1]
[1]
[1]
[1]
[1]
[1]
[1]
[1]
[1]
[1]
[1]
[1]
[1]
[1]
[1]
[1]
[1]
[1]
[1]
[1]
[1]
[1]
[1]
[1]
[1]
[1]
[1]
[1]
[1]
[1]
[1]
[1]
[1]
[1]
[1]
[1]
[1]
[1]
[1]
[1]
[1]
[1]
[1]
[1]
[1]
[1]
[1]
[1]
[1]
[1]
[1]
[1]
[1]
[1]
[1]
[1]
[1]
[1]
[1]
[1]
[1]
[1]
[1]
[1]
[1]
[1]
[1]
[1]
[1]
[1]
[1]
[1]
[1]
[1]
[1]
[1]
[1]
[1]
[1]
[1]
[1]
[1]
[1]
[1]
[1]
[1]
[1]
[1]
[1]
[1]
[1]
[1]
[1]
[1]
[1]
[1]
[1]
[1]
[1]
[1]
[1]
[1]
[1]
[1]
[1]
[1]
[1]
[1]
[1]
[1]
[1]
[1]
[1]
[1]
[1]
[1]
[1]
[1]
[1]
[1]
[1]
[1]
[1]
[1]
[1]
[1]
[1]
[1]
[1]
[1]
[1]
[1]
[1]
[1]
[1]
[1]
[1]
[1]
[1]
[1]
[1]
[1]
[1]
[1]
[1]
[1]
[1]
[1]
[1]
[1]
[1]
[1]
[1]
[1]
[1]
[1]
[1]
[1]
[1]
[1]
[1]
[1]
[1]
[1]
[1]
[1]
[1]
[1]
[1]
[1]
[1]
[1]
[1]
[1]
[1]
[1]
[1]
[1]
[1]
[1]
[1]
[1]
[1]
[1]
[1]
[1]
[1]
[1]
[1]
[1]
[1]
[1]
[1]
[1]
[1]
[1]
[1]
[1]
[1]
[1]
[1]
[1]
[1]
[1]
[1]
[1]
[1]
[1]
[1]
[1]
[1]
[1]
[1]
[1]
[1]
[1]
[1]
[1]
[1]
[1]
[1]
[1]
[1]
[1]
[1]
[1]
[1]
[1]
[1]
[1]
[1]
[1]
[1]
[1]
[1]
[1]
[1]
[1]
[1]
[1]
[1]
[1]
[1]
[1]
[1]
[1]
[1]
[1]
[1]
[1]
[1]
[1]
[1]
[1]
[1]
[1]
[1]
[1]
[1]
[1]
[1]
[1]
[1]
[1]
[1]
[1]
[1]
[1]
[1]
[1]
[1]
[1]
[1]
[1]
[1]
[1]
[1]
[1]
[1]
[1]
[1]
[1]
[1]
[1]
[1]
[1]
[1]
[1]
[1]
[1]
[1]
[1]
[1]
[1]
[1]
[1]
[1]
[1]
[1]
[1]
[1]
[1]
[1]
[1]
[1]
[1]
[1]
[1]
[1]
[1]
[1]
[1]
[1]
[1]
[1]
[1]
[1]
[1]
[1]
[1]
[1]
[1]
[1]
[1]
[1]
[1]
[1]
[1]
[1]
[1]
[1]
[1]
[1]
[1]
[1]
[1]
[1]
[1]
[1]
[1]
[1]
[1]
[1]
[1]
[1]
[1]
[1]
[1]
[1]
[1]
[1]
[1]
[1]
[1]
[1]
[1]
[1]
[1]
[1]
[1]
[1]
[1]
[1]
[1]
[1]
[1]
[1]
[1]
[1]
[1]
[1]
[1]
[1]
[1]
[1]
[1]
[1]
[1]
[1]
[1]
[1]
[1]
[1]
[1]
[1]
[1]
[1]
[1]
[1]
[1]
[1]
[1]
[1]
[1]
[1]
[1]
[1]
[1]
[1]
[1]
[1]
[1]
[1]
[1]
[1]
[1]
[1]
[1]
[1]
[1]
[1]
[1]
[1]
[1]
[1]
[1]
[1]
[1]
[1]
[1]
[1]
[1]
[1]
[1]
[1]
[1]
[1]
[1]
[1]
[1]
[1]
[1]
[1]
[1]
[1]
[1]
[1]
[1]
[1]
[1]
[1]
[1]
[1]
[1]
[1]
[1]
[1]
[1]
[1]
[1]
[1]
[1]
[1]
[1]
[1]
[1]
[1]
[1]
[1]
[1]
[1]
[1]
[1]
[1]
[1]
[1]
[1]
[1]
[1]
[1]
[1]
[1]
[1]
[1]
[1]
[1]
[1]
[1]
[1]
[1]
[1]
[1]
[1]
[1]
[1]
[1]
[1]
[1]
[1]
[1]
[1]
[1]
[1]
[1]

{"sheet":"Instructions","index":1,"n_rows":70,"n_cols":4,"rows_kept":70,"cut":false,"hidden":false,"merged":[]}
["INSTRUCTIONS FOR SEA GRANT PROGRAMS. If you are an individual PI, consult with your Sea Grant Program for any special instructions specific to your Program.",null,"filename:","90-2-Project-Summary-LONG-Form-dc-11-05-18b"]
[]
["90-2 LONG FORM  - 11/05/2018"]
["This can be used for omnibus applications or other applications. It contains a Partner List downloaded from PIER. This Partner list will eventually be out of date, so the template has an expiration date. Don't use this template after the expiration date (get a new one from the Sea Grant website)."]
[]
["I.  PREFILL THE SPREADSHEET WITH DATA FROM E-SEAGRANT OR OTHER SOFTWARE.",null,"Show eSG instructions"]
["(Skip if you don't use eSG or similar software. Click the button to show eSeaGrant instructions)"]
["1. Copy project data generated by e-SeaGrant into the ProjDataInput tab (the last tab in the spreadsheet)"]
[]
["2. Copy funding data into the FundDataInput tab (the second-to-last tab in the spreadsheet)"]
[]
["3. You can check to see if your data looks like it should by going to the \"CHECK DATA FIT\" tab (the third-to-last tab in the spreadsheet). Your data should line up with the correct field names. You don't have to use the same field names, but your data columns need to be in the correct order."]
[]
["4. The data you entered will automatically pre-fill the 90-2 forms starting with S1, and the Table of Contents. YOU MAY THEN HAVE TO ADD OR EDIT SOME ENTRIES MANUALLY!"]
[]
[]
["II. ENTER PROJECT DATA INTO THE 90-2 TABS AND THE TABLE OF CONTENTS TAB"]
["(SKIP THIS STEP IF YOU HAVE NO CHANGES TO MAKE TO YOUR SOFTWARE DATA YOU ADDED IN STEP I.)"]
["90-2 FORMS. First, fill in the 90-2 forms, one for each project."]
["  1.  Go to worksheet tab \"S1-Start Here\". This is the 90-2 form. \n      There is a second 90-2 form \"S2\" in this spreadsheet, so you can include up to 50 projects if your Program allows."]
[]
["  2. On the 90-2 form, fill in all the colored cells. If you used e-SeaGrant, some fields will already have values."]
["- the Program is selected from a dropdown menu of all Sea Grant Program standard abbreviations."]
["- the Project ID prefix (A/, C/, E/, M/, P/ or R/ ) is selected from a dropdown menu. You must pick one, based on the what best describes the project: R=Research, M=Management, C=Communications, E=Education, A=Advisory (extension), P=Placeholder (hover your mouse over this cell to see some examples)."]
["- please don't uses spaces, slashes, or backslashes in the rest of the Project ID number (Good: M/A-1    Bad: M/A/1)."]
["- There's only room for four Pis. Put the main PI first. If you have more, report them in the Methodology. Add a sentence like this:   \"Additional PIs: John Smith, Auburn University; Jane Doe, Auburn University\""]
["- Certain cells are filled using lookup tables. To fill these cells, click the \"Look Up\" button next to the cell, and follow the directions. If a cell has a                     button next to it, you must use the lookup table to fill it out (don't just write something in)."]
["- some cells (\"Partners\",\"Classification Codes\", \"Focus Areas\") allow multiple values. Get them from the lookup table one at a time. Look up your first partner, enter it and return to look up your second, etc. "]
["- Use the Partners Lookup Table to select PI affiliations. If an affilation is not in the lookup table, click the New Partner button and follow the instructions to add a new institutional name to the table."]
["- Also use the Partners Lookup Table to select any project Partners. If a Partner is not in the lookup table, click the New Partner button and follow the instructions to add a new institutional name to the table."]
["- Enter multiple Partners one at a time, pushing the Lookup button to add each additional Partner."]
["- Enter multiple Classification Codes  one at a time, pushing the Lookup button to add each additional Code. The first Code you enter will be your project's PRIMARY Code."]
["- Enter multiple Focus Areas one at a time, pushing the Lookup button to add each additional Focus Area. If the lookup table is blank, cancel to go back to the 90-2 tab, and make sure you have entered your Sea Grant Program in cell A6. \nThe first Focus Area you enter will be your project's PRIMARY Focus Area."]
["- don't neglect to include the total Federal request, and the total match."]
["- Fill out the Objectives, Methodology and Rationale fields with brief descriptions of your project. and enter the parts in all three fields. Alternatively, you may put a brief but complete Abstract into the Objectives field, and leave the Methodology and Rationale fields blank."]
["- Data sharing plan. Enter a brief summary and Point of Contact for this project's data sharing plan. All research projects are\n        required to have a data sharing plan. "]
["- A \"Competitive\" checkbox. Check this box if the project was selected through open competition. If you enter a research\n        project (project number prefix \"R/\"), the box checks itself automatically--uncheck it if the project was not competitive. "]
[]
["  3. When you are done with a project, click \"Rename worksheet to Project Number\". This will change the name of the worksheet to the Program ID that you have assigned. Then you can go on to the next  sheet (S2) to report the next project."]
[]
["  4. Please don't add, delete, or move worksheets in this Form!! If you have more than 50 projects to report, start a second spreadsheet. "]
[]
["  5. Each 90-2 has buttons to \"Copy All\" and \"Paste All\". These can be used to copy all the data on one 90-2A sheet to another sheet. Again, don't add or move worksheets! If you want to enter data from a different spreadsheet, use the Copy All and Paste All functions."]
[]
["  6. Each 90-2 also has a \"Reset All\" button. These can be used to clear all of the human-modified data from a 90-2 form. If you press it, the 90-2 will revert to showing the data entered by your software. If you had no software-entered data, it will be blank."]
[]
[" 7. TABLE OF CONTENTS. When you have entered all the projects on 90-2 forms, go to the Table Of Contents sheet. Most of the information will have been filled in automatically for you."]
[]
["  8. On the Table of Contents sheet will attempt to guess the start and end date of the application from the start and end dates of the inidividual project(s) you entered on individual tabs. If the application start and end dates in cells B3 and B4 are not right, overwrite them with the correct start and end dates. "]
[]
["  9. On the Table of Contents sheet, enter the yearly Federal and Match amounts for each project. You can get these values from your 90-4 Forms."]
[]
["  10. As a cross-check, if your total four-year Federal or Match amounts don't equal what you put on the 90-2 form for that project, the value will show up in red on the Table of Contents. Double check your numbers, and correct the Table of Contents or the 90-2 form."]
[]
["  11. The grant totals for all projects will show up on row 2 of the Table of Contents. The values in bright yellow should match the total Federal request and Match you reported on your 424 Form. If this is for an omnibus, this will equal your allocation."]
[]
["  12. Immediately below your grand totals is the calculated percent match. If it is less than 50%, this will show up in red. "]
[]
["IMPORTANT NOTE ABOUT EXCEL!  To paste text in paragraph format into a cell (for example, into Objectives), you should double-click on the cell you are pasting into. For all other data entry, single-click (not double-click) on a cell to enter data."]
[]
["III.  WHEN ALL DATA IS ENTERED, GO TO THE \"Validation results\" TAB and click \"Validate\". Examine the entire validation"]
["spreadsheet. If any red squares appear anywhere, this indicates a likely error. If it is an error, correct it  (ON THE 90-2 tab"]
["OR THE TABLE OF CONTENTS TAB!). If any yellow squares appear, this indicates a possible error. Double check the data on the"]
["original tab and correct it if it's a mistake. "]
[]
["IV.  AFTER VALIDATION, SAVE THE ENTIRE SPREADSHEET, AND ATTACH IT TO YOUR APPLICATION PACKAGE OR AWARD ACTION"]
["REQUEST. YOU MUST ATTACH THE ORIGINAL EXCEL SPREADSHEET--A PDF OF THE SPREADSHEET WILL NOT "]
["WORK. MANY THIRD PARTY PROGRAMS (INCLUDING CAYUSE) CAN NOW ACCEPT EXCEL SPREADSHEETS FOR UPLOAD--ASK YOUR"]
["CAYUSE ADMIN FOR DETAILS. YOU DO NOT HAVE TO PRINT OUT THE TABLE OF CONTENTS OR 90-2s. BUT IF YOU WANT TO PRINT"]
["THEM OUT FOR YOUR USE, YOU CAN USE THE \"PRINT\" BUTTONS ON THE TABLE OF CONTENTS TAB."]

{"sheet":"TableOfContents","index":2,"n_rows":57,"n_cols":21,"rows_kept":57,"cut":false,"hidden":false,"merged":[]}
["Program:",{"$f":"LEFT('S1-Start Here'!$B$6,16)","v":""},"(from first 90-2)",null,null,"NSGO use only:","uploaded by","grant no","amd no","fund source",null,null,null,null,"OVERALL FEDERAL","OVERALL MATCH","%M",{"$f":"(SUMIFS($O7:$O56,$A7:$A56,\"=M/\")+SUMIFS($P7:$P56,$A7:$A56,\"=M/\"))/(SUM($O$2:$P$2))","v":{"$error":"#DIV/0!"}},"%P",{"$f":"(SUMIFS($O7:$O56,$A7:$A56,\"=P/\")+SUMIFS($P7:$P56,$A7:$A56,\"=P/\"))/(SUM($O$2:$P$2))","v":{"$error":"#DIV/0!"}},"90-2 form mod 5.6, 7/11/2017 dc"]
["Table of Contents",null,null,null,null,"Totals:",{"$f":"SUM(G7:G48)","v":0},0,0,0,0,0,0,0,0,0,"%R",{"$f":"(SUMIFS($O7:$O56,$A7:$A56,\"=R/\")+SUMIFS($P7:$P56,$A7:$A56,\"=R/\"))/(SUM($O$2:$P$2))","v":{"$error":"#DIV/0!"}}]
["Start Date:",{"$f":"DATE(MIN('TOC generator worksheet'!$W$2:$W$201),2,1)","v":"2018-02-01"},null,"contact for questions on this form:",null,null,"cum. \nMatch",{"$f":"IF(G2=0,\"\",H2/G2)","v":""},null,{"$f":"IF((G2+I2)=0,\"\",(H2+J2)/(G2+I2))","v":""},null,{"$f":"IF(SUM(G2,I2,K2)=0,\"\",SUM(H2,J2,L2)/SUM(G2,I2,K2))","v":""},null,{"$f":"IFERROR(P3/100,\"\")","v":""},"overall\n% match: ",{"$f":"IF(O2=0,\"\",100*P2/O2)","v":""},"%A",{"$f":"(SUMIFS($O7:$O56,$A7:$A56,\"=A/\")+SUMIFS($P7:$P56,$A7:$A56,\"=A/\"))/(SUM($O$2:$P$2))","v":{"$error":"#DIV/0!"}},"total",{"$f":"SUM(R1:R5,T1)","v":{"$error":"#DIV/0!"}}]
["End Date:",{"$f":"DATE(YEAR($B$3)+3,MONTH($B$3),DAY($B$3))-1","v":"2021-01-31"},"ERROR: fund data",null,null,null,"Year 1",null,"Year 2",null,"Year 3",null,"Year 4",null,null,null,"%C",{"$f":"(SUMIFS($O7:$O56,$A7:$A56,\"=C/\")+SUMIFS($P7:$P56,$A7:$A56,\"=C/\"))/(SUM($O$2:$P$2))","v":{"$error":"#DIV/0!"}}]
[null,null,null,null,null,null,{"$f":"YEAR(B3)","v":2018},{"$f":"G5","v":2018},{"$f":"G5+1","v":2019},2019,2020,2020,2021,2021,"All ","Years","%E",{"$f":"(SUMIFS($O7:$O56,$A7:$A56,\"=E/\")+SUMIFS($P7:$P56,$A7:$A56,\"=E/\"))/(SUM($O$2:$P$2))","v":{"$error":"#DIV/0!"}}]
["Project ID:\n(prefix)","(click on blue text to \njump to that 90-2)\n\n(id no)","Type of project","Principle Investigator","Title","Pg","Federal","Match","Federal","Match","Federal","Match","Federal","Match","Federal","Match","Comments (Optional)",null,"Cross-check:\nFed from \n90-2","Match from 90-2"]
[{"$f":"IF(LEFT(ProjectRecords!D3,2)=\"\",\"\",HYPERLINK(\"#'\"&ProjectRecords!B3&\"'!$A$10\",LEFT(ProjectRecords!D3,2)))","v":""},{"$f":"IF(LEFT(ProjectRecords!D3,2)=\"\",\"\",HYPERLINK(\"#'\"&ProjectRecords!B3&\"'!$B$10\",MID(ProjectRecords!D3,3,99)))","v":""},{"$f":"IF(A7=\"A/\",\"Advisory (Extension)\",IF(A7=\"C/\",\"Communication\",IF(A7=\"E/\",\"Education\",IF(A7=\"M/\",\"Management\",IF(A7=\"P/\",\"Placeholder\",IF(A7=\"R/\",\"Research\",\"\"))))))","v":""},{"$f":"IF(LEN(ProjectRecords!L3)<2,\"\",HYPERLINK(\"#'\"&ProjectRecords!B3&\"'!$B$13\",(ProjectRecords!L3)&IF(LEN(ProjectRecords!N3)<2,\"\",\", \"&ProjectRecords!N3)&IF(LEN(ProjectRecords!P3)<2,\"\",\", \"&ProjectRecords!P3)&IF(LEN(ProjectRecords!R3)<2,\"\",\", \"&ProjectRecords!R3)))","v":""},{"$f":"IF(LEN(ProjectRecords!E3)<2,\"\",HYPERLINK(\"#'\"&ProjectRecords!B3&\"'!$B$7\",LEFT(ProjectRecords!E3,250)))","v":""},{"$f":"IF(LEN(ProjectRecords!C3)<2,\"\",HYPERLINK(\"#'\"&ProjectRecords!B3&\"'!$B$7\",ProjectRecords!C3))","v":""},{"$f":"IF('TOC generator worksheet'!L2=0,\"\",'TOC generator worksheet'!L2)","v":""},{"$f":"IF('TOC generator worksheet'!M2=0,\"\",'TOC generator worksheet'!M2)","v":""},{"$f":"IF('TOC generator worksheet'!N2=0,\"\",'TOC generator worksheet'!N2)","v":""},{"$f":"IF('TOC generator worksheet'!O2=0,\"\",'TOC generator worksheet'!O2)","v":""},{"$f":"IF('TOC generator worksheet'!P2=0,\"\",'TOC generator worksheet'!P2)","v":""},{"$f":"IF('TOC generator worksheet'!Q2=0,\"\",'TOC generator worksheet'!Q2)","v":""},{"$f":"IF('TOC generator worksheet'!R2=0,\"\",'TOC generator worksheet'!R2)","v":""},{"$f":"IF('TOC generator worksheet'!S2=0,\"\",'TOC generator worksheet'!S2)","v":""},{"$f":"SUM(G7,I7,K7,M7)","v":0},{"$f":"SUM(H7,J7,L7,N7)","v":0},{"$f":"IF('TOC generator worksheet'!V2=0,\"\",'TOC generator worksheet'!V2)","v":""},null,{"$f":"ProjectRecords!J3","v":0},{"$f":"ProjectRecords!K3","v":0}]
[{"$f":"IF(LEFT(ProjectRecords!D4,2)=\"\",\"\",HYPERLINK(\"#'\"&ProjectRecords!B4&\"'!$A$10\",LEFT(ProjectRecords!D4,2)))","v":""},{"$f":"IF(LEFT(ProjectRecords!D4,2)=\"\",\"\",HYPERLINK(\"#'\"&ProjectRecords!B4&\"'!$B$10\",MID(ProjectRecords!D4,3,99)))","v":""},{"$f":"IF(A8=\"A/\",\"Advisory (Extension)\",IF(A8=\"C/\",\"Communication\",IF(A8=\"E/\",\"Education\",IF(A8=\"M/\",\"Management\",IF(A8=\"P/\",\"Placeholder\",IF(A8=\"R/\",\"Research\",\"\"))))))","v":""},{"$f":"IF(LEN(ProjectRecords!L4)<2,\"\",HYPERLINK(\"#'\"&ProjectRecords!B4&\"'!$B$13\",(ProjectRecords!L4)&IF(LEN(ProjectRecords!N4)<2,\"\",\", \"&ProjectRecords!N4)&IF(LEN(ProjectRecords!P4)<2,\"\",\", \"&ProjectRecords!P4)&IF(LEN(ProjectRecords!R4)<2,\"\",\", \"&ProjectRecords!R4)))","v":""},{"$f":"IF(LEN(ProjectRecords!E4)<2,\"\",HYPERLINK(\"#'\"&ProjectRecords!B4&\"'!$B$7\",LEFT(ProjectRecords!E4,250)))","v":""},{"$f":"IF(LEN(ProjectRecords!C4)<2,\"\",HYPERLINK(\"#'\"&ProjectRecords!B4&\"'!$B$7\",ProjectRecords!C4))","v":""},{"$f":"IF('TOC generator worksheet'!L3=0,\"\",'TOC generator worksheet'!L3)","v":""},{"$f":"IF('TOC generator worksheet'!M3=0,\"\",'TOC generator worksheet'!M3)","v":""},{"$f":"IF('TOC generator worksheet'!N3=0,\"\",'TOC generator worksheet'!N3)","v":""},{"$f":"IF('TOC generator worksheet'!O3=0,\"\",'TOC generator worksheet'!O3)","v":""},{"$f":"IF('TOC generator worksheet'!P3=0,\"\",'TOC generator worksheet'!P3)","v":""},{"$f":"IF('TOC generator worksheet'!Q3=0,\"\",'TOC generator worksheet'!Q3)","v":""},{"$f":"IF('TOC generator worksheet'!R3=0,\"\",'TOC generator worksheet'!R3)","v":""},{"$f":"IF('TOC generator worksheet'!S3=0,\"\",'TOC generator worksheet'!S3)","v":""},{"$f":"SUM(G8,I8,K8,M8)","v":0},{"$f":"SUM(H8,J8,L8,N8)","v":0},{"$f":"IF('TOC generator worksheet'!V3=0,\"\",'TOC generator worksheet'!V3)","v":""},null,{"$f":"ProjectRecords!J4","v":0},{"$f":"ProjectRecords!K4","v":0}]
[{"$f":"IF(LEFT(ProjectRecords!D5,2)=\"\",\"\",HYPERLINK(\"#'\"&ProjectRecords!B5&\"'!$A$10\",LEFT(ProjectRecords!D5,2)))","v":""},{"$f":"IF(LEFT(ProjectRecords!D5,2)=\"\",\"\",HYPERLINK(\"#'\"&ProjectRecords!B5&\"'!$B$10\",MID(ProjectRecords!D5,3,99)))","v":""},"",{"$f":"IF(LEN(ProjectRecords!L5)<2,\"\",HYPERLINK(\"#'\"&ProjectRecords!B5&\"'!$B$13\",(ProjectRecords!L5)&IF(LEN(ProjectRecords!N5)<2,\"\",\", \"&ProjectRecords!N5)&IF(LEN(ProjectRecords!P5)<2,\"\",\", \"&ProjectRecords!P5)&IF(LEN(ProjectRecords!R5)<2,\"\",\", \"&ProjectRecords!R5)))","v":""},{"$f":"IF(LEN(ProjectRecords!E5)<2,\"\",HYPERLINK(\"#'\"&ProjectRecords!B5&\"'!$B$7\",LEFT(ProjectRecords!E5,250)))","v":""},{"$f":"IF(LEN(ProjectRecords!C5)<2,\"\",HYPERLINK(\"#'\"&ProjectRecords!B5&\"'!$B$7\",ProjectRecords!C5))","v":""},{"$f":"IF('TOC generator worksheet'!L4=0,\"\",'TOC generator worksheet'!L4)","v":""},{"$f":"IF('TOC generator worksheet'!M4=0,\"\",'TOC generator worksheet'!M4)","v":""},{"$f":"IF('TOC generator worksheet'!N4=0,\"\",'TOC generator worksheet'!N4)","v":""},{"$f":"IF('TOC generator worksheet'!O4=0,\"\",'TOC generator worksheet'!O4)","v":""},{"$f":"IF('TOC generator worksheet'!P4=0,\"\",'TOC generator worksheet'!P4)","v":""},{"$f":"IF('TOC generator worksheet'!Q4=0,\"\",'TOC generator worksheet'!Q4)","v":""},{"$f":"IF('TOC generator worksheet'!R4=0,\"\",'TOC generator worksheet'!R4)","v":""},{"$f":"IF('TOC generator worksheet'!S4=0,\"\",'TOC generator worksheet'!S4)","v":""},0,0,{"$f":"IF('TOC generator worksheet'!V4=0,\"\",'TOC generator worksheet'!V4)","v":""},null,{"$f":"ProjectRecords!J5","v":0},{"$f":"ProjectRecords!K5","v":0}]
[{"$f":"IF(LEFT(ProjectRecords!D6,2)=\"\",\"\",HYPERLINK(\"#'\"&ProjectRecords!B6&\"'!$A$10\",LEFT(ProjectRecords!D6,2)))","v":""},{"$f":"IF(LEFT(ProjectRecords!D6,2)=\"\",\"\",HYPERLINK(\"#'\"&ProjectRecords!B6&\"'!$B$10\",MID(ProjectRecords!D6,3,99)))","v":""},"",{"$f":"IF(LEN(ProjectRecords!L6)<2,\"\",HYPERLINK(\"#'\"&ProjectRecords!B6&\"'!$B$13\",(ProjectRecords!L6)&IF(LEN(ProjectRecords!N6)<2,\"\",\", \"&ProjectRecords!N6)&IF(LEN(ProjectRecords!P6)<2,\"\",\", \"&ProjectRecords!P6)&IF(LEN(ProjectRecords!R6)<2,\"\",\", \"&ProjectRecords!R6)))","v":""},{"$f":"IF(LEN(ProjectRecords!E6)<2,\"\",HYPERLINK(\"#'\"&ProjectRecords!B6&\"'!$B$7\",LEFT(ProjectRecords!E6,250)))","v":""},{"$f":"IF(LEN(ProjectRecords!C6)<2,\"\",HYPERLINK(\"#'\"&ProjectRecords!B6&\"'!$B$7\",ProjectRecords!C6))","v":""},{"$f":"IF('TOC generator worksheet'!L5=0,\"\",'TOC generator worksheet'!L5)","v":""},{"$f":"IF('TOC generator worksheet'!M5=0,\"\",'TOC generator worksheet'!M5)","v":""},{"$f":"IF('TOC generator worksheet'!N5=0,\"\",'TOC generator worksheet'!N5)","v":""},{"$f":"IF('TOC generator worksheet'!O5=0,\"\",'TOC generator worksheet'!O5)","v":""},{"$f":"IF('TOC generator worksheet'!P5=0,\"\",'TOC generator worksheet'!P5)","v":""},{"$f":"IF('TOC generator worksheet'!Q5=0,\"\",'TOC generator worksheet'!Q5)","v":""},{"$f":"IF('TOC generator worksheet'!R5=0,\"\",'TOC generator worksheet'!R5)","v":""},{"$f":"IF('TOC generator worksheet'!S5=0,\"\",'TOC generator worksheet'!S5)","v":""},0,0,{"$f":"IF('TOC generator worksheet'!V5=0,\"\",'TOC generator worksheet'!V5)","v":""},null,{"$f":"ProjectRecords!J6","v":0},{"$f":"ProjectRecords!K6","v":0}]
[{"$f":"IF(LEFT(ProjectRecords!D7,2)=\"\",\"\",HYPERLINK(\"#'\"&ProjectRecords!B7&\"'!$A$10\",LEFT(ProjectRecords!D7,2)))","v":""},{"$f":"IF(LEFT(ProjectRecords!D7,2)=\"\",\"\",HYPERLINK(\"#'\"&ProjectRecords!B7&\"'!$B$10\",MID(ProjectRecords!D7,3,99)))","v":""},"",{"$f":"IF(LEN(ProjectRecords!L7)<2,\"\",HYPERLINK(\"#'\"&ProjectRecords!B7&\"'!$B$13\",(ProjectRecords!L7)&IF(LEN(ProjectRecords!N7)<2,\"\",\", \"&ProjectRecords!N7)&IF(LEN(ProjectRecords!P7)<2,\"\",\", \"&ProjectRecords!P7)&IF(LEN(ProjectRecords!R7)<2,\"\",\", \"&ProjectRecords!R7)))","v":""},{"$f":"IF(LEN(ProjectRecords!E7)<2,\"\",HYPERLINK(\"#'\"&ProjectRecords!B7&\"'!$B$7\",LEFT(ProjectRecords!E7,250)))","v":""},{"$f":"IF(LEN(ProjectRecords!C7)<2,\"\",HYPERLINK(\"#'\"&ProjectRecords!B7&\"'!$B$7\",ProjectRecords!C7))","v":""},{"$f":"IF('TOC generator worksheet'!L6=0,\"\",'TOC generator worksheet'!L6)","v":""},{"$f":"IF('TOC generator worksheet'!M6=0,\"\",'TOC generator worksheet'!M6)","v":""},{"$f":"IF('TOC generator worksheet'!N6=0,\"\",'TOC generator worksheet'!N6)","v":""},{"$f":"IF('TOC generator worksheet'!O6=0,\"\",'TOC generator worksheet'!O6)","v":""},{"$f":"IF('TOC generator worksheet'!P6=0,\"\",'TOC generator worksheet'!P6)","v":""},{"$f":"IF('TOC generator worksheet'!Q6=0,\"\",'TOC generator worksheet'!Q6)","v":""},{"$f":"IF('TOC generator worksheet'!R6=0,\"\",'TOC generator worksheet'!R6)","v":""},{"$f":"IF('TOC generator worksheet'!S6=0,\"\",'TOC generator worksheet'!S6)","v":""},0,0,{"$f":"IF('TOC generator worksheet'!V6=0,\"\",'TOC generator worksheet'!V6)","v":""},null,{"$f":"ProjectRecords!J7","v":0},{"$f":"ProjectRecords!K7","v":0}]
[{"$f":"IF(LEFT(ProjectRecords!D8,2)=\"\",\"\",HYPERLINK(\"#'\"&ProjectRecords!B8&\"'!$A$10\",LEFT(ProjectRecords!D8,2)))","v":""},{"$f":"IF(LEFT(ProjectRecords!D8,2)=\"\",\"\",HYPERLINK(\"#'\"&ProjectRecords!B8&\"'!$B$10\",MID(ProjectRecords!D8,3,99)))","v":""},"",{"$f":"IF(LEN(ProjectRecords!L8)<2,\"\",HYPERLINK(\"#'\"&ProjectRecords!B8&\"'!$B$13\",(ProjectRecords!L8)&IF(LEN(ProjectRecords!N8)<2,\"\",\", \"&ProjectRecords!N8)&IF(LEN(ProjectRecords!P8)<2,\"\",\", \"&ProjectRecords!P8)&IF(LEN(ProjectRecords!R8)<2,\"\",\", \"&ProjectRecords!R8)))","v":""},{"$f":"IF(LEN(ProjectRecords!E8)<2,\"\",HYPERLINK(\"#'\"&ProjectRecords!B8&\"'!$B$7\",LEFT(ProjectRecords!E8,250)))","v":""},{"$f":"IF(LEN(ProjectRecords!C8)<2,\"\",HYPERLINK(\"#'\"&ProjectRecords!B8&\"'!$B$7\",ProjectRecords!C8))","v":""},{"$f":"IF('TOC generator worksheet'!L7=0,\"\",'TOC generator worksheet'!L7)","v":""},{"$f":"IF('TOC generator worksheet'!M7=0,\"\",'TOC generator worksheet'!M7)","v":""},{"$f":"IF('TOC generator worksheet'!N7=0,\"\",'TOC generator worksheet'!N7)","v":""},{"$f":"IF('TOC generator worksheet'!O7=0,\"\",'TOC generator worksheet'!O7)","v":""},{"$f":"IF('TOC generator worksheet'!P7=0,\"\",'TOC generator worksheet'!P7)","v":""},{"$f":"IF('TOC generator worksheet'!Q7=0,\"\",'TOC generator worksheet'!Q7)","v":""},{"$f":"IF('TOC generator worksheet'!R7=0,\"\",'TOC generator worksheet'!R7)","v":""},{"$f":"IF('TOC generator worksheet'!S7=0,\"\",'TOC generator worksheet'!S7)","v":""},0,0,{"$f":"IF('TOC generator worksheet'!V7=0,\"\",'TOC generator worksheet'!V7)","v":""},null,{"$f":"ProjectRecords!J8","v":0},{"$f":"ProjectRecords!K8","v":0}]
[{"$f":"IF(LEFT(ProjectRecords!D9,2)=\"\",\"\",HYPERLINK(\"#'\"&ProjectRecords!B9&\"'!$A$10\",LEFT(ProjectRecords!D9,2)))","v":""},{"$f":"IF(LEFT(ProjectRecords!D9,2)=\"\",\"\",HYPERLINK(\"#'\"&ProjectRecords!B9&\"'!$B$10\",MID(ProjectRecords!D9,3,99)))","v":""},{"$f":"IF(A13=\"A/\",\"Advisory (Extension)\",IF(A13=\"C/\",\"Communication\",IF(A13=\"E/\",\"Education\",IF(A13=\"M/\",\"Management\",IF(A13=\"P/\",\"Placeholder\",IF(A13=\"R/\",\"Research\",\"\"))))))","v":""},{"$f":"IF(LEN(ProjectRecords!L9)<2,\"\",HYPERLINK(\"#'\"&ProjectRecords!B9&\"'!$B$13\",(ProjectRecords!L9)&IF(LEN(ProjectRecords!N9)<2,\"\",\", \"&ProjectRecords!N9)&IF(LEN(ProjectRecords!P9)<2,\"\",\", \"&ProjectRecords!P9)&IF(LEN(ProjectRecords!R9)<2,\"\",\", \"&ProjectRecords!R9)))","v":""},{"$f":"IF(LEN(ProjectRecords!E9)<2,\"\",HYPERLINK(\"#'\"&ProjectRecords!B9&\"'!$B$7\",LEFT(ProjectRecords!E9,250)))","v":""},{"$f":"IF(LEN(ProjectRecords!C9)<2,\"\",HYPERLINK(\"#'\"&ProjectRecords!B9&\"'!$B$7\",ProjectRecords!C9))","v":""},{"$f":"IF('TOC generator worksheet'!L8=0,\"\",'TOC generator worksheet'!L8)","v":""},{"$f":"IF('TOC generator worksheet'!M8=0,\"\",'TOC generator worksheet'!M8)","v":""},{"$f":"IF('TOC generator worksheet'!N8=0,\"\",'TOC generator worksheet'!N8)","v":""},{"$f":"IF('TOC generator worksheet'!O8=0,\"\",'TOC generator worksheet'!O8)","v":""},{"$f":"IF('TOC generator worksheet'!P8=0,\"\",'TOC generator worksheet'!P8)","v":""},{"$f":"IF('TOC generator worksheet'!Q8=0,\"\",'TOC generator worksheet'!Q8)","v":""},{"$f":"IF('TOC generator worksheet'!R8=0,\"\",'TOC generator worksheet'!R8)","v":""},{"$f":"IF('TOC generator worksheet'!S8=0,\"\",'TOC generator worksheet'!S8)","v":""},0,0,{"$f":"IF('TOC generator worksheet'!V8=0,\"\",'TOC generator worksheet'!V8)","v":""},null,{"$f":"ProjectRecords!J9","v":0},{"$f":"ProjectRecords!K9","v":0}]
[{"$f":"IF(LEFT(ProjectRecords!D10,2)=\"\",\"\",HYPERLINK(\"#'\"&ProjectRecords!B10&\"'!$A$10\",LEFT(ProjectRecords!D10,2)))","v":""},{"$f":"IF(LEFT(ProjectRecords!D10,2)=\"\",\"\",HYPERLINK(\"#'\"&ProjectRecords!B10&\"'!$B$10\",MID(ProjectRecords!D10,3,99)))","v":""},"",{"$f":"IF(LEN(ProjectRecords!L10)<2,\"\",HYPERLINK(\"#'\"&ProjectRecords!B10&\"'!$B$13\",(ProjectRecords!L10)&IF(LEN(ProjectRecords!N10)<2,\"\",\", \"&ProjectRecords!N10)&IF(LEN(ProjectRecords!P10)<2,\"\",\", \"&ProjectRecords!P10)&IF(LEN(ProjectRecords!R10)<2,\"\",\", \"&ProjectRecords!R10)))","v":""},{"$f":"IF(LEN(ProjectRecords!E10)<2,\"\",HYPERLINK(\"#'\"&ProjectRecords!B10&\"'!$B$7\",LEFT(ProjectRecords!E10,250)))","v":""},{"$f":"IF(LEN(ProjectRecords!C10)<2,\"\",HYPERLINK(\"#'\"&ProjectRecords!B10&\"'!$B$7\",ProjectRecords!C10))","v":""},{"$f":"IF('TOC generator worksheet'!L9=0,\"\",'TOC generator worksheet'!L9)","v":""},{"$f":"IF('TOC generator worksheet'!M9=0,\"\",'TOC generator worksheet'!M9)","v":""},{"$f":"IF('TOC generator worksheet'!N9=0,\"\",'TOC generator worksheet'!N9)","v":""},{"$f":"IF('TOC generator worksheet'!O9=0,\"\",'TOC generator worksheet'!O9)","v":""},{"$f":"IF('TOC generator worksheet'!P9=0,\"\",'TOC generator worksheet'!P9)","v":""},{"$f":"IF('TOC generator worksheet'!Q9=0,\"\",'TOC generator worksheet'!Q9)","v":""},{"$f":"IF('TOC generator worksheet'!R9=0,\"\",'TOC generator worksheet'!R9)","v":""},{"$f":"IF('TOC generator worksheet'!S9=0,\"\",'TOC generator worksheet'!S9)","v":""},0,0,{"$f":"IF('TOC generator worksheet'!V9=0,\"\",'TOC generator worksheet'!V9)","v":""},null,{"$f":"ProjectRecords!J10","v":0},{"$f":"ProjectRecords!K10","v":0}]
[{"$f":"IF(LEFT(ProjectRecords!D11,2)=\"\",\"\",HYPERLINK(\"#'\"&ProjectRecords!B11&\"'!$A$10\",LEFT(ProjectRecords!D11,2)))","v":""},{"$f":"IF(LEFT(ProjectRecords!D11,2)=\"\",\"\",HYPERLINK(\"#'\"&ProjectRecords!B11&\"'!$B$10\",MID(ProjectRecords!D11,3,99)))","v":""},"",{"$f":"IF(LEN(ProjectRecords!L11)<2,\"\",HYPERLINK(\"#'\"&ProjectRecords!B11&\"'!$B$13\",(ProjectRecords!L11)&IF(LEN(ProjectRecords!N11)<2,\"\",\", \"&ProjectRecords!N11)&IF(LEN(ProjectRecords!P11)<2,\"\",\", \"&ProjectRecords!P11)&IF(LEN(ProjectRecords!R11)<2,\"\",\", \"&ProjectRecords!R11)))","v":""},{"$f":"IF(LEN(ProjectRecords!E11)<2,\"\",HYPERLINK(\"#'\"&ProjectRecords!B11&\"'!$B$7\",LEFT(ProjectRecords!E11,250)))","v":""},{"$f":"IF(LEN(ProjectRecords!C11)<2,\"\",HYPERLINK(\"#'\"&ProjectRecords!B11&\"'!$B$7\",ProjectRecords!C11))","v":""},{"$f":"IF('TOC generator worksheet'!L10=0,\"\",'TOC generator worksheet'!L10)","v":""},{"$f":"IF('TOC generator worksheet'!M10=0,\"\",'TOC generator worksheet'!M10)","v":""},{"$f":"IF('TOC generator worksheet'!N10=0,\"\",'TOC generator worksheet'!N10)","v":""},{"$f":"IF('TOC generator worksheet'!O10=0,\"\",'TOC generator worksheet'!O10)","v":""},{"$f":"IF('TOC generator worksheet'!P10=0,\"\",'TOC generator worksheet'!P10)","v":""},{"$f":"IF('TOC generator worksheet'!Q10=0,\"\",'TOC generator worksheet'!Q10)","v":""},{"$f":"IF('TOC generator worksheet'!R10=0,\"\",'TOC generator worksheet'!R10)","v":""},{"$f":"IF('TOC generator worksheet'!S10=0,\"\",'TOC generator worksheet'!S10)","v":""},0,0,{"$f":"IF('TOC generator worksheet'!V10=0,\"\",'TOC generator worksheet'!V10)","v":""},null,{"$f":"ProjectRecords!J11","v":0},{"$f":"ProjectRecords!K11","v":0}]
[{"$f":"IF(LEFT(ProjectRecords!D12,2)=\"\",\"\",HYPERLINK(\"#'\"&ProjectRecords!B12&\"'!$A$10\",LEFT(ProjectRecords!D12,2)))","v":""},{"$f":"IF(LEFT(ProjectRecords!D12,2)=\"\",\"\",HYPERLINK(\"#'\"&ProjectRecords!B12&\"'!$B$10\",MID(ProjectRecords!D12,3,99)))","v":""},"",{"$f":"IF(LEN(ProjectRecords!L12)<2,\"\",HYPERLINK(\"#'\"&ProjectRecords!B12&\"'!$B$13\",(ProjectRecords!L12)&IF(LEN(ProjectRecords!N12)<2,\"\",\", \"&ProjectRecords!N12)&IF(LEN(ProjectRecords!P12)<2,\"\",\", \"&ProjectRecords!P12)&IF(LEN(ProjectRecords!R12)<2,\"\",\", \"&ProjectRecords!R12)))","v":""},{"$f":"IF(LEN(ProjectRecords!E12)<2,\"\",HYPERLINK(\"#'\"&ProjectRecords!B12&\"'!$B$7\",LEFT(ProjectRecords!E12,250)))","v":""},{"$f":"IF(LEN(ProjectRecords!C12)<2,\"\",HYPERLINK(\"#'\"&ProjectRecords!B12&\"'!$B$7\",ProjectRecords!C12))","v":""},{"$f":"IF('TOC generator worksheet'!L11=0,\"\",'TOC generator worksheet'!L11)","v":""},{"$f":"IF('TOC generator worksheet'!M11=0,\"\",'TOC generator worksheet'!M11)","v":""},{"$f":"IF('TOC generator worksheet'!N11=0,\"\",'TOC generator worksheet'!N11)","v":""},{"$f":"IF('TOC generator worksheet'!O11=0,\"\",'TOC generator worksheet'!O11)","v":""},{"$f":"IF('TOC generator worksheet'!P11=0,\"\",'TOC generator worksheet'!P11)","v":""},{"$f":"IF('TOC generator worksheet'!Q11=0,\"\",'TOC generator worksheet'!Q11)","v":""},{"$f":"IF('TOC generator worksheet'!R11=0,\"\",'TOC generator worksheet'!R11)","v":""},{"$f":"IF('TOC generator worksheet'!S11=0,\"\",'TOC generator worksheet'!S11)","v":""},0,0,{"$f":"IF('TOC generator worksheet'!V11=0,\"\",'TOC generator worksheet'!V11)","v":""},null,{"$f":"ProjectRecords!J12","v":0},{"$f":"ProjectRecords!K12","v":0}]
[{"$f":"IF(LEFT(ProjectRecords!D13,2)=\"\",\"\",HYPERLINK(\"#'\"&ProjectRecords!B13&\"'!$A$10\",LEFT(ProjectRecords!D13,2)))","v":""},{"$f":"IF(LEFT(ProjectRecords!D13,2)=\"\",\"\",HYPERLINK(\"#'\"&ProjectRecords!B13&\"'!$B$10\",MID(ProjectRecords!D13,3,99)))","v":""},"",{"$f":"IF(LEN(ProjectRecords!L13)<2,\"\",HYPERLINK(\"#'\"&ProjectRecords!B13&\"'!$B$13\",(ProjectRecords!L13)&IF(LEN(ProjectRecords!N13)<2,\"\",\", \"&ProjectRecords!N13)&IF(LEN(ProjectRecords!P13)<2,\"\",\", \"&ProjectRecords!P13)&IF(LEN(ProjectRecords!R13)<2,\"\",\", \"&ProjectRecords!R13)))","v":""},{"$f":"IF(LEN(ProjectRecords!E13)<2,\"\",HYPERLINK(\"#'\"&ProjectRecords!B13&\"'!$B$7\",LEFT(ProjectRecords!E13,250)))","v":""},{"$f":"IF(LEN(ProjectRecords!C13)<2,\"\",HYPERLINK(\"#'\"&ProjectRecords!B13&\"'!$B$7\",ProjectRecords!C13))","v":""},{"$f":"IF('TOC generator worksheet'!L12=0,\"\",'TOC generator worksheet'!L12)","v":""},{"$f":"IF('TOC generator worksheet'!M12=0,\"\",'TOC generator worksheet'!M12)","v":""},{"$f":"IF('TOC generator worksheet'!N12=0,\"\",'TOC generator worksheet'!N12)","v":""},{"$f":"IF('TOC generator worksheet'!O12=0,\"\",'TOC generator worksheet'!O12)","v":""},{"$f":"IF('TOC generator worksheet'!P12=0,\"\",'TOC generator worksheet'!P12)","v":""},{"$f":"IF('TOC generator worksheet'!Q12=0,\"\",'TOC generator worksheet'!Q12)","v":""},{"$f":"IF('TOC generator worksheet'!R12=0,\"\",'TOC generator worksheet'!R12)","v":""},{"$f":"IF('TOC generator worksheet'!S12=0,\"\",'TOC generator worksheet'!S12)","v":""},0,0,{"$f":"IF('TOC generator worksheet'!V12=0,\"\",'TOC generator worksheet'!V12)","v":""},null,{"$f":"ProjectRecords!J13","v":0},{"$f":"ProjectRecords!K13","v":0}]
[{"$f":"IF(LEFT(ProjectRecords!D14,2)=\"\",\"\",HYPERLINK(\"#'\"&ProjectRecords!B14&\"'!$A$10\",LEFT(ProjectRecords!D14,2)))","v":""},{"$f":"IF(LEFT(ProjectRecords!D14,2)=\"\",\"\",HYPERLINK(\"#'\"&ProjectRecords!B14&\"'!$B$10\",MID(ProjectRecords!D14,3,99)))","v":""},"",{"$f":"IF(LEN(ProjectRecords!L14)<2,\"\",HYPERLINK(\"#'\"&ProjectRecords!B14&\"'!$B$13\",(ProjectRecords!L14)&IF(LEN(ProjectRecords!N14)<2,\"\",\", \"&ProjectRecords!N14)&IF(LEN(ProjectRecords!P14)<2,\"\",\", \"&ProjectRecords!P14)&IF(LEN(ProjectRecords!R14)<2,\"\",\", \"&ProjectRecords!R14)))","v":""},{"$f":"IF(LEN(ProjectRecords!E14)<2,\"\",HYPERLINK(\"#'\"&ProjectRecords!B14&\"'!$B$7\",LEFT(ProjectRecords!E14,250)))","v":""},{"$f":"IF(LEN(ProjectRecords!C14)<2,\"\",HYPERLINK(\"#'\"&ProjectRecords!B14&\"'!$B$7\",ProjectRecords!C14))","v":""},{"$f":"IF('TOC generator worksheet'!L13=0,\"\",'TOC generator worksheet'!L13)","v":""},{"$f":"IF('TOC generator worksheet'!M13=0,\"\",'TOC generator worksheet'!M13)","v":""},{"$f":"IF('TOC generator worksheet'!N13=0,\"\",'TOC generator worksheet'!N13)","v":""},{"$f":"IF('TOC generator worksheet'!O13=0,\"\",'TOC generator worksheet'!O13)","v":""},{"$f":"IF('TOC generator worksheet'!P13=0,\"\",'TOC generator worksheet'!P13)","v":""},{"$f":"IF('TOC generator worksheet'!Q13=0,\"\",'TOC generator worksheet'!Q13)","v":""},{"$f":"IF('TOC generator worksheet'!R13=0,\"\",'TOC generator worksheet'!R13)","v":""},{"$f":"IF('TOC generator worksheet'!S13=0,\"\",'TOC generator worksheet'!S13)","v":""},0,0,{"$f":"IF('TOC generator worksheet'!V13=0,\"\",'TOC generator worksheet'!V13)","v":""},null,{"$f":"ProjectRecords!J14","v":0},{"$f":"ProjectRecords!K14","v":0}]
[{"$f":"IF(LEFT(ProjectRecords!D15,2)=\"\",\"\",HYPERLINK(\"#'\"&ProjectRecords!B15&\"'!$A$10\",LEFT(ProjectRecords!D15,2)))","v":""},{"$f":"IF(LEFT(ProjectRecords!D15,2)=\"\",\"\",HYPERLINK(\"#'\"&ProjectRecords!B15&\"'!$B$10\",MID(ProjectRecords!D15,3,99)))","v":""},"",{"$f":"IF(LEN(ProjectRecords!L15)<2,\"\",HYPERLINK(\"#'\"&ProjectRecords!B15&\"'!$B$13\",(ProjectRecords!L15)&IF(LEN(ProjectRecords!N15)<2,\"\",\", \"&ProjectRecords!N15)&IF(LEN(ProjectRecords!P15)<2,\"\",\", \"&ProjectRecords!P15)&IF(LEN(ProjectRecords!R15)<2,\"\",\", \"&ProjectRecords!R15)))","v":""},{"$f":"IF(LEN(ProjectRecords!E15)<2,\"\",HYPERLINK(\"#'\"&ProjectRecords!B15&\"'!$B$7\",LEFT(ProjectRecords!E15,250)))","v":""},{"$f":"IF(LEN(ProjectRecords!C15)<2,\"\",HYPERLINK(\"#'\"&ProjectRecords!B15&\"'!$B$7\",ProjectRecords!C15))","v":""},{"$f":"IF('TOC generator worksheet'!L14=0,\"\",'TOC generator worksheet'!L14)","v":""},{"$f":"IF('TOC generator worksheet'!M14=0,\"\",'TOC generator worksheet'!M14)","v":""},{"$f":"IF('TOC generator worksheet'!N14=0,\"\",'TOC generator worksheet'!N14)","v":""},{"$f":"IF('TOC generator worksheet'!O14=0,\"\",'TOC generator worksheet'!O14)","v":""},{"$f":"IF('TOC generator worksheet'!P14=0,\"\",'TOC generator worksheet'!P14)","v":""},{"$f":"IF('TOC generator worksheet'!Q14=0,\"\",'TOC generator worksheet'!Q14)","v":""},{"$f":"IF('TOC generator worksheet'!R14=0,\"\",'TOC generator worksheet'!R14)","v":""},{"$f":"IF('TOC generator worksheet'!S14=0,\"\",'TOC generator worksheet'!S14)","v":""},0,0,{"$f":"IF('TOC generator worksheet'!V14=0,\"\",'TOC generator worksheet'!V14)","v":""},null,{"$f":"ProjectRecords!J15","v":0},{"$f":"ProjectRecords!K15","v":0}]
[{"$f":"IF(LEFT(ProjectRecords!D16,2)=\"\",\"\",HYPERLINK(\"#'\"&ProjectRecords!B16&\"'!$A$10\",LEFT(ProjectRecords!D16,2)))","v":""},{"$f":"IF(LEFT(ProjectRecords!D16,2)=\"\",\"\",HYPERLINK(\"#'\"&ProjectRecords!B16&\"'!$B$10\",MID(ProjectRecords!D16,3,99)))","v":""},"",{"$f":"IF(LEN(ProjectRecords!L16)<2,\"\",HYPERLINK(\"#'\"&ProjectRecords!B16&\"'!$B$13\",(ProjectRecords!L16)&IF(LEN(ProjectRecords!N16)<2,\"\",\", \"&ProjectRecords!N16)&IF(LEN(ProjectRecords!P16)<2,\"\",\", \"&ProjectRecords!P16)&IF(LEN(ProjectRecords!R16)<2,\"\",\", \"&ProjectRecords!R16)))","v":""},{"$f":"IF(LEN(ProjectRecords!E16)<2,\"\",HYPERLINK(\"#'\"&ProjectRecords!B16&\"'!$B$7\",LEFT(ProjectRecords!E16,250)))","v":""},{"$f":"IF(LEN(ProjectRecords!C16)<2,\"\",HYPERLINK(\"#'\"&ProjectRecords!B16&\"'!$B$7\",ProjectRecords!C16))","v":""},{"$f":"IF('TOC generator worksheet'!L15=0,\"\",'TOC generator worksheet'!L15)","v":""},{"$f":"IF('TOC generator worksheet'!M15=0,\"\",'TOC generator worksheet'!M15)","v":""},{"$f":"IF('TOC generator worksheet'!N15=0,\"\",'TOC generator worksheet'!N15)","v":""},{"$f":"IF('TOC generator worksheet'!O15=0,\"\",'TOC generator worksheet'!O15)","v":""},{"$f":"IF('TOC generator worksheet'!P15=0,\"\",'TOC generator worksheet'!P15)","v":""},{"$f":"IF('TOC generator worksheet'!Q15=0,\"\",'TOC generator worksheet'!Q15)","v":""},{"$f":"IF('TOC generator worksheet'!R15=0,\"\",'TOC generator worksheet'!R15)","v":""},{"$f":"IF('TOC generator worksheet'!S15=0,\"\",'TOC generator worksheet'!S15)","v":""},0,0,{"$f":"IF('TOC generator worksheet'!V15=0,\"\",'TOC generator worksheet'!V15)","v":""},null,{"$f":"ProjectRecords!J16","v":0},{"$f":"ProjectRecords!K16","v":0}]
[{"$f":"IF(LEFT(ProjectRecords!D17,2)=\"\",\"\",HYPERLINK(\"#'\"&ProjectRecords!B17&\"'!$A$10\",LEFT(ProjectRecords!D17,2)))","v":""},{"$f":"IF(LEFT(ProjectRecords!D17,2)=\"\",\"\",HYPERLINK(\"#'\"&ProjectRecords!B17&\"'!$B$10\",MID(ProjectRecords!D17,3,99)))","v":""},"",{"$f":"IF(LEN(ProjectRecords!L17)<2,\"\",HYPERLINK(\"#'\"&ProjectRecords!B17&\"'!$B$13\",(ProjectRecords!L17)&IF(LEN(ProjectRecords!N17)<2,\"\",\", \"&ProjectRecords!N17)&IF(LEN(ProjectRecords!P17)<2,\"\",\", \"&ProjectRecords!P17)&IF(LEN(ProjectRecords!R17)<2,\"\",\", \"&ProjectRecords!R17)))","v":""},{"$f":"IF(LEN(ProjectRecords!E17)<2,\"\",HYPERLINK(\"#'\"&ProjectRecords!B17&\"'!$B$7\",LEFT(ProjectRecords!E17,250)))","v":""},{"$f":"IF(LEN(ProjectRecords!C17)<2,\"\",HYPERLINK(\"#'\"&ProjectRecords!B17&\"'!$B$7\",ProjectRecords!C17))","v":""},{"$f":"IF('TOC generator worksheet'!L16=0,\"\",'TOC generator worksheet'!L16)","v":""},{"$f":"IF('TOC generator worksheet'!M16=0,\"\",'TOC generator worksheet'!M16)","v":""},{"$f":"IF('TOC generator worksheet'!N16=0,\"\",'TOC generator worksheet'!N16)","v":""},{"$f":"IF('TOC generator worksheet'!O16=0,\"\",'TOC generator worksheet'!O16)","v":""},{"$f":"IF('TOC generator worksheet'!P16=0,\"\",'TOC generator worksheet'!P16)","v":""},{"$f":"IF('TOC generator worksheet'!Q16=0,\"\",'TOC generator worksheet'!Q16)","v":""},{"$f":"IF('TOC generator worksheet'!R16=0,\"\",'TOC generator worksheet'!R16)","v":""},{"$f":"IF('TOC generator worksheet'!S16=0,\"\",'TOC generator worksheet'!S16)","v":""},0,0,{"$f":"IF('TOC generator worksheet'!V16=0,\"\",'TOC generator worksheet'!V16)","v":""},null,{"$f":"ProjectRecords!J17","v":0},{"$f":"ProjectRecords!K17","v":0}]
[{"$f":"IF(LEFT(ProjectRecords!D18,2)=\"\",\"\",HYPERLINK(\"#'\"&ProjectRecords!B18&\"'!$A$10\",LEFT(ProjectRecords!D18,2)))","v":""},{"$f":"IF(LEFT(ProjectRecords!D18,2)=\"\",\"\",HYPERLINK(\"#'\"&ProjectRecords!B18&\"'!$B$10\",MID(ProjectRecords!D18,3,99)))","v":""},"",{"$f":"IF(LEN(ProjectRecords!L18)<2,\"\",HYPERLINK(\"#'\"&ProjectRecords!B18&\"'!$B$13\",(ProjectRecords!L18)&IF(LEN(ProjectRecords!N18)<2,\"\",\", \"&ProjectRecords!N18)&IF(LEN(ProjectRecords!P18)<2,\"\",\", \"&ProjectRecords!P18)&IF(LEN(ProjectRecords!R18)<2,\"\",\", \"&ProjectRecords!R18)))","v":""},{"$f":"IF(LEN(ProjectRecords!E18)<2,\"\",HYPERLINK(\"#'\"&ProjectRecords!B18&\"'!$B$7\",LEFT(ProjectRecords!E18,250)))","v":""},{"$f":"IF(LEN(ProjectRecords!C18)<2,\"\",HYPERLINK(\"#'\"&ProjectRecords!B18&\"'!$B$7\",ProjectRecords!C18))","v":""},{"$f":"IF('TOC generator worksheet'!L17=0,\"\",'TOC generator worksheet'!L17)","v":""},{"$f":"IF('TOC generator worksheet'!M17=0,\"\",'TOC generator worksheet'!M17)","v":""},{"$f":"IF('TOC generator worksheet'!N17=0,\"\",'TOC generator worksheet'!N17)","v":""},{"$f":"IF('TOC generator worksheet'!O17=0,\"\",'TOC generator worksheet'!O17)","v":""},{"$f":"IF('TOC generator worksheet'!P17=0,\"\",'TOC generator worksheet'!P17)","v":""},{"$f":"IF('TOC generator worksheet'!Q17=0,\"\",'TOC generator worksheet'!Q17)","v":""},{"$f":"IF('TOC generator worksheet'!R17=0,\"\",'TOC generator worksheet'!R17)","v":""},{"$f":"IF('TOC generator worksheet'!S17=0,\"\",'TOC generator worksheet'!S17)","v":""},0,0,{"$f":"IF('TOC generator worksheet'!V17=0,\"\",'TOC generator worksheet'!V17)","v":""},null,{"$f":"ProjectRecords!J18","v":0},{"$f":"ProjectRecords!K18","v":0}]
[{"$f":"IF(LEFT(ProjectRecords!D19,2)=\"\",\"\",HYPERLINK(\"#'\"&ProjectRecords!B19&\"'!$A$10\",LEFT(ProjectRecords!D19,2)))","v":""},{"$f":"IF(LEFT(ProjectRecords!D19,2)=\"\",\"\",HYPERLINK(\"#'\"&ProjectRecords!B19&\"'!$B$10\",MID(ProjectRecords!D19,3,99)))","v":""},"",{"$f":"IF(LEN(ProjectRecords!L19)<2,\"\",HYPERLINK(\"#'\"&ProjectRecords!B19&\"'!$B$13\",(ProjectRecords!L19)&IF(LEN(ProjectRecords!N19)<2,\"\",\", \"&ProjectRecords!N19)&IF(LEN(ProjectRecords!P19)<2,\"\",\", \"&ProjectRecords!P19)&IF(LEN(ProjectRecords!R19)<2,\"\",\", \"&ProjectRecords!R19)))","v":""},{"$f":"IF(LEN(ProjectRecords!E19)<2,\"\",HYPERLINK(\"#'\"&ProjectRecords!B19&\"'!$B$7\",LEFT(ProjectRecords!E19,250)))","v":""},{"$f":"IF(LEN(ProjectRecords!C19)<2,\"\",HYPERLINK(\"#'\"&ProjectRecords!B19&\"'!$B$7\",ProjectRecords!C19))","v":""},{"$f":"IF('TOC generator worksheet'!L18=0,\"\",'TOC generator worksheet'!L18)","v":""},{"$f":"IF('TOC generator worksheet'!M18=0,\"\",'TOC generator worksheet'!M18)","v":""},{"$f":"IF('TOC generator worksheet'!N18=0,\"\",'TOC generator worksheet'!N18)","v":""},{"$f":"IF('TOC generator worksheet'!O18=0,\"\",'TOC generator worksheet'!O18)","v":""},{"$f":"IF('TOC generator worksheet'!P18=0,\"\",'TOC generator worksheet'!P18)","v":""},{"$f":"IF('TOC generator worksheet'!Q18=0,\"\",'TOC generator worksheet'!Q18)","v":""},{"$f":"IF('TOC generator worksheet'!R18=0,\"\",'TOC generator worksheet'!R18)","v":""},{"$f":"IF('TOC generator worksheet'!S18=0,\"\",'TOC generator worksheet'!S18)","v":""},0,0,{"$f":"IF('TOC generator worksheet'!V18=0,\"\",'TOC generator worksheet'!V18)","v":""},null,{"$f":"ProjectRecords!J19","v":0},{"$f":"ProjectRecords!K19","v":0}]
[{"$f":"IF(LEFT(ProjectRecords!D20,2)=\"\",\"\",HYPERLINK(\"#'\"&ProjectRecords!B20&\"'!$A$10\",LEFT(ProjectRecords!D20,2)))","v":""},{"$f":"IF(LEFT(ProjectRecords!D20,2)=\"\",\"\",HYPERLINK(\"#'\"&ProjectRecords!B20&\"'!$B$10\",MID(ProjectRecords!D20,3,99)))","v":""},"",{"$f":"IF(LEN(ProjectRecords!L20)<2,\"\",HYPERLINK(\"#'\"&ProjectRecords!B20&\"'!$B$13\",(ProjectRecords!L20)&IF(LEN(ProjectRecords!N20)<2,\"\",\", \"&ProjectRecords!N20)&IF(LEN(ProjectRecords!P20)<2,\"\",\", \"&ProjectRecords!P20)&IF(LEN(ProjectRecords!R20)<2,\"\",\", \"&ProjectRecords!R20)))","v":""},{"$f":"IF(LEN(ProjectRecords!E20)<2,\"\",HYPERLINK(\"#'\"&ProjectRecords!B20&\"'!$B$7\",LEFT(ProjectRecords!E20,250)))","v":""},{"$f":"IF(LEN(ProjectRecords!C20)<2,\"\",HYPERLINK(\"#'\"&ProjectRecords!B20&\"'!$B$7\",ProjectRecords!C20))","v":""},{"$f":"IF('TOC generator worksheet'!L19=0,\"\",'TOC generator worksheet'!L19)","v":""},{"$f":"IF('TOC generator worksheet'!M19=0,\"\",'TOC generator worksheet'!M19)","v":""},{"$f":"IF('TOC generator worksheet'!N19=0,\"\",'TOC generator worksheet'!N19)","v":""},{"$f":"IF('TOC generator worksheet'!O19=0,\"\",'TOC generator worksheet'!O19)","v":""},{"$f":"IF('TOC generator worksheet'!P19=0,\"\",'TOC generator worksheet'!P19)","v":""},{"$f":"IF('TOC generator worksheet'!Q19=0,\"\",'TOC generator worksheet'!Q19)","v":""},{"$f":"IF('TOC generator worksheet'!R19=0,\"\",'TOC generator worksheet'!R19)","v":""},{"$f":"IF('TOC generator worksheet'!S19=0,\"\",'TOC generator worksheet'!S19)","v":""},0,0,{"$f":"IF('TOC generator worksheet'!V19=0,\"\",'TOC generator worksheet'!V19)","v":""},null,{"$f":"ProjectRecords!J20","v":0},{"$f":"ProjectRecords!K20","v":0}]
[{"$f":"IF(LEFT(ProjectRecords!D21,2)=\"\",\"\",HYPERLINK(\"#'\"&ProjectRecords!B21&\"'!$A$10\",LEFT(ProjectRecords!D21,2)))","v":""},{"$f":"IF(LEFT(ProjectRecords!D21,2)=\"\",\"\",HYPERLINK(\"#'\"&ProjectRecords!B21&\"'!$B$10\",MID(ProjectRecords!D21,3,99)))","v":""},"",{"$f":"IF(LEN(ProjectRecords!L21)<2,\"\",HYPERLINK(\"#'\"&ProjectRecords!B21&\"'!$B$13\",(ProjectRecords!L21)&IF(LEN(ProjectRecords!N21)<2,\"\",\", \"&ProjectRecords!N21)&IF(LEN(ProjectRecords!P21)<2,\"\",\", \"&ProjectRecords!P21)&IF(LEN(ProjectRecords!R21)<2,\"\",\", \"&ProjectRecords!R21)))","v":""},{"$f":"IF(LEN(ProjectRecords!E21)<2,\"\",HYPERLINK(\"#'\"&ProjectRecords!B21&\"'!$B$7\",LEFT(ProjectRecords!E21,250)))","v":""},{"$f":"IF(LEN(ProjectRecords!C21)<2,\"\",HYPERLINK(\"#'\"&ProjectRecords!B21&\"'!$B$7\",ProjectRecords!C21))","v":""},{"$f":"IF('TOC generator worksheet'!L20=0,\"\",'TOC generator worksheet'!L20)","v":""},{"$f":"IF('TOC generator worksheet'!M20=0,\"\",'TOC generator worksheet'!M20)","v":""},{"$f":"IF('TOC generator worksheet'!N20=0,\"\",'TOC generator worksheet'!N20)","v":""},{"$f":"IF('TOC generator worksheet'!O20=0,\"\",'TOC generator worksheet'!O20)","v":""},{"$f":"IF('TOC generator worksheet'!P20=0,\"\",'TOC generator worksheet'!P20)","v":""},{"$f":"IF('TOC generator worksheet'!Q20=0,\"\",'TOC generator worksheet'!Q20)","v":""},{"$f":"IF('TOC generator worksheet'!R20=0,\"\",'TOC generator worksheet'!R20)","v":""},{"$f":"IF('TOC generator worksheet'!S20=0,\"\",'TOC generator worksheet'!S20)","v":""},0,0,{"$f":"IF('TOC generator worksheet'!V20=0,\"\",'TOC generator worksheet'!V20)","v":""},null,{"$f":"ProjectRecords!J21","v":0},{"$f":"ProjectRecords!K21","v":0}]
[{"$f":"IF(LEFT(ProjectRecords!D22,2)=\"\",\"\",HYPERLINK(\"#'\"&ProjectRecords!B22&\"'!$A$10\",LEFT(ProjectRecords!D22,2)))","v":""},{"$f":"IF(LEFT(ProjectRecords!D22,2)=\"\",\"\",HYPERLINK(\"#'\"&ProjectRecords!B22&\"'!$B$10\",MID(ProjectRecords!D22,3,99)))","v":""},"",{"$f":"IF(LEN(ProjectRecords!L22)<2,\"\",HYPERLINK(\"#'\"&ProjectRecords!B22&\"'!$B$13\",(ProjectRecords!L22)&IF(LEN(ProjectRecords!N22)<2,\"\",\", \"&ProjectRecords!N22)&IF(LEN(ProjectRecords!P22)<2,\"\",\", \"&ProjectRecords!P22)&IF(LEN(ProjectRecords!R22)<2,\"\",\", \"&ProjectRecords!R22)))","v":""},{"$f":"IF(LEN(ProjectRecords!E22)<2,\"\",HYPERLINK(\"#'\"&ProjectRecords!B22&\"'!$B$7\",LEFT(ProjectRecords!E22,250)))","v":""},{"$f":"IF(LEN(ProjectRecords!C22)<2,\"\",HYPERLINK(\"#'\"&ProjectRecords!B22&\"'!$B$7\",ProjectRecords!C22))","v":""},{"$f":"IF('TOC generator worksheet'!L21=0,\"\",'TOC generator worksheet'!L21)","v":""},{"$f":"IF('TOC generator worksheet'!M21=0,\"\",'TOC generator worksheet'!M21)","v":""},{"$f":"IF('TOC generator worksheet'!N21=0,\"\",'TOC generator worksheet'!N21)","v":""},{"$f":"IF('TOC generator worksheet'!O21=0,\"\",'TOC generator worksheet'!O21)","v":""},{"$f":"IF('TOC generator worksheet'!P21=0,\"\",'TOC generator worksheet'!P21)","v":""},{"$f":"IF('TOC generator worksheet'!Q21=0,\"\",'TOC generator worksheet'!Q21)","v":""},{"$f":"IF('TOC generator worksheet'!R21=0,\"\",'TOC generator worksheet'!R21)","v":""},{"$f":"IF('TOC generator worksheet'!S21=0,\"\",'TOC generator worksheet'!S21)","v":""},0,0,{"$f":"IF('TOC generator worksheet'!V21=0,\"\",'TOC generator worksheet'!V21)","v":""},null,{"$f":"ProjectRecords!J22","v":0},{"$f":"ProjectRecords!K22","v":0}]
[{"$f":"IF(LEFT(ProjectRecords!D23,2)=\"\",\"\",HYPERLINK(\"#'\"&ProjectRecords!B23&\"'!$A$10\",LEFT(ProjectRecords!D23,2)))","v":""},{"$f":"IF(LEFT(ProjectRecords!D23,2)=\"\",\"\",HYPERLINK(\"#'\"&ProjectRecords!B23&\"'!$B$10\",MID(ProjectRecords!D23,3,99)))","v":""},"",{"$f":"IF(LEN(ProjectRecords!L23)<2,\"\",HYPERLINK(\"#'\"&ProjectRecords!B23&\"'!$B$13\",(ProjectRecords!L23)&IF(LEN(ProjectRecords!N23)<2,\"\",\", \"&ProjectRecords!N23)&IF(LEN(ProjectRecords!P23)<2,\"\",\", \"&ProjectRecords!P23)&IF(LEN(ProjectRecords!R23)<2,\"\",\", \"&ProjectRecords!R23)))","v":""},{"$f":"IF(LEN(ProjectRecords!E23)<2,\"\",HYPERLINK(\"#'\"&ProjectRecords!B23&\"'!$B$7\",LEFT(ProjectRecords!E23,250)))","v":""},{"$f":"IF(LEN(ProjectRecords!C23)<2,\"\",HYPERLINK(\"#'\"&ProjectRecords!B23&\"'!$B$7\",ProjectRecords!C23))","v":""},{"$f":"IF('TOC generator worksheet'!L22=0,\"\",'TOC generator worksheet'!L22)","v":""},{"$f":"IF('TOC generator worksheet'!M22=0,\"\",'TOC generator worksheet'!M22)","v":""},{"$f":"IF('TOC generator worksheet'!N22=0,\"\",'TOC generator worksheet'!N22)","v":""},{"$f":"IF('TOC generator worksheet'!O22=0,\"\",'TOC generator worksheet'!O22)","v":""},{"$f":"IF('TOC generator worksheet'!P22=0,\"\",'TOC generator worksheet'!P22)","v":""},{"$f":"IF('TOC generator worksheet'!Q22=0,\"\",'TOC generator worksheet'!Q22)","v":""},{"$f":"IF('TOC generator worksheet'!R22=0,\"\",'TOC generator worksheet'!R22)","v":""},{"$f":"IF('TOC generator worksheet'!S22=0,\"\",'TOC generator worksheet'!S22)","v":""},0,0,{"$f":"IF('TOC generator worksheet'!V22=0,\"\",'TOC generator worksheet'!V22)","v":""},null,{"$f":"ProjectRecords!J23","v":0},{"$f":"ProjectRecords!K23","v":0}]
[{"$f":"IF(LEFT(ProjectRecords!D24,2)=\"\",\"\",HYPERLINK(\"#'\"&ProjectRecords!B24&\"'!$A$10\",LEFT(ProjectRecords!D24,2)))","v":""},{"$f":"IF(LEFT(ProjectRecords!D24,2)=\"\",\"\",HYPERLINK(\"#'\"&ProjectRecords!B24&\"'!$B$10\",MID(ProjectRecords!D24,3,99)))","v":""},"",{"$f":"IF(LEN(ProjectRecords!L24)<2,\"\",HYPERLINK(\"#'\"&ProjectRecords!B24&\"'!$B$13\",(ProjectRecords!L24)&IF(LEN(ProjectRecords!N24)<2,\"\",\", \"&ProjectRecords!N24)&IF(LEN(ProjectRecords!P24)<2,\"\",\", \"&ProjectRecords!P24)&IF(LEN(ProjectRecords!R24)<2,\"\",\", \"&ProjectRecords!R24)))","v":""},{"$f":"IF(LEN(ProjectRecords!E24)<2,\"\",HYPERLINK(\"#'\"&ProjectRecords!B24&\"'!$B$7\",LEFT(ProjectRecords!E24,250)))","v":""},{"$f":"IF(LEN(ProjectRecords!C24)<2,\"\",HYPERLINK(\"#'\"&ProjectRecords!B24&\"'!$B$7\",ProjectRecords!C24))","v":""},{"$f":"IF('TOC generator worksheet'!L23=0,\"\",'TOC generator worksheet'!L23)","v":""},{"$f":"IF('TOC generator worksheet'!M23=0,\"\",'TOC generator worksheet'!M23)","v":""},{"$f":"IF('TOC generator worksheet'!N23=0,\"\",'TOC generator worksheet'!N23)","v":""},{"$f":"IF('TOC generator worksheet'!O23=0,\"\",'TOC generator worksheet'!O23)","v":""},{"$f":"IF('TOC generator worksheet'!P23=0,\"\",'TOC generator worksheet'!P23)","v":""},{"$f":"IF('TOC generator worksheet'!Q23=0,\"\",'TOC generator worksheet'!Q23)","v":""},{"$f":"IF('TOC generator worksheet'!R23=0,\"\",'TOC generator worksheet'!R23)","v":""},{"$f":"IF('TOC generator worksheet'!S23=0,\"\",'TOC generator worksheet'!S23)","v":""},0,0,{"$f":"IF('TOC generator worksheet'!V23=0,\"\",'TOC generator worksheet'!V23)","v":""},null,{"$f":"ProjectRecords!J24","v":0},{"$f":"ProjectRecords!K24","v":0}]
[{"$f":"IF(LEFT(ProjectRecords!D25,2)=\"\",\"\",HYPERLINK(\"#'\"&ProjectRecords!B25&\"'!$A$10\",LEFT(ProjectRecords!D25,2)))","v":""},{"$f":"IF(LEFT(ProjectRecords!D25,2)=\"\",\"\",HYPERLINK(\"#'\"&ProjectRecords!B25&\"'!$B$10\",MID(ProjectRecords!D25,3,99)))","v":""},"",{"$f":"IF(LEN(ProjectRecords!L25)<2,\"\",HYPERLINK(\"#'\"&ProjectRecords!B25&\"'!$B$13\",(ProjectRecords!L25)&IF(LEN(ProjectRecords!N25)<2,\"\",\", \"&ProjectRecords!N25)&IF(LEN(ProjectRecords!P25)<2,\"\",\", \"&ProjectRecords!P25)&IF(LEN(ProjectRecords!R25)<2,\"\",\", \"&ProjectRecords!R25)))","v":""},{"$f":"IF(LEN(ProjectRecords!E25)<2,\"\",HYPERLINK(\"#'\"&ProjectRecords!B25&\"'!$B$7\",LEFT(ProjectRecords!E25,250)))","v":""},{"$f":"IF(LEN(ProjectRecords!C25)<2,\"\",HYPERLINK(\"#'\"&ProjectRecords!B25&\"'!$B$7\",ProjectRecords!C25))","v":""},{"$f":"IF('TOC generator worksheet'!L24=0,\"\",'TOC generator worksheet'!L24)","v":""},{"$f":"IF('TOC generator worksheet'!M24=0,\"\",'TOC generator worksheet'!M24)","v":""},{"$f":"IF('TOC generator worksheet'!N24=0,\"\",'TOC generator worksheet'!N24)","v":""},{"$f":"IF('TOC generator worksheet'!O24=0,\"\",'TOC generator worksheet'!O24)","v":""},{"$f":"IF('TOC generator worksheet'!P24=0,\"\",'TOC generator worksheet'!P24)","v":""},{"$f":"IF('TOC generator worksheet'!Q24=0,\"\",'TOC generator worksheet'!Q24)","v":""},{"$f":"IF('TOC generator worksheet'!R24=0,\"\",'TOC generator worksheet'!R24)","v":""},{"$f":"IF('TOC generator worksheet'!S24=0,\"\",'TOC generator worksheet'!S24)","v":""},0,0,{"$f":"IF('TOC generator worksheet'!V24=0,\"\",'TOC generator worksheet'!V24)","v":""},null,{"$f":"ProjectRecords!J25","v":0},{"$f":"ProjectRecords!K25","v":0}]
[{"$f":"IF(LEFT(ProjectRecords!D26,2)=\"\",\"\",HYPERLINK(\"#'\"&ProjectRecords!B26&\"'!$A$10\",LEFT(ProjectRecords!D26,2)))","v":""},{"$f":"IF(LEFT(ProjectRecords!D26,2)=\"\",\"\",HYPERLINK(\"#'\"&ProjectRecords!B26&\"'!$B$10\",MID(ProjectRecords!D26,3,99)))","v":""},"",{"$f":"IF(LEN(ProjectRecords!L26)<2,\"\",HYPERLINK(\"#'\"&ProjectRecords!B26&\"'!$B$13\",(ProjectRecords!L26)&IF(LEN(ProjectRecords!N26)<2,\"\",\", \"&ProjectRecords!N26)&IF(LEN(ProjectRecords!P26)<2,\"\",\", \"&ProjectRecords!P26)&IF(LEN(ProjectRecords!R26)<2,\"\",\", \"&ProjectRecords!R26)))","v":""},{"$f":"IF(LEN(ProjectRecords!E26)<2,\"\",HYPERLINK(\"#'\"&ProjectRecords!B26&\"'!$B$7\",LEFT(ProjectRecords!E26,250)))","v":""},{"$f":"IF(LEN(ProjectRecords!C26)<2,\"\",HYPERLINK(\"#'\"&ProjectRecords!B26&\"'!$B$7\",ProjectRecords!C26))","v":""},{"$f":"IF('TOC generator worksheet'!L25=0,\"\",'TOC generator worksheet'!L25)","v":""},{"$f":"IF('TOC generator worksheet'!M25=0,\"\",'TOC generator worksheet'!M25)","v":""},{"$f":"IF('TOC generator worksheet'!N25=0,\"\",'TOC generator worksheet'!N25)","v":""},{"$f":"IF('TOC generator worksheet'!O25=0,\"\",'TOC generator worksheet'!O25)","v":""},{"$f":"IF('TOC generator worksheet'!P25=0,\"\",'TOC generator worksheet'!P25)","v":""},{"$f":"IF('TOC generator worksheet'!Q25=0,\"\",'TOC generator worksheet'!Q25)","v":""},{"$f":"IF('TOC generator worksheet'!R25=0,\"\",'TOC generator worksheet'!R25)","v":""},{"$f":"IF('TOC generator worksheet'!S25=0,\"\",'TOC generator worksheet'!S25)","v":""},0,0,{"$f":"IF('TOC generator worksheet'!V25=0,\"\",'TOC generator worksheet'!V25)","v":""},null,{"$f":"ProjectRecords!J26","v":0},{"$f":"ProjectRecords!K26","v":0}]
[{"$f":"IF(LEFT(ProjectRecords!D27,2)=\"\",\"\",HYPERLINK(\"#'\"&ProjectRecords!B27&\"'!$A$10\",LEFT(ProjectRecords!D27,2)))","v":""},{"$f":"IF(LEFT(ProjectRecords!D27,2)=\"\",\"\",HYPERLINK(\"#'\"&ProjectRecords!B27&\"'!$B$10\",MID(ProjectRecords!D27,3,99)))","v":""},"",{"$f":"IF(LEN(ProjectRecords!L27)<2,\"\",HYPERLINK(\"#'\"&ProjectRecords!B27&\"'!$B$13\",(ProjectRecords!L27)&IF(LEN(ProjectRecords!N27)<2,\"\",\", \"&ProjectRecords!N27)&IF(LEN(ProjectRecords!P27)<2,\"\",\", \"&ProjectRecords!P27)&IF(LEN(ProjectRecords!R27)<2,\"\",\", \"&ProjectRecords!R27)))","v":""},{"$f":"IF(LEN(ProjectRecords!E27)<2,\"\",HYPERLINK(\"#'\"&ProjectRecords!B27&\"'!$B$7\",LEFT(ProjectRecords!E27,250)))","v":""},{"$f":"IF(LEN(ProjectRecords!C27)<2,\"\",HYPERLINK(\"#'\"&ProjectRecords!B27&\"'!$B$7\",ProjectRecords!C27))","v":""},{"$f":"IF('TOC generator worksheet'!L26=0,\"\",'TOC generator worksheet'!L26)","v":""},{"$f":"IF('TOC generator worksheet'!M26=0,\"\",'TOC generator worksheet'!M26)","v":""},{"$f":"IF('TOC generator worksheet'!N26=0,\"\",'TOC generator worksheet'!N26)","v":""},{"$f":"IF('TOC generator worksheet'!O26=0,\"\",'TOC generator worksheet'!O26)","v":""},{"$f":"IF('TOC generator worksheet'!P26=0,\"\",'TOC generator worksheet'!P26)","v":""},{"$f":"IF('TOC generator worksheet'!Q26=0,\"\",'TOC generator worksheet'!Q26)","v":""},{"$f":"IF('TOC generator worksheet'!R26=0,\"\",'TOC generator worksheet'!R26)","v":""},{"$f":"IF('TOC generator worksheet'!S26=0,\"\",'TOC generator worksheet'!S26)","v":""},0,0,{"$f":"IF('TOC generator worksheet'!V26=0,\"\",'TOC generator worksheet'!V26)","v":""},null,{"$f":"ProjectRecords!J27","v":0},{"$f":"ProjectRecords!K27","v":0}]
[{"$f":"IF(LEFT(ProjectRecords!D28,2)=\"\",\"\",HYPERLINK(\"#'\"&ProjectRecords!B28&\"'!$A$10\",LEFT(ProjectRecords!D28,2)))","v":""},{"$f":"IF(LEFT(ProjectRecords!D28,2)=\"\",\"\",HYPERLINK(\"#'\"&ProjectRecords!B28&\"'!$B$10\",MID(ProjectRecords!D28,3,99)))","v":""},"",{"$f":"IF(LEN(ProjectRecords!L28)<2,\"\",HYPERLINK(\"#'\"&ProjectRecords!B28&\"'!$B$13\",(ProjectRecords!L28)&IF(LEN(ProjectRecords!N28)<2,\"\",\", \"&ProjectRecords!N28)&IF(LEN(ProjectRecords!P28)<2,\"\",\", \"&ProjectRecords!P28)&IF(LEN(ProjectRecords!R28)<2,\"\",\", \"&ProjectRecords!R28)))","v":""},{"$f":"IF(LEN(ProjectRecords!E28)<2,\"\",HYPERLINK(\"#'\"&ProjectRecords!B28&\"'!$B$7\",LEFT(ProjectRecords!E28,250)))","v":""},{"$f":"IF(LEN(ProjectRecords!C28)<2,\"\",HYPERLINK(\"#'\"&ProjectRecords!B28&\"'!$B$7\",ProjectRecords!C28))","v":""},{"$f":"IF('TOC generator worksheet'!L27=0,\"\",'TOC generator worksheet'!L27)","v":""},{"$f":"IF('TOC generator worksheet'!M27=0,\"\",'TOC generator worksheet'!M27)","v":""},{"$f":"IF('TOC generator worksheet'!N27=0,\"\",'TOC generator worksheet'!N27)","v":""},{"$f":"IF('TOC generator worksheet'!O27=0,\"\",'TOC generator worksheet'!O27)","v":""},{"$f":"IF('TOC generator worksheet'!P27=0,\"\",'TOC generator worksheet'!P27)","v":""},{"$f":"IF('TOC generator worksheet'!Q27=0,\"\",'TOC generator worksheet'!Q27)","v":""},{"$f":"IF('TOC generator worksheet'!R27=0,\"\",'TOC generator worksheet'!R27)","v":""},{"$f":"IF('TOC generator worksheet'!S27=0,\"\",'TOC generator worksheet'!S27)","v":""},0,0,{"$f":"IF('TOC generator worksheet'!V27=0,\"\",'TOC generator worksheet'!V27)","v":""},null,{"$f":"ProjectRecords!J28","v":0},{"$f":"ProjectRecords!K28","v":0}]
[{"$f":"IF(LEFT(ProjectRecords!D29,2)=\"\",\"\",HYPERLINK(\"#'\"&ProjectRecords!B29&\"'!$A$10\",LEFT(ProjectRecords!D29,2)))","v":""},{"$f":"IF(LEFT(ProjectRecords!D29,2)=\"\",\"\",HYPERLINK(\"#'\"&ProjectRecords!B29&\"'!$B$10\",MID(ProjectRecords!D29,3,99)))","v":""},"",{"$f":"IF(LEN(ProjectRecords!L29)<2,\"\",HYPERLINK(\"#'\"&ProjectRecords!B29&\"'!$B$13\",(ProjectRecords!L29)&IF(LEN(ProjectRecords!N29)<2,\"\",\", \"&ProjectRecords!N29)&IF(LEN(ProjectRecords!P29)<2,\"\",\", \"&ProjectRecords!P29)&IF(LEN(ProjectRecords!R29)<2,\"\",\", \"&ProjectRecords!R29)))","v":""},{"$f":"IF(LEN(ProjectRecords!E29)<2,\"\",HYPERLINK(\"#'\"&ProjectRecords!B29&\"'!$B$7\",LEFT(ProjectRecords!E29,250)))","v":""},{"$f":"IF(LEN(ProjectRecords!C29)<2,\"\",HYPERLINK(\"#'\"&ProjectRecords!B29&\"'!$B$7\",ProjectRecords!C29))","v":""},{"$f":"IF('TOC generator worksheet'!L28=0,\"\",'TOC generator worksheet'!L28)","v":""},{"$f":"IF('TOC generator worksheet'!M28=0,\"\",'TOC generator worksheet'!M28)","v":""},{"$f":"IF('TOC generator worksheet'!N28=0,\"\",'TOC generator worksheet'!N28)","v":""},{"$f":"IF('TOC generator worksheet'!O28=0,\"\",'TOC generator worksheet'!O28)","v":""},{"$f":"IF('TOC generator worksheet'!P28=0,\"\",'TOC generator worksheet'!P28)","v":""},{"$f":"IF('TOC generator worksheet'!Q28=0,\"\",'TOC generator worksheet'!Q28)","v":""},{"$f":"IF('TOC generator worksheet'!R28=0,\"\",'TOC generator worksheet'!R28)","v":""},{"$f":"IF('TOC generator worksheet'!S28=0,\"\",'TOC generator worksheet'!S28)","v":""},0,0,{"$f":"IF('TOC generator worksheet'!V28=0,\"\",'TOC generator worksheet'!V28)","v":""},null,{"$f":"ProjectRecords!J29","v":0},{"$f":"ProjectRecords!K29","v":0}]
[{"$f":"IF(LEFT(ProjectRecords!D30,2)=\"\",\"\",HYPERLINK(\"#'\"&ProjectRecords!B30&\"'!$A$10\",LEFT(ProjectRecords!D30,2)))","v":""},{"$f":"IF(LEFT(ProjectRecords!D30,2)=\"\",\"\",HYPERLINK(\"#'\"&ProjectRecords!B30&\"'!$B$10\",MID(ProjectRecords!D30,3,99)))","v":""},"",{"$f":"IF(LEN(ProjectRecords!L30)<2,\"\",HYPERLINK(\"#'\"&ProjectRecords!B30&\"'!$B$13\",(ProjectRecords!L30)&IF(LEN(ProjectRecords!N30)<2,\"\",\", \"&ProjectRecords!N30)&IF(LEN(ProjectRecords!P30)<2,\"\",\", \"&ProjectRecords!P30)&IF(LEN(ProjectRecords!R30)<2,\"\",\", \"&ProjectRecords!R30)))","v":""},{"$f":"IF(LEN(ProjectRecords!E30)<2,\"\",HYPERLINK(\"#'\"&ProjectRecords!B30&\"'!$B$7\",LEFT(ProjectRecords!E30,250)))","v":""},{"$f":"IF(LEN(ProjectRecords!C30)<2,\"\",HYPERLINK(\"#'\"&ProjectRecords!B30&\"'!$B$7\",ProjectRecords!C30))","v":""},{"$f":"IF('TOC generator worksheet'!L29=0,\"\",'TOC generator worksheet'!L29)","v":""},{"$f":"IF('TOC generator worksheet'!M29=0,\"\",'TOC generator worksheet'!M29)","v":""},{"$f":"IF('TOC generator worksheet'!N29=0,\"\",'TOC generator worksheet'!N29)","v":""},{"$f":"IF('TOC generator worksheet'!O29=0,\"\",'TOC generator worksheet'!O29)","v":""},{"$f":"IF('TOC generator worksheet'!P29=0,\"\",'TOC generator worksheet'!P29)","v":""},{"$f":"IF('TOC generator worksheet'!Q29=0,\"\",'TOC generator worksheet'!Q29)","v":""},{"$f":"IF('TOC generator worksheet'!R29=0,\"\",'TOC generator worksheet'!R29)","v":""},{"$f":"IF('TOC generator worksheet'!S29=0,\"\",'TOC generator worksheet'!S29)","v":""},0,0,{"$f":"IF('TOC generator worksheet'!V29=0,\"\",'TOC generator worksheet'!V29)","v":""},null,{"$f":"ProjectRecords!J30","v":0},{"$f":"ProjectRecords!K30","v":0}]
[{"$f":"IF(LEFT(ProjectRecords!D31,2)=\"\",\"\",HYPERLINK(\"#'\"&ProjectRecords!B31&\"'!$A$10\",LEFT(ProjectRecords!D31,2)))","v":""},{"$f":"IF(LEFT(ProjectRecords!D31,2)=\"\",\"\",HYPERLINK(\"#'\"&ProjectRecords!B31&\"'!$B$10\",MID(ProjectRecords!D31,3,99)))","v":""},"",{"$f":"IF(LEN(ProjectRecords!L31)<2,\"\",HYPERLINK(\"#'\"&ProjectRecords!B31&\"'!$B$13\",(ProjectRecords!L31)&IF(LEN(ProjectRecords!N31)<2,\"\",\", \"&ProjectRecords!N31)&IF(LEN(ProjectRecords!P31)<2,\"\",\", \"&ProjectRecords!P31)&IF(LEN(ProjectRecords!R31)<2,\"\",\", \"&ProjectRecords!R31)))","v":""},{"$f":"IF(LEN(ProjectRecords!E31)<2,\"\",HYPERLINK(\"#'\"&ProjectRecords!B31&\"'!$B$7\",LEFT(ProjectRecords!E31,250)))","v":""},{"$f":"IF(LEN(ProjectRecords!C31)<2,\"\",HYPERLINK(\"#'\"&ProjectRecords!B31&\"'!$B$7\",ProjectRecords!C31))","v":""},{"$f":"IF('TOC generator worksheet'!L30=0,\"\",'TOC generator worksheet'!L30)","v":""},{"$f":"IF('TOC generator worksheet'!M30=0,\"\",'TOC generator worksheet'!M30)","v":""},{"$f":"IF('TOC generator worksheet'!N30=0,\"\",'TOC generator worksheet'!N30)","v":""},{"$f":"IF('TOC generator worksheet'!O30=0,\"\",'TOC generator worksheet'!O30)","v":""},{"$f":"IF('TOC generator worksheet'!P30=0,\"\",'TOC generator worksheet'!P30)","v":""},{"$f":"IF('TOC generator worksheet'!Q30=0,\"\",'TOC generator worksheet'!Q30)","v":""},{"$f":"IF('TOC generator worksheet'!R30=0,\"\",'TOC generator worksheet'!R30)","v":""},{"$f":"IF('TOC generator worksheet'!S30=0,\"\",'TOC generator worksheet'!S30)","v":""},0,0,{"$f":"IF('TOC generator worksheet'!V30=0,\"\",'TOC generator worksheet'!V30)","v":""},null,{"$f":"ProjectRecords!J31","v":0},{"$f":"ProjectRecords!K31","v":0}]
[{"$f":"IF(LEFT(ProjectRecords!D32,2)=\"\",\"\",HYPERLINK(\"#'\"&ProjectRecords!B32&\"'!$A$10\",LEFT(ProjectRecords!D32,2)))","v":""},{"$f":"IF(LEFT(ProjectRecords!D32,2)=\"\",\"\",HYPERLINK(\"#'\"&ProjectRecords!B32&\"'!$B$10\",MID(ProjectRecords!D32,3,99)))","v":""},"",{"$f":"IF(LEN(ProjectRecords!L32)<2,\"\",HYPERLINK(\"#'\"&ProjectRecords!B32&\"'!$B$13\",(ProjectRecords!L32)&IF(LEN(ProjectRecords!N32)<2,\"\",\", \"&ProjectRecords!N32)&IF(LEN(ProjectRecords!P32)<2,\"\",\", \"&ProjectRecords!P32)&IF(LEN(ProjectRecords!R32)<2,\"\",\", \"&ProjectRecords!R32)))","v":""},{"$f":"IF(LEN(ProjectRecords!E32)<2,\"\",HYPERLINK(\"#'\"&ProjectRecords!B32&\"'!$B$7\",LEFT(ProjectRecords!E32,250)))","v":""},{"$f":"IF(LEN(ProjectRecords!C32)<2,\"\",HYPERLINK(\"#'\"&ProjectRecords!B32&\"'!$B$7\",ProjectRecords!C32))","v":""},{"$f":"IF('TOC generator worksheet'!L31=0,\"\",'TOC generator worksheet'!L31)","v":""},{"$f":"IF('TOC generator worksheet'!M31=0,\"\",'TOC generator worksheet'!M31)","v":""},{"$f":"IF('TOC generator worksheet'!N31=0,\"\",'TOC generator worksheet'!N31)","v":""},{"$f":"IF('TOC generator worksheet'!O31=0,\"\",'TOC generator worksheet'!O31)","v":""},{"$f":"IF('TOC generator worksheet'!P31=0,\"\",'TOC generator worksheet'!P31)","v":""},{"$f":"IF('TOC generator worksheet'!Q31=0,\"\",'TOC generator worksheet'!Q31)","v":""},{"$f":"IF('TOC generator worksheet'!R31=0,\"\",'TOC generator worksheet'!R31)","v":""},{"$f":"IF('TOC generator worksheet'!S31=0,\"\",'TOC generator worksheet'!S31)","v":""},0,0,{"$f":"IF('TOC generator worksheet'!V31=0,\"\",'TOC generator worksheet'!V31)","v":""},null,{"$f":"ProjectRecords!J32","v":0},{"$f":"ProjectRecords!K32","v":0}]
[{"$f":"IF(LEFT(ProjectRecords!D33,2)=\"\",\"\",HYPERLINK(\"#'\"&ProjectRecords!B33&\"'!$A$10\",LEFT(ProjectRecords!D33,2)))","v":""},{"$f":"IF(LEFT(ProjectRecords!D33,2)=\"\",\"\",HYPERLINK(\"#'\"&ProjectRecords!B33&\"'!$B$10\",MID(ProjectRecords!D33,3,99)))","v":""},"",{"$f":"IF(LEN(ProjectRecords!L33)<2,\"\",HYPERLINK(\"#'\"&ProjectRecords!B33&\"'!$B$13\",(ProjectRecords!L33)&IF(LEN(ProjectRecords!N33)<2,\"\",\", \"&ProjectRecords!N33)&IF(LEN(ProjectRecords!P33)<2,\"\",\", \"&ProjectRecords!P33)&IF(LEN(ProjectRecords!R33)<2,\"\",\", \"&ProjectRecords!R33)))","v":""},{"$f":"IF(LEN(ProjectRecords!E33)<2,\"\",HYPERLINK(\"#'\"&ProjectRecords!B33&\"'!$B$7\",LEFT(ProjectRecords!E33,250)))","v":""},{"$f":"IF(LEN(ProjectRecords!C33)<2,\"\",HYPERLINK(\"#'\"&ProjectRecords!B33&\"'!$B$7\",ProjectRecords!C33))","v":""},{"$f":"IF('TOC generator worksheet'!L32=0,\"\",'TOC generator worksheet'!L32)","v":""},{"$f":"IF('TOC generator worksheet'!M32=0,\"\",'TOC generator worksheet'!M32)","v":""},{"$f":"IF('TOC generator worksheet'!N32=0,\"\",'TOC generator worksheet'!N32)","v":""},{"$f":"IF('TOC generator worksheet'!O32=0,\"\",'TOC generator worksheet'!O32)","v":""},{"$f":"IF('TOC generator worksheet'!P32=0,\"\",'TOC generator worksheet'!P32)","v":""},{"$f":"IF('TOC generator worksheet'!Q32=0,\"\",'TOC generator worksheet'!Q32)","v":""},{"$f":"IF('TOC generator worksheet'!R32=0,\"\",'TOC generator worksheet'!R32)","v":""},{"$f":"IF('TOC generator worksheet'!S32=0,\"\",'TOC generator worksheet'!S32)","v":""},0,0,{"$f":"IF('TOC generator worksheet'!V32=0,\"\",'TOC generator worksheet'!V32)","v":""},null,{"$f":"ProjectRecords!J33","v":0},{"$f":"ProjectRecords!K33","v":0}]
[{"$f":"IF(LEFT(ProjectRecords!D34,2)=\"\",\"\",HYPERLINK(\"#'\"&ProjectRecords!B34&\"'!$A$10\",LEFT(ProjectRecords!D34,2)))","v":""},{"$f":"IF(LEFT(ProjectRecords!D34,2)=\"\",\"\",HYPERLINK(\"#'\"&ProjectRecords!B34&\"'!$B$10\",MID(ProjectRecords!D34,3,99)))","v":""},"",{"$f":"IF(LEN(ProjectRecords!L34)<2,\"\",HYPERLINK(\"#'\"&ProjectRecords!B34&\"'!$B$13\",(ProjectRecords!L34)&IF(LEN(ProjectRecords!N34)<2,\"\",\", \"&ProjectRecords!N34)&IF(LEN(ProjectRecords!P34)<2,\"\",\", \"&ProjectRecords!P34)&IF(LEN(ProjectRecords!R34)<2,\"\",\", \"&ProjectRecords!R34)))","v":""},{"$f":"IF(LEN(ProjectRecords!E34)<2,\"\",HYPERLINK(\"#'\"&ProjectRecords!B34&\"'!$B$7\",LEFT(ProjectRecords!E34,250)))","v":""},{"$f":"IF(LEN(ProjectRecords!C34)<2,\"\",HYPERLINK(\"#'\"&ProjectRecords!B34&\"'!$B$7\",ProjectRecords!C34))","v":""},{"$f":"IF('TOC generator worksheet'!L33=0,\"\",'TOC generator worksheet'!L33)","v":""},{"$f":"IF('TOC generator worksheet'!M33=0,\"\",'TOC generator worksheet'!M33)","v":""},{"$f":"IF('TOC generator worksheet'!N33=0,\"\",'TOC generator worksheet'!N33)","v":""},{"$f":"IF('TOC generator worksheet'!O33=0,\"\",'TOC generator worksheet'!O33)","v":""},{"$f":"IF('TOC generator worksheet'!P33=0,\"\",'TOC generator worksheet'!P33)","v":""},{"$f":"IF('TOC generator worksheet'!Q33=0,\"\",'TOC generator worksheet'!Q33)","v":""},{"$f":"IF('TOC generator worksheet'!R33=0,\"\",'TOC generator worksheet'!R33)","v":""},{"$f":"IF('TOC generator worksheet'!S33=0,\"\",'TOC generator worksheet'!S33)","v":""},0,0,{"$f":"IF('TOC generator worksheet'!V33=0,\"\",'TOC generator worksheet'!V33)","v":""},null,{"$f":"ProjectRecords!J34","v":0},{"$f":"ProjectRecords!K34","v":0}]
[{"$f":"IF(LEFT(ProjectRecords!D35,2)=\"\",\"\",HYPERLINK(\"#'\"&ProjectRecords!B35&\"'!$A$10\",LEFT(ProjectRecords!D35,2)))","v":""},{"$f":"IF(LEFT(ProjectRecords!D35,2)=\"\",\"\",HYPERLINK(\"#'\"&ProjectRecords!B35&\"'!$B$10\",MID(ProjectRecords!D35,3,99)))","v":""},"",{"$f":"IF(LEN(ProjectRecords!L35)<2,\"\",HYPERLINK(\"#'\"&ProjectRecords!B35&\"'!$B$13\",(ProjectRecords!L35)&IF(LEN(ProjectRecords!N35)<2,\"\",\", \"&ProjectRecords!N35)&IF(LEN(ProjectRecords!P35)<2,\"\",\", \"&ProjectRecords!P35)&IF(LEN(ProjectRecords!R35)<2,\"\",\", \"&ProjectRecords!R35)))","v":""},{"$f":"IF(LEN(ProjectRecords!E35)<2,\"\",HYPERLINK(\"#'\"&ProjectRecords!B35&\"'!$B$7\",LEFT(ProjectRecords!E35,250)))","v":""},{"$f":"IF(LEN(ProjectRecords!C35)<2,\"\",HYPERLINK(\"#'\"&ProjectRecords!B35&\"'!$B$7\",ProjectRecords!C35))","v":""},{"$f":"IF('TOC generator worksheet'!L34=0,\"\",'TOC generator worksheet'!L34)","v":""},{"$f":"IF('TOC generator worksheet'!M34=0,\"\",'TOC generator worksheet'!M34)","v":""},{"$f":"IF('TOC generator worksheet'!N34=0,\"\",'TOC generator worksheet'!N34)","v":""},{"$f":"IF('TOC generator worksheet'!O34=0,\"\",'TOC generator worksheet'!O34)","v":""},{"$f":"IF('TOC generator worksheet'!P34=0,\"\",'TOC generator worksheet'!P34)","v":""},{"$f":"IF('TOC generator worksheet'!Q34=0,\"\",'TOC generator worksheet'!Q34)","v":""},{"$f":"IF('TOC generator worksheet'!R34=0,\"\",'TOC generator worksheet'!R34)","v":""},{"$f":"IF('TOC generator worksheet'!S34=0,\"\",'TOC generator worksheet'!S34)","v":""},0,0,{"$f":"IF('TOC generator worksheet'!V34=0,\"\",'TOC generator worksheet'!V34)","v":""},null,{"$f":"ProjectRecords!J35","v":0},{"$f":"ProjectRecords!K35","v":0}]
[{"$f":"IF(LEFT(ProjectRecords!D36,2)=\"\",\"\",HYPERLINK(\"#'\"&ProjectRecords!B36&\"'!$A$10\",LEFT(ProjectRecords!D36,2)))","v":""},{"$f":"IF(LEFT(ProjectRecords!D36,2)=\"\",\"\",HYPERLINK(\"#'\"&ProjectRecords!B36&\"'!$B$10\",MID(ProjectRecords!D36,3,99)))","v":""},"",{"$f":"IF(LEN(ProjectRecords!L36)<2,\"\",HYPERLINK(\"#'\"&ProjectRecords!B36&\"'!$B$13\",(ProjectRecords!L36)&IF(LEN(ProjectRecords!N36)<2,\"\",\", \"&ProjectRecords!N36)&IF(LEN(ProjectRecords!P36)<2,\"\",\", \"&ProjectRecords!P36)&IF(LEN(ProjectRecords!R36)<2,\"\",\", \"&ProjectRecords!R36)))","v":""},{"$f":"IF(LEN(ProjectRecords!E36)<2,\"\",HYPERLINK(\"#'\"&ProjectRecords!B36&\"'!$B$7\",LEFT(ProjectRecords!E36,250)))","v":""},{"$f":"IF(LEN(ProjectRecords!C36)<2,\"\",HYPERLINK(\"#'\"&ProjectRecords!B36&\"'!$B$7\",ProjectRecords!C36))","v":""},{"$f":"IF('TOC generator worksheet'!L35=0,\"\",'TOC generator worksheet'!L35)","v":""},{"$f":"IF('TOC generator worksheet'!M35=0,\"\",'TOC generator worksheet'!M35)","v":""},{"$f":"IF('TOC generator worksheet'!N35=0,\"\",'TOC generator worksheet'!N35)","v":""},{"$f":"IF('TOC generator worksheet'!O35=0,\"\",'TOC generator worksheet'!O35)","v":""},{"$f":"IF('TOC generator worksheet'!P35=0,\"\",'TOC generator worksheet'!P35)","v":""},{"$f":"IF('TOC generator worksheet'!Q35=0,\"\",'TOC generator worksheet'!Q35)","v":""},{"$f":"IF('TOC generator worksheet'!R35=0,\"\",'TOC generator worksheet'!R35)","v":""},{"$f":"IF('TOC generator worksheet'!S35=0,\"\",'TOC generator worksheet'!S35)","v":""},0,0,{"$f":"IF('TOC generator worksheet'!V35=0,\"\",'TOC generator worksheet'!V35)","v":""},null,{"$f":"ProjectRecords!J36","v":0},{"$f":"ProjectRecords!K36","v":0}]
[{"$f":"IF(LEFT(ProjectRecords!D37,2)=\"\",\"\",HYPERLINK(\"#'\"&ProjectRecords!B37&\"'!$A$10\",LEFT(ProjectRecords!D37,2)))","v":""},{"$f":"IF(LEFT(ProjectRecords!D37,2)=\"\",\"\",HYPERLINK(\"#'\"&ProjectRecords!B37&\"'!$B$10\",MID(ProjectRecords!D37,3,99)))","v":""},"",{"$f":"IF(LEN(ProjectRecords!L37)<2,\"\",HYPERLINK(\"#'\"&ProjectRecords!B37&\"'!$B$13\",(ProjectRecords!L37)&IF(LEN(ProjectRecords!N37)<2,\"\",\", \"&ProjectRecords!N37)&IF(LEN(ProjectRecords!P37)<2,\"\",\", \"&ProjectRecords!P37)&IF(LEN(ProjectRecords!R37)<2,\"\",\", \"&ProjectRecords!R37)))","v":""},{"$f":"IF(LEN(ProjectRecords!E37)<2,\"\",HYPERLINK(\"#'\"&ProjectRecords!B37&\"'!$B$7\",LEFT(ProjectRecords!E37,250)))","v":""},{"$f":"IF(LEN(ProjectRecords!C37)<2,\"\",HYPERLINK(\"#'\"&ProjectRecords!B37&\"'!$B$7\",ProjectRecords!C37))","v":""},{"$f":"IF('TOC generator worksheet'!L36=0,\"\",'TOC generator worksheet'!L36)","v":""},{"$f":"IF('TOC generator worksheet'!M36=0,\"\",'TOC generator worksheet'!M36)","v":""},{"$f":"IF('TOC generator worksheet'!N36=0,\"\",'TOC generator worksheet'!N36)","v":""},{"$f":"IF('TOC generator worksheet'!O36=0,\"\",'TOC generator worksheet'!O36)","v":""},{"$f":"IF('TOC generator worksheet'!P36=0,\"\",'TOC generator worksheet'!P36)","v":""},{"$f":"IF('TOC generator worksheet'!Q36=0,\"\",'TOC generator worksheet'!Q36)","v":""},{"$f":"IF('TOC generator worksheet'!R36=0,\"\",'TOC generator worksheet'!R36)","v":""},{"$f":"IF('TOC generator worksheet'!S36=0,\"\",'TOC generator worksheet'!S36)","v":""},0,0,{"$f":"IF('TOC generator worksheet'!V36=0,\"\",'TOC generator worksheet'!V36)","v":""},null,{"$f":"ProjectRecords!J37","v":0},{"$f":"ProjectRecords!K37","v":0}]
[{"$f":"IF(LEFT(ProjectRecords!D38,2)=\"\",\"\",HYPERLINK(\"#'\"&ProjectRecords!B38&\"'!$A$10\",LEFT(ProjectRecords!D38,2)))","v":""},{"$f":"IF(LEFT(ProjectRecords!D38,2)=\"\",\"\",HYPERLINK(\"#'\"&ProjectRecords!B38&\"'!$B$10\",MID(ProjectRecords!D38,3,99)))","v":""},"",{"$f":"IF(LEN(ProjectRecords!L38)<2,\"\",HYPERLINK(\"#'\"&ProjectRecords!B38&\"'!$B$13\",(ProjectRecords!L38)&IF(LEN(ProjectRecords!N38)<2,\"\",\", \"&ProjectRecords!N38)&IF(LEN(ProjectRecords!P38)<2,\"\",\", \"&ProjectRecords!P38)&IF(LEN(ProjectRecords!R38)<2,\"\",\", \"&ProjectRecords!R38)))","v":""},{"$f":"IF(LEN(ProjectRecords!E38)<2,\"\",HYPERLINK(\"#'\"&ProjectRecords!B38&\"'!$B$7\",LEFT(ProjectRecords!E38,250)))","v":""},{"$f":"IF(LEN(ProjectRecords!C38)<2,\"\",HYPERLINK(\"#'\"&ProjectRecords!B38&\"'!$B$7\",ProjectRecords!C38))","v":""},{"$f":"IF('TOC generator worksheet'!L37=0,\"\",'TOC generator worksheet'!L37)","v":""},{"$f":"IF('TOC generator worksheet'!M37=0,\"\",'TOC generator worksheet'!M37)","v":""},{"$f":"IF('TOC generator worksheet'!N37=0,\"\",'TOC generator worksheet'!N37)","v":""},{"$f":"IF('TOC generator worksheet'!O37=0,\"\",'TOC generator worksheet'!O37)","v":""},{"$f":"IF('TOC generator worksheet'!P37=0,\"\",'TOC generator worksheet'!P37)","v":""},{"$f":"IF('TOC generator worksheet'!Q37=0,\"\",'TOC generator worksheet'!Q37)","v":""},{"$f":"IF('TOC generator worksheet'!R37=0,\"\",'TOC generator worksheet'!R37)","v":""},{"$f":"IF('TOC generator worksheet'!S37=0,\"\",'TOC generator worksheet'!S37)","v":""},0,0,{"$f":"IF('TOC generator worksheet'!V37=0,\"\",'TOC generator worksheet'!V37)","v":""},null,{"$f":"ProjectRecords!J38","v":0},{"$f":"ProjectRecords!K38","v":0}]
[{"$f":"IF(LEFT(ProjectRecords!D39,2)=\"\",\"\",HYPERLINK(\"#'\"&ProjectRecords!B39&\"'!$A$10\",LEFT(ProjectRecords!D39,2)))","v":""},{"$f":"IF(LEFT(ProjectRecords!D39,2)=\"\",\"\",HYPERLINK(\"#'\"&ProjectRecords!B39&\"'!$B$10\",MID(ProjectRecords!D39,3,99)))","v":""},"",{"$f":"IF(LEN(ProjectRecords!L39)<2,\"\",HYPERLINK(\"#'\"&ProjectRecords!B39&\"'!$B$13\",(ProjectRecords!L39)&IF(LEN(ProjectRecords!N39)<2,\"\",\", \"&ProjectRecords!N39)&IF(LEN(ProjectRecords!P39)<2,\"\",\", \"&ProjectRecords!P39)&IF(LEN(ProjectRecords!R39)<2,\"\",\", \"&ProjectRecords!R39)))","v":""},{"$f":"IF(LEN(ProjectRecords!E39)<2,\"\",HYPERLINK(\"#'\"&ProjectRecords!B39&\"'!$B$7\",LEFT(ProjectRecords!E39,250)))","v":""},{"$f":"IF(LEN(ProjectRecords!C39)<2,\"\",HYPERLINK(\"#'\"&ProjectRecords!B39&\"'!$B$7\",ProjectRecords!C39))","v":""},{"$f":"IF('TOC generator worksheet'!L38=0,\"\",'TOC generator worksheet'!L38)","v":""},{"$f":"IF('TOC generator worksheet'!M38=0,\"\",'TOC generator worksheet'!M38)","v":""},{"$f":"IF('TOC generator worksheet'!N38=0,\"\",'TOC generator worksheet'!N38)","v":""},{"$f":"IF('TOC generator worksheet'!O38=0,\"\",'TOC generator worksheet'!O38)","v":""},{"$f":"IF('TOC generator worksheet'!P38=0,\"\",'TOC generator worksheet'!P38)","v":""},{"$f":"IF('TOC generator worksheet'!Q38=0,\"\",'TOC generator worksheet'!Q38)","v":""},{"$f":"IF('TOC generator worksheet'!R38=0,\"\",'TOC generator worksheet'!R38)","v":""},{"$f":"IF('TOC generator worksheet'!S38=0,\"\",'TOC generator worksheet'!S38)","v":""},0,0,{"$f":"IF('TOC generator worksheet'!V38=0,\"\",'TOC generator worksheet'!V38)","v":""},null,{"$f":"ProjectRecords!J39","v":0},{"$f":"ProjectRecords!K39","v":0}]
[{"$f":"IF(LEFT(ProjectRecords!D40,2)=\"\",\"\",HYPERLINK(\"#'\"&ProjectRecords!B40&\"'!$A$10\",LEFT(ProjectRecords!D40,2)))","v":""},{"$f":"IF(LEFT(ProjectRecords!D40,2)=\"\",\"\",HYPERLINK(\"#'\"&ProjectRecords!B40&\"'!$B$10\",MID(ProjectRecords!D40,3,99)))","v":""},"",{"$f":"IF(LEN(ProjectRecords!L40)<2,\"\",HYPERLINK(\"#'\"&ProjectRecords!B40&\"'!$B$13\",(ProjectRecords!L40)&IF(LEN(ProjectRecords!N40)<2,\"\",\", \"&ProjectRecords!N40)&IF(LEN(ProjectRecords!P40)<2,\"\",\", \"&ProjectRecords!P40)&IF(LEN(ProjectRecords!R40)<2,\"\",\", \"&ProjectRecords!R40)))","v":""},{"$f":"IF(LEN(ProjectRecords!E40)<2,\"\",HYPERLINK(\"#'\"&ProjectRecords!B40&\"'!$B$7\",LEFT(ProjectRecords!E40,250)))","v":""},{"$f":"IF(LEN(ProjectRecords!C40)<2,\"\",HYPERLINK(\"#'\"&ProjectRecords!B40&\"'!$B$7\",ProjectRecords!C40))","v":""},{"$f":"IF('TOC generator worksheet'!L39=0,\"\",'TOC generator worksheet'!L39)","v":""},{"$f":"IF('TOC generator worksheet'!M39=0,\"\",'TOC generator worksheet'!M39)","v":""},{"$f":"IF('TOC generator worksheet'!N39=0,\"\",'TOC generator worksheet'!N39)","v":""},{"$f":"IF('TOC generator worksheet'!O39=0,\"\",'TOC generator worksheet'!O39)","v":""},{"$f":"IF('TOC generator worksheet'!P39=0,\"\",'TOC generator worksheet'!P39)","v":""},{"$f":"IF('TOC generator worksheet'!Q39=0,\"\",'TOC generator worksheet'!Q39)","v":""},{"$f":"IF('TOC generator worksheet'!R39=0,\"\",'TOC generator worksheet'!R39)","v":""},{"$f":"IF('TOC generator worksheet'!S39=0,\"\",'TOC generator worksheet'!S39)","v":""},0,0,{"$f":"IF('TOC generator worksheet'!V39=0,\"\",'TOC generator worksheet'!V39)","v":""},null,{"$f":"ProjectRecords!J40","v":0},{"$f":"ProjectRecords!K40","v":0}]
[{"$f":"IF(LEFT(ProjectRecords!D41,2)=\"\",\"\",HYPERLINK(\"#'\"&ProjectRecords!B41&\"'!$A$10\",LEFT(ProjectRecords!D41,2)))","v":""},{"$f":"IF(LEFT(ProjectRecords!D41,2)=\"\",\"\",HYPERLINK(\"#'\"&ProjectRecords!B41&\"'!$B$10\",MID(ProjectRecords!D41,3,99)))","v":""},"",{"$f":"IF(LEN(ProjectRecords!L41)<2,\"\",HYPERLINK(\"#'\"&ProjectRecords!B41&\"'!$B$13\",(ProjectRecords!L41)&IF(LEN(ProjectRecords!N41)<2,\"\",\", \"&ProjectRecords!N41)&IF(LEN(ProjectRecords!P41)<2,\"\",\", \"&ProjectRecords!P41)&IF(LEN(ProjectRecords!R41)<2,\"\",\", \"&ProjectRecords!R41)))","v":""},{"$f":"IF(LEN(ProjectRecords!E41)<2,\"\",HYPERLINK(\"#'\"&ProjectRecords!B41&\"'!$B$7\",LEFT(ProjectRecords!E41,250)))","v":""},{"$f":"IF(LEN(ProjectRecords!C41)<2,\"\",HYPERLINK(\"#'\"&ProjectRecords!B41&\"'!$B$7\",ProjectRecords!C41))","v":""},{"$f":"IF('TOC generator worksheet'!L40=0,\"\",'TOC generator worksheet'!L40)","v":""},{"$f":"IF('TOC generator worksheet'!M40=0,\"\",'TOC generator worksheet'!M40)","v":""},{"$f":"IF('TOC generator worksheet'!N40=0,\"\",'TOC generator worksheet'!N40)","v":""},{"$f":"IF('TOC generator worksheet'!O40=0,\"\",'TOC generator worksheet'!O40)","v":""},{"$f":"IF('TOC generator worksheet'!P40=0,\"\",'TOC generator worksheet'!P40)","v":""},{"$f":"IF('TOC generator worksheet'!Q40=0,\"\",'TOC generator worksheet'!Q40)","v":""},{"$f":"IF('TOC generator worksheet'!R40=0,\"\",'TOC generator worksheet'!R40)","v":""},{"$f":"IF('TOC generator worksheet'!S40=0,\"\",'TOC generator worksheet'!S40)","v":""},0,0,{"$f":"IF('TOC generator worksheet'!V40=0,\"\",'TOC generator worksheet'!V40)","v":""},null,{"$f":"ProjectRecords!J41","v":0},{"$f":"ProjectRecords!K41","v":0}]
[{"$f":"IF(LEFT(ProjectRecords!D42,2)=\"\",\"\",HYPERLINK(\"#'\"&ProjectRecords!B42&\"'!$A$10\",LEFT(ProjectRecords!D42,2)))","v":""},{"$f":"IF(LEFT(ProjectRecords!D42,2)=\"\",\"\",HYPERLINK(\"#'\"&ProjectRecords!B42&\"'!$B$10\",MID(ProjectRecords!D42,3,99)))","v":""},"",{"$f":"IF(LEN(ProjectRecords!L42)<2,\"\",HYPERLINK(\"#'\"&ProjectRecords!B42&\"'!$B$13\",(ProjectRecords!L42)&IF(LEN(ProjectRecords!N42)<2,\"\",\", \"&ProjectRecords!N42)&IF(LEN(ProjectRecords!P42)<2,\"\",\", \"&ProjectRecords!P42)&IF(LEN(ProjectRecords!R42)<2,\"\",\", \"&ProjectRecords!R42)))","v":""},{"$f":"IF(LEN(ProjectRecords!E42)<2,\"\",HYPERLINK(\"#'\"&ProjectRecords!B42&\"'!$B$7\",LEFT(ProjectRecords!E42,250)))","v":""},{"$f":"IF(LEN(ProjectRecords!C42)<2,\"\",HYPERLINK(\"#'\"&ProjectRecords!B42&\"'!$B$7\",ProjectRecords!C42))","v":""},{"$f":"IF('TOC generator worksheet'!L41=0,\"\",'TOC generator worksheet'!L41)","v":""},{"$f":"IF('TOC generator worksheet'!M41=0,\"\",'TOC generator worksheet'!M41)","v":""},{"$f":"IF('TOC generator worksheet'!N41=0,\"\",'TOC generator worksheet'!N41)","v":""},{"$f":"IF('TOC generator worksheet'!O41=0,\"\",'TOC generator worksheet'!O41)","v":""},{"$f":"IF('TOC generator worksheet'!P41=0,\"\",'TOC generator worksheet'!P41)","v":""},{"$f":"IF('TOC generator worksheet'!Q41=0,\"\",'TOC generator worksheet'!Q41)","v":""},{"$f":"IF('TOC generator worksheet'!R41=0,\"\",'TOC generator worksheet'!R41)","v":""},{"$f":"IF('TOC generator worksheet'!S41=0,\"\",'TOC generator worksheet'!S41)","v":""},0,0,{"$f":"IF('TOC generator worksheet'!V41=0,\"\",'TOC generator worksheet'!V41)","v":""},null,{"$f":"ProjectRecords!J42","v":0},{"$f":"ProjectRecords!K42","v":0}]
[{"$f":"IF(LEFT(ProjectRecords!D43,2)=\"\",\"\",HYPERLINK(\"#'\"&ProjectRecords!B43&\"'!$A$10\",LEFT(ProjectRecords!D43,2)))","v":""},{"$f":"IF(LEFT(ProjectRecords!D43,2)=\"\",\"\",HYPERLINK(\"#'\"&ProjectRecords!B43&\"'!$B$10\",MID(ProjectRecords!D43,3,99)))","v":""},"",{"$f":"IF(LEN(ProjectRecords!L43)<2,\"\",HYPERLINK(\"#'\"&ProjectRecords!B43&\"'!$B$13\",(ProjectRecords!L43)&IF(LEN(ProjectRecords!N43)<2,\"\",\", \"&ProjectRecords!N43)&IF(LEN(ProjectRecords!P43)<2,\"\",\", \"&ProjectRecords!P43)&IF(LEN(ProjectRecords!R43)<2,\"\",\", \"&ProjectRecords!R43)))","v":""},{"$f":"IF(LEN(ProjectRecords!E43)<2,\"\",HYPERLINK(\"#'\"&ProjectRecords!B43&\"'!$B$7\",LEFT(ProjectRecords!E43,250)))","v":""},{"$f":"IF(LEN(ProjectRecords!C43)<2,\"\",HYPERLINK(\"#'\"&ProjectRecords!B43&\"'!$B$7\",ProjectRecords!C43))","v":""},{"$f":"IF('TOC generator worksheet'!L42=0,\"\",'TOC generator worksheet'!L42)","v":""},{"$f":"IF('TOC generator worksheet'!M42=0,\"\",'TOC generator worksheet'!M42)","v":""},{"$f":"IF('TOC generator worksheet'!N42=0,\"\",'TOC generator worksheet'!N42)","v":""},{"$f":"IF('TOC generator worksheet'!O42=0,\"\",'TOC generator worksheet'!O42)","v":""},{"$f":"IF('TOC generator worksheet'!P42=0,\"\",'TOC generator worksheet'!P42)","v":""},{"$f":"IF('TOC generator worksheet'!Q42=0,\"\",'TOC generator worksheet'!Q42)","v":""},{"$f":"IF('TOC generator worksheet'!R42=0,\"\",'TOC generator worksheet'!R42)","v":""},{"$f":"IF('TOC generator worksheet'!S42=0,\"\",'TOC generator worksheet'!S42)","v":""},0,0,{"$f":"IF('TOC generator worksheet'!V42=0,\"\",'TOC generator worksheet'!V42)","v":""},null,{"$f":"ProjectRecords!J43","v":0},{"$f":"ProjectRecords!K43","v":0}]
[{"$f":"IF(LEFT(ProjectRecords!D44,2)=\"\",\"\",HYPERLINK(\"#'\"&ProjectRecords!B44&\"'!$A$10\",LEFT(ProjectRecords!D44,2)))","v":""},{"$f":"IF(LEFT(ProjectRecords!D44,2)=\"\",\"\",HYPERLINK(\"#'\"&ProjectRecords!B44&\"'!$B$10\",MID(ProjectRecords!D44,3,99)))","v":""},"",{"$f":"IF(LEN(ProjectRecords!L44)<2,\"\",HYPERLINK(\"#'\"&ProjectRecords!B44&\"'!$B$13\",(ProjectRecords!L44)&IF(LEN(ProjectRecords!N44)<2,\"\",\", \"&ProjectRecords!N44)&IF(LEN(ProjectRecords!P44)<2,\"\",\", \"&ProjectRecords!P44)&IF(LEN(ProjectRecords!R44)<2,\"\",\", \"&ProjectRecords!R44)))","v":""},{"$f":"IF(LEN(ProjectRecords!E44)<2,\"\",HYPERLINK(\"#'\"&ProjectRecords!B44&\"'!$B$7\",LEFT(ProjectRecords!E44,250)))","v":""},{"$f":"IF(LEN(ProjectRecords!C44)<2,\"\",HYPERLINK(\"#'\"&ProjectRecords!B44&\"'!$B$7\",ProjectRecords!C44))","v":""},{"$f":"IF('TOC generator worksheet'!L43=0,\"\",'TOC generator worksheet'!L43)","v":""},{"$f":"IF('TOC generator worksheet'!M43=0,\"\",'TOC generator worksheet'!M43)","v":""},{"$f":"IF('TOC generator worksheet'!N43=0,\"\",'TOC generator worksheet'!N43)","v":""},{"$f":"IF('TOC generator worksheet'!O43=0,\"\",'TOC generator worksheet'!O43)","v":""},{"$f":"IF('TOC generator worksheet'!P43=0,\"\",'TOC generator worksheet'!P43)","v":""},{"$f":"IF('TOC generator worksheet'!Q43=0,\"\",'TOC generator worksheet'!Q43)","v":""},{"$f":"IF('TOC generator worksheet'!R43=0,\"\",'TOC generator worksheet'!R43)","v":""},{"$f":"IF('TOC generator worksheet'!S43=0,\"\",'TOC generator worksheet'!S43)","v":""},0,0,{"$f":"IF('TOC generator worksheet'!V43=0,\"\",'TOC generator worksheet'!V43)","v":""},null,{"$f":"ProjectRecords!J44","v":0},{"$f":"ProjectRecords!K44","v":0}]
[{"$f":"IF(LEFT(ProjectRecords!D45,2)=\"\",\"\",HYPERLINK(\"#'\"&ProjectRecords!B45&\"'!$A$10\",LEFT(ProjectRecords!D45,2)))","v":""},{"$f":"IF(LEFT(ProjectRecords!D45,2)=\"\",\"\",HYPERLINK(\"#'\"&ProjectRecords!B45&\"'!$B$10\",MID(ProjectRecords!D45,3,99)))","v":""},"",{"$f":"IF(LEN(ProjectRecords!L45)<2,\"\",HYPERLINK(\"#'\"&ProjectRecords!B45&\"'!$B$13\",(ProjectRecords!L45)&IF(LEN(ProjectRecords!N45)<2,\"\",\", \"&ProjectRecords!N45)&IF(LEN(ProjectRecords!P45)<2,\"\",\", \"&ProjectRecords!P45)&IF(LEN(ProjectRecords!R45)<2,\"\",\", \"&ProjectRecords!R45)))","v":""},{"$f":"IF(LEN(ProjectRecords!E45)<2,\"\",HYPERLINK(\"#'\"&ProjectRecords!B45&\"'!$B$7\",LEFT(ProjectRecords!E45,250)))","v":""},{"$f":"IF(LEN(ProjectRecords!C45)<2,\"\",HYPERLINK(\"#'\"&ProjectRecords!B45&\"'!$B$7\",ProjectRecords!C45))","v":""},{"$f":"IF('TOC generator worksheet'!L44=0,\"\",'TOC generator worksheet'!L44)","v":""},{"$f":"IF('TOC generator worksheet'!M44=0,\"\",'TOC generator worksheet'!M44)","v":""},{"$f":"IF('TOC generator worksheet'!N44=0,\"\",'TOC generator worksheet'!N44)","v":""},{"$f":"IF('TOC generator worksheet'!O44=0,\"\",'TOC generator worksheet'!O44)","v":""},{"$f":"IF('TOC generator worksheet'!P44=0,\"\",'TOC generator worksheet'!P44)","v":""},{"$f":"IF('TOC generator worksheet'!Q44=0,\"\",'TOC generator worksheet'!Q44)","v":""},{"$f":"IF('TOC generator worksheet'!R44=0,\"\",'TOC generator worksheet'!R44)","v":""},{"$f":"IF('TOC generator worksheet'!S44=0,\"\",'TOC generator worksheet'!S44)","v":""},0,0,{"$f":"IF('TOC generator worksheet'!V44=0,\"\",'TOC generator worksheet'!V44)","v":""},null,{"$f":"ProjectRecords!J45","v":0},{"$f":"ProjectRecords!K45","v":0}]
[{"$f":"IF(LEFT(ProjectRecords!D46,2)=\"\",\"\",HYPERLINK(\"#'\"&ProjectRecords!B46&\"'!$A$10\",LEFT(ProjectRecords!D46,2)))","v":""},{"$f":"IF(LEFT(ProjectRecords!D46,2)=\"\",\"\",HYPERLINK(\"#'\"&ProjectRecords!B46&\"'!$B$10\",MID(ProjectRecords!D46,3,99)))","v":""},"",{"$f":"IF(LEN(ProjectRecords!L46)<2,\"\",HYPERLINK(\"#'\"&ProjectRecords!B46&\"'!$B$13\",(ProjectRecords!L46)&IF(LEN(ProjectRecords!N46)<2,\"\",\", \"&ProjectRecords!N46)&IF(LEN(ProjectRecords!P46)<2,\"\",\", \"&ProjectRecords!P46)&IF(LEN(ProjectRecords!R46)<2,\"\",\", \"&ProjectRecords!R46)))","v":""},{"$f":"IF(LEN(ProjectRecords!E46)<2,\"\",HYPERLINK(\"#'\"&ProjectRecords!B46&\"'!$B$7\",LEFT(ProjectRecords!E46,250)))","v":""},{"$f":"IF(LEN(ProjectRecords!C46)<2,\"\",HYPERLINK(\"#'\"&ProjectRecords!B46&\"'!$B$7\",ProjectRecords!C46))","v":""},{"$f":"IF('TOC generator worksheet'!L45=0,\"\",'TOC generator worksheet'!L45)","v":""},{"$f":"IF('TOC generator worksheet'!M45=0,\"\",'TOC generator worksheet'!M45)","v":""},{"$f":"IF('TOC generator worksheet'!N45=0,\"\",'TOC generator worksheet'!N45)","v":""},{"$f":"IF('TOC generator worksheet'!O45=0,\"\",'TOC generator worksheet'!O45)","v":""},{"$f":"IF('TOC generator worksheet'!P45=0,\"\",'TOC generator worksheet'!P45)","v":""},{"$f":"IF('TOC generator worksheet'!Q45=0,\"\",'TOC generator worksheet'!Q45)","v":""},{"$f":"IF('TOC generator worksheet'!R45=0,\"\",'TOC generator worksheet'!R45)","v":""},{"$f":"IF('TOC generator worksheet'!S45=0,\"\",'TOC generator worksheet'!S45)","v":""},0,0,{"$f":"IF('TOC generator worksheet'!V45=0,\"\",'TOC generator worksheet'!V45)","v":""},null,{"$f":"ProjectRecords!J46","v":0},{"$f":"ProjectRecords!K46","v":0}]
[{"$f":"IF(LEFT(ProjectRecords!D47,2)=\"\",\"\",HYPERLINK(\"#'\"&ProjectRecords!B47&\"'!$A$10\",LEFT(ProjectRecords!D47,2)))","v":""},{"$f":"IF(LEFT(ProjectRecords!D47,2)=\"\",\"\",HYPERLINK(\"#'\"&ProjectRecords!B47&\"'!$B$10\",MID(ProjectRecords!D47,3,99)))","v":""},"",{"$f":"IF(LEN(ProjectRecords!L47)<2,\"\",HYPERLINK(\"#'\"&ProjectRecords!B47&\"'!$B$13\",(ProjectRecords!L47)&IF(LEN(ProjectRecords!N47)<2,\"\",\", \"&ProjectRecords!N47)&IF(LEN(ProjectRecords!P47)<2,\"\",\", \"&ProjectRecords!P47)&IF(LEN(ProjectRecords!R47)<2,\"\",\", \"&ProjectRecords!R47)))","v":""},{"$f":"IF(LEN(ProjectRecords!E47)<2,\"\",HYPERLINK(\"#'\"&ProjectRecords!B47&\"'!$B$7\",LEFT(ProjectRecords!E47,250)))","v":""},{"$f":"IF(LEN(ProjectRecords!C47)<2,\"\",HYPERLINK(\"#'\"&ProjectRecords!B47&\"'!$B$7\",ProjectRecords!C47))","v":""},{"$f":"IF('TOC generator worksheet'!L46=0,\"\",'TOC generator worksheet'!L46)","v":""},{"$f":"IF('TOC generator worksheet'!M46=0,\"\",'TOC generator worksheet'!M46)","v":""},{"$f":"IF('TOC generator worksheet'!N46=0,\"\",'TOC generator worksheet'!N46)","v":""},{"$f":"IF('TOC generator worksheet'!O46=0,\"\",'TOC generator worksheet'!O46)","v":""},{"$f":"IF('TOC generator worksheet'!P46=0,\"\",'TOC generator worksheet'!P46)","v":""},{"$f":"IF('TOC generator worksheet'!Q46=0,\"\",'TOC generator worksheet'!Q46)","v":""},{"$f":"IF('TOC generator worksheet'!R46=0,\"\",'TOC generator worksheet'!R46)","v":""},{"$f":"IF('TOC generator worksheet'!S46=0,\"\",'TOC generator worksheet'!S46)","v":""},0,0,{"$f":"IF('TOC generator worksheet'!V46=0,\"\",'TOC generator worksheet'!V46)","v":""},null,{"$f":"ProjectRecords!J47","v":0},{"$f":"ProjectRecords!K47","v":0}]
[{"$f":"IF(LEFT(ProjectRecords!D48,2)=\"\",\"\",HYPERLINK(\"#'\"&ProjectRecords!B48&\"'!$A$10\",LEFT(ProjectRecords!D48,2)))","v":""},{"$f":"IF(LEFT(ProjectRecords!D48,2)=\"\",\"\",HYPERLINK(\"#'\"&ProjectRecords!B48&\"'!$B$10\",MID(ProjectRecords!D48,3,99)))","v":""},"",{"$f":"IF(LEN(ProjectRecords!L48)<2,\"\",HYPERLINK(\"#'\"&ProjectRecords!B48&\"'!$B$13\",(ProjectRecords!L48)&IF(LEN(ProjectRecords!N48)<2,\"\",\", \"&ProjectRecords!N48)&IF(LEN(ProjectRecords!P48)<2,\"\",\", \"&ProjectRecords!P48)&IF(LEN(ProjectRecords!R48)<2,\"\",\", \"&ProjectRecords!R48)))","v":""},{"$f":"IF(LEN(ProjectRecords!E48)<2,\"\",HYPERLINK(\"#'\"&ProjectRecords!B48&\"'!$B$7\",LEFT(ProjectRecords!E48,250)))","v":""},{"$f":"IF(LEN(ProjectRecords!C48)<2,\"\",HYPERLINK(\"#'\"&ProjectRecords!B48&\"'!$B$7\",ProjectRecords!C48))","v":""},{"$f":"IF('TOC generator worksheet'!L47=0,\"\",'TOC generator worksheet'!L47)","v":""},{"$f":"IF('TOC generator worksheet'!M47=0,\"\",'TOC generator worksheet'!M47)","v":""},{"$f":"IF('TOC generator worksheet'!N47=0,\"\",'TOC generator worksheet'!N47)","v":""},{"$f":"IF('TOC generator worksheet'!O47=0,\"\",'TOC generator worksheet'!O47)","v":""},{"$f":"IF('TOC generator worksheet'!P47=0,\"\",'TOC generator worksheet'!P47)","v":""},{"$f":"IF('TOC generator worksheet'!Q47=0,\"\",'TOC generator worksheet'!Q47)","v":""},{"$f":"IF('TOC generator worksheet'!R47=0,\"\",'TOC generator worksheet'!R47)","v":""},{"$f":"IF('TOC generator worksheet'!S47=0,\"\",'TOC generator worksheet'!S47)","v":""},0,0,{"$f":"IF('TOC generator worksheet'!V47=0,\"\",'TOC generator worksheet'!V47)","v":""},null,{"$f":"ProjectRecords!J48","v":0},{"$f":"ProjectRecords!K48","v":0}]
[{"$f":"IF(LEFT(ProjectRecords!D49,2)=\"\",\"\",HYPERLINK(\"#'\"&ProjectRecords!B49&\"'!$A$10\",LEFT(ProjectRecords!D49,2)))","v":""},{"$f":"IF(LEFT(ProjectRecords!D49,2)=\"\",\"\",HYPERLINK(\"#'\"&ProjectRecords!B49&\"'!$B$10\",MID(ProjectRecords!D49,3,99)))","v":""},"",{"$f":"IF(LEN(ProjectRecords!L49)<2,\"\",HYPERLINK(\"#'\"&ProjectRecords!B49&\"'!$B$13\",(ProjectRecords!L49)&IF(LEN(ProjectRecords!N49)<2,\"\",\", \"&ProjectRecords!N49)&IF(LEN(ProjectRecords!P49)<2,\"\",\", \"&ProjectRecords!P49)&IF(LEN(ProjectRecords!R49)<2,\"\",\", \"&ProjectRecords!R49)))","v":""},{"$f":"IF(LEN(ProjectRecords!E49)<2,\"\",HYPERLINK(\"#'\"&ProjectRecords!B49&\"'!$B$7\",LEFT(ProjectRecords!E49,250)))","v":""},{"$f":"IF(LEN(ProjectRecords!C49)<2,\"\",HYPERLINK(\"#'\"&ProjectRecords!B49&\"'!$B$7\",ProjectRecords!C49))","v":""},{"$f":"IF('TOC generator worksheet'!L48=0,\"\",'TOC generator worksheet'!L48)","v":""},{"$f":"IF('TOC generator worksheet'!M48=0,\"\",'TOC generator worksheet'!M48)","v":""},{"$f":"IF('TOC generator worksheet'!N48=0,\"\",'TOC generator worksheet'!N48)","v":""},{"$f":"IF('TOC generator worksheet'!O48=0,\"\",'TOC generator worksheet'!O48)","v":""},{"$f":"IF('TOC generator worksheet'!P48=0,\"\",'TOC generator worksheet'!P48)","v":""},{"$f":"IF('TOC generator worksheet'!Q48=0,\"\",'TOC generator worksheet'!Q48)","v":""},{"$f":"IF('TOC generator worksheet'!R48=0,\"\",'TOC generator worksheet'!R48)","v":""},{"$f":"IF('TOC generator worksheet'!S48=0,\"\",'TOC generator worksheet'!S48)","v":""},0,0,{"$f":"IF('TOC generator worksheet'!V48=0,\"\",'TOC generator worksheet'!V48)","v":""},null,{"$f":"ProjectRecords!J49","v":0},{"$f":"ProjectRecords!K49","v":0}]
[{"$f":"IF(LEFT(ProjectRecords!D50,2)=\"\",\"\",HYPERLINK(\"#'\"&ProjectRecords!B50&\"'!$A$10\",LEFT(ProjectRecords!D50,2)))","v":""},{"$f":"IF(LEFT(ProjectRecords!D50,2)=\"\",\"\",HYPERLINK(\"#'\"&ProjectRecords!B50&\"'!$B$10\",MID(ProjectRecords!D50,3,99)))","v":""},"",{"$f":"IF(LEN(ProjectRecords!L50)<2,\"\",HYPERLINK(\"#'\"&ProjectRecords!B50&\"'!$B$13\",(ProjectRecords!L50)&IF(LEN(ProjectRecords!N50)<2,\"\",\", \"&ProjectRecords!N50)&IF(LEN(ProjectRecords!P50)<2,\"\",\", \"&ProjectRecords!P50)&IF(LEN(ProjectRecords!R50)<2,\"\",\", \"&ProjectRecords!R50)))","v":""},{"$f":"IF(LEN(ProjectRecords!E50)<2,\"\",HYPERLINK(\"#'\"&ProjectRecords!B50&\"'!$B$7\",LEFT(ProjectRecords!E50,250)))","v":""},{"$f":"IF(LEN(ProjectRecords!C50)<2,\"\",HYPERLINK(\"#'\"&ProjectRecords!B50&\"'!$B$7\",ProjectRecords!C50))","v":""},{"$f":"IF('TOC generator worksheet'!L49=0,\"\",'TOC generator worksheet'!L49)","v":""},{"$f":"IF('TOC generator worksheet'!M49=0,\"\",'TOC generator worksheet'!M49)","v":""},{"$f":"IF('TOC generator worksheet'!N49=0,\"\",'TOC generator worksheet'!N49)","v":""},{"$f":"IF('TOC generator worksheet'!O49=0,\"\",'TOC generator worksheet'!O49)","v":""},{"$f":"IF('TOC generator worksheet'!P49=0,\"\",'TOC generator worksheet'!P49)","v":""},{"$f":"IF('TOC generator worksheet'!Q49=0,\"\",'TOC generator worksheet'!Q49)","v":""},{"$f":"IF('TOC generator worksheet'!R49=0,\"\",'TOC generator worksheet'!R49)","v":""},{"$f":"IF('TOC generator worksheet'!S49=0,\"\",'TOC generator worksheet'!S49)","v":""},0,0,{"$f":"IF('TOC generator worksheet'!V49=0,\"\",'TOC generator worksheet'!V49)","v":""},null,{"$f":"ProjectRecords!J50","v":0},{"$f":"ProjectRecords!K50","v":0}]
[{"$f":"IF(LEFT(ProjectRecords!D51,2)=\"\",\"\",HYPERLINK(\"#'\"&ProjectRecords!B51&\"'!$A$10\",LEFT(ProjectRecords!D51,2)))","v":""},{"$f":"IF(LEFT(ProjectRecords!D51,2)=\"\",\"\",HYPERLINK(\"#'\"&ProjectRecords!B51&\"'!$B$10\",MID(ProjectRecords!D51,3,99)))","v":""},"",{"$f":"IF(LEN(ProjectRecords!L51)<2,\"\",HYPERLINK(\"#'\"&ProjectRecords!B51&\"'!$B$13\",(ProjectRecords!L51)&IF(LEN(ProjectRecords!N51)<2,\"\",\", \"&ProjectRecords!N51)&IF(LEN(ProjectRecords!P51)<2,\"\",\", \"&ProjectRecords!P51)&IF(LEN(ProjectRecords!R51)<2,\"\",\", \"&ProjectRecords!R51)))","v":""},{"$f":"IF(LEN(ProjectRecords!E51)<2,\"\",HYPERLINK(\"#'\"&ProjectRecords!B51&\"'!$B$7\",LEFT(ProjectRecords!E51,250)))","v":""},{"$f":"IF(LEN(ProjectRecords!C51)<2,\"\",HYPERLINK(\"#'\"&ProjectRecords!B51&\"'!$B$7\",ProjectRecords!C51))","v":""},{"$f":"IF('TOC generator worksheet'!L50=0,\"\",'TOC generator worksheet'!L50)","v":""},{"$f":"IF('TOC generator worksheet'!M50=0,\"\",'TOC generator worksheet'!M50)","v":""},{"$f":"IF('TOC generator worksheet'!N50=0,\"\",'TOC generator worksheet'!N50)","v":""},{"$f":"IF('TOC generator worksheet'!O50=0,\"\",'TOC generator worksheet'!O50)","v":""},{"$f":"IF('TOC generator worksheet'!P50=0,\"\",'TOC generator worksheet'!P50)","v":""},{"$f":"IF('TOC generator worksheet'!Q50=0,\"\",'TOC generator worksheet'!Q50)","v":""},{"$f":"IF('TOC generator worksheet'!R50=0,\"\",'TOC generator worksheet'!R50)","v":""},{"$f":"IF('TOC generator worksheet'!S50=0,\"\",'TOC generator worksheet'!S50)","v":""},{"$f":"SUM(G55,I55,K55,M55)","v":0},{"$f":"SUM(H55,J55,L55,N55)","v":0},{"$f":"IF('TOC generator worksheet'!V50=0,\"\",'TOC generator worksheet'!V50)","v":""},null,{"$f":"ProjectRecords!J51","v":0},{"$f":"ProjectRecords!K51","v":0}]
[{"$f":"IF(LEFT(ProjectRecords!D52,2)=\"\",\"\",HYPERLINK(\"#'\"&ProjectRecords!B52&\"'!$A$10\",LEFT(ProjectRecords!D52,2)))","v":""},{"$f":"IF(LEFT(ProjectRecords!D52,2)=\"\",\"\",HYPERLINK(\"#'\"&ProjectRecords!B52&\"'!$B$10\",MID(ProjectRecords!D52,3,99)))","v":""},"",{"$f":"IF(LEN(ProjectRecords!L52)<2,\"\",HYPERLINK(\"#'\"&ProjectRecords!B52&\"'!$B$13\",(ProjectRecords!L52)&IF(LEN(ProjectRecords!N52)<2,\"\",\", \"&ProjectRecords!N52)&IF(LEN(ProjectRecords!P52)<2,\"\",\", \"&ProjectRecords!P52)&IF(LEN(ProjectRecords!R52)<2,\"\",\", \"&ProjectRecords!R52)))","v":""},{"$f":"IF(LEN(ProjectRecords!E52)<2,\"\",HYPERLINK(\"#'\"&ProjectRecords!B52&\"'!$B$7\",LEFT(ProjectRecords!E52,250)))","v":""},{"$f":"IF(LEN(ProjectRecords!C52)<2,\"\",HYPERLINK(\"#'\"&ProjectRecords!B52&\"'!$B$7\",ProjectRecords!C52))","v":""},{"$f":"IF('TOC generator worksheet'!L51=0,\"\",'TOC generator worksheet'!L51)","v":""},{"$f":"IF('TOC generator worksheet'!M51=0,\"\",'TOC generator worksheet'!M51)","v":""},{"$f":"IF('TOC generator worksheet'!N51=0,\"\",'TOC generator worksheet'!N51)","v":""},{"$f":"IF('TOC generator worksheet'!O51=0,\"\",'TOC generator worksheet'!O51)","v":""},{"$f":"IF('TOC generator worksheet'!P51=0,\"\",'TOC generator worksheet'!P51)","v":""},{"$f":"IF('TOC generator worksheet'!Q51=0,\"\",'TOC generator worksheet'!Q51)","v":""},{"$f":"IF('TOC generator worksheet'!R51=0,\"\",'TOC generator worksheet'!R51)","v":""},{"$f":"IF('TOC generator worksheet'!S51=0,\"\",'TOC generator worksheet'!S51)","v":""},{"$f":"SUM(G56,I56,K56,M56)","v":0},{"$f":"SUM(H56,J56,L56,N56)","v":0},{"$f":"IF('TOC generator worksheet'!V51=0,\"\",'TOC generator worksheet'!V51)","v":""},null,{"$f":"ProjectRecords!J52","v":0},{"$f":"ProjectRecords!K52","v":0}]
["(no more than 50 projects)"]

{"sheet":"S1-Start Here","index":3,"n_rows":41,"n_cols":15,"rows_kept":41,"cut":false,"hidden":false,"merged":[]}
["NSGO use only: ",{"$f":"MID(CELL(\"filename\",'S1-Start Here'!B1),FIND(\"]\",CELL(\"filename\",'S1-Start Here'!B1))+1,24)","v":"S1-Start Here"},"OMB no. ","0648-0362, exp 2/28/2021",null,null,null,null,null,null,null,null,null,"S1-Start Here","(default worksheet name)"]
[null,null,"Don't use after","2019-04-30","Why?",null,null,null,null,null,null,null,null,{"$f":"IF(LEFT(N1,3)=\"S1-\",2,VALUE(MID(N1,2,99))+1)","v":2}]
[null,null,"updated","2018-10-16",null,null,null,null,null,null,null,null,null,null,"(temp workspace for a current cell value)"]
[null,"SEA GRANT PROJECT SUMMARY FORM 90-2",{"$f":"HYPERLINK(\"#'TableOfContents'!B6\",\"Jump to Table \nof Contents\")","v":"Jump to Table \nof Contents"},null,"National Office does not require uncolored fields:",null,"NSGO use only",null,null,null,null,null,null,"2378 Sustainable Fisheries and Aquaculture","(temp workspace for a new selected value)"]
[null,null,null,null,null,null,null,null,null,null,null,null,null,{"$f":"IF(N3=\"\",IF(N4=\"\",\"\",N4),IF(N4=\"\",N3,N3&\"; \"&N4))","v":"2378 Sustainable Fisheries and Aquaculture"},"(function to concatenate the above two cells)"]
["INSTITUTION (Program): ",{"$f":"INDIRECT(\"'ProjDataInput'!a\"&TEXT($N$2,\"###\"))&\"\"","v":""},null,null,null,null,{"$f":"\"\"&TableOfContents!G1","v":"uploaded by"}]
["TITLE: ",{"$f":"MID(INDIRECT(\"'ProjDataInput'!C\"&TEXT($N$2,\"###\")),1,999)","v":""},null,null,null,null,{"$f":"\"\"&TableOfContents!H1","v":"grant no"},null,null,null,null,null,null,{"$f":"IF('S1-Start Here'!B6=\"\",\"\",'S1-Start Here'!B6)","v":""},"(Program listed on first 90-2)"]
[null,null,null,"START DATE:",null,null,{"$f":"\"\"&TableOfContents!I1","v":"amd no"}]
["PREFIX (A,C,E,M,P or R): "," PROJECT NUMBER",null,"END DATE:",null,null,{"$f":"\"\"&TableOfContents!J1","v":"fund source"}]
[{"$f":"LEFT(INDIRECT(\"'ProjDataInput'!b\"&TEXT($N$2,\"###\")),2)","v":""},{"$f":"MID(INDIRECT(\"'ProjDataInput'!b\"&TEXT($N$2,\"###\")),3,999)","v":""},null,null,null,null,{"$f":"\"\"&TableOfContents!K1","v":""}]
["(every project must have a prefix)",{"$f":"IF(OR(LEFT(A10&\" \",1)=\"r\",AND(A10=\"\",LEFT(B10,1)=\"r\")),1,0)","v":0},null,null,null,null,{"$f":"\"\"&TableOfContents!L1","v":""}]
[null,null,null,"READINESS LEVELS:"]
["PI: ",{"$f":"MID(INDIRECT(\"'ProjDataInput'!j\"&TEXT($N$2,\"###\")),1,999)","v":""}]
["AFFILIATION: ",{"$f":"MID(INDIRECT(\"'ProjDataInput'!k\"&TEXT($N$2,\"###\")),1,999)","v":""},null,null,null,null,"Worksheet"]
[null,null,null,null,null,null,"tools:"]
["2nd PI: ",{"$f":"MID(INDIRECT(\"'ProjDataInput'!L\"&TEXT($N$2,\"###\")),1,999)","v":""}]
["AFFILIATION: ",{"$f":"MID(INDIRECT(\"'ProjDataInput'!m\"&TEXT($N$2,\"###\")),1,999)","v":""}]
[]
["3rd PI: ",{"$f":"MID(INDIRECT(\"'ProjDataInput'!n\"&TEXT($N$2,\"###\")),1,999)","v":""}]
["AFFILIATION: ",{"$f":"MID(INDIRECT(\"'ProjDataInput'!o\"&TEXT($N$2,\"###\")),1,999)","v":""}]
[]
["4th PI: ",{"$f":"MID(INDIRECT(\"'ProjDataInput'!p\"&TEXT($N$2,\"###\")),1,999)","v":""}]
["AFFILIATION: ",{"$f":"MID(INDIRECT(\"'ProjDataInput'!q\"&TEXT($N$2,\"###\")),1,999)","v":""}]
[]
["FEDERAL $ REQUEST: ",{"$f":"INDIRECT(\"'ProjDataInput'!h\"&TEXT($N$2,\"###\"))","v":0}]
["MATCH $: ",{"$f":"INDIRECT(\"'ProjDataInput'!i\"&TEXT($N$2,\"###\"))","v":0}]
[]
["CLASSIFICATION CODES: ",{"$f":"MID(INDIRECT(\"'ProjDataInput'!f\"&TEXT($N$2,\"###\")),1,999)","v":""}]
[null,"(Primary Code First)"]
["FOCUS AREAS: ",{"$f":"MID(INDIRECT(\"'ProjDataInput'!d\"&TEXT($N$2,\"###\")),1,999)","v":""}]
[null,"(Primary Focus Area First)"]
["PARTNERS: ",{"$f":"MID(INDIRECT(\"'ProjDataInput'!e\"&TEXT($N$2,\"###\")),1,999)","v":""}]
[]
["OBJECTIVES: ",{"$f":"MID(INDIRECT(\"'ProjDataInput'!g\"&TEXT($N$2,\"###\")),1,19999)","v":""},null,"MULTIPROGRAM? "]
[]
["METHODOLOGY: ",null,null,"OTHER INFORMATION: "]
[null,"(The Data Sharing Plan may be included in the Methodology section)"]
["RATIONALE: "]
[]
["DATA SHARING PLAN: ",{"$f":"MID(INDIRECT(\"'ProjDataInput'!r\"&TEXT($N$2,\"###\")),1,19999)","v":""}]
[null,"(Required for all research projects)"]

{"sheet":"S2","index":4,"n_rows":41,"n_cols":15,"rows_kept":41,"cut":false,"hidden":false,"merged":[]}
["NSGO use only: ",{"$f":"MID(CELL(\"filename\",'S2'!B1),FIND(\"]\",CELL(\"filename\",'S2'!B1))+1,24)","v":"S2"},"OMB no. ","0648-0362, exp 2/28/2021",null,null,null,null,null,null,null,null,null,"S2","(default worksheet name)"]
[null,30,"Don't use after","2019-04-30","Why?",null,null,null,null,null,null,null,null,{"$f":"IF(LEFT(N1,3)=\"S1-\",2,VALUE(MID(N1,2,99))+1)","v":3}]
[null,null,"updated","2018-10-16",null,null,null,null,null,null,null,null,null,"","(temp workspace for a current cell value)"]
[null,"SEA GRANT PROJECT SUMMARY FORM 90-2",{"$f":"HYPERLINK(\"#'TableOfContents'!B6\",\"Jump to Table \nof Contents\")","v":"Jump to Table \nof Contents"},null,"National Office does not require uncolored fields:",null,"NSGO use only",null,null,null,null,null,null,"023 Remediation","(temp workspace for a new selected value)"]
[null,null,null,null,null,null,null,null,null,null,null,null,null,{"$f":"IF(N3=\"\",IF(N4=\"\",\"\",N4),IF(N4=\"\",N3,N3&\"; \"&N4))","v":"023 Remediation"},"(function to concatenate the above two cells)"]
["INSTITUTION (Program): ",{"$f":"INDIRECT(\"'ProjDataInput'!a\"&TEXT($N$2,\"###\"))&\"\"","v":""},null,null,null,null,{"$f":"\"\"&TableOfContents!G1","v":"uploaded by"}]
["TITLE: ",{"$f":"MID(INDIRECT(\"'ProjDataInput'!C\"&TEXT($N$2,\"###\")),1,999)","v":""},null,null,null,null,{"$f":"\"\"&TableOfContents!H1","v":"grant no"},null,null,null,null,null,null,{"$f":"IF('S2'!B6=\"\",\"\",'S2'!B6)","v":""},"(Program listed on first 90-2)"]
[null,null,null,"START DATE:",null,null,{"$f":"\"\"&TableOfContents!I1","v":"amd no"}]
["PREFIX (A,C,E,M,P or R): "," PROJECT NUMBER",null,"END DATE:",null,null,{"$f":"\"\"&TableOfContents!J1","v":"fund source"}]
[{"$f":"LEFT(INDIRECT(\"'ProjDataInput'!b\"&TEXT($N$2,\"###\")),2)","v":""},{"$f":"MID(INDIRECT(\"'ProjDataInput'!b\"&TEXT($N$2,\"###\")),3,999)","v":""},null,null,null,null,{"$f":"\"\"&TableOfContents!K1","v":""}]
["(every project must have a prefix)",{"$f":"IF(OR(LEFT(A10&\" \",1)=\"r\",AND(A10=\"\",LEFT(B10,1)=\"r\")),1,0)","v":0},null,null,null,null,{"$f":"\"\"&TableOfContents!L1","v":""}]
[null,null,null,"READINESS LEVELS:"]
["PI: ",{"$f":"MID(INDIRECT(\"'ProjDataInput'!j\"&TEXT($N$2,\"###\")),1,999)","v":""}]
["AFFILIATION: ",{"$f":"MID(INDIRECT(\"'ProjDataInput'!k\"&TEXT($N$2,\"###\")),1,999)","v":""},null,null,null,null,"Worksheet"]
[null,null,null,null,null,null,"tools:"]
["2nd PI: ",{"$f":"MID(INDIRECT(\"'ProjDataInput'!L\"&TEXT($N$2,\"###\")),1,999)","v":""}]
["AFFILIATION: ",{"$f":"MID(INDIRECT(\"'ProjDataInput'!m\"&TEXT($N$2,\"###\")),1,999)","v":""}]
[]
["3rd PI: ",{"$f":"MID(INDIRECT(\"'ProjDataInput'!n\"&TEXT($N$2,\"###\")),1,999)","v":""}]
["AFFILIATION: ",{"$f":"MID(INDIRECT(\"'ProjDataInput'!o\"&TEXT($N$2,\"###\")),1,999)","v":""}]
[]
["4th PI: ",{"$f":"MID(INDIRECT(\"'ProjDataInput'!p\"&TEXT($N$2,\"###\")),1,999)","v":""}]
["AFFILIATION: ",{"$f":"MID(INDIRECT(\"'ProjDataInput'!q\"&TEXT($N$2,\"###\")),1,999)","v":""}]
[]
["FEDERAL $ REQUEST: ",{"$f":"INDIRECT(\"'ProjDataInput'!h\"&TEXT($N$2,\"###\"))","v":0}]
["MATCH $: ",{"$f":"INDIRECT(\"'ProjDataInput'!i\"&TEXT($N$2,\"###\"))","v":0}]
[]
["CLASSIFICATION CODES: ",{"$f":"MID(INDIRECT(\"'ProjDataInput'!f\"&TEXT($N$2,\"###\")),1,999)","v":""}]
[null,"(Primary Code First)"]
["FOCUS AREAS: ",{"$f":"MID(INDIRECT(\"'ProjDataInput'!d\"&TEXT($N$2,\"###\")),1,999)","v":""}]
[null,"(Primary Focus Area First)"]
["PARTNERS: ",{"$f":"MID(INDIRECT(\"'ProjDataInput'!e\"&TEXT($N$2,\"###\")),1,999)","v":""}]
[]
["OBJECTIVES: ",{"$f":"MID(INDIRECT(\"'ProjDataInput'!g\"&TEXT($N$2,\"###\")),1,19999)","v":""},null,"MULTIPROGRAM? "]
[]
["METHODOLOGY: ",null,null,"OTHER INFORMATION: "]
[]
["RATIONALE: "]
[]
["DATA SHARING PLAN: ",{"$f":"MID(INDIRECT(\"'ProjDataInput'!r\"&TEXT($N$2,\"###\")),1,19999)","v":""}]
[null,"(Required for all research projects)"]

{"sheet":"S3","index":5,"n_rows":41,"n_cols":15,"rows_kept":41,"cut":false,"hidden":true,"merged":[]}
["NSGO use only: ",{"$f":"MID(CELL(\"filename\",'S3'!B1),FIND(\"]\",CELL(\"filename\",'S3'!B1))+1,24)","v":"S3"},"OMB no. ","0648-0362, exp 2/28/2021",null,null,null,null,null,null,null,null,null,"S3","(default worksheet name)"]
[null,30,"Don't use after","2019-04-30","Why?",null,null,null,null,null,null,null,null,{"$f":"IF(LEFT(N1,3)=\"S1-\",2,VALUE(MID(N1,2,99))+1)","v":4}]
[null,null,"updated","2018-10-16",null,null,null,null,null,null,null,null,null,"","(temp workspace for a current cell value)"]
[null,"SEA GRANT PROJECT SUMMARY FORM 90-2",{"$f":"HYPERLINK(\"#'TableOfContents'!B6\",\"Jump to Table \nof Contents\")","v":"Jump to Table \nof Contents"},null,"National Office does not require uncolored fields:",null,"NSGO use only",null,null,null,null,null,null,"023 Remediation","(temp workspace for a new selected value)"]
[null,null,null,null,null,null,null,null,null,null,null,null,null,{"$f":"IF(N3=\"\",IF(N4=\"\",\"\",N4),IF(N4=\"\",N3,N3&\"; \"&N4))","v":"023 Remediation"},"(function to concatenate the above two cells)"]
["INSTITUTION (Program): ",{"$f":"INDIRECT(\"'ProjDataInput'!a\"&TEXT($N$2,\"###\"))&\"\"","v":""},null,null,null,null,{"$f":"\"\"&TableOfContents!G1","v":"uploaded by"}]
["TITLE: ",{"$f":"MID(INDIRECT(\"'ProjDataInput'!C\"&TEXT($N$2,\"###\")),1,999)","v":""},null,null,null,null,{"$f":"\"\"&TableOfContents!H1","v":"grant no"},null,null,null,null,null,null,{"$f":"IF('S3'!B6=\"\",\"\",'S3'!B6)","v":""},"(Program listed on first 90-2)"]
[null,null,null,"START DATE:",null,null,{"$f":"\"\"&TableOfContents!I1","v":"amd no"}]
["PREFIX (A,C,E,M,P or R): "," PROJECT NUMBER",null,"END DATE:",null,null,{"$f":"\"\"&TableOfContents!J1","v":"fund source"}]
[{"$f":"MID(INDIRECT(\"'ProjDataInput'!b\"&TEXT($N$2,\"###\")),1,2)","v":""},{"$f":"MID(INDIRECT(\"'ProjDataInput'!b\"&TEXT($N$2,\"###\")),3,999)","v":""},null,null,null,null,{"$f":"\"\"&TableOfContents!K1","v":""}]
["(every project must have a prefix)",{"$f":"IF(OR(LEFT(A10&\" \",1)=\"r\",AND(A10=\"\",LEFT(B10,1)=\"r\")),1,0)","v":0},null,null,null,null,{"$f":"\"\"&TableOfContents!L1","v":""}]
[null,null,null,"READINESS LEVELS:"]
["PI: ",{"$f":"MID(INDIRECT(\"'ProjDataInput'!j\"&TEXT($N$2,\"###\")),1,999)","v":""}]
["AFFILIATION: ",{"$f":"MID(INDIRECT(\"'ProjDataInput'!k\"&TEXT($N$2,\"###\")),1,999)","v":""},null,null,null,null,"Worksheet"]
[null,null,null,null,null,null,"tools:"]
["2nd PI: ",{"$f":"MID(INDIRECT(\"'ProjDataInput'!L\"&TEXT($N$2,\"###\")),1,999)","v":""}]
["AFFILIATION: ",{"$f":"MID(INDIRECT(\"'ProjDataInput'!m\"&TEXT($N$2,\"###\")),1,999)","v":""}]
[]
["3rd PI: ",{"$f":"MID(INDIRECT(\"'ProjDataInput'!n\"&TEXT($N$2,\"###\")),1,999)","v":""}]
["AFFILIATION: ",{"$f":"MID(INDIRECT(\"'ProjDataInput'!o\"&TEXT($N$2,\"###\")),1,999)","v":""}]
[]
["4th PI: ",{"$f":"MID(INDIRECT(\"'ProjDataInput'!p\"&TEXT($N$2,\"###\")),1,999)","v":""}]
["AFFILIATION: ",{"$f":"MID(INDIRECT(\"'ProjDataInput'!q\"&TEXT($N$2,\"###\")),1,999)","v":""}]
[]
["FEDERAL $ REQUEST: ",{"$f":"INDIRECT(\"'ProjDataInput'!h\"&TEXT($N$2,\"###\"))","v":0}]
["MATCH $: ",{"$f":"INDIRECT(\"'ProjDataInput'!i\"&TEXT($N$2,\"###\"))","v":0}]
[]
["CLASSIFICATION CODES: ",{"$f":"MID(INDIRECT(\"'ProjDataInput'!f\"&TEXT($N$2,\"###\")),1,999)","v":""}]
[null,"(Primary Code First)"]
["FOCUS AREAS: ",{"$f":"MID(INDIRECT(\"'ProjDataInput'!d\"&TEXT($N$2,\"###\")),1,999)","v":""}]
[null,"(Primary Focus Area First)"]
["PARTNERS: ",{"$f":"MID(INDIRECT(\"'ProjDataInput'!e\"&TEXT($N$2,\"###\")),1,999)","v":""}]
[]
["OBJECTIVES: ",{"$f":"MID(INDIRECT(\"'ProjDataInput'!g\"&TEXT($N$2,\"###\")),1,19999)","v":""},null,"MULTIPROGRAM? "]
[]
["METHODOLOGY: ",null,null,"OTHER INFORMATION: "]
[]
["RATIONALE: "]
[]
["DATA SHARING PLAN: ",{"$f":"MID(INDIRECT(\"'ProjDataInput'!r\"&TEXT($N$2,\"###\")),1,19999)","v":""}]
[null,"(Required for all research projects)"]

{"sheet":"S4","index":6,"n_rows":41,"n_cols":15,"rows_kept":41,"cut":false,"hidden":true,"merged":[]}
["NSGO use only: ",{"$f":"MID(CELL(\"filename\",'S4'!B1),FIND(\"]\",CELL(\"filename\",'S4'!B1))+1,24)","v":"S4"},"OMB no. ","0648-0362, exp 2/28/2021",null,null,null,null,null,null,null,null,null,"S4","(default worksheet name)"]
[null,30,"Don't use after","2019-04-30","Why?",null,null,null,null,null,null,null,null,{"$f":"IF(LEFT(N1,3)=\"S1-\",2,VALUE(MID(N1,2,99))+1)","v":5}]
[null,null,"updated","2018-10-16",null,null,null,null,null,null,null,null,null,"","(temp workspace for a current cell value)"]
[null,"SEA GRANT PROJECT SUMMARY FORM 90-2",{"$f":"HYPERLINK(\"#'TableOfContents'!B6\",\"Jump to Table \nof Contents\")","v":"Jump to Table \nof Contents"},null,"National Office does not require uncolored fields:",null,"NSGO use only",null,null,null,null,null,null,"023 Remediation","(temp workspace for a new selected value)"]
[null,null,null,null,null,null,null,null,null,null,null,null,null,{"$f":"IF(N3=\"\",IF(N4=\"\",\"\",N4),IF(N4=\"\",N3,N3&\"; \"&N4))","v":"023 Remediation"},"(function to concatenate the above two cells)"]
["INSTITUTION (Program): ",{"$f":"INDIRECT(\"'ProjDataInput'!a\"&TEXT($N$2,\"###\"))&\"\"","v":""},null,null,null,null,{"$f":"\"\"&TableOfContents!G1","v":"uploaded by"}]
["TITLE: ",{"$f":"MID(INDIRECT(\"'ProjDataInput'!C\"&TEXT($N$2,\"###\")),1,999)","v":""},null,null,null,null,{"$f":"\"\"&TableOfContents!H1","v":"grant no"},null,null,null,null,null,null,{"$f":"IF('S4'!B6=\"\",\"\",'S4'!B6)","v":""},"(Program listed on first 90-2)"]
[null,null,null,"START DATE:",null,null,{"$f":"\"\"&TableOfContents!I1","v":"amd no"}]
["PREFIX (A,C,E,M,P or R): "," PROJECT NUMBER",null,"END DATE:",null,null,{"$f":"\"\"&TableOfContents!J1","v":"fund source"}]
[{"$f":"MID(INDIRECT(\"'ProjDataInput'!b\"&TEXT($N$2,\"###\")),1,2)","v":""},{"$f":"MID(INDIRECT(\"'ProjDataInput'!b\"&TEXT($N$2,\"###\")),3,999)","v":""},null,null,null,null,{"$f":"\"\"&TableOfContents!K1","v":""}]
["(every project must have a prefix)",{"$f":"IF(OR(LEFT(A10&\" \",1)=\"r\",AND(A10=\"\",LEFT(B10,1)=\"r\")),1,0)","v":0},null,null,null,null,{"$f":"\"\"&TableOfContents!L1","v":""}]
[null,null,null,"READINESS LEVELS:"]
["PI: ",{"$f":"MID(INDIRECT(\"'ProjDataInput'!j\"&TEXT($N$2,\"###\")),1,999)","v":""}]
["AFFILIATION: ",{"$f":"MID(INDIRECT(\"'ProjDataInput'!k\"&TEXT($N$2,\"###\")),1,999)","v":""},null,null,null,null,"Worksheet"]
[null,null,null,null,null,null,"tools:"]
["2nd PI: ",{"$f":"MID(INDIRECT(\"'ProjDataInput'!L\"&TEXT($N$2,\"###\")),1,999)","v":""}]
["AFFILIATION: ",{"$f":"MID(INDIRECT(\"'ProjDataInput'!m\"&TEXT($N$2,\"###\")),1,999)","v":""}]
[]
["3rd PI: ",{"$f":"MID(INDIRECT(\"'ProjDataInput'!n\"&TEXT($N$2,\"###\")),1,999)","v":""}]
["AFFILIATION: ",{"$f":"MID(INDIRECT(\"'ProjDataInput'!o\"&TEXT($N$2,\"###\")),1,999)","v":""}]
[]
["4th PI: ",{"$f":"MID(INDIRECT(\"'ProjDataInput'!p\"&TEXT($N$2,\"###\")),1,999)","v":""}]
["AFFILIATION: ",{"$f":"MID(INDIRECT(\"'ProjDataInput'!q\"&TEXT($N$2,\"###\")),1,999)","v":""}]
[]
["FEDERAL $ REQUEST: ",{"$f":"INDIRECT(\"'ProjDataInput'!h\"&TEXT($N$2,\"###\"))","v":0}]
["MATCH $: ",{"$f":"INDIRECT(\"'ProjDataInput'!i\"&TEXT($N$2,\"###\"))","v":0}]
[]
["CLASSIFICATION CODES: ",{"$f":"MID(INDIRECT(\"'ProjDataInput'!f\"&TEXT($N$2,\"###\")),1,999)","v":""}]
[null,"(Primary Code First)"]
["FOCUS AREAS: ",{"$f":"MID(INDIRECT(\"'ProjDataInput'!d\"&TEXT($N$2,\"###\")),1,999)","v":""}]
[null,"(Primary Focus Area First)"]
["PARTNERS: ",{"$f":"MID(INDIRECT(\"'ProjDataInput'!e\"&TEXT($N$2,\"###\")),1,999)","v":""}]
[]
["OBJECTIVES: ",{"$f":"MID(INDIRECT(\"'ProjDataInput'!g\"&TEXT($N$2,\"###\")),1,19999)","v":""},null,"MULTIPROGRAM? "]
[]
["METHODOLOGY: ",null,null,"OTHER INFORMATION: "]
[]
["RATIONALE: "]
[]
["DATA SHARING PLAN: ",{"$f":"MID(INDIRECT(\"'ProjDataInput'!r\"&TEXT($N$2,\"###\")),1,19999)","v":""}]
[null,"(Required for all research projects)"]

{"sheet":"S5","index":7,"n_rows":41,"n_cols":15,"rows_kept":41,"cut":false,"hidden":true,"merged":[]}
["NSGO use only: ",{"$f":"MID(CELL(\"filename\",'S5'!B1),FIND(\"]\",CELL(\"filename\",'S5'!B1))+1,24)","v":"S5"},"OMB no. ","0648-0362, exp 2/28/2021",null,null,null,null,null,null,null,null,null,"S5","(default worksheet name)"]
[null,30,"Don't use after","2019-04-30","Why?",null,null,null,null,null,null,null,null,{"$f":"IF(LEFT(N1,3)=\"S1-\",2,VALUE(MID(N1,2,99))+1)","v":6}]
[null,null,"updated","2018-10-16",null,null,null,null,null,null,null,null,null,"","(temp workspace for a current cell value)"]
[null,"SEA GRANT PROJECT SUMMARY FORM 90-2",{"$f":"HYPERLINK(\"#'TableOfContents'!B6\",\"Jump to Table \nof Contents\")","v":"Jump to Table \nof Contents"},null,"National Office does not require uncolored fields:",null,"NSGO use only",null,null,null,null,null,null,"023 Remediation","(temp workspace for a new selected value)"]
[null,null,null,null,null,null,null,null,null,null,null,null,null,{"$f":"IF(N3=\"\",IF(N4=\"\",\"\",N4),IF(N4=\"\",N3,N3&\"; \"&N4))","v":"023 Remediation"},"(function to concatenate the above two cells)"]
["INSTITUTION (Program): ",{"$f":"INDIRECT(\"'ProjDataInput'!a\"&TEXT($N$2,\"###\"))&\"\"","v":""},null,null,null,null,{"$f":"\"\"&TableOfContents!G1","v":"uploaded by"}]
["TITLE: ",{"$f":"MID(INDIRECT(\"'ProjDataInput'!C\"&TEXT($N$2,\"###\")),1,999)","v":""},null,null,null,null,{"$f":"\"\"&TableOfContents!H1","v":"grant no"},null,null,null,null,null,null,{"$f":"IF('S5'!B6=\"\",\"\",'S5'!B6)","v":""},"(Program listed on first 90-2)"]
[null,null,null,"START DATE:",null,null,{"$f":"\"\"&TableOfContents!I1","v":"amd no"}]
["PREFIX (A,C,E,M,P or R): "," PROJECT NUMBER",null,"END DATE:",null,null,{"$f":"\"\"&TableOfContents!J1","v":"fund source"}]
[{"$f":"MID(INDIRECT(\"'ProjDataInput'!b\"&TEXT($N$2,\"###\")),1,2)","v":""},{"$f":"MID(INDIRECT(\"'ProjDataInput'!b\"&TEXT($N$2,\"###\")),3,999)","v":""},null,null,null,null,{"$f":"\"\"&TableOfContents!K1","v":""}]
["(every project must have a prefix)",{"$f":"IF(OR(LEFT(A10&\" \",1)=\"r\",AND(A10=\"\",LEFT(B10,1)=\"r\")),1,0)","v":0},null,null,null,null,{"$f":"\"\"&TableOfContents!L1","v":""}]
[null,null,null,"READINESS LEVELS:"]
["PI: ",{"$f":"MID(INDIRECT(\"'ProjDataInput'!j\"&TEXT($N$2,\"###\")),1,999)","v":""}]
["AFFILIATION: ",{"$f":"MID(INDIRECT(\"'ProjDataInput'!k\"&TEXT($N$2,\"###\")),1,999)","v":""},null,null,null,null,"Worksheet"]
[null,null,null,null,null,null,"tools:"]
["2nd PI: ",{"$f":"MID(INDIRECT(\"'ProjDataInput'!L\"&TEXT($N$2,\"###\")),1,999)","v":""}]
["AFFILIATION: ",{"$f":"MID(INDIRECT(\"'ProjDataInput'!m\"&TEXT($N$2,\"###\")),1,999)","v":""}]
[]
["3rd PI: ",{"$f":"MID(INDIRECT(\"'ProjDataInput'!n\"&TEXT($N$2,\"###\")),1,999)","v":""}]
["AFFILIATION: ",{"$f":"MID(INDIRECT(\"'ProjDataInput'!o\"&TEXT($N$2,\"###\")),1,999)","v":""}]
[]
["4th PI: ",{"$f":"MID(INDIRECT(\"'ProjDataInput'!p\"&TEXT($N$2,\"###\")),1,999)","v":""}]
["AFFILIATION: ",{"$f":"MID(INDIRECT(\"'ProjDataInput'!q\"&TEXT($N$2,\"###\")),1,999)","v":""}]
[]
["FEDERAL $ REQUEST: ",{"$f":"INDIRECT(\"'ProjDataInput'!h\"&TEXT($N$2,\"###\"))","v":0}]
["MATCH $: ",{"$f":"INDIRECT(\"'ProjDataInput'!i\"&TEXT($N$2,\"###\"))","v":0}]
[]
["CLASSIFICATION CODES: ",{"$f":"MID(INDIRECT(\"'ProjDataInput'!f\"&TEXT($N$2,\"###\")),1,999)","v":""}]
[null,"(Primary Code First)"]
["FOCUS AREAS: ",{"$f":"MID(INDIRECT(\"'ProjDataInput'!d\"&TEXT($N$2,\"###\")),1,999)","v":""}]
[null,"(Primary Focus Area First)"]
["PARTNERS: ",{"$f":"MID(INDIRECT(\"'ProjDataInput'!e\"&TEXT($N$2,\"###\")),1,999)","v":""}]
[]
["OBJECTIVES: ",{"$f":"MID(INDIRECT(\"'ProjDataInput'!g\"&TEXT($N$2,\"###\")),1,19999)","v":""},null,"MULTIPROGRAM? "]
[]
["METHODOLOGY: ",null,null,"OTHER INFORMATION: "]
[]
["RATIONALE: "]
[]
["DATA SHARING PLAN: ",{"$f":"MID(INDIRECT(\"'ProjDataInput'!r\"&TEXT($N$2,\"###\")),1,19999)","v":""}]
[null,"(Required for all research projects)"]

{"sheet":"S6","index":8,"n_rows":41,"n_cols":15,"rows_kept":41,"cut":false,"hidden":true,"merged":[]}
["NSGO use only: ",{"$f":"MID(CELL(\"filename\",'S6'!B1),FIND(\"]\",CELL(\"filename\",'S6'!B1))+1,24)","v":"S6"},"OMB no. ","0648-0362, exp 2/28/2021",null,null,null,null,null,null,null,null,null,"S6","(default worksheet name)"]
[null,30,"Don't use after","2019-04-30","Why?",null,null,null,null,null,null,null,null,{"$f":"IF(LEFT(N1,3)=\"S1-\",2,VALUE(MID(N1,2,99))+1)","v":7}]
[null,null,"updated","2018-10-16",null,null,null,null,null,null,null,null,null,"","(temp workspace for a current cell value)"]
[null,"SEA GRANT PROJECT SUMMARY FORM 90-2",{"$f":"HYPERLINK(\"#'TableOfContents'!B6\",\"Jump to Table \nof Contents\")","v":"Jump to Table \nof Contents"},null,"National Office does not require uncolored fields:",null,"NSGO use only",null,null,null,null,null,null,"023 Remediation","(temp workspace for a new selected value)"]
[null,null,null,null,null,null,null,null,null,null,null,null,null,{"$f":"IF(N3=\"\",IF(N4=\"\",\"\",N4),IF(N4=\"\",N3,N3&\"; \"&N4))","v":"023 Remediation"},"(function to concatenate the above two cells)"]
["INSTITUTION (Program): ",{"$f":"INDIRECT(\"'ProjDataInput'!a\"&TEXT($N$2,\"###\"))&\"\"","v":""},null,null,null,null,{"$f":"\"\"&TableOfContents!G1","v":"uploaded by"}]
["TITLE: ",{"$f":"MID(INDIRECT(\"'ProjDataInput'!C\"&TEXT($N$2,\"###\")),1,999)","v":""},null,null,null,null,{"$f":"\"\"&TableOfContents!H1","v":"grant no"},null,null,null,null,null,null,{"$f":"IF('S6'!B6=\"\",\"\",'S6'!B6)","v":""},"(Program listed on first 90-2)"]
[null,null,null,"START DATE:",null,null,{"$f":"\"\"&TableOfContents!I1","v":"amd no"}]
["PREFIX (A,C,E,M,P or R): "," PROJECT NUMBER",null,"END DATE:",null,null,{"$f":"\"\"&TableOfContents!J1","v":"fund source"}]
[{"$f":"LEFT(INDIRECT(\"'ProjDataInput'!b\"&TEXT($N$2,\"###\")),2)","v":""},{"$f":"MID(INDIRECT(\"'ProjDataInput'!b\"&TEXT($N$2,\"###\")),3,999)","v":""},null,null,null,null,{"$f":"\"\"&TableOfContents!K1","v":""}]
["(every project must have a prefix)",{"$f":"IF(OR(LEFT(A10&\" \",1)=\"r\",AND(A10=\"\",LEFT(B10,1)=\"r\")),1,0)","v":0},null,null,null,null,{"$f":"\"\"&TableOfContents!L1","v":""}]
[null,null,null,"READINESS LEVELS:"]
["PI: ",{"$f":"MID(INDIRECT(\"'ProjDataInput'!j\"&TEXT($N$2,\"###\")),1,999)","v":""}]
["AFFILIATION: ",{"$f":"MID(INDIRECT(\"'ProjDataInput'!k\"&TEXT($N$2,\"###\")),1,999)","v":""},null,null,null,null,"Worksheet"]
[null,null,null,null,null,null,"tools:"]
["2nd PI: ",{"$f":"MID(INDIRECT(\"'ProjDataInput'!L\"&TEXT($N$2,\"###\")),1,999)","v":""}]
["AFFILIATION: ",{"$f":"MID(INDIRECT(\"'ProjDataInput'!m\"&TEXT($N$2,\"###\")),1,999)","v":""}]
[]
["3rd PI: ",{"$f":"MID(INDIRECT(\"'ProjDataInput'!n\"&TEXT($N$2,\"###\")),1,999)","v":""}]
["AFFILIATION: ",{"$f":"MID(INDIRECT(\"'ProjDataInput'!o\"&TEXT($N$2,\"###\")),1,999)","v":""}]
[]
["4th PI: ",{"$f":"MID(INDIRECT(\"'ProjDataInput'!p\"&TEXT($N$2,\"###\")),1,999)","v":""}]
["AFFILIATION: ",{"$f":"MID(INDIRECT(\"'ProjDataInput'!q\"&TEXT($N$2,\"###\")),1,999)","v":""}]
[]
["FEDERAL $ REQUEST: ",{"$f":"INDIRECT(\"'ProjDataInput'!h\"&TEXT($N$2,\"###\"))","v":0}]
["MATCH $: ",{"$f":"INDIRECT(\"'ProjDataInput'!i\"&TEXT($N$2,\"###\"))","v":0}]
[]
["CLASSIFICATION CODES: ",{"$f":"MID(INDIRECT(\"'ProjDataInput'!f\"&TEXT($N$2,\"###\")),1,999)","v":""}]
[null,"(Primary Code First)"]
["FOCUS AREAS: ",{"$f":"MID(INDIRECT(\"'ProjDataInput'!d\"&TEXT($N$2,\"###\")),1,999)","v":""}]
[null,"(Primary Focus Area First)"]
["PARTNERS: ",{"$f":"MID(INDIRECT(\"'ProjDataInput'!e\"&TEXT($N$2,\"###\")),1,999)","v":""}]
[]
["OBJECTIVES: ",{"$f":"MID(INDIRECT(\"'ProjDataInput'!g\"&TEXT($N$2,\"###\")),1,19999)","v":""},null,"MULTIPROGRAM? "]
[]
["METHODOLOGY: ",null,null,"OTHER INFORMATION: "]
[]
["RATIONALE: "]
[]
["DATA SHARING PLAN: ",{"$f":"MID(INDIRECT(\"'ProjDataInput'!r\"&TEXT($N$2,\"###\")),1,19999)","v":""}]
[null,"(Required for all research projects)"]

{"sheet":"S7","index":9,"n_rows":41,"n_cols":15,"rows_kept":41,"cut":false,"hidden":true,"merged":[]}
["NSGO use only: ",{"$f":"MID(CELL(\"filename\",'S7'!B1),FIND(\"]\",CELL(\"filename\",'S7'!B1))+1,24)","v":"S7"},"OMB no. ","0648-0362, exp 2/28/2021",null,null,null,null,null,null,null,null,null,"S7","(default worksheet name)"]
[null,30,"Don't use after","2019-04-30","Why?",null,null,null,null,null,null,null,null,{"$f":"IF(LEFT(N1,3)=\"S1-\",2,VALUE(MID(N1,2,99))+1)","v":8}]
[null,null,"updated","2018-10-16",null,null,null,null,null,null,null,null,null,"","(temp workspace for a current cell value)"]
[null,"SEA GRANT PROJECT SUMMARY FORM 90-2",{"$f":"HYPERLINK(\"#'TableOfContents'!B6\",\"Jump to Table \nof Contents\")","v":"Jump to Table \nof Contents"},null,"National Office does not require uncolored fields:",null,"NSGO use only",null,null,null,null,null,null,"023 Remediation","(temp workspace for a new selected value)"]
[null,null,null,null,null,null,null,null,null,null,null,null,null,{"$f":"IF(N3=\"\",IF(N4=\"\",\"\",N4),IF(N4=\"\",N3,N3&\"; \"&N4))","v":"023 Remediation"},"(function to concatenate the above two cells)"]
["INSTITUTION (Program): ",{"$f":"INDIRECT(\"'ProjDataInput'!a\"&TEXT($N$2,\"###\"))&\"\"","v":""},null,null,null,null,{"$f":"\"\"&TableOfContents!G1","v":"uploaded by"}]
["TITLE: ",{"$f":"MID(INDIRECT(\"'ProjDataInput'!C\"&TEXT($N$2,\"###\")),1,999)","v":""},null,null,null,null,{"$f":"\"\"&TableOfContents!H1","v":"grant no"},null,null,null,null,null,null,{"$f":"IF('S7'!B6=\"\",\"\",'S7'!B6)","v":""},"(Program listed on first 90-2)"]
[null,null,null,"START DATE:",null,null,{"$f":"\"\"&TableOfContents!I1","v":"amd no"}]
["PREFIX (A,C,E,M,P or R): "," PROJECT NUMBER",null,"END DATE:",null,null,{"$f":"\"\"&TableOfContents!J1","v":"fund source"}]
[{"$f":"MID(INDIRECT(\"'ProjDataInput'!b\"&TEXT($N$2,\"###\")),1,2)","v":""},{"$f":"MID(INDIRECT(\"'ProjDataInput'!b\"&TEXT($N$2,\"###\")),3,999)","v":""},null,null,null,null,{"$f":"\"\"&TableOfContents!K1","v":""}]
["(every project must have a prefix)",{"$f":"IF(OR(LEFT(A10&\" \",1)=\"r\",AND(A10=\"\",LEFT(B10,1)=\"r\")),1,0)","v":0},null,null,null,null,{"$f":"\"\"&TableOfContents!L1","v":""}]
[null,null,null,"READINESS LEVELS:"]
["PI: ",{"$f":"MID(INDIRECT(\"'ProjDataInput'!j\"&TEXT($N$2,\"###\")),1,999)","v":""}]
["AFFILIATION: ",{"$f":"MID(INDIRECT(\"'ProjDataInput'!k\"&TEXT($N$2,\"###\")),1,999)","v":""},null,null,null,null,"Worksheet"]
[null,null,null,null,null,null,"tools:"]
["2nd PI: ",{"$f":"MID(INDIRECT(\"'ProjDataInput'!L\"&TEXT($N$2,\"###\")),1,999)","v":""}]
["AFFILIATION: ",{"$f":"MID(INDIRECT(\"'ProjDataInput'!m\"&TEXT($N$2,\"###\")),1,999)","v":""}]
[]
["3rd PI: ",{"$f":"MID(INDIRECT(\"'ProjDataInput'!n\"&TEXT($N$2,\"###\")),1,999)","v":""}]
["AFFILIATION: ",{"$f":"MID(INDIRECT(\"'ProjDataInput'!o\"&TEXT($N$2,\"###\")),1,999)","v":""}]
[]
["4th PI: ",{"$f":"MID(INDIRECT(\"'ProjDataInput'!p\"&TEXT($N$2,\"###\")),1,999)","v":""}]
["AFFILIATION: ",{"$f":"MID(INDIRECT(\"'ProjDataInput'!q\"&TEXT($N$2,\"###\")),1,999)","v":""}]
[]
["FEDERAL $ REQUEST: ",{"$f":"INDIRECT(\"'ProjDataInput'!h\"&TEXT($N$2,\"###\"))","v":0}]
["MATCH $: ",{"$f":"INDIRECT(\"'ProjDataInput'!i\"&TEXT($N$2,\"###\"))","v":0}]
[]
["CLASSIFICATION CODES: ",{"$f":"MID(INDIRECT(\"'ProjDataInput'!f\"&TEXT($N$2,\"###\")),1,999)","v":""}]
[null,"(Primary Code First)"]
["FOCUS AREAS: ",{"$f":"MID(INDIRECT(\"'ProjDataInput'!d\"&TEXT($N$2,\"###\")),1,999)","v":""}]
[null,"(Primary Focus Area First)"]
["PARTNERS: ",{"$f":"MID(INDIRECT(\"'ProjDataInput'!e\"&TEXT($N$2,\"###\")),1,999)","v":""}]
[]
["OBJECTIVES: ",{"$f":"MID(INDIRECT(\"'ProjDataInput'!g\"&TEXT($N$2,\"###\")),1,19999)","v":""},null,"MULTIPROGRAM? "]
[]
["METHODOLOGY: ",null,null,"OTHER INFORMATION: "]
[]
["RATIONALE: "]
[]
["DATA SHARING PLAN: ",{"$f":"MID(INDIRECT(\"'ProjDataInput'!r\"&TEXT($N$2,\"###\")),1,19999)","v":""}]
[null,"(Required for all research projects)"]

{"sheet":"S8","index":10,"n_rows":41,"n_cols":15,"rows_kept":41,"cut":false,"hidden":true,"merged":[]}
["NSGO use only: ",{"$f":"MID(CELL(\"filename\",'S8'!B1),FIND(\"]\",CELL(\"filename\",'S8'!B1))+1,24)","v":"S8"},"OMB no. ","0648-0362, exp 2/28/2021",null,null,null,null,null,null,null,null,null,"S8","(default worksheet name)"]
[null,30,"Don't use after","2019-04-30","Why?",null,null,null,null,null,null,null,null,{"$f":"IF(LEFT(N1,3)=\"S1-\",2,VALUE(MID(N1,2,99))+1)","v":9}]
[null,null,"updated","2018-10-16",null,null,null,null,null,null,null,null,null,"","(temp workspace for a current cell value)"]
[null,"SEA GRANT PROJECT SUMMARY FORM 90-2",{"$f":"HYPERLINK(\"#'TableOfContents'!B6\",\"Jump to Table \nof Contents\")","v":"Jump to Table \nof Contents"},null,"National Office does not require uncolored fields:",null,"NSGO use only",null,null,null,null,null,null,"023 Remediation","(temp workspace for a new selected value)"]
[null,null,null,null,null,null,null,null,null,null,null,null,null,{"$f":"IF(N3=\"\",IF(N4=\"\",\"\",N4),IF(N4=\"\",N3,N3&\"; \"&N4))","v":"023 Remediation"},"(function to concatenate the above two cells)"]
["INSTITUTION (Program): ",{"$f":"INDIRECT(\"'ProjDataInput'!a\"&TEXT($N$2,\"###\"))&\"\"","v":""},null,null,null,null,{"$f":"\"\"&TableOfContents!G1","v":"uploaded by"}]
["TITLE: ",{"$f":"MID(INDIRECT(\"'ProjDataInput'!C\"&TEXT($N$2,\"###\")),1,999)","v":""},null,null,null,null,{"$f":"\"\"&TableOfContents!H1","v":"grant no"},null,null,null,null,null,null,{"$f":"IF('S8'!B6=\"\",\"\",'S8'!B6)","v":""},"(Program listed on first 90-2)"]
[null,null,null,"START DATE:",null,null,{"$f":"\"\"&TableOfContents!I1","v":"amd no"}]
["PREFIX (A,C,E,M,P or R): "," PROJECT NUMBER",null,"END DATE:",null,null,{"$f":"\"\"&TableOfContents!J1","v":"fund source"}]
[{"$f":"MID(INDIRECT(\"'ProjDataInput'!b\"&TEXT($N$2,\"###\")),1,2)","v":""},{"$f":"MID(INDIRECT(\"'ProjDataInput'!b\"&TEXT($N$2,\"###\")),3,999)","v":""},null,null,null,null,{"$f":"\"\"&TableOfContents!K1","v":""}]
["(every project must have a prefix)",{"$f":"IF(OR(LEFT(A10&\" \",1)=\"r\",AND(A10=\"\",LEFT(B10,1)=\"r\")),1,0)","v":0},null,null,null,null,{"$f":"\"\"&TableOfContents!L1","v":""}]
[null,null,null,"READINESS LEVELS:"]
["PI: ",{"$f":"MID(INDIRECT(\"'ProjDataInput'!j\"&TEXT($N$2,\"###\")),1,999)","v":""}]
["AFFILIATION: ",{"$f":"MID(INDIRECT(\"'ProjDataInput'!k\"&TEXT($N$2,\"###\")),1,999)","v":""},null,null,null,null,"Worksheet"]
[null,null,null,null,null,null,"tools:"]
["2nd PI: ",{"$f":"MID(INDIRECT(\"'ProjDataInput'!L\"&TEXT($N$2,\"###\")),1,999)","v":""}]
["AFFILIATION: ",{"$f":"MID(INDIRECT(\"'ProjDataInput'!m\"&TEXT($N$2,\"###\")),1,999)","v":""}]
[]
["3rd PI: ",{"$f":"MID(INDIRECT(\"'ProjDataInput'!n\"&TEXT($N$2,\"###\")),1,999)","v":""}]
["AFFILIATION: ",{"$f":"MID(INDIRECT(\"'ProjDataInput'!o\"&TEXT($N$2,\"###\")),1,999)","v":""}]
[]
["4th PI: ",{"$f":"MID(INDIRECT(\"'ProjDataInput'!p\"&TEXT($N$2,\"###\")),1,999)","v":""}]
["AFFILIATION: ",{"$f":"MID(INDIRECT(\"'ProjDataInput'!q\"&TEXT($N$2,\"###\")),1,999)","v":""}]
[]
["FEDERAL $ REQUEST: ",{"$f":"INDIRECT(\"'ProjDataInput'!h\"&TEXT($N$2,\"###\"))","v":0}]
["MATCH $: ",{"$f":"INDIRECT(\"'ProjDataInput'!i\"&TEXT($N$2,\"###\"))","v":0}]
[]
["CLASSIFICATION CODES: ",{"$f":"MID(INDIRECT(\"'ProjDataInput'!f\"&TEXT($N$2,\"###\")),1,999)","v":""}]
[null,"(Primary Code First)"]
["FOCUS AREAS: ",{"$f":"MID(INDIRECT(\"'ProjDataInput'!d\"&TEXT($N$2,\"###\")),1,999)","v":""}]
[null,"(Primary Focus Area First)"]
["PARTNERS: ",{"$f":"MID(INDIRECT(\"'ProjDataInput'!e\"&TEXT($N$2,\"###\")),1,999)","v":""}]
[]
["OBJECTIVES: ",{"$f":"MID(INDIRECT(\"'ProjDataInput'!g\"&TEXT($N$2,\"###\")),1,19999)","v":""},null,"MULTIPROGRAM? "]
[]
["METHODOLOGY: ",null,null,"OTHER INFORMATION: "]
[]
["RATIONALE: "]
[]
["DATA SHARING PLAN: ",{"$f":"MID(INDIRECT(\"'ProjDataInput'!r\"&TEXT($N$2,\"###\")),1,19999)","v":""}]
[null,"(Required for all research projects)"]

{"sheet":"S9","index":11,"n_rows":41,"n_cols":15,"rows_kept":41,"cut":false,"hidden":true,"merged":[]}
["NSGO use only: ",{"$f":"MID(CELL(\"filename\",'S9'!B1),FIND(\"]\",CELL(\"filename\",'S9'!B1))+1,24)","v":"S9"},"OMB no. ","0648-0362, exp 2/28/2021",null,null,null,null,null,null,null,null,null,"S9","(default worksheet name)"]
[null,30,"Don't use after","2019-04-30","Why?",null,null,null,null,null,null,null,null,{"$f":"IF(LEFT(N1,3)=\"S1-\",2,VALUE(MID(N1,2,99))+1)","v":10}]
[null,null,"updated","2018-10-16",null,null,null,null,null,null,null,null,null,"","(temp workspace for a current cell value)"]
[null,"SEA GRANT PROJECT SUMMARY FORM 90-2",{"$f":"HYPERLINK(\"#'TableOfContents'!B6\",\"Jump to Table \nof Contents\")","v":"Jump to Table \nof Contents"},null,"National Office does not require uncolored fields:",null,"NSGO use only",null,null,null,null,null,null,"023 Remediation","(temp workspace for a new selected value)"]
[null,null,null,null,null,null,null,null,null,null,null,null,null,{"$f":"IF(N3=\"\",IF(N4=\"\",\"\",N4),IF(N4=\"\",N3,N3&\"; \"&N4))","v":"023 Remediation"},"(function to concatenate the above two cells)"]
["INSTITUTION (Program): ",{"$f":"INDIRECT(\"'ProjDataInput'!a\"&TEXT($N$2,\"###\"))&\"\"","v":""},null,null,null,null,{"$f":"\"\"&TableOfContents!G1","v":"uploaded by"}]
["TITLE: ",{"$f":"MID(INDIRECT(\"'ProjDataInput'!C\"&TEXT($N$2,\"###\")),1,999)","v":""},null,null,null,null,{"$f":"\"\"&TableOfContents!H1","v":"grant no"},null,null,null,null,null,null,{"$f":"IF('S9'!B6=\"\",\"\",'S9'!B6)","v":""},"(Program listed on first 90-2)"]
[null,null,null,"START DATE:",null,null,{"$f":"\"\"&TableOfContents!I1","v":"amd no"}]
["PREFIX (A,C,E,M,P or R): "," PROJECT NUMBER",null,"END DATE:",null,null,{"$f":"\"\"&TableOfContents!J1","v":"fund source"}]
[{"$f":"MID(INDIRECT(\"'ProjDataInput'!b\"&TEXT($N$2,\"###\")),1,2)","v":""},{"$f":"MID(INDIRECT(\"'ProjDataInput'!b\"&TEXT($N$2,\"###\")),3,999)","v":""},null,null,null,null,{"$f":"\"\"&TableOfContents!K1","v":""}]
["(every project must have a prefix)",{"$f":"IF(OR(LEFT(A10&\" \",1)=\"r\",AND(A10=\"\",LEFT(B10,1)=\"r\")),1,0)","v":0},null,null,null,null,{"$f":"\"\"&TableOfContents!L1","v":""}]
[null,null,null,"READINESS LEVELS:"]
["PI: ",{"$f":"MID(INDIRECT(\"'ProjDataInput'!j\"&TEXT($N$2,\"###\")),1,999)","v":""}]
["AFFILIATION: ",{"$f":"MID(INDIRECT(\"'ProjDataInput'!k\"&TEXT($N$2,\"###\")),1,999)","v":""},null,null,null,null,"Worksheet"]
[null,null,null,null,null,null,"tools:"]
["2nd PI: ",{"$f":"MID(INDIRECT(\"'ProjDataInput'!L\"&TEXT($N$2,\"###\")),1,999)","v":""}]
["AFFILIATION: ",{"$f":"MID(INDIRECT(\"'ProjDataInput'!m\"&TEXT($N$2,\"###\")),1,999)","v":""}]
[]
["3rd PI: ",{"$f":"MID(INDIRECT(\"'ProjDataInput'!n\"&TEXT($N$2,\"###\")),1,999)","v":""}]
["AFFILIATION: ",{"$f":"MID(INDIRECT(\"'ProjDataInput'!o\"&TEXT($N$2,\"###\")),1,999)","v":""}]
[]
["4th PI: ",{"$f":"MID(INDIRECT(\"'ProjDataInput'!p\"&TEXT($N$2,\"###\")),1,999)","v":""}]
["AFFILIATION: ",{"$f":"MID(INDIRECT(\"'ProjDataInput'!q\"&TEXT($N$2,\"###\")),1,999)","v":""}]
[]
["FEDERAL $ REQUEST: ",{"$f":"INDIRECT(\"'ProjDataInput'!h\"&TEXT($N$2,\"###\"))","v":0}]
["MATCH $: ",{"$f":"INDIRECT(\"'ProjDataInput'!i\"&TEXT($N$2,\"###\"))","v":0}]
[]
["CLASSIFICATION CODES: ",{"$f":"MID(INDIRECT(\"'ProjDataInput'!f\"&TEXT($N$2,\"###\")),1,999)","v":""}]
[null,"(Primary Code First)"]
["FOCUS AREAS: ",{"$f":"MID(INDIRECT(\"'ProjDataInput'!d\"&TEXT($N$2,\"###\")),1,999)","v":""}]
[null,"(Primary Focus Area First)"]
["PARTNERS: ",{"$f":"MID(INDIRECT(\"'ProjDataInput'!e\"&TEXT($N$2,\"###\")),1,999)","v":""}]
[]
["OBJECTIVES: ",{"$f":"MID(INDIRECT(\"'ProjDataInput'!g\"&TEXT($N$2,\"###\")),1,19999)","v":""},null,"MULTIPROGRAM? "]
[]
["METHODOLOGY: ",null,null,"OTHER INFORMATION: "]
[]
["RATIONALE: "]
[]
["DATA SHARING PLAN: ",{"$f":"MID(INDIRECT(\"'ProjDataInput'!r\"&TEXT($N$2,\"###\")),1,19999)","v":""}]
[null,"(Required for all research projects)"]

{"sheet":"S10","index":12,"n_rows":41,"n_cols":15,"rows_kept":41,"cut":false,"hidden":true,"merged":[]}
["NSGO use only: ",{"$f":"MID(CELL(\"filename\",'S10'!B1),FIND(\"]\",CELL(\"filename\",'S10'!B1))+1,24)","v":"S10"},"OMB no. ","0648-0362, exp 2/28/2021",null,null,null,null,null,null,null,null,null,"S10","(default worksheet name)"]
[null,30,"Don't use after","2019-04-30","Why?",null,null,null,null,null,null,null,null,{"$f":"IF(LEFT(N1,3)=\"S1-\",2,VALUE(MID(N1,2,99))+1)","v":11}]
[null,null,"updated","2018-10-16",null,null,null,null,null,null,null,null,null,"","(temp workspace for a current cell value)"]
[null,"SEA GRANT PROJECT SUMMARY FORM 90-2",{"$f":"HYPERLINK(\"#'TableOfContents'!B6\",\"Jump to Table \nof Contents\")","v":"Jump to Table \nof Contents"},null,"National Office does not require uncolored fields:",null,"NSGO use only",null,null,null,null,null,null,"023 Remediation","(temp workspace for a new selected value)"]
[null,null,null,null,null,null,null,null,null,null,null,null,null,{"$f":"IF(N3=\"\",IF(N4=\"\",\"\",N4),IF(N4=\"\",N3,N3&\"; \"&N4))","v":"023 Remediation"},"(function to concatenate the above two cells)"]
["INSTITUTION (Program): ",{"$f":"INDIRECT(\"'ProjDataInput'!a\"&TEXT($N$2,\"###\"))&\"\"","v":""},null,null,null,null,{"$f":"\"\"&TableOfContents!G1","v":"uploaded by"}]
["TITLE: ",{"$f":"MID(INDIRECT(\"'ProjDataInput'!C\"&TEXT($N$2,\"###\")),1,999)","v":""},null,null,null,null,{"$f":"\"\"&TableOfContents!H1","v":"grant no"},null,null,null,null,null,null,{"$f":"IF('S10'!B6=\"\",\"\",'S10'!B6)","v":""},"(Program listed on first 90-2)"]
[null,null,null,"START DATE:",null,null,{"$f":"\"\"&TableOfContents!I1","v":"amd no"}]
["PREFIX (A,C,E,M,P or R): "," PROJECT NUMBER",null,"END DATE:",null,null,{"$f":"\"\"&TableOfContents!J1","v":"fund source"}]
[{"$f":"MID(INDIRECT(\"'ProjDataInput'!b\"&TEXT($N$2,\"###\")),1,2)","v":""},{"$f":"MID(INDIRECT(\"'ProjDataInput'!b\"&TEXT($N$2,\"###\")),3,999)","v":""},null,null,null,null,{"$f":"\"\"&TableOfContents!K1","v":""}]
["(every project must have a prefix)",{"$f":"IF(OR(LEFT(A10&\" \",1)=\"r\",AND(A10=\"\",LEFT(B10,1)=\"r\")),1,0)","v":0},null,null,null,null,{"$f":"\"\"&TableOfContents!L1","v":""}]
[null,null,null,"READINESS LEVELS:"]
["PI: ",{"$f":"MID(INDIRECT(\"'ProjDataInput'!j\"&TEXT($N$2,\"###\")),1,999)","v":""}]
["AFFILIATION: ",{"$f":"MID(INDIRECT(\"'ProjDataInput'!k\"&TEXT($N$2,\"###\")),1,999)","v":""},null,null,null,null,"Worksheet"]
[null,null,null,null,null,null,"tools:"]
["2nd PI: ",{"$f":"MID(INDIRECT(\"'ProjDataInput'!L\"&TEXT($N$2,\"###\")),1,999)","v":""}]
["AFFILIATION: ",{"$f":"MID(INDIRECT(\"'ProjDataInput'!m\"&TEXT($N$2,\"###\")),1,999)","v":""}]
[]
["3rd PI: ",{"$f":"MID(INDIRECT(\"'ProjDataInput'!n\"&TEXT($N$2,\"###\")),1,999)","v":""}]
["AFFILIATION: ",{"$f":"MID(INDIRECT(\"'ProjDataInput'!o\"&TEXT($N$2,\"###\")),1,999)","v":""}]
[]
["4th PI: ",{"$f":"MID(INDIRECT(\"'ProjDataInput'!p\"&TEXT($N$2,\"###\")),1,999)","v":""}]
["AFFILIATION: ",{"$f":"MID(INDIRECT(\"'ProjDataInput'!q\"&TEXT($N$2,\"###\")),1,999)","v":""}]
[]
["FEDERAL $ REQUEST: ",{"$f":"INDIRECT(\"'ProjDataInput'!h\"&TEXT($N$2,\"###\"))","v":0}]
["MATCH $: ",{"$f":"INDIRECT(\"'ProjDataInput'!i\"&TEXT($N$2,\"###\"))","v":0}]
[]
["CLASSIFICATION CODES: ",{"$f":"MID(INDIRECT(\"'ProjDataInput'!f\"&TEXT($N$2,\"###\")),1,999)","v":""}]
[null,"(Primary Code First)"]
["FOCUS AREAS: ",{"$f":"MID(INDIRECT(\"'ProjDataInput'!d\"&TEXT($N$2,\"###\")),1,999)","v":""}]
[null,"(Primary Focus Area First)"]
["PARTNERS: ",{"$f":"MID(INDIRECT(\"'ProjDataInput'!e\"&TEXT($N$2,\"###\")),1,999)","v":""}]
[]
["OBJECTIVES: ",{"$f":"MID(INDIRECT(\"'ProjDataInput'!g\"&TEXT($N$2,\"###\")),1,19999)","v":""},null,"MULTIPROGRAM? "]
[]
["METHODOLOGY: ",null,null,"OTHER INFORMATION: "]
[]
["RATIONALE: "]
[]
["DATA SHARING PLAN: ",{"$f":"MID(INDIRECT(\"'ProjDataInput'!r\"&TEXT($N$2,\"###\")),1,19999)","v":""}]
[null,"(Required for all research projects)"]

{"sheet":"S11","index":13,"n_rows":41,"n_cols":15,"rows_kept":41,"cut":false,"hidden":true,"merged":[]}
["NSGO use only: ",{"$f":"MID(CELL(\"filename\",'S11'!B1),FIND(\"]\",CELL(\"filename\",'S11'!B1))+1,24)","v":"S11"},"OMB no. ","0648-0362, exp 2/28/2021",null,null,null,null,null,null,null,null,null,"S11","(default worksheet name)"]
[null,30,"Don't use after","2019-04-30","Why?",null,null,null,null,null,null,null,null,{"$f":"IF(LEFT(N1,3)=\"S1-\",2,VALUE(MID(N1,2,99))+1)","v":12}]
[null,null,"updated","2018-10-16",null,null,null,null,null,null,null,null,null,"","(temp workspace for a current cell value)"]
[null,"SEA GRANT PROJECT SUMMARY FORM 90-2",{"$f":"HYPERLINK(\"#'TableOfContents'!B6\",\"Jump to Table \nof Contents\")","v":"Jump to Table \nof Contents"},null,"National Office does not require uncolored fields:",null,"NSGO use only",null,null,null,null,null,null,"023 Remediation","(temp workspace for a new selected value)"]
[null,null,null,null,null,null,null,null,null,null,null,null,null,{"$f":"IF(N3=\"\",IF(N4=\"\",\"\",N4),IF(N4=\"\",N3,N3&\"; \"&N4))","v":"023 Remediation"},"(function to concatenate the above two cells)"]
["INSTITUTION (Program): ",{"$f":"INDIRECT(\"'ProjDataInput'!a\"&TEXT($N$2,\"###\"))&\"\"","v":""},null,null,null,null,{"$f":"\"\"&TableOfContents!G1","v":"uploaded by"}]
["TITLE: ",{"$f":"MID(INDIRECT(\"'ProjDataInput'!C\"&TEXT($N$2,\"###\")),1,999)","v":""},null,null,null,null,{"$f":"\"\"&TableOfContents!H1","v":"grant no"},null,null,null,null,null,null,{"$f":"IF('S11'!B6=\"\",\"\",'S11'!B6)","v":""},"(Program listed on first 90-2)"]
[null,null,null,"START DATE:",null,null,{"$f":"\"\"&TableOfContents!I1","v":"amd no"}]
["PREFIX (A,C,E,M,P or R): "," PROJECT NUMBER",null,"END DATE:",null,null,{"$f":"\"\"&TableOfContents!J1","v":"fund source"}]
[{"$f":"MID(INDIRECT(\"'ProjDataInput'!b\"&TEXT($N$2,\"###\")),1,2)","v":""},{"$f":"MID(INDIRECT(\"'ProjDataInput'!b\"&TEXT($N$2,\"###\")),3,999)","v":""},null,null,null,null,{"$f":"\"\"&TableOfContents!K1","v":""}]
["(every project must have a prefix)",{"$f":"IF(OR(LEFT(A10&\" \",1)=\"r\",AND(A10=\"\",LEFT(B10,1)=\"r\")),1,0)","v":0},null,null,null,null,{"$f":"\"\"&TableOfContents!L1","v":""}]
[null,null,null,"READINESS LEVELS:"]
["PI: ",{"$f":"MID(INDIRECT(\"'ProjDataInput'!j\"&TEXT($N$2,\"###\")),1,999)","v":""}]
["AFFILIATION: ",{"$f":"MID(INDIRECT(\"'ProjDataInput'!k\"&TEXT($N$2,\"###\")),1,999)","v":""},null,null,null,null,"Worksheet"]
[null,null,null,null,null,null,"tools:"]
["2nd PI: ",{"$f":"MID(INDIRECT(\"'ProjDataInput'!L\"&TEXT($N$2,\"###\")),1,999)","v":""}]
["AFFILIATION: ",{"$f":"MID(INDIRECT(\"'ProjDataInput'!m\"&TEXT($N$2,\"###\")),1,999)","v":""}]
[]
["3rd PI: ",{"$f":"MID(INDIRECT(\"'ProjDataInput'!n\"&TEXT($N$2,\"###\")),1,999)","v":""}]
["AFFILIATION: ",{"$f":"MID(INDIRECT(\"'ProjDataInput'!o\"&TEXT($N$2,\"###\")),1,999)","v":""}]
[]
["4th PI: ",{"$f":"MID(INDIRECT(\"'ProjDataInput'!p\"&TEXT($N$2,\"###\")),1,999)","v":""}]
["AFFILIATION: ",{"$f":"MID(INDIRECT(\"'ProjDataInput'!q\"&TEXT($N$2,\"###\")),1,999)","v":""}]
[]
["FEDERAL $ REQUEST: ",{"$f":"INDIRECT(\"'ProjDataInput'!h\"&TEXT($N$2,\"###\"))","v":0}]
["MATCH $: ",{"$f":"INDIRECT(\"'ProjDataInput'!i\"&TEXT($N$2,\"###\"))","v":0}]
[]
["CLASSIFICATION CODES: ",{"$f":"MID(INDIRECT(\"'ProjDataInput'!f\"&TEXT($N$2,\"###\")),1,999)","v":""}]
[null,"(Primary Code First)"]
["FOCUS AREAS: ",{"$f":"MID(INDIRECT(\"'ProjDataInput'!d\"&TEXT($N$2,\"###\")),1,999)","v":""}]
[null,"(Primary Focus Area First)"]
["PARTNERS: ",{"$f":"MID(INDIRECT(\"'ProjDataInput'!e\"&TEXT($N$2,\"###\")),1,999)","v":""}]
[]
["OBJECTIVES: ",{"$f":"MID(INDIRECT(\"'ProjDataInput'!g\"&TEXT($N$2,\"###\")),1,19999)","v":""},null,"MULTIPROGRAM? "]
[]
["METHODOLOGY: ",null,null,"OTHER INFORMATION: "]
[]
["RATIONALE: "]
[]
["DATA SHARING PLAN: ",{"$f":"MID(INDIRECT(\"'ProjDataInput'!r\"&TEXT($N$2,\"###\")),1,19999)","v":""}]
[null,"(Required for all research projects)"]

{"sheet":"S12","index":14,"n_rows":41,"n_cols":15,"rows_kept":41,"cut":false,"hidden":true,"merged":[]}
["NSGO use only: ",{"$f":"MID(CELL(\"filename\",'S12'!B1),FIND(\"]\",CELL(\"filename\",'S12'!B1))+1,24)","v":"S12"},"OMB no. ","0648-0362, exp 2/28/2021",null,null,null,null,null,null,null,null,null,"S12","(default worksheet name)"]
[null,30,"Don't use after","2019-04-30","Why?",null,null,null,null,null,null,null,null,{"$f":"IF(LEFT(N1,3)=\"S1-\",2,VALUE(MID(N1,2,99))+1)","v":13}]
[null,null,"updated","2018-10-16",null,null,null,null,null,null,null,null,null,"","(temp workspace for a current cell value)"]
[null,"SEA GRANT PROJECT SUMMARY FORM 90-2",{"$f":"HYPERLINK(\"#'TableOfContents'!B6\",\"Jump to Table \nof Contents\")","v":"Jump to Table \nof Contents"},null,"National Office does not require uncolored fields:",null,"NSGO use only",null,null,null,null,null,null,"023 Remediation","(temp workspace for a new selected value)"]
[null,null,null,null,null,null,null,null,null,null,null,null,null,{"$f":"IF(N3=\"\",IF(N4=\"\",\"\",N4),IF(N4=\"\",N3,N3&\"; \"&N4))","v":"023 Remediation"},"(function to concatenate the above two cells)"]
["INSTITUTION (Program): ",{"$f":"INDIRECT(\"'ProjDataInput'!a\"&TEXT($N$2,\"###\"))&\"\"","v":""},null,null,null,null,{"$f":"\"\"&TableOfContents!G1","v":"uploaded by"}]
["TITLE: ",{"$f":"MID(INDIRECT(\"'ProjDataInput'!C\"&TEXT($N$2,\"###\")),1,999)","v":""},null,null,null,null,{"$f":"\"\"&TableOfContents!H1","v":"grant no"},null,null,null,null,null,null,{"$f":"IF('S12'!B6=\"\",\"\",'S12'!B6)","v":""},"(Program listed on first 90-2)"]
[null,null,null,"START DATE:",null,null,{"$f":"\"\"&TableOfContents!I1","v":"amd no"}]
["PREFIX (A,C,E,M,P or R): "," PROJECT NUMBER",null,"END DATE:",null,null,{"$f":"\"\"&TableOfContents!J1","v":"fund source"}]
[{"$f":"MID(INDIRECT(\"'ProjDataInput'!b\"&TEXT($N$2,\"###\")),1,2)","v":""},{"$f":"MID(INDIRECT(\"'ProjDataInput'!b\"&TEXT($N$2,\"###\")),3,999)","v":""},null,null,null,null,{"$f":"\"\"&TableOfContents!K1","v":""}]
["(every project must have a prefix)",{"$f":"IF(OR(LEFT(A10&\" \",1)=\"r\",AND(A10=\"\",LEFT(B10,1)=\"r\")),1,0)","v":0},null,null,null,null,{"$f":"\"\"&TableOfContents!L1","v":""}]
[null,null,null,"READINESS LEVELS:"]
["PI: ",{"$f":"MID(INDIRECT(\"'ProjDataInput'!j\"&TEXT($N$2,\"###\")),1,999)","v":""}]
["AFFILIATION: ",{"$f":"MID(INDIRECT(\"'ProjDataInput'!k\"&TEXT($N$2,\"###\")),1,999)","v":""},null,null,null,null,"Worksheet"]
[null,null,null,null,null,null,"tools:"]
["2nd PI: ",{"$f":"MID(INDIRECT(\"'ProjDataInput'!L\"&TEXT($N$2,\"###\")),1,999)","v":""}]
["AFFILIATION: ",{"$f":"MID(INDIRECT(\"'ProjDataInput'!m\"&TEXT($N$2,\"###\")),1,999)","v":""}]
[]
["3rd PI: ",{"$f":"MID(INDIRECT(\"'ProjDataInput'!n\"&TEXT($N$2,\"###\")),1,999)","v":""}]
["AFFILIATION: ",{"$f":"MID(INDIRECT(\"'ProjDataInput'!o\"&TEXT($N$2,\"###\")),1,999)","v":""}]
[]
["4th PI: ",{"$f":"MID(INDIRECT(\"'ProjDataInput'!p\"&TEXT($N$2,\"###\")),1,999)","v":""}]
["AFFILIATION: ",{"$f":"MID(INDIRECT(\"'ProjDataInput'!q\"&TEXT($N$2,\"###\")),1,999)","v":""}]
[]
["FEDERAL $ REQUEST: ",{"$f":"INDIRECT(\"'ProjDataInput'!h\"&TEXT($N$2,\"###\"))","v":0}]
["MATCH $: ",{"$f":"INDIRECT(\"'ProjDataInput'!i\"&TEXT($N$2,\"###\"))","v":0}]
[]
["CLASSIFICATION CODES: ",{"$f":"MID(INDIRECT(\"'ProjDataInput'!f\"&TEXT($N$2,\"###\")),1,999)","v":""}]
[null,"(Primary Code First)"]
["FOCUS AREAS: ",{"$f":"MID(INDIRECT(\"'ProjDataInput'!d\"&TEXT($N$2,\"###\")),1,999)","v":""}]
[null,"(Primary Focus Area First)"]
["PARTNERS: ",{"$f":"MID(INDIRECT(\"'ProjDataInput'!e\"&TEXT($N$2,\"###\")),1,999)","v":""}]
[]
["OBJECTIVES: ",{"$f":"MID(INDIRECT(\"'ProjDataInput'!g\"&TEXT($N$2,\"###\")),1,19999)","v":""},null,"MULTIPROGRAM? "]
[]
["METHODOLOGY: ",null,null,"OTHER INFORMATION: "]
[]
["RATIONALE: "]
[]
["DATA SHARING PLAN: ",{"$f":"MID(INDIRECT(\"'ProjDataInput'!r\"&TEXT($N$2,\"###\")),1,19999)","v":""}]
[null,"(Required for all research projects)"]

{"sheet":"S13","index":15,"n_rows":41,"n_cols":15,"rows_kept":41,"cut":false,"hidden":true,"merged":[]}
["NSGO use only: ",{"$f":"MID(CELL(\"filename\",'S13'!B1),FIND(\"]\",CELL(\"filename\",'S13'!B1))+1,24)","v":"S13"},"OMB no. ","0648-0362, exp 2/28/2021",null,null,null,null,null,null,null,null,null,"S13","(default worksheet name)"]
[null,30,"Don't use after","2019-04-30","Why?",null,null,null,null,null,null,null,null,{"$f":"IF(LEFT(N1,3)=\"S1-\",2,VALUE(MID(N1,2,99))+1)","v":14}]
[null,null,"updated","2018-10-16",null,null,null,null,null,null,null,null,null,"","(temp workspace for a current cell value)"]
[null,"SEA GRANT PROJECT SUMMARY FORM 90-2",{"$f":"HYPERLINK(\"#'TableOfContents'!B6\",\"Jump to Table \nof Contents\")","v":"Jump to Table \nof Contents"},null,"National Office does not require uncolored fields:",null,"NSGO use only",null,null,null,null,null,null,"023 Remediation","(temp workspace for a new selected value)"]
[null,null,null,null,null,null,null,null,null,null,null,null,null,{"$f":"IF(N3=\"\",IF(N4=\"\",\"\",N4),IF(N4=\"\",N3,N3&\"; \"&N4))","v":"023 Remediation"},"(function to concatenate the above two cells)"]
["INSTITUTION (Program): ",{"$f":"INDIRECT(\"'ProjDataInput'!a\"&TEXT($N$2,\"###\"))&\"\"","v":""},null,null,null,null,{"$f":"\"\"&TableOfContents!G1","v":"uploaded by"}]
["TITLE: ",{"$f":"MID(INDIRECT(\"'ProjDataInput'!C\"&TEXT($N$2,\"###\")),1,999)","v":""},null,null,null,null,{"$f":"\"\"&TableOfContents!H1","v":"grant no"},null,null,null,null,null,null,{"$f":"IF('S13'!B6=\"\",\"\",'S13'!B6)","v":""},"(Program listed on first 90-2)"]
[null,null,null,"START DATE:",null,null,{"$f":"\"\"&TableOfContents!I1","v":"amd no"}]
["PREFIX (A,C,E,M,P or R): "," PROJECT NUMBER",null,"END DATE:",null,null,{"$f":"\"\"&TableOfContents!J1","v":"fund source"}]
[{"$f":"MID(INDIRECT(\"'ProjDataInput'!b\"&TEXT($N$2,\"###\")),1,2)","v":""},{"$f":"MID(INDIRECT(\"'ProjDataInput'!b\"&TEXT($N$2,\"###\")),3,999)","v":""},null,null,null,null,{"$f":"\"\"&TableOfContents!K1","v":""}]
["(every project must have a prefix)",{"$f":"IF(OR(LEFT(A10&\" \",1)=\"r\",AND(A10=\"\",LEFT(B10,1)=\"r\")),1,0)","v":0},null,null,null,null,{"$f":"\"\"&TableOfContents!L1","v":""}]
[null,null,null,"READINESS LEVELS:"]
["PI: ",{"$f":"MID(INDIRECT(\"'ProjDataInput'!j\"&TEXT($N$2,\"###\")),1,999)","v":""}]
["AFFILIATION: ",{"$f":"MID(INDIRECT(\"'ProjDataInput'!k\"&TEXT($N$2,\"###\")),1,999)","v":""},null,null,null,null,"Worksheet"]
[null,null,null,null,null,null,"tools:"]
["2nd PI: ",{"$f":"MID(INDIRECT(\"'ProjDataInput'!L\"&TEXT($N$2,\"###\")),1,999)","v":""}]
["AFFILIATION: ",{"$f":"MID(INDIRECT(\"'ProjDataInput'!m\"&TEXT($N$2,\"###\")),1,999)","v":""}]
[]
["3rd PI: ",{"$f":"MID(INDIRECT(\"'ProjDataInput'!n\"&TEXT($N$2,\"###\")),1,999)","v":""}]
["AFFILIATION: ",{"$f":"MID(INDIRECT(\"'ProjDataInput'!o\"&TEXT($N$2,\"###\")),1,999)","v":""}]
[]
["4th PI: ",{"$f":"MID(INDIRECT(\"'ProjDataInput'!p\"&TEXT($N$2,\"###\")),1,999)","v":""}]
["AFFILIATION: ",{"$f":"MID(INDIRECT(\"'ProjDataInput'!q\"&TEXT($N$2,\"###\")),1,999)","v":""}]
[]
["FEDERAL $ REQUEST: ",{"$f":"INDIRECT(\"'ProjDataInput'!h\"&TEXT($N$2,\"###\"))","v":0}]
["MATCH $: ",{"$f":"INDIRECT(\"'ProjDataInput'!i\"&TEXT($N$2,\"###\"))","v":0}]
[]
["CLASSIFICATION CODES: ",{"$f":"MID(INDIRECT(\"'ProjDataInput'!f\"&TEXT($N$2,\"###\")),1,999)","v":""}]
[null,"(Primary Code First)"]
["FOCUS AREAS: ",{"$f":"MID(INDIRECT(\"'ProjDataInput'!d\"&TEXT($N$2,\"###\")),1,999)","v":""}]
[null,"(Primary Focus Area First)"]
["PARTNERS: ",{"$f":"MID(INDIRECT(\"'ProjDataInput'!e\"&TEXT($N$2,\"###\")),1,999)","v":""}]
[]
["OBJECTIVES: ",{"$f":"MID(INDIRECT(\"'ProjDataInput'!g\"&TEXT($N$2,\"###\")),1,19999)","v":""},null,"MULTIPROGRAM? "]
[]
["METHODOLOGY: ",null,null,"OTHER INFORMATION: "]
[]
["RATIONALE: "]
[]
["DATA SHARING PLAN: ",{"$f":"MID(INDIRECT(\"'ProjDataInput'!r\"&TEXT($N$2,\"###\")),1,19999)","v":""}]
[null,"(Required for all research projects)"]

{"sheet":"S14","index":16,"n_rows":41,"n_cols":15,"rows_kept":41,"cut":false,"hidden":true,"merged":[]}
["NSGO use only: ",{"$f":"MID(CELL(\"filename\",'S14'!B1),FIND(\"]\",CELL(\"filename\",'S14'!B1))+1,24)","v":"S14"},"OMB no. ","0648-0362, exp 2/28/2021",null,null,null,null,null,null,null,null,null,"S14","(default worksheet name)"]
[null,30,"Don't use after","2019-04-30","Why?",null,null,null,null,null,null,null,null,{"$f":"IF(LEFT(N1,3)=\"S1-\",2,VALUE(MID(N1,2,99))+1)","v":15}]
[null,null,"updated","2018-10-16",null,null,null,null,null,null,null,null,null,"","(temp workspace for a current cell value)"]
[null,"SEA GRANT PROJECT SUMMARY FORM 90-2",{"$f":"HYPERLINK(\"#'TableOfContents'!B6\",\"Jump to Table \nof Contents\")","v":"Jump to Table \nof Contents"},null,"National Office does not require uncolored fields:",null,"NSGO use only",null,null,null,null,null,null,"023 Remediation","(temp workspace for a new selected value)"]
[null,null,null,null,null,null,null,null,null,null,null,null,null,{"$f":"IF(N3=\"\",IF(N4=\"\",\"\",N4),IF(N4=\"\",N3,N3&\"; \"&N4))","v":"023 Remediation"},"(function to concatenate the above two cells)"]
["INSTITUTION (Program): ",{"$f":"INDIRECT(\"'ProjDataInput'!a\"&TEXT($N$2,\"###\"))&\"\"","v":""},null,null,null,null,{"$f":"\"\"&TableOfContents!G1","v":"uploaded by"}]
["TITLE: ",{"$f":"MID(INDIRECT(\"'ProjDataInput'!C\"&TEXT($N$2,\"###\")),1,999)","v":""},null,null,null,null,{"$f":"\"\"&TableOfContents!H1","v":"grant no"},null,null,null,null,null,null,{"$f":"IF('S14'!B6=\"\",\"\",'S14'!B6)","v":""},"(Program listed on first 90-2)"]
[null,null,null,"START DATE:",null,null,{"$f":"\"\"&TableOfContents!I1","v":"amd no"}]
["PREFIX (A,C,E,M,P or R): "," PROJECT NUMBER",null,"END DATE:",null,null,{"$f":"\"\"&TableOfContents!J1","v":"fund source"}]
[{"$f":"MID(INDIRECT(\"'ProjDataInput'!b\"&TEXT($N$2,\"###\")),1,2)","v":""},{"$f":"MID(INDIRECT(\"'ProjDataInput'!b\"&TEXT($N$2,\"###\")),3,999)","v":""},null,null,null,null,{"$f":"\"\"&TableOfContents!K1","v":""}]
["(every project must have a prefix)",{"$f":"IF(OR(LEFT(A10&\" \",1)=\"r\",AND(A10=\"\",LEFT(B10,1)=\"r\")),1,0)","v":0},null,null,null,null,{"$f":"\"\"&TableOfContents!L1","v":""}]
[null,null,null,"READINESS LEVELS:"]
["PI: ",{"$f":"MID(INDIRECT(\"'ProjDataInput'!j\"&TEXT($N$2,\"###\")),1,999)","v":""}]
["AFFILIATION: ",{"$f":"MID(INDIRECT(\"'ProjDataInput'!k\"&TEXT($N$2,\"###\")),1,999)","v":""},null,null,null,null,"Worksheet"]
[null,null,null,null,null,null,"tools:"]
["2nd PI: ",{"$f":"MID(INDIRECT(\"'ProjDataInput'!L\"&TEXT($N$2,\"###\")),1,999)","v":""}]
["AFFILIATION: ",{"$f":"MID(INDIRECT(\"'ProjDataInput'!m\"&TEXT($N$2,\"###\")),1,999)","v":""}]
[]
["3rd PI: ",{"$f":"MID(INDIRECT(\"'ProjDataInput'!n\"&TEXT($N$2,\"###\")),1,999)","v":""}]
["AFFILIATION: ",{"$f":"MID(INDIRECT(\"'ProjDataInput'!o\"&TEXT($N$2,\"###\")),1,999)","v":""}]
[]
["4th PI: ",{"$f":"MID(INDIRECT(\"'ProjDataInput'!p\"&TEXT($N$2,\"###\")),1,999)","v":""}]
["AFFILIATION: ",{"$f":"MID(INDIRECT(\"'ProjDataInput'!q\"&TEXT($N$2,\"###\")),1,999)","v":""}]
[]
["FEDERAL $ REQUEST: ",{"$f":"INDIRECT(\"'ProjDataInput'!h\"&TEXT($N$2,\"###\"))","v":0}]
["MATCH $: ",{"$f":"INDIRECT(\"'ProjDataInput'!i\"&TEXT($N$2,\"###\"))","v":0}]
[]
["CLASSIFICATION CODES: ",{"$f":"MID(INDIRECT(\"'ProjDataInput'!f\"&TEXT($N$2,\"###\")),1,999)","v":""}]
[null,"(Primary Code First)"]
["FOCUS AREAS: ",{"$f":"MID(INDIRECT(\"'ProjDataInput'!d\"&TEXT($N$2,\"###\")),1,999)","v":""}]
[null,"(Primary Focus Area First)"]
["PARTNERS: ",{"$f":"MID(INDIRECT(\"'ProjDataInput'!e\"&TEXT($N$2,\"###\")),1,999)","v":""}]
[]
["OBJECTIVES: ",{"$f":"MID(INDIRECT(\"'ProjDataInput'!g\"&TEXT($N$2,\"###\")),1,19999)","v":""},null,"MULTIPROGRAM? "]
[]
["METHODOLOGY: ",null,null,"OTHER INFORMATION: "]
[]
["RATIONALE: "]
[]
["DATA SHARING PLAN: ",{"$f":"MID(INDIRECT(\"'ProjDataInput'!r\"&TEXT($N$2,\"###\")),1,19999)","v":""}]
[null,"(Required for all research projects)"]

{"sheet":"S15","index":17,"n_rows":41,"n_cols":15,"rows_kept":41,"cut":false,"hidden":true,"merged":[]}
["NSGO use only: ",{"$f":"MID(CELL(\"filename\",'S15'!B1),FIND(\"]\",CELL(\"filename\",'S15'!B1))+1,24)","v":"S15"},"OMB no. ","0648-0362, exp 2/28/2021",null,null,null,null,null,null,null,null,null,"S15","(default worksheet name)"]
[null,30,"Don't use after","2019-04-30","Why?",null,null,null,null,null,null,null,null,{"$f":"IF(LEFT(N1,3)=\"S1-\",2,VALUE(MID(N1,2,99))+1)","v":16}]
[null,null,"updated","2018-10-16",null,null,null,null,null,null,null,null,null,"","(temp workspace for a current cell value)"]
[null,"SEA GRANT PROJECT SUMMARY FORM 90-2",{"$f":"HYPERLINK(\"#'TableOfContents'!B6\",\"Jump to Table \nof Contents\")","v":"Jump to Table \nof Contents"},null,"National Office does not require uncolored fields:",null,"NSGO use only",null,null,null,null,null,null,"023 Remediation","(temp workspace for a new selected value)"]
[null,null,null,null,null,null,null,null,null,null,null,null,null,{"$f":"IF(N3=\"\",IF(N4=\"\",\"\",N4),IF(N4=\"\",N3,N3&\"; \"&N4))","v":"023 Remediation"},"(function to concatenate the above two cells)"]
["INSTITUTION (Program): ",{"$f":"INDIRECT(\"'ProjDataInput'!a\"&TEXT($N$2,\"###\"))&\"\"","v":""},null,null,null,null,{"$f":"\"\"&TableOfContents!G1","v":"uploaded by"}]
["TITLE: ",{"$f":"MID(INDIRECT(\"'ProjDataInput'!C\"&TEXT($N$2,\"###\")),1,999)","v":""},null,null,null,null,{"$f":"\"\"&TableOfContents!H1","v":"grant no"},null,null,null,null,null,null,{"$f":"IF('S15'!B6=\"\",\"\",'S15'!B6)","v":""},"(Program listed on first 90-2)"]
[null,null,null,"START DATE:",null,null,{"$f":"\"\"&TableOfContents!I1","v":"amd no"}]
["PREFIX (A,C,E,M,P or R): "," PROJECT NUMBER",null,"END DATE:",null,null,{"$f":"\"\"&TableOfContents!J1","v":"fund source"}]
[{"$f":"MID(INDIRECT(\"'ProjDataInput'!b\"&TEXT($N$2,\"###\")),1,2)","v":""},{"$f":"MID(INDIRECT(\"'ProjDataInput'!b\"&TEXT($N$2,\"###\")),3,999)","v":""},null,null,null,null,{"$f":"\"\"&TableOfContents!K1","v":""}]
["(every project must have a prefix)",{"$f":"IF(OR(LEFT(A10&\" \",1)=\"r\",AND(A10=\"\",LEFT(B10,1)=\"r\")),1,0)","v":0},null,null,null,null,{"$f":"\"\"&TableOfContents!L1","v":""}]
[null,null,null,"READINESS LEVELS:"]
["PI: ",{"$f":"MID(INDIRECT(\"'ProjDataInput'!j\"&TEXT($N$2,\"###\")),1,999)","v":""}]
["AFFILIATION: ",{"$f":"MID(INDIRECT(\"'ProjDataInput'!k\"&TEXT($N$2,\"###\")),1,999)","v":""},null,null,null,null,"Worksheet"]
[null,null,null,null,null,null,"tools:"]
["2nd PI: ",{"$f":"MID(INDIRECT(\"'ProjDataInput'!L\"&TEXT($N$2,\"###\")),1,999)","v":""}]
["AFFILIATION: ",{"$f":"MID(INDIRECT(\"'ProjDataInput'!m\"&TEXT($N$2,\"###\")),1,999)","v":""}]
[]
["3rd PI: ",{"$f":"MID(INDIRECT(\"'ProjDataInput'!n\"&TEXT($N$2,\"###\")),1,999)","v":""}]
["AFFILIATION: ",{"$f":"MID(INDIRECT(\"'ProjDataInput'!o\"&TEXT($N$2,\"###\")),1,999)","v":""}]
[]
["4th PI: ",{"$f":"MID(INDIRECT(\"'ProjDataInput'!p\"&TEXT($N$2,\"###\")),1,999)","v":""}]
["AFFILIATION: ",{"$f":"MID(INDIRECT(\"'ProjDataInput'!q\"&TEXT($N$2,\"###\")),1,999)","v":""}]
[]
["FEDERAL $ REQUEST: ",{"$f":"INDIRECT(\"'ProjDataInput'!h\"&TEXT($N$2,\"###\"))","v":0}]
["MATCH $: ",{"$f":"INDIRECT(\"'ProjDataInput'!i\"&TEXT($N$2,\"###\"))","v":0}]
[]
["CLASSIFICATION CODES: ",{"$f":"MID(INDIRECT(\"'ProjDataInput'!f\"&TEXT($N$2,\"###\")),1,999)","v":""}]
[null,"(Primary Code First)"]
["FOCUS AREAS: ",{"$f":"MID(INDIRECT(\"'ProjDataInput'!d\"&TEXT($N$2,\"###\")),1,999)","v":""}]
[null,"(Primary Focus Area First)"]
["PARTNERS: ",{"$f":"MID(INDIRECT(\"'ProjDataInput'!e\"&TEXT($N$2,\"###\")),1,999)","v":""}]
[]
["OBJECTIVES: ",{"$f":"MID(INDIRECT(\"'ProjDataInput'!g\"&TEXT($N$2,\"###\")),1,19999)","v":""},null,"MULTIPROGRAM? "]
[]
["METHODOLOGY: ",null,null,"OTHER INFORMATION: "]
[]
["RATIONALE: "]
[]
["DATA SHARING PLAN: ",{"$f":"MID(INDIRECT(\"'ProjDataInput'!r\"&TEXT($N$2,\"###\")),1,19999)","v":""}]
[null,"(Required for all research projects)"]

{"sheet":"S16","index":18,"n_rows":41,"n_cols":15,"rows_kept":41,"cut":false,"hidden":true,"merged":[]}
["NSGO use only: ",{"$f":"MID(CELL(\"filename\",'S16'!B1),FIND(\"]\",CELL(\"filename\",'S16'!B1))+1,24)","v":"S16"},"OMB no. ","0648-0362, exp 2/28/2021",null,null,null,null,null,null,null,null,null,"S16","(default worksheet name)"]
[null,30,"Don't use after","2019-04-30","Why?",null,null,null,null,null,null,null,null,{"$f":"IF(LEFT(N1,3)=\"S1-\",2,VALUE(MID(N1,2,99))+1)","v":17}]
[null,null,"updated","2018-10-16",null,null,null,null,null,null,null,null,null,"","(temp workspace for a current cell value)"]
[null,"SEA GRANT PROJECT SUMMARY FORM 90-2",{"$f":"HYPERLINK(\"#'TableOfContents'!B6\",\"Jump to Table \nof Contents\")","v":"Jump to Table \nof Contents"},null,"National Office does not require uncolored fields:",null,"NSGO use only",null,null,null,null,null,null,"023 Remediation","(temp workspace for a new selected value)"]
[null,null,null,null,null,null,null,null,null,null,null,null,null,{"$f":"IF(N3=\"\",IF(N4=\"\",\"\",N4),IF(N4=\"\",N3,N3&\"; \"&N4))","v":"023 Remediation"},"(function to concatenate the above two cells)"]
["INSTITUTION (Program): ",{"$f":"INDIRECT(\"'ProjDataInput'!a\"&TEXT($N$2,\"###\"))&\"\"","v":""},null,null,null,null,{"$f":"\"\"&TableOfContents!G1","v":"uploaded by"}]
["TITLE: ",{"$f":"MID(INDIRECT(\"'ProjDataInput'!C\"&TEXT($N$2,\"###\")),1,999)","v":""},null,null,null,null,{"$f":"\"\"&TableOfContents!H1","v":"grant no"},null,null,null,null,null,null,{"$f":"IF('S16'!B6=\"\",\"\",'S16'!B6)","v":""},"(Program listed on first 90-2)"]
[null,null,null,"START DATE:",null,null,{"$f":"\"\"&TableOfContents!I1","v":"amd no"}]
["PREFIX (A,C,E,M,P or R): "," PROJECT NUMBER",null,"END DATE:",null,null,{"$f":"\"\"&TableOfContents!J1","v":"fund source"}]
[{"$f":"MID(INDIRECT(\"'ProjDataInput'!b\"&TEXT($N$2,\"###\")),1,2)","v":""},{"$f":"MID(INDIRECT(\"'ProjDataInput'!b\"&TEXT($N$2,\"###\")),3,999)","v":""},null,null,null,null,{"$f":"\"\"&TableOfContents!K1","v":""}]
["(every project must have a prefix)",{"$f":"IF(OR(LEFT(A10&\" \",1)=\"r\",AND(A10=\"\",LEFT(B10,1)=\"r\")),1,0)","v":0},null,null,null,null,{"$f":"\"\"&TableOfContents!L1","v":""}]
[null,null,null,"READINESS LEVELS:"]
["PI: ",{"$f":"MID(INDIRECT(\"'ProjDataInput'!j\"&TEXT($N$2,\"###\")),1,999)","v":""}]
["AFFILIATION: ",{"$f":"MID(INDIRECT(\"'ProjDataInput'!k\"&TEXT($N$2,\"###\")),1,999)","v":""},null,null,null,null,"Worksheet"]
[null,null,null,null,null,null,"tools:"]
["2nd PI: ",{"$f":"MID(INDIRECT(\"'ProjDataInput'!L\"&TEXT($N$2,\"###\")),1,999)","v":""}]
["AFFILIATION: ",{"$f":"MID(INDIRECT(\"'ProjDataInput'!m\"&TEXT($N$2,\"###\")),1,999)","v":""}]
[]
["3rd PI: ",{"$f":"MID(INDIRECT(\"'ProjDataInput'!n\"&TEXT($N$2,\"###\")),1,999)","v":""}]
["AFFILIATION: ",{"$f":"MID(INDIRECT(\"'ProjDataInput'!o\"&TEXT($N$2,\"###\")),1,999)","v":""}]
[]
["4th PI: ",{"$f":"MID(INDIRECT(\"'ProjDataInput'!p\"&TEXT($N$2,\"###\")),1,999)","v":""}]
["AFFILIATION: ",{"$f":"MID(INDIRECT(\"'ProjDataInput'!q\"&TEXT($N$2,\"###\")),1,999)","v":""}]
[]
["FEDERAL $ REQUEST: ",{"$f":"INDIRECT(\"'ProjDataInput'!h\"&TEXT($N$2,\"###\"))","v":0}]
["MATCH $: ",{"$f":"INDIRECT(\"'ProjDataInput'!i\"&TEXT($N$2,\"###\"))","v":0}]
[]
["CLASSIFICATION CODES: ",{"$f":"MID(INDIRECT(\"'ProjDataInput'!f\"&TEXT($N$2,\"###\")),1,999)","v":""}]
[null,"(Primary Code First)"]
["FOCUS AREAS: ",{"$f":"MID(INDIRECT(\"'ProjDataInput'!d\"&TEXT($N$2,\"###\")),1,999)","v":""}]
[null,"(Primary Focus Area First)"]
["PARTNERS: ",{"$f":"MID(INDIRECT(\"'ProjDataInput'!e\"&TEXT($N$2,\"###\")),1,999)","v":""}]
[]
["OBJECTIVES: ",{"$f":"MID(INDIRECT(\"'ProjDataInput'!g\"&TEXT($N$2,\"###\")),1,19999)","v":""},null,"MULTIPROGRAM? "]
[]
["METHODOLOGY: ",null,null,"OTHER INFORMATION: "]
[]
["RATIONALE: "]
[]
["DATA SHARING PLAN: ",{"$f":"MID(INDIRECT(\"'ProjDataInput'!r\"&TEXT($N$2,\"###\")),1,19999)","v":""}]
[null,"(Required for all research projects)"]

{"sheet":"S17","index":19,"n_rows":41,"n_cols":15,"rows_kept":41,"cut":false,"hidden":true,"merged":[]}
["NSGO use only: ",{"$f":"MID(CELL(\"filename\",'S17'!B1),FIND(\"]\",CELL(\"filename\",'S17'!B1))+1,24)","v":"S17"},"OMB no. ","0648-0362, exp 2/28/2021",null,null,null,null,null,null,null,null,null,"S17","(default worksheet name)"]
[null,30,"Don't use after","2019-04-30","Why?",null,null,null,null,null,null,null,null,{"$f":"IF(LEFT(N1,3)=\"S1-\",2,VALUE(MID(N1,2,99))+1)","v":18}]
[null,null,"updated","2018-10-16",null,null,null,null,null,null,null,null,null,"","(temp workspace for a current cell value)"]
[null,"SEA GRANT PROJECT SUMMARY FORM 90-2",{"$f":"HYPERLINK(\"#'TableOfContents'!B6\",\"Jump to Table \nof Contents\")","v":"Jump to Table \nof Contents"},null,"National Office does not require uncolored fields:",null,"NSGO use only",null,null,null,null,null,null,"023 Remediation","(temp workspace for a new selected value)"]
[null,null,null,null,null,null,null,null,null,null,null,null,null,{"$f":"IF(N3=\"\",IF(N4=\"\",\"\",N4),IF(N4=\"\",N3,N3&\"; \"&N4))","v":"023 Remediation"},"(function to concatenate the above two cells)"]
["INSTITUTION (Program): ",{"$f":"INDIRECT(\"'ProjDataInput'!a\"&TEXT($N$2,\"###\"))&\"\"","v":""},null,null,null,null,{"$f":"\"\"&TableOfContents!G1","v":"uploaded by"}]
["TITLE: ",{"$f":"MID(INDIRECT(\"'ProjDataInput'!C\"&TEXT($N$2,\"###\")),1,999)","v":""},null,null,null,null,{"$f":"\"\"&TableOfContents!H1","v":"grant no"},null,null,null,null,null,null,{"$f":"IF('S17'!B6=\"\",\"\",'S17'!B6)","v":""},"(Program listed on first 90-2)"]
[null,null,null,"START DATE:",null,null,{"$f":"\"\"&TableOfContents!I1","v":"amd no"}]
["PREFIX (A,C,E,M,P or R): "," PROJECT NUMBER",null,"END DATE:",null,null,{"$f":"\"\"&TableOfContents!J1","v":"fund source"}]
[{"$f":"MID(INDIRECT(\"'ProjDataInput'!b\"&TEXT($N$2,\"###\")),1,2)","v":""},{"$f":"MID(INDIRECT(\"'ProjDataInput'!b\"&TEXT($N$2,\"###\")),3,999)","v":""},null,null,null,null,{"$f":"\"\"&TableOfContents!K1","v":""}]
["(every project must have a prefix)",{"$f":"IF(OR(LEFT(A10&\" \",1)=\"r\",AND(A10=\"\",LEFT(B10,1)=\"r\")),1,0)","v":0},null,null,null,null,{"$f":"\"\"&TableOfContents!L1","v":""}]
[null,null,null,"READINESS LEVELS:"]
["PI: ",{"$f":"MID(INDIRECT(\"'ProjDataInput'!j\"&TEXT($N$2,\"###\")),1,999)","v":""}]
["AFFILIATION: ",{"$f":"MID(INDIRECT(\"'ProjDataInput'!k\"&TEXT($N$2,\"###\")),1,999)","v":""},null,null,null,null,"Worksheet"]
[null,null,null,null,null,null,"tools:"]
["2nd PI: ",{"$f":"MID(INDIRECT(\"'ProjDataInput'!L\"&TEXT($N$2,\"###\")),1,999)","v":""}]
["AFFILIATION: ",{"$f":"MID(INDIRECT(\"'ProjDataInput'!m\"&TEXT($N$2,\"###\")),1,999)","v":""}]
[]
["3rd PI: ",{"$f":"MID(INDIRECT(\"'ProjDataInput'!n\"&TEXT($N$2,\"###\")),1,999)","v":""}]
["AFFILIATION: ",{"$f":"MID(INDIRECT(\"'ProjDataInput'!o\"&TEXT($N$2,\"###\")),1,999)","v":""}]
[]
["4th PI: ",{"$f":"MID(INDIRECT(\"'ProjDataInput'!p\"&TEXT($N$2,\"###\")),1,999)","v":""}]
["AFFILIATION: ",{"$f":"MID(INDIRECT(\"'ProjDataInput'!q\"&TEXT($N$2,\"###\")),1,999)","v":""}]
[]
["FEDERAL $ REQUEST: ",{"$f":"INDIRECT(\"'ProjDataInput'!h\"&TEXT($N$2,\"###\"))","v":0}]
["MATCH $: ",{"$f":"INDIRECT(\"'ProjDataInput'!i\"&TEXT($N$2,\"###\"))","v":0}]
[]
["CLASSIFICATION CODES: ",{"$f":"MID(INDIRECT(\"'ProjDataInput'!f\"&TEXT($N$2,\"###\")),1,999)","v":""}]
[null,"(Primary Code First)"]
["FOCUS AREAS: ",{"$f":"MID(INDIRECT(\"'ProjDataInput'!d\"&TEXT($N$2,\"###\")),1,999)","v":""}]
[null,"(Primary Focus Area First)"]
["PARTNERS: ",{"$f":"MID(INDIRECT(\"'ProjDataInput'!e\"&TEXT($N$2,\"###\")),1,999)","v":""}]
[]
["OBJECTIVES: ",{"$f":"MID(INDIRECT(\"'ProjDataInput'!g\"&TEXT($N$2,\"###\")),1,19999)","v":""},null,"MULTIPROGRAM? "]
[]
["METHODOLOGY: ",null,null,"OTHER INFORMATION: "]
[]
["RATIONALE: "]
[]
["DATA SHARING PLAN: ",{"$f":"MID(INDIRECT(\"'ProjDataInput'!r\"&TEXT($N$2,\"###\")),1,19999)","v":""}]
[null,"(Required for all research projects)"]

{"sheet":"S18","index":20,"n_rows":41,"n_cols":15,"rows_kept":41,"cut":false,"hidden":true,"merged":[]}
["NSGO use only: ",{"$f":"MID(CELL(\"filename\",'S18'!B1),FIND(\"]\",CELL(\"filename\",'S18'!B1))+1,24)","v":"S18"},"OMB no. ","0648-0362, exp 2/28/2021",null,null,null,null,null,null,null,null,null,"S18","(default worksheet name)"]
[null,30,"Don't use after","2019-04-30","Why?",null,null,null,null,null,null,null,null,{"$f":"IF(LEFT(N1,3)=\"S1-\",2,VALUE(MID(N1,2,99))+1)","v":19}]
[null,null,"updated","2018-10-16",null,null,null,null,null,null,null,null,null,"","(temp workspace for a current cell value)"]
[null,"SEA GRANT PROJECT SUMMARY FORM 90-2",{"$f":"HYPERLINK(\"#'TableOfContents'!B6\",\"Jump to Table \nof Contents\")","v":"Jump to Table \nof Contents"},null,"National Office does not require uncolored fields:",null,"NSGO use only",null,null,null,null,null,null,"023 Remediation","(temp workspace for a new selected value)"]
[null,null,null,null,null,null,null,null,null,null,null,null,null,{"$f":"IF(N3=\"\",IF(N4=\"\",\"\",N4),IF(N4=\"\",N3,N3&\"; \"&N4))","v":"023 Remediation"},"(function to concatenate the above two cells)"]
["INSTITUTION (Program): ",{"$f":"INDIRECT(\"'ProjDataInput'!a\"&TEXT($N$2,\"###\"))&\"\"","v":""},null,null,null,null,{"$f":"\"\"&TableOfContents!G1","v":"uploaded by"}]
["TITLE: ",{"$f":"MID(INDIRECT(\"'ProjDataInput'!C\"&TEXT($N$2,\"###\")),1,999)","v":""},null,null,null,null,{"$f":"\"\"&TableOfContents!H1","v":"grant no"},null,null,null,null,null,null,{"$f":"IF('S18'!B6=\"\",\"\",'S18'!B6)","v":""},"(Program listed on first 90-2)"]
[null,null,null,"START DATE:",null,null,{"$f":"\"\"&TableOfContents!I1","v":"amd no"}]
["PREFIX (A,C,E,M,P or R): "," PROJECT NUMBER",null,"END DATE:",null,null,{"$f":"\"\"&TableOfContents!J1","v":"fund source"}]
[{"$f":"MID(INDIRECT(\"'ProjDataInput'!b\"&TEXT($N$2,\"###\")),1,2)","v":""},{"$f":"MID(INDIRECT(\"'ProjDataInput'!b\"&TEXT($N$2,\"###\")),3,999)","v":""},null,null,null,null,{"$f":"\"\"&TableOfContents!K1","v":""}]
["(every project must have a prefix)",{"$f":"IF(OR(LEFT(A10&\" \",1)=\"r\",AND(A10=\"\",LEFT(B10,1)=\"r\")),1,0)","v":0},null,null,null,null,{"$f":"\"\"&TableOfContents!L1","v":""}]
[null,null,null,"READINESS LEVELS:"]
["PI: ",{"$f":"MID(INDIRECT(\"'ProjDataInput'!j\"&TEXT($N$2,\"###\")),1,999)","v":""}]
["AFFILIATION: ",{"$f":"MID(INDIRECT(\"'ProjDataInput'!k\"&TEXT($N$2,\"###\")),1,999)","v":""},null,null,null,null,"Worksheet"]
[null,null,null,null,null,null,"tools:"]
["2nd PI: ",{"$f":"MID(INDIRECT(\"'ProjDataInput'!L\"&TEXT($N$2,\"###\")),1,999)","v":""}]
["AFFILIATION: ",{"$f":"MID(INDIRECT(\"'ProjDataInput'!m\"&TEXT($N$2,\"###\")),1,999)","v":""}]
[]
["3rd PI: ",{"$f":"MID(INDIRECT(\"'ProjDataInput'!n\"&TEXT($N$2,\"###\")),1,999)","v":""}]
["AFFILIATION: ",{"$f":"MID(INDIRECT(\"'ProjDataInput'!o\"&TEXT($N$2,\"###\")),1,999)","v":""}]
[]
["4th PI: ",{"$f":"MID(INDIRECT(\"'ProjDataInput'!p\"&TEXT($N$2,\"###\")),1,999)","v":""}]
["AFFILIATION: ",{"$f":"MID(INDIRECT(\"'ProjDataInput'!q\"&TEXT($N$2,\"###\")),1,999)","v":""}]
[]
["FEDERAL $ REQUEST: ",{"$f":"INDIRECT(\"'ProjDataInput'!h\"&TEXT($N$2,\"###\"))","v":0}]
["MATCH $: ",{"$f":"INDIRECT(\"'ProjDataInput'!i\"&TEXT($N$2,\"###\"))","v":0}]
[]
["CLASSIFICATION CODES: ",{"$f":"MID(INDIRECT(\"'ProjDataInput'!f\"&TEXT($N$2,\"###\")),1,999)","v":""}]
[null,"(Primary Code First)"]
["FOCUS AREAS: ",{"$f":"MID(INDIRECT(\"'ProjDataInput'!d\"&TEXT($N$2,\"###\")),1,999)","v":""}]
[null,"(Primary Focus Area First)"]
["PARTNERS: ",{"$f":"MID(INDIRECT(\"'ProjDataInput'!e\"&TEXT($N$2,\"###\")),1,999)","v":""}]
[]
["OBJECTIVES: ",{"$f":"MID(INDIRECT(\"'ProjDataInput'!g\"&TEXT($N$2,\"###\")),1,19999)","v":""},null,"MULTIPROGRAM? "]
[]
["METHODOLOGY: ",null,null,"OTHER INFORMATION: "]
[]
["RATIONALE: "]
[]
["DATA SHARING PLAN: ",{"$f":"MID(INDIRECT(\"'ProjDataInput'!r\"&TEXT($N$2,\"###\")),1,19999)","v":""}]
[null,"(Required for all research projects)"]

{"sheet":"S19","index":21,"n_rows":41,"n_cols":15,"rows_kept":41,"cut":false,"hidden":true,"merged":[]}
["NSGO use only: ",{"$f":"MID(CELL(\"filename\",'S19'!B1),FIND(\"]\",CELL(\"filename\",'S19'!B1))+1,24)","v":"S19"},"OMB no. ","0648-0362, exp 2/28/2021",null,null,null,null,null,null,null,null,null,"S19","(default worksheet name)"]
[null,30,"Don't use after","2019-04-30","Why?",null,null,null,null,null,null,null,null,{"$f":"IF(LEFT(N1,3)=\"S1-\",2,VALUE(MID(N1,2,99))+1)","v":20}]
[null,null,"updated","2018-10-16",null,null,null,null,null,null,null,null,null,"","(temp workspace for a current cell value)"]
[null,"SEA GRANT PROJECT SUMMARY FORM 90-2",{"$f":"HYPERLINK(\"#'TableOfContents'!B6\",\"Jump to Table \nof Contents\")","v":"Jump to Table \nof Contents"},null,"National Office does not require uncolored fields:",null,"NSGO use only",null,null,null,null,null,null,"023 Remediation","(temp workspace for a new selected value)"]
[null,null,null,null,null,null,null,null,null,null,null,null,null,{"$f":"IF(N3=\"\",IF(N4=\"\",\"\",N4),IF(N4=\"\",N3,N3&\"; \"&N4))","v":"023 Remediation"},"(function to concatenate the above two cells)"]
["INSTITUTION (Program): ",{"$f":"INDIRECT(\"'ProjDataInput'!a\"&TEXT($N$2,\"###\"))&\"\"","v":""},null,null,null,null,{"$f":"\"\"&TableOfContents!G1","v":"uploaded by"}]
["TITLE: ",{"$f":"MID(INDIRECT(\"'ProjDataInput'!C\"&TEXT($N$2,\"###\")),1,999)","v":""},null,null,null,null,{"$f":"\"\"&TableOfContents!H1","v":"grant no"},null,null,null,null,null,null,{"$f":"IF('S19'!B6=\"\",\"\",'S19'!B6)","v":""},"(Program listed on first 90-2)"]
[null,null,null,"START DATE:",null,null,{"$f":"\"\"&TableOfContents!I1","v":"amd no"}]
["PREFIX (A,C,E,M,P or R): "," PROJECT NUMBER",null,"END DATE:",null,null,{"$f":"\"\"&TableOfContents!J1","v":"fund source"}]
[{"$f":"MID(INDIRECT(\"'ProjDataInput'!b\"&TEXT($N$2,\"###\")),1,2)","v":""},{"$f":"MID(INDIRECT(\"'ProjDataInput'!b\"&TEXT($N$2,\"###\")),3,999)","v":""},null,null,null,null,{"$f":"\"\"&TableOfContents!K1","v":""}]
["(every project must have a prefix)",{"$f":"IF(OR(LEFT(A10&\" \",1)=\"r\",AND(A10=\"\",LEFT(B10,1)=\"r\")),1,0)","v":0},null,null,null,null,{"$f":"\"\"&TableOfContents!L1","v":""}]
[null,null,null,"READINESS LEVELS:"]
["PI: ",{"$f":"MID(INDIRECT(\"'ProjDataInput'!j\"&TEXT($N$2,\"###\")),1,999)","v":""}]
["AFFILIATION: ",{"$f":"MID(INDIRECT(\"'ProjDataInput'!k\"&TEXT($N$2,\"###\")),1,999)","v":""},null,null,null,null,"Worksheet"]
[null,null,null,null,null,null,"tools:"]
["2nd PI: ",{"$f":"MID(INDIRECT(\"'ProjDataInput'!L\"&TEXT($N$2,\"###\")),1,999)","v":""}]
["AFFILIATION: ",{"$f":"MID(INDIRECT(\"'ProjDataInput'!m\"&TEXT($N$2,\"###\")),1,999)","v":""}]
[]
["3rd PI: ",{"$f":"MID(INDIRECT(\"'ProjDataInput'!n\"&TEXT($N$2,\"###\")),1,999)","v":""}]
["AFFILIATION: ",{"$f":"MID(INDIRECT(\"'ProjDataInput'!o\"&TEXT($N$2,\"###\")),1,999)","v":""}]
[]
["4th PI: ",{"$f":"MID(INDIRECT(\"'ProjDataInput'!p\"&TEXT($N$2,\"###\")),1,999)","v":""}]
["AFFILIATION: ",{"$f":"MID(INDIRECT(\"'ProjDataInput'!q\"&TEXT($N$2,\"###\")),1,999)","v":""}]
[]
["FEDERAL $ REQUEST: ",{"$f":"INDIRECT(\"'ProjDataInput'!h\"&TEXT($N$2,\"###\"))","v":0}]
["MATCH $: ",{"$f":"INDIRECT(\"'ProjDataInput'!i\"&TEXT($N$2,\"###\"))","v":0}]
[]
["CLASSIFICATION CODES: ",{"$f":"MID(INDIRECT(\"'ProjDataInput'!f\"&TEXT($N$2,\"###\")),1,999)","v":""}]
[null,"(Primary Code First)"]
["FOCUS AREAS: ",{"$f":"MID(INDIRECT(\"'ProjDataInput'!d\"&TEXT($N$2,\"###\")),1,999)","v":""}]
[null,"(Primary Focus Area First)"]
["PARTNERS: ",{"$f":"MID(INDIRECT(\"'ProjDataInput'!e\"&TEXT($N$2,\"###\")),1,999)","v":""}]
[]
["OBJECTIVES: ",{"$f":"MID(INDIRECT(\"'ProjDataInput'!g\"&TEXT($N$2,\"###\")),1,19999)","v":""},null,"MULTIPROGRAM? "]
[]
["METHODOLOGY: ",null,null,"OTHER INFORMATION: "]
[]
["RATIONALE: "]
[]
["DATA SHARING PLAN: ",{"$f":"MID(INDIRECT(\"'ProjDataInput'!r\"&TEXT($N$2,\"###\")),1,19999)","v":""}]
[null,"(Required for all research projects)"]

{"sheet":"S20","index":22,"n_rows":41,"n_cols":15,"rows_kept":41,"cut":false,"hidden":true,"merged":[]}
["NSGO use only: ",{"$f":"MID(CELL(\"filename\",'S20'!B1),FIND(\"]\",CELL(\"filename\",'S20'!B1))+1,24)","v":"S20"},"OMB no. ","0648-0362, exp 2/28/2021",null,null,null,null,null,null,null,null,null,"S20","(default worksheet name)"]
[null,30,"Don't use after","2019-04-30","Why?",null,null,null,null,null,null,null,null,{"$f":"IF(LEFT(N1,3)=\"S1-\",2,VALUE(MID(N1,2,99))+1)","v":21}]
[null,null,"updated","2018-10-16",null,null,null,null,null,null,null,null,null,"","(temp workspace for a current cell value)"]
[null,"SEA GRANT PROJECT SUMMARY FORM 90-2",{"$f":"HYPERLINK(\"#'TableOfContents'!B6\",\"Jump to Table \nof Contents\")","v":"Jump to Table \nof Contents"},null,"National Office does not require uncolored fields:",null,"NSGO use only",null,null,null,null,null,null,"023 Remediation","(temp workspace for a new selected value)"]
[null,null,null,null,null,null,null,null,null,null,null,null,null,{"$f":"IF(N3=\"\",IF(N4=\"\",\"\",N4),IF(N4=\"\",N3,N3&\"; \"&N4))","v":"023 Remediation"},"(function to concatenate the above two cells)"]
["INSTITUTION (Program): ",{"$f":"INDIRECT(\"'ProjDataInput'!a\"&TEXT($N$2,\"###\"))&\"\"","v":""},null,null,null,null,{"$f":"\"\"&TableOfContents!G1","v":"uploaded by"}]
["TITLE: ",{"$f":"MID(INDIRECT(\"'ProjDataInput'!C\"&TEXT($N$2,\"###\")),1,999)","v":""},null,null,null,null,{"$f":"\"\"&TableOfContents!H1","v":"grant no"},null,null,null,null,null,null,{"$f":"IF('S20'!B6=\"\",\"\",'S20'!B6)","v":""},"(Program listed on first 90-2)"]
[null,null,null,"START DATE:",null,null,{"$f":"\"\"&TableOfContents!I1","v":"amd no"}]
["PREFIX (A,C,E,M,P or R): "," PROJECT NUMBER",null,"END DATE:",null,null,{"$f":"\"\"&TableOfContents!J1","v":"fund source"}]
[{"$f":"MID(INDIRECT(\"'ProjDataInput'!b\"&TEXT($N$2,\"###\")),1,2)","v":""},{"$f":"MID(INDIRECT(\"'ProjDataInput'!b\"&TEXT($N$2,\"###\")),3,999)","v":""},null,null,null,null,{"$f":"\"\"&TableOfContents!K1","v":""}]
["(every project must have a prefix)",{"$f":"IF(OR(LEFT(A10&\" \",1)=\"r\",AND(A10=\"\",LEFT(B10,1)=\"r\")),1,0)","v":0},null,null,null,null,{"$f":"\"\"&TableOfContents!L1","v":""}]
[null,null,null,"READINESS LEVELS:"]
["PI: ",{"$f":"MID(INDIRECT(\"'ProjDataInput'!j\"&TEXT($N$2,\"###\")),1,999)","v":""}]
["AFFILIATION: ",{"$f":"MID(INDIRECT(\"'ProjDataInput'!k\"&TEXT($N$2,\"###\")),1,999)","v":""},null,null,null,null,"Worksheet"]
[null,null,null,null,null,null,"tools:"]
["2nd PI: ",{"$f":"MID(INDIRECT(\"'ProjDataInput'!L\"&TEXT($N$2,\"###\")),1,999)","v":""}]
["AFFILIATION: ",{"$f":"MID(INDIRECT(\"'ProjDataInput'!m\"&TEXT($N$2,\"###\")),1,999)","v":""}]
[]
["3rd PI: ",{"$f":"MID(INDIRECT(\"'ProjDataInput'!n\"&TEXT($N$2,\"###\")),1,999)","v":""}]
["AFFILIATION: ",{"$f":"MID(INDIRECT(\"'ProjDataInput'!o\"&TEXT($N$2,\"###\")),1,999)","v":""}]
[]
["4th PI: ",{"$f":"MID(INDIRECT(\"'ProjDataInput'!p\"&TEXT($N$2,\"###\")),1,999)","v":""}]
["AFFILIATION: ",{"$f":"MID(INDIRECT(\"'ProjDataInput'!q\"&TEXT($N$2,\"###\")),1,999)","v":""}]
[]
["FEDERAL $ REQUEST: ",{"$f":"INDIRECT(\"'ProjDataInput'!h\"&TEXT($N$2,\"###\"))","v":0}]
["MATCH $: ",{"$f":"INDIRECT(\"'ProjDataInput'!i\"&TEXT($N$2,\"###\"))","v":0}]
[]
["CLASSIFICATION CODES: ",{"$f":"MID(INDIRECT(\"'ProjDataInput'!f\"&TEXT($N$2,\"###\")),1,999)","v":""}]
[null,"(Primary Code First)"]
["FOCUS AREAS: ",{"$f":"MID(INDIRECT(\"'ProjDataInput'!d\"&TEXT($N$2,\"###\")),1,999)","v":""}]
[null,"(Primary Focus Area First)"]
["PARTNERS: ",{"$f":"MID(INDIRECT(\"'ProjDataInput'!e\"&TEXT($N$2,\"###\")),1,999)","v":""}]
[]
["OBJECTIVES: ",{"$f":"MID(INDIRECT(\"'ProjDataInput'!g\"&TEXT($N$2,\"###\")),1,19999)","v":""},null,"MULTIPROGRAM? "]
[]
["METHODOLOGY: ",null,null,"OTHER INFORMATION: "]
[]
["RATIONALE: "]
[]
["DATA SHARING PLAN: ",{"$f":"MID(INDIRECT(\"'ProjDataInput'!r\"&TEXT($N$2,\"###\")),1,19999)","v":""}]
[null,"(Required for all research projects)"]

{"sheet":"S21","index":23,"n_rows":41,"n_cols":15,"rows_kept":41,"cut":false,"hidden":true,"merged":[]}
["NSGO use only: ",{"$f":"MID(CELL(\"filename\",'S21'!B1),FIND(\"]\",CELL(\"filename\",'S21'!B1))+1,24)","v":"S21"},"OMB no. ","0648-0362, exp 2/28/2021",null,null,null,null,null,null,null,null,null,"S21","(default worksheet name)"]
[null,30,"Don't use after","2019-04-30","Why?",null,null,null,null,null,null,null,null,{"$f":"IF(LEFT(N1,3)=\"S1-\",2,VALUE(MID(N1,2,99))+1)","v":22}]
[null,null,"updated","2018-10-16",null,null,null,null,null,null,null,null,null,"","(temp workspace for a current cell value)"]
[null,"SEA GRANT PROJECT SUMMARY FORM 90-2",{"$f":"HYPERLINK(\"#'TableOfContents'!B6\",\"Jump to Table \nof Contents\")","v":"Jump to Table \nof Contents"},null,"National Office does not require uncolored fields:",null,"NSGO use only",null,null,null,null,null,null,"023 Remediation","(temp workspace for a new selected value)"]
[null,null,null,null,null,null,null,null,null,null,null,null,null,{"$f":"IF(N3=\"\",IF(N4=\"\",\"\",N4),IF(N4=\"\",N3,N3&\"; \"&N4))","v":"023 Remediation"},"(function to concatenate the above two cells)"]
["INSTITUTION (Program): ",{"$f":"INDIRECT(\"'ProjDataInput'!a\"&TEXT($N$2,\"###\"))&\"\"","v":""},null,null,null,null,{"$f":"\"\"&TableOfContents!G1","v":"uploaded by"}]
["TITLE: ",{"$f":"MID(INDIRECT(\"'ProjDataInput'!C\"&TEXT($N$2,\"###\")),1,999)","v":""},null,null,null,null,{"$f":"\"\"&TableOfContents!H1","v":"grant no"},null,null,null,null,null,null,{"$f":"IF('S21'!B6=\"\",\"\",'S21'!B6)","v":""},"(Program listed on first 90-2)"]
[null,null,null,"START DATE:",null,null,{"$f":"\"\"&TableOfContents!I1","v":"amd no"}]
["PREFIX (A,C,E,M,P or R): "," PROJECT NUMBER",null,"END DATE:",null,null,{"$f":"\"\"&TableOfContents!J1","v":"fund source"}]
[{"$f":"MID(INDIRECT(\"'ProjDataInput'!b\"&TEXT($N$2,\"###\")),1,2)","v":""},{"$f":"MID(INDIRECT(\"'ProjDataInput'!b\"&TEXT($N$2,\"###\")),3,999)","v":""},null,null,null,null,{"$f":"\"\"&TableOfContents!K1","v":""}]
["(every project must have a prefix)",{"$f":"IF(OR(LEFT(A10&\" \",1)=\"r\",AND(A10=\"\",LEFT(B10,1)=\"r\")),1,0)","v":0},null,null,null,null,{"$f":"\"\"&TableOfContents!L1","v":""}]
[null,null,null,"READINESS LEVELS:"]
["PI: ",{"$f":"MID(INDIRECT(\"'ProjDataInput'!j\"&TEXT($N$2,\"###\")),1,999)","v":""}]
["AFFILIATION: ",{"$f":"MID(INDIRECT(\"'ProjDataInput'!k\"&TEXT($N$2,\"###\")),1,999)","v":""},null,null,null,null,"Worksheet"]
[null,null,null,null,null,null,"tools:"]
["2nd PI: ",{"$f":"MID(INDIRECT(\"'ProjDataInput'!L\"&TEXT($N$2,\"###\")),1,999)","v":""}]
["AFFILIATION: ",{"$f":"MID(INDIRECT(\"'ProjDataInput'!m\"&TEXT($N$2,\"###\")),1,999)","v":""}]
[]
["3rd PI: ",{"$f":"MID(INDIRECT(\"'ProjDataInput'!n\"&TEXT($N$2,\"###\")),1,999)","v":""}]
["AFFILIATION: ",{"$f":"MID(INDIRECT(\"'ProjDataInput'!o\"&TEXT($N$2,\"###\")),1,999)","v":""}]
[]
["4th PI: ",{"$f":"MID(INDIRECT(\"'ProjDataInput'!p\"&TEXT($N$2,\"###\")),1,999)","v":""}]
["AFFILIATION: ",{"$f":"MID(INDIRECT(\"'ProjDataInput'!q\"&TEXT($N$2,\"###\")),1,999)","v":""}]
[]
["FEDERAL $ REQUEST: ",{"$f":"INDIRECT(\"'ProjDataInput'!h\"&TEXT($N$2,\"###\"))","v":0}]
["MATCH $: ",{"$f":"INDIRECT(\"'ProjDataInput'!i\"&TEXT($N$2,\"###\"))","v":0}]
[]
["CLASSIFICATION CODES: ",{"$f":"MID(INDIRECT(\"'ProjDataInput'!f\"&TEXT($N$2,\"###\")),1,999)","v":""}]
[null,"(Primary Code First)"]
["FOCUS AREAS: ",{"$f":"MID(INDIRECT(\"'ProjDataInput'!d\"&TEXT($N$2,\"###\")),1,999)","v":""}]
[null,"(Primary Focus Area First)"]
["PARTNERS: ",{"$f":"MID(INDIRECT(\"'ProjDataInput'!e\"&TEXT($N$2,\"###\")),1,999)","v":""}]
[]
["OBJECTIVES: ",{"$f":"MID(INDIRECT(\"'ProjDataInput'!g\"&TEXT($N$2,\"###\")),1,19999)","v":""},null,"MULTIPROGRAM? "]
[]
["METHODOLOGY: ",null,null,"OTHER INFORMATION: "]
[]
["RATIONALE: "]
[]
["DATA SHARING PLAN: ",{"$f":"MID(INDIRECT(\"'ProjDataInput'!r\"&TEXT($N$2,\"###\")),1,19999)","v":""}]
[null,"(Required for all research projects)"]

{"sheet":"S22","index":24,"n_rows":41,"n_cols":15,"rows_kept":41,"cut":false,"hidden":true,"merged":[]}
["NSGO use only: ",{"$f":"MID(CELL(\"filename\",'S22'!B1),FIND(\"]\",CELL(\"filename\",'S22'!B1))+1,24)","v":"S22"},"OMB no. ","0648-0362, exp 2/28/2021",null,null,null,null,null,null,null,null,null,"S22","(default worksheet name)"]
[null,30,"Don't use after","2019-04-30","Why?",null,null,null,null,null,null,null,null,{"$f":"IF(LEFT(N1,3)=\"S1-\",2,VALUE(MID(N1,2,99))+1)","v":23}]
[null,null,"updated","2018-10-16",null,null,null,null,null,null,null,null,null,"","(temp workspace for a current cell value)"]
[null,"SEA GRANT PROJECT SUMMARY FORM 90-2",{"$f":"HYPERLINK(\"#'TableOfContents'!B6\",\"Jump to Table \nof Contents\")","v":"Jump to Table \nof Contents"},null,"National Office does not require uncolored fields:",null,"NSGO use only",null,null,null,null,null,null,"023 Remediation","(temp workspace for a new selected value)"]
[null,null,null,null,null,null,null,null,null,null,null,null,null,{"$f":"IF(N3=\"\",IF(N4=\"\",\"\",N4),IF(N4=\"\",N3,N3&\"; \"&N4))","v":"023 Remediation"},"(function to concatenate the above two cells)"]
["INSTITUTION (Program): ",{"$f":"INDIRECT(\"'ProjDataInput'!a\"&TEXT($N$2,\"###\"))&\"\"","v":""},null,null,null,null,{"$f":"\"\"&TableOfContents!G1","v":"uploaded by"}]
["TITLE: ",{"$f":"MID(INDIRECT(\"'ProjDataInput'!C\"&TEXT($N$2,\"###\")),1,999)","v":""},null,null,null,null,{"$f":"\"\"&TableOfContents!H1","v":"grant no"},null,null,null,null,null,null,{"$f":"IF('S22'!B6=\"\",\"\",'S22'!B6)","v":""},"(Program listed on first 90-2)"]
[null,null,null,"START DATE:",null,null,{"$f":"\"\"&TableOfContents!I1","v":"amd no"}]
["PREFIX (A,C,E,M,P or R): "," PROJECT NUMBER",null,"END DATE:",null,null,{"$f":"\"\"&TableOfContents!J1","v":"fund source"}]
[{"$f":"MID(INDIRECT(\"'ProjDataInput'!b\"&TEXT($N$2,\"###\")),1,2)","v":""},{"$f":"MID(INDIRECT(\"'ProjDataInput'!b\"&TEXT($N$2,\"###\")),3,999)","v":""},null,null,null,null,{"$f":"\"\"&TableOfContents!K1","v":""}]
["(every project must have a prefix)",{"$f":"IF(OR(LEFT(A10&\" \",1)=\"r\",AND(A10=\"\",LEFT(B10,1)=\"r\")),1,0)","v":0},null,null,null,null,{"$f":"\"\"&TableOfContents!L1","v":""}]
[null,null,null,"READINESS LEVELS:"]
["PI: ",{"$f":"MID(INDIRECT(\"'ProjDataInput'!j\"&TEXT($N$2,\"###\")),1,999)","v":""}]
["AFFILIATION: ",{"$f":"MID(INDIRECT(\"'ProjDataInput'!k\"&TEXT($N$2,\"###\")),1,999)","v":""},null,null,null,null,"Worksheet"]
[null,null,null,null,null,null,"tools:"]
["2nd PI: ",{"$f":"MID(INDIRECT(\"'ProjDataInput'!L\"&TEXT($N$2,\"###\")),1,999)","v":""}]
["AFFILIATION: ",{"$f":"MID(INDIRECT(\"'ProjDataInput'!m\"&TEXT($N$2,\"###\")),1,999)","v":""}]
[]
["3rd PI: ",{"$f":"MID(INDIRECT(\"'ProjDataInput'!n\"&TEXT($N$2,\"###\")),1,999)","v":""}]
["AFFILIATION: ",{"$f":"MID(INDIRECT(\"'ProjDataInput'!o\"&TEXT($N$2,\"###\")),1,999)","v":""}]
[]
["4th PI: ",{"$f":"MID(INDIRECT(\"'ProjDataInput'!p\"&TEXT($N$2,\"###\")),1,999)","v":""}]
["AFFILIATION: ",{"$f":"MID(INDIRECT(\"'ProjDataInput'!q\"&TEXT($N$2,\"###\")),1,999)","v":""}]
[]
["FEDERAL $ REQUEST: ",{"$f":"INDIRECT(\"'ProjDataInput'!h\"&TEXT($N$2,\"###\"))","v":0}]
["MATCH $: ",{"$f":"INDIRECT(\"'ProjDataInput'!i\"&TEXT($N$2,\"###\"))","v":0}]
[]
["CLASSIFICATION CODES: ",{"$f":"MID(INDIRECT(\"'ProjDataInput'!f\"&TEXT($N$2,\"###\")),1,999)","v":""}]
[null,"(Primary Code First)"]
["FOCUS AREAS: ",{"$f":"MID(INDIRECT(\"'ProjDataInput'!d\"&TEXT($N$2,\"###\")),1,999)","v":""}]
[null,"(Primary Focus Area First)"]
["PARTNERS: ",{"$f":"MID(INDIRECT(\"'ProjDataInput'!e\"&TEXT($N$2,\"###\")),1,999)","v":""}]
[]
["OBJECTIVES: ",{"$f":"MID(INDIRECT(\"'ProjDataInput'!g\"&TEXT($N$2,\"###\")),1,19999)","v":""},null,"MULTIPROGRAM? "]
[]
["METHODOLOGY: ",null,null,"OTHER INFORMATION: "]
[]
["RATIONALE: "]
[]
["DATA SHARING PLAN: ",{"$f":"MID(INDIRECT(\"'ProjDataInput'!r\"&TEXT($N$2,\"###\")),1,19999)","v":""}]
[null,"(Required for all research projects)"]

{"sheet":"S23","index":25,"n_rows":41,"n_cols":15,"rows_kept":41,"cut":false,"hidden":true,"merged":[]}
["NSGO use only: ",{"$f":"MID(CELL(\"filename\",'S23'!B1),FIND(\"]\",CELL(\"filename\",'S23'!B1))+1,24)","v":"S23"},"OMB no. ","0648-0362, exp 2/28/2021",null,null,null,null,null,null,null,null,null,"S23","(default worksheet name)"]
[null,30,"Don't use after","2019-04-30","Why?",null,null,null,null,null,null,null,null,{"$f":"IF(LEFT(N1,3)=\"S1-\",2,VALUE(MID(N1,2,99))+1)","v":24}]
[null,null,"updated","2018-10-16",null,null,null,null,null,null,null,null,null,"","(temp workspace for a current cell value)"]
[null,"SEA GRANT PROJECT SUMMARY FORM 90-2",{"$f":"HYPERLINK(\"#'TableOfContents'!B6\",\"Jump to Table \nof Contents\")","v":"Jump to Table \nof Contents"},null,"National Office does not require uncolored fields:",null,"NSGO use only",null,null,null,null,null,null,"023 Remediation","(temp workspace for a new selected value)"]
[null,null,null,null,null,null,null,null,null,null,null,null,null,{"$f":"IF(N3=\"\",IF(N4=\"\",\"\",N4),IF(N4=\"\",N3,N3&\"; \"&N4))","v":"023 Remediation"},"(function to concatenate the above two cells)"]
["INSTITUTION (Program): ",{"$f":"INDIRECT(\"'ProjDataInput'!a\"&TEXT($N$2,\"###\"))&\"\"","v":""},null,null,null,null,{"$f":"\"\"&TableOfContents!G1","v":"uploaded by"}]
["TITLE: ",{"$f":"MID(INDIRECT(\"'ProjDataInput'!C\"&TEXT($N$2,\"###\")),1,999)","v":""},null,null,null,null,{"$f":"\"\"&TableOfContents!H1","v":"grant no"},null,null,null,null,null,null,{"$f":"IF('S23'!B6=\"\",\"\",'S23'!B6)","v":""},"(Program listed on first 90-2)"]
[null,null,null,"START DATE:",null,null,{"$f":"\"\"&TableOfContents!I1","v":"amd no"}]
["PREFIX (A,C,E,M,P or R): "," PROJECT NUMBER",null,"END DATE:",null,null,{"$f":"\"\"&TableOfContents!J1","v":"fund source"}]
[{"$f":"MID(INDIRECT(\"'ProjDataInput'!b\"&TEXT($N$2,\"###\")),1,2)","v":""},{"$f":"MID(INDIRECT(\"'ProjDataInput'!b\"&TEXT($N$2,\"###\")),3,999)","v":""},null,null,null,null,{"$f":"\"\"&TableOfContents!K1","v":""}]
["(every project must have a prefix)",{"$f":"IF(OR(LEFT(A10&\" \",1)=\"r\",AND(A10=\"\",LEFT(B10,1)=\"r\")),1,0)","v":0},null,null,null,null,{"$f":"\"\"&TableOfContents!L1","v":""}]
[null,null,null,"READINESS LEVELS:"]
["PI: ",{"$f":"MID(INDIRECT(\"'ProjDataInput'!j\"&TEXT($N$2,\"###\")),1,999)","v":""}]
["AFFILIATION: ",{"$f":"MID(INDIRECT(\"'ProjDataInput'!k\"&TEXT($N$2,\"###\")),1,999)","v":""},null,null,null,null,"Worksheet"]
[null,null,null,null,null,null,"tools:"]
["2nd PI: ",{"$f":"MID(INDIRECT(\"'ProjDataInput'!L\"&TEXT($N$2,\"###\")),1,999)","v":""}]
["AFFILIATION: ",{"$f":"MID(INDIRECT(\"'ProjDataInput'!m\"&TEXT($N$2,\"###\")),1,999)","v":""}]
[]
["3rd PI: ",{"$f":"MID(INDIRECT(\"'ProjDataInput'!n\"&TEXT($N$2,\"###\")),1,999)","v":""}]
["AFFILIATION: ",{"$f":"MID(INDIRECT(\"'ProjDataInput'!o\"&TEXT($N$2,\"###\")),1,999)","v":""}]
[]
["4th PI: ",{"$f":"MID(INDIRECT(\"'ProjDataInput'!p\"&TEXT($N$2,\"###\")),1,999)","v":""}]
["AFFILIATION: ",{"$f":"MID(INDIRECT(\"'ProjDataInput'!q\"&TEXT($N$2,\"###\")),1,999)","v":""}]
[]
["FEDERAL $ REQUEST: ",{"$f":"INDIRECT(\"'ProjDataInput'!h\"&TEXT($N$2,\"###\"))","v":0}]
["MATCH $: ",{"$f":"INDIRECT(\"'ProjDataInput'!i\"&TEXT($N$2,\"###\"))","v":0}]
[]
["CLASSIFICATION CODES: ",{"$f":"MID(INDIRECT(\"'ProjDataInput'!f\"&TEXT($N$2,\"###\")),1,999)","v":""}]
[null,"(Primary Code First)"]
["FOCUS AREAS: ",{"$f":"MID(INDIRECT(\"'ProjDataInput'!d\"&TEXT($N$2,\"###\")),1,999)","v":""}]
[null,"(Primary Focus Area First)"]
["PARTNERS: ",{"$f":"MID(INDIRECT(\"'ProjDataInput'!e\"&TEXT($N$2,\"###\")),1,999)","v":""}]
[]
["OBJECTIVES: ",{"$f":"MID(INDIRECT(\"'ProjDataInput'!g\"&TEXT($N$2,\"###\")),1,19999)","v":""},null,"MULTIPROGRAM? "]
[]
["METHODOLOGY: ",null,null,"OTHER INFORMATION: "]
[]
["RATIONALE: "]
[]
["DATA SHARING PLAN: ",{"$f":"MID(INDIRECT(\"'ProjDataInput'!r\"&TEXT($N$2,\"###\")),1,19999)","v":""}]
[null,"(Required for all research projects)"]

{"sheet":"S24","index":26,"n_rows":41,"n_cols":15,"rows_kept":41,"cut":false,"hidden":true,"merged":[]}
["NSGO use only: ",{"$f":"MID(CELL(\"filename\",'S24'!B1),FIND(\"]\",CELL(\"filename\",'S24'!B1))+1,24)","v":"S24"},"OMB no. ","0648-0362, exp 2/28/2021",null,null,null,null,null,null,null,null,null,"S24","(default worksheet name)"]
[null,30,"Don't use after","2019-04-30","Why?",null,null,null,null,null,null,null,null,{"$f":"IF(LEFT(N1,3)=\"S1-\",2,VALUE(MID(N1,2,99))+1)","v":25}]
[null,null,"updated","2018-10-16",null,null,null,null,null,null,null,null,null,"","(temp workspace for a current cell value)"]
[null,"SEA GRANT PROJECT SUMMARY FORM 90-2",{"$f":"HYPERLINK(\"#'TableOfContents'!B6\",\"Jump to Table \nof Contents\")","v":"Jump to Table \nof Contents"},null,"National Office does not require uncolored fields:",null,"NSGO use only",null,null,null,null,null,null,"023 Remediation","(temp workspace for a new selected value)"]
[null,null,null,null,null,null,null,null,null,null,null,null,null,{"$f":"IF(N3=\"\",IF(N4=\"\",\"\",N4),IF(N4=\"\",N3,N3&\"; \"&N4))","v":"023 Remediation"},"(function to concatenate the above two cells)"]
["INSTITUTION (Program): ",{"$f":"INDIRECT(\"'ProjDataInput'!a\"&TEXT($N$2,\"###\"))&\"\"","v":""},null,null,null,null,{"$f":"\"\"&TableOfContents!G1","v":"uploaded by"}]
["TITLE: ",{"$f":"MID(INDIRECT(\"'ProjDataInput'!C\"&TEXT($N$2,\"###\")),1,999)","v":""},null,null,null,null,{"$f":"\"\"&TableOfContents!H1","v":"grant no"},null,null,null,null,null,null,{"$f":"IF('S24'!B6=\"\",\"\",'S24'!B6)","v":""},"(Program listed on first 90-2)"]
[null,null,null,"START DATE:",null,null,{"$f":"\"\"&TableOfContents!I1","v":"amd no"}]
["PREFIX (A,C,E,M,P or R): "," PROJECT NUMBER",null,"END DATE:",null,null,{"$f":"\"\"&TableOfContents!J1","v":"fund source"}]
[{"$f":"MID(INDIRECT(\"'ProjDataInput'!b\"&TEXT($N$2,\"###\")),1,2)","v":""},{"$f":"MID(INDIRECT(\"'ProjDataInput'!b\"&TEXT($N$2,\"###\")),3,999)","v":""},null,null,null,null,{"$f":"\"\"&TableOfContents!K1","v":""}]
["(every project must have a prefix)",{"$f":"IF(OR(LEFT(A10&\" \",1)=\"r\",AND(A10=\"\",LEFT(B10,1)=\"r\")),1,0)","v":0},null,null,null,null,{"$f":"\"\"&TableOfContents!L1","v":""}]
[null,null,null,"READINESS LEVELS:"]
["PI: ",{"$f":"MID(INDIRECT(\"'ProjDataInput'!j\"&TEXT($N$2,\"###\")),1,999)","v":""}]
["AFFILIATION: ",{"$f":"MID(INDIRECT(\"'ProjDataInput'!k\"&TEXT($N$2,\"###\")),1,999)","v":""},null,null,null,null,"Worksheet"]
[null,null,null,null,null,null,"tools:"]
["2nd PI: ",{"$f":"MID(INDIRECT(\"'ProjDataInput'!L\"&TEXT($N$2,\"###\")),1,999)","v":""}]
["AFFILIATION: ",{"$f":"MID(INDIRECT(\"'ProjDataInput'!m\"&TEXT($N$2,\"###\")),1,999)","v":""}]
[]
["3rd PI: ",{"$f":"MID(INDIRECT(\"'ProjDataInput'!n\"&TEXT($N$2,\"###\")),1,999)","v":""}]
["AFFILIATION: ",{"$f":"MID(INDIRECT(\"'ProjDataInput'!o\"&TEXT($N$2,\"###\")),1,999)","v":""}]
[]
["4th PI: ",{"$f":"MID(INDIRECT(\"'ProjDataInput'!p\"&TEXT($N$2,\"###\")),1,999)","v":""}]
["AFFILIATION: ",{"$f":"MID(INDIRECT(\"'ProjDataInput'!q\"&TEXT($N$2,\"###\")),1,999)","v":""}]
[]
["FEDERAL $ REQUEST: ",{"$f":"INDIRECT(\"'ProjDataInput'!h\"&TEXT($N$2,\"###\"))","v":0}]
["MATCH $: ",{"$f":"INDIRECT(\"'ProjDataInput'!i\"&TEXT($N$2,\"###\"))","v":0}]
[]
["CLASSIFICATION CODES: ",{"$f":"MID(INDIRECT(\"'ProjDataInput'!f\"&TEXT($N$2,\"###\")),1,999)","v":""}]
[null,"(Primary Code First)"]
["FOCUS AREAS: ",{"$f":"MID(INDIRECT(\"'ProjDataInput'!d\"&TEXT($N$2,\"###\")),1,999)","v":""}]
[null,"(Primary Focus Area First)"]
["PARTNERS: ",{"$f":"MID(INDIRECT(\"'ProjDataInput'!e\"&TEXT($N$2,\"###\")),1,999)","v":""}]
[]
["OBJECTIVES: ",{"$f":"MID(INDIRECT(\"'ProjDataInput'!g\"&TEXT($N$2,\"###\")),1,19999)","v":""},null,"MULTIPROGRAM? "]
[]
["METHODOLOGY: ",null,null,"OTHER INFORMATION: "]
[]
["RATIONALE: "]
[]
["DATA SHARING PLAN: ",{"$f":"MID(INDIRECT(\"'ProjDataInput'!r\"&TEXT($N$2,\"###\")),1,19999)","v":""}]
[null,"(Required for all research projects)"]

{"sheet":"S25","index":27,"n_rows":41,"n_cols":15,"rows_kept":41,"cut":false,"hidden":true,"merged":[]}
["NSGO use only: ",{"$f":"MID(CELL(\"filename\",'S25'!B1),FIND(\"]\",CELL(\"filename\",'S25'!B1))+1,24)","v":"S25"},"OMB no. ","0648-0362, exp 2/28/2021",null,null,null,null,null,null,null,null,null,"S25","(default worksheet name)"]
[null,30,"Don't use after","2019-04-30","Why?",null,null,null,null,null,null,null,null,{"$f":"IF(LEFT(N1,3)=\"S1-\",2,VALUE(MID(N1,2,99))+1)","v":26}]
[null,null,"updated","2018-10-16",null,null,null,null,null,null,null,null,null,"","(temp workspace for a current cell value)"]
[null,"SEA GRANT PROJECT SUMMARY FORM 90-2",{"$f":"HYPERLINK(\"#'TableOfContents'!B6\",\"Jump to Table \nof Contents\")","v":"Jump to Table \nof Contents"},null,"National Office does not require uncolored fields:",null,"NSGO use only",null,null,null,null,null,null,"023 Remediation","(temp workspace for a new selected value)"]
[null,null,null,null,null,null,null,null,null,null,null,null,null,{"$f":"IF(N3=\"\",IF(N4=\"\",\"\",N4),IF(N4=\"\",N3,N3&\"; \"&N4))","v":"023 Remediation"},"(function to concatenate the above two cells)"]
["INSTITUTION (Program): ",{"$f":"INDIRECT(\"'ProjDataInput'!a\"&TEXT($N$2,\"###\"))&\"\"","v":""},null,null,null,null,{"$f":"\"\"&TableOfContents!G1","v":"uploaded by"}]
["TITLE: ",{"$f":"MID(INDIRECT(\"'ProjDataInput'!C\"&TEXT($N$2,\"###\")),1,999)","v":""},null,null,null,null,{"$f":"\"\"&TableOfContents!H1","v":"grant no"},null,null,null,null,null,null,{"$f":"IF('S25'!B6=\"\",\"\",'S25'!B6)","v":""},"(Program listed on first 90-2)"]
[null,null,null,"START DATE:",null,null,{"$f":"\"\"&TableOfContents!I1","v":"amd no"}]
["PREFIX (A,C,E,M,P or R): "," PROJECT NUMBER",null,"END DATE:",null,null,{"$f":"\"\"&TableOfContents!J1","v":"fund source"}]
[{"$f":"MID(INDIRECT(\"'ProjDataInput'!b\"&TEXT($N$2,\"###\")),1,2)","v":""},{"$f":"MID(INDIRECT(\"'ProjDataInput'!b\"&TEXT($N$2,\"###\")),3,999)","v":""},null,null,null,null,{"$f":"\"\"&TableOfContents!K1","v":""}]
["(every project must have a prefix)",{"$f":"IF(OR(LEFT(A10&\" \",1)=\"r\",AND(A10=\"\",LEFT(B10,1)=\"r\")),1,0)","v":0},null,null,null,null,{"$f":"\"\"&TableOfContents!L1","v":""}]
[null,null,null,"READINESS LEVELS:"]
["PI: ",{"$f":"MID(INDIRECT(\"'ProjDataInput'!j\"&TEXT($N$2,\"###\")),1,999)","v":""}]
["AFFILIATION: ",{"$f":"MID(INDIRECT(\"'ProjDataInput'!k\"&TEXT($N$2,\"###\")),1,999)","v":""},null,null,null,null,"Worksheet"]
[null,null,null,null,null,null,"tools:"]
["2nd PI: ",{"$f":"MID(INDIRECT(\"'ProjDataInput'!L\"&TEXT($N$2,\"###\")),1,999)","v":""}]
["AFFILIATION: ",{"$f":"MID(INDIRECT(\"'ProjDataInput'!m\"&TEXT($N$2,\"###\")),1,999)","v":""}]
[]
["3rd PI: ",{"$f":"MID(INDIRECT(\"'ProjDataInput'!n\"&TEXT($N$2,\"###\")),1,999)","v":""}]
["AFFILIATION: ",{"$f":"MID(INDIRECT(\"'ProjDataInput'!o\"&TEXT($N$2,\"###\")),1,999)","v":""}]
[]
["4th PI: ",{"$f":"MID(INDIRECT(\"'ProjDataInput'!p\"&TEXT($N$2,\"###\")),1,999)","v":""}]
["AFFILIATION: ",{"$f":"MID(INDIRECT(\"'ProjDataInput'!q\"&TEXT($N$2,\"###\")),1,999)","v":""}]
[]
["FEDERAL $ REQUEST: ",{"$f":"INDIRECT(\"'ProjDataInput'!h\"&TEXT($N$2,\"###\"))","v":0}]
["MATCH $: ",{"$f":"INDIRECT(\"'ProjDataInput'!i\"&TEXT($N$2,\"###\"))","v":0}]
[]
["CLASSIFICATION CODES: ",{"$f":"MID(INDIRECT(\"'ProjDataInput'!f\"&TEXT($N$2,\"###\")),1,999)","v":""}]
[null,"(Primary Code First)"]
["FOCUS AREAS: ",{"$f":"MID(INDIRECT(\"'ProjDataInput'!d\"&TEXT($N$2,\"###\")),1,999)","v":""}]
[null,"(Primary Focus Area First)"]
["PARTNERS: ",{"$f":"MID(INDIRECT(\"'ProjDataInput'!e\"&TEXT($N$2,\"###\")),1,999)","v":""}]
[]
["OBJECTIVES: ",{"$f":"MID(INDIRECT(\"'ProjDataInput'!g\"&TEXT($N$2,\"###\")),1,19999)","v":""},null,"MULTIPROGRAM? "]
[]
["METHODOLOGY: ",null,null,"OTHER INFORMATION: "]
[]
["RATIONALE: "]
[]
["DATA SHARING PLAN: ",{"$f":"MID(INDIRECT(\"'ProjDataInput'!r\"&TEXT($N$2,\"###\")),1,19999)","v":""}]
[null,"(Required for all research projects)"]

{"sheet":"S26","index":28,"n_rows":41,"n_cols":15,"rows_kept":41,"cut":false,"hidden":true,"merged":[]}
["NSGO use only: ",{"$f":"MID(CELL(\"filename\",'S26'!B1),FIND(\"]\",CELL(\"filename\",'S26'!B1))+1,24)","v":"S26"},"OMB no. ","0648-0362, exp 2/28/2021",null,null,null,null,null,null,null,null,null,"S26","(default worksheet name)"]
[null,30,"Don't use after","2019-04-30","Why?",null,null,null,null,null,null,null,null,{"$f":"IF(LEFT(N1,3)=\"S1-\",2,VALUE(MID(N1,2,99))+1)","v":27}]
[null,null,"updated","2018-10-16",null,null,null,null,null,null,null,null,null,"","(temp workspace for a current cell value)"]
[null,"SEA GRANT PROJECT SUMMARY FORM 90-2",{"$f":"HYPERLINK(\"#'TableOfContents'!B6\",\"Jump to Table \nof Contents\")","v":"Jump to Table \nof Contents"},null,"National Office does not require uncolored fields:",null,"NSGO use only",null,null,null,null,null,null,"023 Remediation","(temp workspace for a new selected value)"]
[null,null,null,null,null,null,null,null,null,null,null,null,null,{"$f":"IF(N3=\"\",IF(N4=\"\",\"\",N4),IF(N4=\"\",N3,N3&\"; \"&N4))","v":"023 Remediation"},"(function to concatenate the above two cells)"]
["INSTITUTION (Program): ",{"$f":"INDIRECT(\"'ProjDataInput'!a\"&TEXT($N$2,\"###\"))&\"\"","v":""},null,null,null,null,{"$f":"\"\"&TableOfContents!G1","v":"uploaded by"}]
["TITLE: ",{"$f":"MID(INDIRECT(\"'ProjDataInput'!C\"&TEXT($N$2,\"###\")),1,999)","v":""},null,null,null,null,{"$f":"\"\"&TableOfContents!H1","v":"grant no"},null,null,null,null,null,null,{"$f":"IF('S26'!B6=\"\",\"\",'S26'!B6)","v":""},"(Program listed on first 90-2)"]
[null,null,null,"START DATE:",null,null,{"$f":"\"\"&TableOfContents!I1","v":"amd no"}]
["PREFIX (A,C,E,M,P or R): "," PROJECT NUMBER",null,"END DATE:",null,null,{"$f":"\"\"&TableOfContents!J1","v":"fund source"}]
[{"$f":"MID(INDIRECT(\"'ProjDataInput'!b\"&TEXT($N$2,\"###\")),1,2)","v":""},{"$f":"MID(INDIRECT(\"'ProjDataInput'!b\"&TEXT($N$2,\"###\")),3,999)","v":""},null,null,null,null,{"$f":"\"\"&TableOfContents!K1","v":""}]
["(every project must have a prefix)",{"$f":"IF(OR(LEFT(A10&\" \",1)=\"r\",AND(A10=\"\",LEFT(B10,1)=\"r\")),1,0)","v":0},null,null,null,null,{"$f":"\"\"&TableOfContents!L1","v":""}]
[null,null,null,"READINESS LEVELS:"]
["PI: ",{"$f":"MID(INDIRECT(\"'ProjDataInput'!j\"&TEXT($N$2,\"###\")),1,999)","v":""}]
["AFFILIATION: ",{"$f":"MID(INDIRECT(\"'ProjDataInput'!k\"&TEXT($N$2,\"###\")),1,999)","v":""},null,null,null,null,"Worksheet"]
[null,null,null,null,null,null,"tools:"]
["2nd PI: ",{"$f":"MID(INDIRECT(\"'ProjDataInput'!L\"&TEXT($N$2,\"###\")),1,999)","v":""}]
["AFFILIATION: ",{"$f":"MID(INDIRECT(\"'ProjDataInput'!m\"&TEXT($N$2,\"###\")),1,999)","v":""}]
[]
["3rd PI: ",{"$f":"MID(INDIRECT(\"'ProjDataInput'!n\"&TEXT($N$2,\"###\")),1,999)","v":""}]
["AFFILIATION: ",{"$f":"MID(INDIRECT(\"'ProjDataInput'!o\"&TEXT($N$2,\"###\")),1,999)","v":""}]
[]
["4th PI: ",{"$f":"MID(INDIRECT(\"'ProjDataInput'!p\"&TEXT($N$2,\"###\")),1,999)","v":""}]
["AFFILIATION: ",{"$f":"MID(INDIRECT(\"'ProjDataInput'!q\"&TEXT($N$2,\"###\")),1,999)","v":""}]
[]
["FEDERAL $ REQUEST: ",{"$f":"INDIRECT(\"'ProjDataInput'!h\"&TEXT($N$2,\"###\"))","v":0}]
["MATCH $: ",{"$f":"INDIRECT(\"'ProjDataInput'!i\"&TEXT($N$2,\"###\"))","v":0}]
[]
["CLASSIFICATION CODES: ",{"$f":"MID(INDIRECT(\"'ProjDataInput'!f\"&TEXT($N$2,\"###\")),1,999)","v":""}]
[null,"(Primary Code First)"]
["FOCUS AREAS: ",{"$f":"MID(INDIRECT(\"'ProjDataInput'!d\"&TEXT($N$2,\"###\")),1,999)","v":""}]
[null,"(Primary Focus Area First)"]
["PARTNERS: ",{"$f":"MID(INDIRECT(\"'ProjDataInput'!e\"&TEXT($N$2,\"###\")),1,999)","v":""}]
[]
["OBJECTIVES: ",{"$f":"MID(INDIRECT(\"'ProjDataInput'!g\"&TEXT($N$2,\"###\")),1,19999)","v":""},null,"MULTIPROGRAM? "]
[]
["METHODOLOGY: ",null,null,"OTHER INFORMATION: "]
[]
["RATIONALE: "]
[]
["DATA SHARING PLAN: ",{"$f":"MID(INDIRECT(\"'ProjDataInput'!r\"&TEXT($N$2,\"###\")),1,19999)","v":""}]
[null,"(Required for all research projects)"]

{"sheet":"S27","index":29,"n_rows":41,"n_cols":15,"rows_kept":41,"cut":false,"hidden":true,"merged":[]}
["NSGO use only: ",{"$f":"MID(CELL(\"filename\",'S27'!B1),FIND(\"]\",CELL(\"filename\",'S27'!B1))+1,24)","v":"S27"},"OMB no. ","0648-0362, exp 2/28/2021",null,null,null,null,null,null,null,null,null,"S27","(default worksheet name)"]
[null,30,"Don't use after","2019-04-30","Why?",null,null,null,null,null,null,null,null,{"$f":"IF(LEFT(N1,3)=\"S1-\",2,VALUE(MID(N1,2,99))+1)","v":28}]
[null,null,"updated","2018-10-16",null,null,null,null,null,null,null,null,null,"","(temp workspace for a current cell value)"]
[null,"SEA GRANT PROJECT SUMMARY FORM 90-2",{"$f":"HYPERLINK(\"#'TableOfContents'!B6\",\"Jump to Table \nof Contents\")","v":"Jump to Table \nof Contents"},null,"National Office does not require uncolored fields:",null,"NSGO use only",null,null,null,null,null,null,"023 Remediation","(temp workspace for a new selected value)"]
[null,null,null,null,null,null,null,null,null,null,null,null,null,{"$f":"IF(N3=\"\",IF(N4=\"\",\"\",N4),IF(N4=\"\",N3,N3&\"; \"&N4))","v":"023 Remediation"},"(function to concatenate the above two cells)"]
["INSTITUTION (Program): ",{"$f":"INDIRECT(\"'ProjDataInput'!a\"&TEXT($N$2,\"###\"))&\"\"","v":""},null,null,null,null,{"$f":"\"\"&TableOfContents!G1","v":"uploaded by"}]
["TITLE: ",{"$f":"MID(INDIRECT(\"'ProjDataInput'!C\"&TEXT($N$2,\"###\")),1,999)","v":""},null,null,null,null,{"$f":"\"\"&TableOfContents!H1","v":"grant no"},null,null,null,null,null,null,{"$f":"IF('S27'!B6=\"\",\"\",'S27'!B6)","v":""},"(Program listed on first 90-2)"]
[null,null,null,"START DATE:",null,null,{"$f":"\"\"&TableOfContents!I1","v":"amd no"}]
["PREFIX (A,C,E,M,P or R): "," PROJECT NUMBER",null,"END DATE:",null,null,{"$f":"\"\"&TableOfContents!J1","v":"fund source"}]
[{"$f":"MID(INDIRECT(\"'ProjDataInput'!b\"&TEXT($N$2,\"###\")),1,2)","v":""},{"$f":"MID(INDIRECT(\"'ProjDataInput'!b\"&TEXT($N$2,\"###\")),3,999)","v":""},null,null,null,null,{"$f":"\"\"&TableOfContents!K1","v":""}]
["(every project must have a prefix)",{"$f":"IF(OR(LEFT(A10&\" \",1)=\"r\",AND(A10=\"\",LEFT(B10,1)=\"r\")),1,0)","v":0},null,null,null,null,{"$f":"\"\"&TableOfContents!L1","v":""}]
[null,null,null,"READINESS LEVELS:"]
["PI: ",{"$f":"MID(INDIRECT(\"'ProjDataInput'!j\"&TEXT($N$2,\"###\")),1,999)","v":""}]
["AFFILIATION: ",{"$f":"MID(INDIRECT(\"'ProjDataInput'!k\"&TEXT($N$2,\"###\")),1,999)","v":""},null,null,null,null,"Worksheet"]
[null,null,null,null,null,null,"tools:"]
["2nd PI: ",{"$f":"MID(INDIRECT(\"'ProjDataInput'!L\"&TEXT($N$2,\"###\")),1,999)","v":""}]
["AFFILIATION: ",{"$f":"MID(INDIRECT(\"'ProjDataInput'!m\"&TEXT($N$2,\"###\")),1,999)","v":""}]
[]
["3rd PI: ",{"$f":"MID(INDIRECT(\"'ProjDataInput'!n\"&TEXT($N$2,\"###\")),1,999)","v":""}]
["AFFILIATION: ",{"$f":"MID(INDIRECT(\"'ProjDataInput'!o\"&TEXT($N$2,\"###\")),1,999)","v":""}]
[]
["4th PI: ",{"$f":"MID(INDIRECT(\"'ProjDataInput'!p\"&TEXT($N$2,\"###\")),1,999)","v":""}]
["AFFILIATION: ",{"$f":"MID(INDIRECT(\"'ProjDataInput'!q\"&TEXT($N$2,\"###\")),1,999)","v":""}]
[]
["FEDERAL $ REQUEST: ",{"$f":"INDIRECT(\"'ProjDataInput'!h\"&TEXT($N$2,\"###\"))","v":0}]
["MATCH $: ",{"$f":"INDIRECT(\"'ProjDataInput'!i\"&TEXT($N$2,\"###\"))","v":0}]
[]
["CLASSIFICATION CODES: ",{"$f":"MID(INDIRECT(\"'ProjDataInput'!f\"&TEXT($N$2,\"###\")),1,999)","v":""}]
[null,"(Primary Code First)"]
["FOCUS AREAS: ",{"$f":"MID(INDIRECT(\"'ProjDataInput'!d\"&TEXT($N$2,\"###\")),1,999)","v":""}]
[null,"(Primary Focus Area First)"]
["PARTNERS: ",{"$f":"MID(INDIRECT(\"'ProjDataInput'!e\"&TEXT($N$2,\"###\")),1,999)","v":""}]
[]
["OBJECTIVES: ",{"$f":"MID(INDIRECT(\"'ProjDataInput'!g\"&TEXT($N$2,\"###\")),1,19999)","v":""},null,"MULTIPROGRAM? "]
[]
["METHODOLOGY: ",null,null,"OTHER INFORMATION: "]
[]
["RATIONALE: "]
[]
["DATA SHARING PLAN: ",{"$f":"MID(INDIRECT(\"'ProjDataInput'!r\"&TEXT($N$2,\"###\")),1,19999)","v":""}]
[null,"(Required for all research projects)"]

{"sheet":"S28","index":30,"n_rows":41,"n_cols":15,"rows_kept":41,"cut":false,"hidden":true,"merged":[]}
["NSGO use only: ",{"$f":"MID(CELL(\"filename\",'S28'!B1),FIND(\"]\",CELL(\"filename\",'S28'!B1))+1,24)","v":"S28"},"OMB no. ","0648-0362, exp 2/28/2021",null,null,null,null,null,null,null,null,null,"S28","(default worksheet name)"]
[null,30,"Don't use after","2019-04-30","Why?",null,null,null,null,null,null,null,null,{"$f":"IF(LEFT(N1,3)=\"S1-\",2,VALUE(MID(N1,2,99))+1)","v":29}]
[null,null,"updated","2018-10-16",null,null,null,null,null,null,null,null,null,"","(temp workspace for a current cell value)"]
[null,"SEA GRANT PROJECT SUMMARY FORM 90-2",{"$f":"HYPERLINK(\"#'TableOfContents'!B6\",\"Jump to Table \nof Contents\")","v":"Jump to Table \nof Contents"},null,"National Office does not require uncolored fields:",null,"NSGO use only",null,null,null,null,null,null,"023 Remediation","(temp workspace for a new selected value)"]
[null,null,null,null,null,null,null,null,null,null,null,null,null,{"$f":"IF(N3=\"\",IF(N4=\"\",\"\",N4),IF(N4=\"\",N3,N3&\"; \"&N4))","v":"023 Remediation"},"(function to concatenate the above two cells)"]
["INSTITUTION (Program): ",{"$f":"INDIRECT(\"'ProjDataInput'!a\"&TEXT($N$2,\"###\"))&\"\"","v":""},null,null,null,null,{"$f":"\"\"&TableOfContents!G1","v":"uploaded by"}]
["TITLE: ",{"$f":"MID(INDIRECT(\"'ProjDataInput'!C\"&TEXT($N$2,\"###\")),1,999)","v":""},null,null,null,null,{"$f":"\"\"&TableOfContents!H1","v":"grant no"},null,null,null,null,null,null,{"$f":"IF('S28'!B6=\"\",\"\",'S28'!B6)","v":""},"(Program listed on first 90-2)"]
[null,null,null,"START DATE:",null,null,{"$f":"\"\"&TableOfContents!I1","v":"amd no"}]
["PREFIX (A,C,E,M,P or R): "," PROJECT NUMBER",null,"END DATE:",null,null,{"$f":"\"\"&TableOfContents!J1","v":"fund source"}]
[{"$f":"MID(INDIRECT(\"'ProjDataInput'!b\"&TEXT($N$2,\"###\")),1,2)","v":""},{"$f":"MID(INDIRECT(\"'ProjDataInput'!b\"&TEXT($N$2,\"###\")),3,999)","v":""},null,null,null,null,{"$f":"\"\"&TableOfContents!K1","v":""}]
["(every project must have a prefix)",{"$f":"IF(OR(LEFT(A10&\" \",1)=\"r\",AND(A10=\"\",LEFT(B10,1)=\"r\")),1,0)","v":0},null,null,null,null,{"$f":"\"\"&TableOfContents!L1","v":""}]
[null,null,null,"READINESS LEVELS:"]
["PI: ",{"$f":"MID(INDIRECT(\"'ProjDataInput'!j\"&TEXT($N$2,\"###\")),1,999)","v":""}]
["AFFILIATION: ",{"$f":"MID(INDIRECT(\"'ProjDataInput'!k\"&TEXT($N$2,\"###\")),1,999)","v":""},null,null,null,null,"Worksheet"]
[null,null,null,null,null,null,"tools:"]
["2nd PI: ",{"$f":"MID(INDIRECT(\"'ProjDataInput'!L\"&TEXT($N$2,\"###\")),1,999)","v":""}]
["AFFILIATION: ",{"$f":"MID(INDIRECT(\"'ProjDataInput'!m\"&TEXT($N$2,\"###\")),1,999)","v":""}]
[]
["3rd PI: ",{"$f":"MID(INDIRECT(\"'ProjDataInput'!n\"&TEXT($N$2,\"###\")),1,999)","v":""}]
["AFFILIATION: ",{"$f":"MID(INDIRECT(\"'ProjDataInput'!o\"&TEXT($N$2,\"###\")),1,999)","v":""}]
[]
["4th PI: ",{"$f":"MID(INDIRECT(\"'ProjDataInput'!p\"&TEXT($N$2,\"###\")),1,999)","v":""}]
["AFFILIATION: ",{"$f":"MID(INDIRECT(\"'ProjDataInput'!q\"&TEXT($N$2,\"###\")),1,999)","v":""}]
[]
["FEDERAL $ REQUEST: ",{"$f":"INDIRECT(\"'ProjDataInput'!h\"&TEXT($N$2,\"###\"))","v":0}]
["MATCH $: ",{"$f":"INDIRECT(\"'ProjDataInput'!i\"&TEXT($N$2,\"###\"))","v":0}]
[]
["CLASSIFICATION CODES: ",{"$f":"MID(INDIRECT(\"'ProjDataInput'!f\"&TEXT($N$2,\"###\")),1,999)","v":""}]
[null,"(Primary Code First)"]
["FOCUS AREAS: ",{"$f":"MID(INDIRECT(\"'ProjDataInput'!d\"&TEXT($N$2,\"###\")),1,999)","v":""}]
[null,"(Primary Focus Area First)"]
["PARTNERS: ",{"$f":"MID(INDIRECT(\"'ProjDataInput'!e\"&TEXT($N$2,\"###\")),1,999)","v":""}]
[]
["OBJECTIVES: ",{"$f":"MID(INDIRECT(\"'ProjDataInput'!g\"&TEXT($N$2,\"###\")),1,19999)","v":""},null,"MULTIPROGRAM? "]
[]
["METHODOLOGY: ",null,null,"OTHER INFORMATION: "]
[]
["RATIONALE: "]
[]
["DATA SHARING PLAN: ",{"$f":"MID(INDIRECT(\"'ProjDataInput'!r\"&TEXT($N$2,\"###\")),1,19999)","v":""}]
[null,"(Required for all research projects)"]

{"sheet":"S29","index":31,"n_rows":41,"n_cols":15,"rows_kept":41,"cut":false,"hidden":true,"merged":[]}
["NSGO use only: ",{"$f":"MID(CELL(\"filename\",'S29'!B1),FIND(\"]\",CELL(\"filename\",'S29'!B1))+1,24)","v":"S29"},"OMB no. ","0648-0362, exp 2/28/2021",null,null,null,null,null,null,null,null,null,"S29","(default worksheet name)"]
[null,30,"Don't use after","2019-04-30","Why?",null,null,null,null,null,null,null,null,{"$f":"IF(LEFT(N1,3)=\"S1-\",2,VALUE(MID(N1,2,99))+1)","v":30}]
[null,null,"updated","2018-10-16",null,null,null,null,null,null,null,null,null,"","(temp workspace for a current cell value)"]
[null,"SEA GRANT PROJECT SUMMARY FORM 90-2",{"$f":"HYPERLINK(\"#'TableOfContents'!B6\",\"Jump to Table \nof Contents\")","v":"Jump to Table \nof Contents"},null,"National Office does not require uncolored fields:",null,"NSGO use only",null,null,null,null,null,null,"023 Remediation","(temp workspace for a new selected value)"]
[null,null,null,null,null,null,null,null,null,null,null,null,null,{"$f":"IF(N3=\"\",IF(N4=\"\",\"\",N4),IF(N4=\"\",N3,N3&\"; \"&N4))","v":"023 Remediation"},"(function to concatenate the above two cells)"]
["INSTITUTION (Program): ",{"$f":"INDIRECT(\"'ProjDataInput'!a\"&TEXT($N$2,\"###\"))&\"\"","v":""},null,null,null,null,{"$f":"\"\"&TableOfContents!G1","v":"uploaded by"}]
["TITLE: ",{"$f":"MID(INDIRECT(\"'ProjDataInput'!C\"&TEXT($N$2,\"###\")),1,999)","v":""},null,null,null,null,{"$f":"\"\"&TableOfContents!H1","v":"grant no"},null,null,null,null,null,null,{"$f":"IF('S29'!B6=\"\",\"\",'S29'!B6)","v":""},"(Program listed on first 90-2)"]
[null,null,null,"START DATE:",null,null,{"$f":"\"\"&TableOfContents!I1","v":"amd no"}]
["PREFIX (A,C,E,M,P or R): "," PROJECT NUMBER",null,"END DATE:",null,null,{"$f":"\"\"&TableOfContents!J1","v":"fund source"}]
[{"$f":"MID(INDIRECT(\"'ProjDataInput'!b\"&TEXT($N$2,\"###\")),1,2)","v":""},{"$f":"MID(INDIRECT(\"'ProjDataInput'!b\"&TEXT($N$2,\"###\")),3,999)","v":""},null,null,null,null,{"$f":"\"\"&TableOfContents!K1","v":""}]
["(every project must have a prefix)",{"$f":"IF(OR(LEFT(A10&\" \",1)=\"r\",AND(A10=\"\",LEFT(B10,1)=\"r\")),1,0)","v":0},null,null,null,null,{"$f":"\"\"&TableOfContents!L1","v":""}]
[null,null,null,"READINESS LEVELS:"]
["PI: ",{"$f":"MID(INDIRECT(\"'ProjDataInput'!j\"&TEXT($N$2,\"###\")),1,999)","v":""}]
["AFFILIATION: ",{"$f":"MID(INDIRECT(\"'ProjDataInput'!k\"&TEXT($N$2,\"###\")),1,999)","v":""},null,null,null,null,"Worksheet"]
[null,null,null,null,null,null,"tools:"]
["2nd PI: ",{"$f":"MID(INDIRECT(\"'ProjDataInput'!L\"&TEXT($N$2,\"###\")),1,999)","v":""}]
["AFFILIATION: ",{"$f":"MID(INDIRECT(\"'ProjDataInput'!m\"&TEXT($N$2,\"###\")),1,999)","v":""}]
[]
["3rd PI: ",{"$f":"MID(INDIRECT(\"'ProjDataInput'!n\"&TEXT($N$2,\"###\")),1,999)","v":""}]
["AFFILIATION: ",{"$f":"MID(INDIRECT(\"'ProjDataInput'!o\"&TEXT($N$2,\"###\")),1,999)","v":""}]
[]
["4th PI: ",{"$f":"MID(INDIRECT(\"'ProjDataInput'!p\"&TEXT($N$2,\"###\")),1,999)","v":""}]
["AFFILIATION: ",{"$f":"MID(INDIRECT(\"'ProjDataInput'!q\"&TEXT($N$2,\"###\")),1,999)","v":""}]
[]
["FEDERAL $ REQUEST: ",{"$f":"INDIRECT(\"'ProjDataInput'!h\"&TEXT($N$2,\"###\"))","v":0}]
["MATCH $: ",{"$f":"INDIRECT(\"'ProjDataInput'!i\"&TEXT($N$2,\"###\"))","v":0}]
[]
["CLASSIFICATION CODES: ",{"$f":"MID(INDIRECT(\"'ProjDataInput'!f\"&TEXT($N$2,\"###\")),1,999)","v":""}]
[null,"(Primary Code First)"]
["FOCUS AREAS: ",{"$f":"MID(INDIRECT(\"'ProjDataInput'!d\"&TEXT($N$2,\"###\")),1,999)","v":""}]
[null,"(Primary Focus Area First)"]
["PARTNERS: ",{"$f":"MID(INDIRECT(\"'ProjDataInput'!e\"&TEXT($N$2,\"###\")),1,999)","v":""}]
[]
["OBJECTIVES: ",{"$f":"MID(INDIRECT(\"'ProjDataInput'!g\"&TEXT($N$2,\"###\")),1,19999)","v":""},null,"MULTIPROGRAM? "]
[]
["METHODOLOGY: ",null,null,"OTHER INFORMATION: "]
[]
["RATIONALE: "]
[]
["DATA SHARING PLAN: ",{"$f":"MID(INDIRECT(\"'ProjDataInput'!r\"&TEXT($N$2,\"###\")),1,19999)","v":""}]
[null,"(Required for all research projects)"]

{"sheet":"S30","index":32,"n_rows":41,"n_cols":15,"rows_kept":41,"cut":false,"hidden":true,"merged":[]}
["NSGO use only: ",{"$f":"MID(CELL(\"filename\",'S30'!B1),FIND(\"]\",CELL(\"filename\",'S30'!B1))+1,24)","v":"S30"},"OMB no. ","0648-0362, exp 2/28/2021",null,null,null,null,null,null,null,null,null,"S30","(default worksheet name)"]
[null,30,"Don't use after","2019-04-30","Why?",null,null,null,null,null,null,null,null,{"$f":"IF(LEFT(N1,3)=\"S1-\",2,VALUE(MID(N1,2,99))+1)","v":31}]
[null,null,"updated","2018-10-16",null,null,null,null,null,null,null,null,null,"","(temp workspace for a current cell value)"]
[null,"SEA GRANT PROJECT SUMMARY FORM 90-2",{"$f":"HYPERLINK(\"#'TableOfContents'!B6\",\"Jump to Table \nof Contents\")","v":"Jump to Table \nof Contents"},null,"National Office does not require uncolored fields:",null,"NSGO use only",null,null,null,null,null,null,"023 Remediation","(temp workspace for a new selected value)"]
[null,null,null,null,null,null,null,null,null,null,null,null,null,{"$f":"IF(N3=\"\",IF(N4=\"\",\"\",N4),IF(N4=\"\",N3,N3&\"; \"&N4))","v":"023 Remediation"},"(function to concatenate the above two cells)"]
["INSTITUTION (Program): ",{"$f":"INDIRECT(\"'ProjDataInput'!a\"&TEXT($N$2,\"###\"))&\"\"","v":""},null,null,null,null,{"$f":"\"\"&TableOfContents!G1","v":"uploaded by"}]
["TITLE: ",{"$f":"MID(INDIRECT(\"'ProjDataInput'!C\"&TEXT($N$2,\"###\")),1,999)","v":""},null,null,null,null,{"$f":"\"\"&TableOfContents!H1","v":"grant no"},null,null,null,null,null,null,{"$f":"IF('S30'!B6=\"\",\"\",'S30'!B6)","v":""},"(Program listed on first 90-2)"]
[null,null,null,"START DATE:",null,null,{"$f":"\"\"&TableOfContents!I1","v":"amd no"}]
["PREFIX (A,C,E,M,P or R): "," PROJECT NUMBER",null,"END DATE:",null,null,{"$f":"\"\"&TableOfContents!J1","v":"fund source"}]
[{"$f":"MID(INDIRECT(\"'ProjDataInput'!b\"&TEXT($N$2,\"###\")),1,2)","v":""},{"$f":"MID(INDIRECT(\"'ProjDataInput'!b\"&TEXT($N$2,\"###\")),3,999)","v":""},null,null,null,null,{"$f":"\"\"&TableOfContents!K1","v":""}]
["(every project must have a prefix)",{"$f":"IF(OR(LEFT(A10&\" \",1)=\"r\",AND(A10=\"\",LEFT(B10,1)=\"r\")),1,0)","v":0},null,null,null,null,{"$f":"\"\"&TableOfContents!L1","v":""}]
[null,null,null,"READINESS LEVELS:"]
["PI: ",{"$f":"MID(INDIRECT(\"'ProjDataInput'!j\"&TEXT($N$2,\"###\")),1,999)","v":""}]
["AFFILIATION: ",{"$f":"MID(INDIRECT(\"'ProjDataInput'!k\"&TEXT($N$2,\"###\")),1,999)","v":""},null,null,null,null,"Worksheet"]
[null,null,null,null,null,null,"tools:"]
["2nd PI: ",{"$f":"MID(INDIRECT(\"'ProjDataInput'!L\"&TEXT($N$2,\"###\")),1,999)","v":""}]
["AFFILIATION: ",{"$f":"MID(INDIRECT(\"'ProjDataInput'!m\"&TEXT($N$2,\"###\")),1,999)","v":""}]
[]
["3rd PI: ",{"$f":"MID(INDIRECT(\"'ProjDataInput'!n\"&TEXT($N$2,\"###\")),1,999)","v":""}]
["AFFILIATION: ",{"$f":"MID(INDIRECT(\"'ProjDataInput'!o\"&TEXT($N$2,\"###\")),1,999)","v":""}]
[]
["4th PI: ",{"$f":"MID(INDIRECT(\"'ProjDataInput'!p\"&TEXT($N$2,\"###\")),1,999)","v":""}]
["AFFILIATION: ",{"$f":"MID(INDIRECT(\"'ProjDataInput'!q\"&TEXT($N$2,\"###\")),1,999)","v":""}]
[]
["FEDERAL $ REQUEST: ",{"$f":"INDIRECT(\"'ProjDataInput'!h\"&TEXT($N$2,\"###\"))","v":0}]
["MATCH $: ",{"$f":"INDIRECT(\"'ProjDataInput'!i\"&TEXT($N$2,\"###\"))","v":0}]
[]
["CLASSIFICATION CODES: ",{"$f":"MID(INDIRECT(\"'ProjDataInput'!f\"&TEXT($N$2,\"###\")),1,999)","v":""}]
[null,"(Primary Code First)"]
["FOCUS AREAS: ",{"$f":"MID(INDIRECT(\"'ProjDataInput'!d\"&TEXT($N$2,\"###\")),1,999)","v":""}]
[null,"(Primary Focus Area First)"]
["PARTNERS: ",{"$f":"MID(INDIRECT(\"'ProjDataInput'!e\"&TEXT($N$2,\"###\")),1,999)","v":""}]
[]
["OBJECTIVES: ",{"$f":"MID(INDIRECT(\"'ProjDataInput'!g\"&TEXT($N$2,\"###\")),1,19999)","v":""},null,"MULTIPROGRAM? "]
[]
["METHODOLOGY: ",null,null,"OTHER INFORMATION: "]
[]
["RATIONALE: "]
[]
["DATA SHARING PLAN: ",{"$f":"MID(INDIRECT(\"'ProjDataInput'!r\"&TEXT($N$2,\"###\")),1,19999)","v":""}]
[null,"(Required for all research projects)"]

{"sheet":"S31","index":33,"n_rows":41,"n_cols":15,"rows_kept":41,"cut":false,"hidden":true,"merged":[]}
["NSGO use only: ",{"$f":"MID(CELL(\"filename\",'S31'!B1),FIND(\"]\",CELL(\"filename\",'S31'!B1))+1,24)","v":"S31"},"OMB no. ","0648-0362, exp 2/28/2021",null,null,null,null,null,null,null,null,null,"S31","(default worksheet name)"]
[null,30,"Don't use after","2019-04-30","Why?",null,null,null,null,null,null,null,null,{"$f":"IF(LEFT(N1,3)=\"S1-\",2,VALUE(MID(N1,2,99))+1)","v":32}]
[null,null,"updated","2018-10-16",null,null,null,null,null,null,null,null,null,"","(temp workspace for a current cell value)"]
[null,"SEA GRANT PROJECT SUMMARY FORM 90-2",{"$f":"HYPERLINK(\"#'TableOfContents'!B6\",\"Jump to Table \nof Contents\")","v":"Jump to Table \nof Contents"},null,"National Office does not require uncolored fields:",null,"NSGO use only",null,null,null,null,null,null,"023 Remediation","(temp workspace for a new selected value)"]
[null,null,null,null,null,null,null,null,null,null,null,null,null,{"$f":"IF(N3=\"\",IF(N4=\"\",\"\",N4),IF(N4=\"\",N3,N3&\"; \"&N4))","v":"023 Remediation"},"(function to concatenate the above two cells)"]
["INSTITUTION (Program): ",{"$f":"INDIRECT(\"'ProjDataInput'!a\"&TEXT($N$2,\"###\"))&\"\"","v":""},null,null,null,null,{"$f":"\"\"&TableOfContents!G1","v":"uploaded by"}]
["TITLE: ",{"$f":"MID(INDIRECT(\"'ProjDataInput'!C\"&TEXT($N$2,\"###\")),1,999)","v":""},null,null,null,null,{"$f":"\"\"&TableOfContents!H1","v":"grant no"},null,null,null,null,null,null,{"$f":"IF('S31'!B6=\"\",\"\",'S31'!B6)","v":""},"(Program listed on first 90-2)"]
[null,null,null,"START DATE:",null,null,{"$f":"\"\"&TableOfContents!I1","v":"amd no"}]
["PREFIX (A,C,E,M,P or R): "," PROJECT NUMBER",null,"END DATE:",null,null,{"$f":"\"\"&TableOfContents!J1","v":"fund source"}]
[{"$f":"MID(INDIRECT(\"'ProjDataInput'!b\"&TEXT($N$2,\"###\")),1,2)","v":""},{"$f":"MID(INDIRECT(\"'ProjDataInput'!b\"&TEXT($N$2,\"###\")),3,999)","v":""},null,null,null,null,{"$f":"\"\"&TableOfContents!K1","v":""}]
["(every project must have a prefix)",{"$f":"IF(OR(LEFT(A10&\" \",1)=\"r\",AND(A10=\"\",LEFT(B10,1)=\"r\")),1,0)","v":0},null,null,null,null,{"$f":"\"\"&TableOfContents!L1","v":""}]
[null,null,null,"READINESS LEVELS:"]
["PI: ",{"$f":"MID(INDIRECT(\"'ProjDataInput'!j\"&TEXT($N$2,\"###\")),1,999)","v":""}]
["AFFILIATION: ",{"$f":"MID(INDIRECT(\"'ProjDataInput'!k\"&TEXT($N$2,\"###\")),1,999)","v":""},null,null,null,null,"Worksheet"]
[null,null,null,null,null,null,"tools:"]
["2nd PI: ",{"$f":"MID(INDIRECT(\"'ProjDataInput'!L\"&TEXT($N$2,\"###\")),1,999)","v":""}]
["AFFILIATION: ",{"$f":"MID(INDIRECT(\"'ProjDataInput'!m\"&TEXT($N$2,\"###\")),1,999)","v":""}]
[]
["3rd PI: ",{"$f":"MID(INDIRECT(\"'ProjDataInput'!n\"&TEXT($N$2,\"###\")),1,999)","v":""}]
["AFFILIATION: ",{"$f":"MID(INDIRECT(\"'ProjDataInput'!o\"&TEXT($N$2,\"###\")),1,999)","v":""}]
[]
["4th PI: ",{"$f":"MID(INDIRECT(\"'ProjDataInput'!p\"&TEXT($N$2,\"###\")),1,999)","v":""}]
["AFFILIATION: ",{"$f":"MID(INDIRECT(\"'ProjDataInput'!q\"&TEXT($N$2,\"###\")),1,999)","v":""}]
[]
["FEDERAL $ REQUEST: ",{"$f":"INDIRECT(\"'ProjDataInput'!h\"&TEXT($N$2,\"###\"))","v":0}]
["MATCH $: ",{"$f":"INDIRECT(\"'ProjDataInput'!i\"&TEXT($N$2,\"###\"))","v":0}]
[]
["CLASSIFICATION CODES: ",{"$f":"MID(INDIRECT(\"'ProjDataInput'!f\"&TEXT($N$2,\"###\")),1,999)","v":""}]
[null,"(Primary Code First)"]
["FOCUS AREAS: ",{"$f":"MID(INDIRECT(\"'ProjDataInput'!d\"&TEXT($N$2,\"###\")),1,999)","v":""}]
[null,"(Primary Focus Area First)"]
["PARTNERS: ",{"$f":"MID(INDIRECT(\"'ProjDataInput'!e\"&TEXT($N$2,\"###\")),1,999)","v":""}]
[]
["OBJECTIVES: ",{"$f":"MID(INDIRECT(\"'ProjDataInput'!g\"&TEXT($N$2,\"###\")),1,19999)","v":""},null,"MULTIPROGRAM? "]
[]
["METHODOLOGY: ",null,null,"OTHER INFORMATION: "]
[]
["RATIONALE: "]
[]
["DATA SHARING PLAN: ",{"$f":"MID(INDIRECT(\"'ProjDataInput'!r\"&TEXT($N$2,\"###\")),1,19999)","v":""}]
[null,"(Required for all research projects)"]

{"sheet":"S32","index":34,"n_rows":41,"n_cols":15,"rows_kept":41,"cut":false,"hidden":true,"merged":[]}
["NSGO use only: ",{"$f":"MID(CELL(\"filename\",'S32'!B1),FIND(\"]\",CELL(\"filename\",'S32'!B1))+1,24)","v":"S32"},"OMB no. ","0648-0362, exp 2/28/2021",null,null,null,null,null,null,null,null,null,"S32","(default worksheet name)"]
[null,30,"Don't use after","2019-04-30","Why?",null,null,null,null,null,null,null,null,{"$f":"IF(LEFT(N1,3)=\"S1-\",2,VALUE(MID(N1,2,99))+1)","v":33}]
[null,null,"updated","2018-10-16",null,null,null,null,null,null,null,null,null,"","(temp workspace for a current cell value)"]
[null,"SEA GRANT PROJECT SUMMARY FORM 90-2",{"$f":"HYPERLINK(\"#'TableOfContents'!B6\",\"Jump to Table \nof Contents\")","v":"Jump to Table \nof Contents"},null,"National Office does not require uncolored fields:",null,"NSGO use only",null,null,null,null,null,null,"023 Remediation","(temp workspace for a new selected value)"]
[null,null,null,null,null,null,null,null,null,null,null,null,null,{"$f":"IF(N3=\"\",IF(N4=\"\",\"\",N4),IF(N4=\"\",N3,N3&\"; \"&N4))","v":"023 Remediation"},"(function to concatenate the above two cells)"]
["INSTITUTION (Program): ",{"$f":"INDIRECT(\"'ProjDataInput'!a\"&TEXT($N$2,\"###\"))&\"\"","v":""},null,null,null,null,{"$f":"\"\"&TableOfContents!G1","v":"uploaded by"}]
["TITLE: ",{"$f":"MID(INDIRECT(\"'ProjDataInput'!C\"&TEXT($N$2,\"###\")),1,999)","v":""},null,null,null,null,{"$f":"\"\"&TableOfContents!H1","v":"grant no"},null,null,null,null,null,null,{"$f":"IF('S32'!B6=\"\",\"\",'S32'!B6)","v":""},"(Program listed on first 90-2)"]
[null,null,null,"START DATE:",null,null,{"$f":"\"\"&TableOfContents!I1","v":"amd no"}]
["PREFIX (A,C,E,M,P or R): "," PROJECT NUMBER",null,"END DATE:",null,null,{"$f":"\"\"&TableOfContents!J1","v":"fund source"}]
[{"$f":"MID(INDIRECT(\"'ProjDataInput'!b\"&TEXT($N$2,\"###\")),1,2)","v":""},{"$f":"MID(INDIRECT(\"'ProjDataInput'!b\"&TEXT($N$2,\"###\")),3,999)","v":""},null,null,null,null,{"$f":"\"\"&TableOfContents!K1","v":""}]
["(every project must have a prefix)",{"$f":"IF(OR(LEFT(A10&\" \",1)=\"r\",AND(A10=\"\",LEFT(B10,1)=\"r\")),1,0)","v":0},null,null,null,null,{"$f":"\"\"&TableOfContents!L1","v":""}]
[null,null,null,"READINESS LEVELS:"]
["PI: ",{"$f":"MID(INDIRECT(\"'ProjDataInput'!j\"&TEXT($N$2,\"###\")),1,999)","v":""}]
["AFFILIATION: ",{"$f":"MID(INDIRECT(\"'ProjDataInput'!k\"&TEXT($N$2,\"###\")),1,999)","v":""},null,null,null,null,"Worksheet"]
[null,null,null,null,null,null,"tools:"]
["2nd PI: ",{"$f":"MID(INDIRECT(\"'ProjDataInput'!L\"&TEXT($N$2,\"###\")),1,999)","v":""}]
["AFFILIATION: ",{"$f":"MID(INDIRECT(\"'ProjDataInput'!m\"&TEXT($N$2,\"###\")),1,999)","v":""}]
[]
["3rd PI: ",{"$f":"MID(INDIRECT(\"'ProjDataInput'!n\"&TEXT($N$2,\"###\")),1,999)","v":""}]
["AFFILIATION: ",{"$f":"MID(INDIRECT(\"'ProjDataInput'!o\"&TEXT($N$2,\"###\")),1,999)","v":""}]
[]
["4th PI: ",{"$f":"MID(INDIRECT(\"'ProjDataInput'!p\"&TEXT($N$2,\"###\")),1,999)","v":""}]
["AFFILIATION: ",{"$f":"MID(INDIRECT(\"'ProjDataInput'!q\"&TEXT($N$2,\"###\")),1,999)","v":""}]
[]
["FEDERAL $ REQUEST: ",{"$f":"INDIRECT(\"'ProjDataInput'!h\"&TEXT($N$2,\"###\"))","v":0}]
["MATCH $: ",{"$f":"INDIRECT(\"'ProjDataInput'!i\"&TEXT($N$2,\"###\"))","v":0}]
[]
["CLASSIFICATION CODES: ",{"$f":"MID(INDIRECT(\"'ProjDataInput'!f\"&TEXT($N$2,\"###\")),1,999)","v":""}]
[null,"(Primary Code First)"]
["FOCUS AREAS: ",{"$f":"MID(INDIRECT(\"'ProjDataInput'!d\"&TEXT($N$2,\"###\")),1,999)","v":""}]
[null,"(Primary Focus Area First)"]
["PARTNERS: ",{"$f":"MID(INDIRECT(\"'ProjDataInput'!e\"&TEXT($N$2,\"###\")),1,999)","v":""}]
[]
["OBJECTIVES: ",{"$f":"MID(INDIRECT(\"'ProjDataInput'!g\"&TEXT($N$2,\"###\")),1,19999)","v":""},null,"MULTIPROGRAM? "]
[]
["METHODOLOGY: ",null,null,"OTHER INFORMATION: "]
[]
["RATIONALE: "]
[]
["DATA SHARING PLAN: ",{"$f":"MID(INDIRECT(\"'ProjDataInput'!r\"&TEXT($N$2,\"###\")),1,19999)","v":""}]
[null,"(Required for all research projects)"]

{"sheet":"S33","index":35,"n_rows":41,"n_cols":15,"rows_kept":41,"cut":false,"hidden":true,"merged":[]}
["NSGO use only: ",{"$f":"MID(CELL(\"filename\",'S33'!B1),FIND(\"]\",CELL(\"filename\",'S33'!B1))+1,24)","v":"S33"},"OMB no. ","0648-0362, exp 2/28/2021",null,null,null,null,null,null,null,null,null,"S33","(default worksheet name)"]
[null,30,"Don't use after","2019-04-30","Why?",null,null,null,null,null,null,null,null,{"$f":"IF(LEFT(N1,3)=\"S1-\",2,VALUE(MID(N1,2,99))+1)","v":34}]
[null,null,"updated","2018-10-16",null,null,null,null,null,null,null,null,null,"","(temp workspace for a current cell value)"]
[null,"SEA GRANT PROJECT SUMMARY FORM 90-2",{"$f":"HYPERLINK(\"#'TableOfContents'!B6\",\"Jump to Table \nof Contents\")","v":"Jump to Table \nof Contents"},null,"National Office does not require uncolored fields:",null,"NSGO use only",null,null,null,null,null,null,"023 Remediation","(temp workspace for a new selected value)"]
[null,null,null,null,null,null,null,null,null,null,null,null,null,{"$f":"IF(N3=\"\",IF(N4=\"\",\"\",N4),IF(N4=\"\",N3,N3&\"; \"&N4))","v":"023 Remediation"},"(function to concatenate the above two cells)"]
["INSTITUTION (Program): ",{"$f":"INDIRECT(\"'ProjDataInput'!a\"&TEXT($N$2,\"###\"))&\"\"","v":""},null,null,null,null,{"$f":"\"\"&TableOfContents!G1","v":"uploaded by"}]
["TITLE: ",{"$f":"MID(INDIRECT(\"'ProjDataInput'!C\"&TEXT($N$2,\"###\")),1,999)","v":""},null,null,null,null,{"$f":"\"\"&TableOfContents!H1","v":"grant no"},null,null,null,null,null,null,{"$f":"IF('S33'!B6=\"\",\"\",'S33'!B6)","v":""},"(Program listed on first 90-2)"]
[null,null,null,"START DATE:",null,null,{"$f":"\"\"&TableOfContents!I1","v":"amd no"}]
["PREFIX (A,C,E,M,P or R): "," PROJECT NUMBER",null,"END DATE:",null,null,{"$f":"\"\"&TableOfContents!J1","v":"fund source"}]
[{"$f":"MID(INDIRECT(\"'ProjDataInput'!b\"&TEXT($N$2,\"###\")),1,2)","v":""},{"$f":"MID(INDIRECT(\"'ProjDataInput'!b\"&TEXT($N$2,\"###\")),3,999)","v":""},null,null,null,null,{"$f":"\"\"&TableOfContents!K1","v":""}]
["(every project must have a prefix)",{"$f":"IF(OR(LEFT(A10&\" \",1)=\"r\",AND(A10=\"\",LEFT(B10,1)=\"r\")),1,0)","v":0},null,null,null,null,{"$f":"\"\"&TableOfContents!L1","v":""}]
[null,null,null,"READINESS LEVELS:"]
["PI: ",{"$f":"MID(INDIRECT(\"'ProjDataInput'!j\"&TEXT($N$2,\"###\")),1,999)","v":""}]
["AFFILIATION: ",{"$f":"MID(INDIRECT(\"'ProjDataInput'!k\"&TEXT($N$2,\"###\")),1,999)","v":""},null,null,null,null,"Worksheet"]
[null,null,null,null,null,null,"tools:"]
["2nd PI: ",{"$f":"MID(INDIRECT(\"'ProjDataInput'!L\"&TEXT($N$2,\"###\")),1,999)","v":""}]
["AFFILIATION: ",{"$f":"MID(INDIRECT(\"'ProjDataInput'!m\"&TEXT($N$2,\"###\")),1,999)","v":""}]
[]
["3rd PI: ",{"$f":"MID(INDIRECT(\"'ProjDataInput'!n\"&TEXT($N$2,\"###\")),1,999)","v":""}]
["AFFILIATION: ",{"$f":"MID(INDIRECT(\"'ProjDataInput'!o\"&TEXT($N$2,\"###\")),1,999)","v":""}]
[]
["4th PI: ",{"$f":"MID(INDIRECT(\"'ProjDataInput'!p\"&TEXT($N$2,\"###\")),1,999)","v":""}]
["AFFILIATION: ",{"$f":"MID(INDIRECT(\"'ProjDataInput'!q\"&TEXT($N$2,\"###\")),1,999)","v":""}]
[]
["FEDERAL $ REQUEST: ",{"$f":"INDIRECT(\"'ProjDataInput'!h\"&TEXT($N$2,\"###\"))","v":0}]
["MATCH $: ",{"$f":"INDIRECT(\"'ProjDataInput'!i\"&TEXT($N$2,\"###\"))","v":0}]
[]
["CLASSIFICATION CODES: ",{"$f":"MID(INDIRECT(\"'ProjDataInput'!f\"&TEXT($N$2,\"###\")),1,999)","v":""}]
[null,"(Primary Code First)"]
["FOCUS AREAS: ",{"$f":"MID(INDIRECT(\"'ProjDataInput'!d\"&TEXT($N$2,\"###\")),1,999)","v":""}]
[null,"(Primary Focus Area First)"]
["PARTNERS: ",{"$f":"MID(INDIRECT(\"'ProjDataInput'!e\"&TEXT($N$2,\"###\")),1,999)","v":""}]
[]
["OBJECTIVES: ",{"$f":"MID(INDIRECT(\"'ProjDataInput'!g\"&TEXT($N$2,\"###\")),1,19999)","v":""},null,"MULTIPROGRAM? "]
[]
["METHODOLOGY: ",null,null,"OTHER INFORMATION: "]
[]
["RATIONALE: "]
[]
["DATA SHARING PLAN: ",{"$f":"MID(INDIRECT(\"'ProjDataInput'!r\"&TEXT($N$2,\"###\")),1,19999)","v":""}]
[null,"(Required for all research projects)"]

{"sheet":"S34","index":36,"n_rows":41,"n_cols":15,"rows_kept":41,"cut":false,"hidden":true,"merged":[]}
["NSGO use only: ",{"$f":"MID(CELL(\"filename\",'S34'!B1),FIND(\"]\",CELL(\"filename\",'S34'!B1))+1,24)","v":"S34"},"OMB no. ","0648-0362, exp 2/28/2021",null,null,null,null,null,null,null,null,null,"S34","(default worksheet name)"]
[null,30,"Don't use after","2019-04-30","Why?",null,null,null,null,null,null,null,null,{"$f":"IF(LEFT(N1,3)=\"S1-\",2,VALUE(MID(N1,2,99))+1)","v":35}]
[null,null,"updated","2018-10-16",null,null,null,null,null,null,null,null,null,"","(temp workspace for a current cell value)"]
[null,"SEA GRANT PROJECT SUMMARY FORM 90-2",{"$f":"HYPERLINK(\"#'TableOfContents'!B6\",\"Jump to Table \nof Contents\")","v":"Jump to Table \nof Contents"},null,"National Office does not require uncolored fields:",null,"NSGO use only",null,null,null,null,null,null,"023 Remediation","(temp workspace for a new selected value)"]
[null,null,null,null,null,null,null,null,null,null,null,null,null,{"$f":"IF(N3=\"\",IF(N4=\"\",\"\",N4),IF(N4=\"\",N3,N3&\"; \"&N4))","v":"023 Remediation"},"(function to concatenate the above two cells)"]
["INSTITUTION (Program): ",{"$f":"INDIRECT(\"'ProjDataInput'!a\"&TEXT($N$2,\"###\"))&\"\"","v":""},null,null,null,null,{"$f":"\"\"&TableOfContents!G1","v":"uploaded by"}]
["TITLE: ",{"$f":"MID(INDIRECT(\"'ProjDataInput'!C\"&TEXT($N$2,\"###\")),1,999)","v":""},null,null,null,null,{"$f":"\"\"&TableOfContents!H1","v":"grant no"},null,null,null,null,null,null,{"$f":"IF('S34'!B6=\"\",\"\",'S34'!B6)","v":""},"(Program listed on first 90-2)"]
[null,null,null,"START DATE:",null,null,{"$f":"\"\"&TableOfContents!I1","v":"amd no"}]
["PREFIX (A,C,E,M,P or R): "," PROJECT NUMBER",null,"END DATE:",null,null,{"$f":"\"\"&TableOfContents!J1","v":"fund source"}]
[{"$f":"MID(INDIRECT(\"'ProjDataInput'!b\"&TEXT($N$2,\"###\")),1,2)","v":""},{"$f":"MID(INDIRECT(\"'ProjDataInput'!b\"&TEXT($N$2,\"###\")),3,999)","v":""},null,null,null,null,{"$f":"\"\"&TableOfContents!K1","v":""}]
["(every project must have a prefix)",{"$f":"IF(OR(LEFT(A10&\" \",1)=\"r\",AND(A10=\"\",LEFT(B10,1)=\"r\")),1,0)","v":0},null,null,null,null,{"$f":"\"\"&TableOfContents!L1","v":""}]
[null,null,null,"READINESS LEVELS:"]
["PI: ",{"$f":"MID(INDIRECT(\"'ProjDataInput'!j\"&TEXT($N$2,\"###\")),1,999)","v":""}]
["AFFILIATION: ",{"$f":"MID(INDIRECT(\"'ProjDataInput'!k\"&TEXT($N$2,\"###\")),1,999)","v":""},null,null,null,null,"Worksheet"]
[null,null,null,null,null,null,"tools:"]
["2nd PI: ",{"$f":"MID(INDIRECT(\"'ProjDataInput'!L\"&TEXT($N$2,\"###\")),1,999)","v":""}]
["AFFILIATION: ",{"$f":"MID(INDIRECT(\"'ProjDataInput'!m\"&TEXT($N$2,\"###\")),1,999)","v":""}]
[]
["3rd PI: ",{"$f":"MID(INDIRECT(\"'ProjDataInput'!n\"&TEXT($N$2,\"###\")),1,999)","v":""}]
["AFFILIATION: ",{"$f":"MID(INDIRECT(\"'ProjDataInput'!o\"&TEXT($N$2,\"###\")),1,999)","v":""}]
[]
["4th PI: ",{"$f":"MID(INDIRECT(\"'ProjDataInput'!p\"&TEXT($N$2,\"###\")),1,999)","v":""}]
["AFFILIATION: ",{"$f":"MID(INDIRECT(\"'ProjDataInput'!q\"&TEXT($N$2,\"###\")),1,999)","v":""}]
[]
["FEDERAL $ REQUEST: ",{"$f":"INDIRECT(\"'ProjDataInput'!h\"&TEXT($N$2,\"###\"))","v":0}]
["MATCH $: ",{"$f":"INDIRECT(\"'ProjDataInput'!i\"&TEXT($N$2,\"###\"))","v":0}]
[]
["CLASSIFICATION CODES: ",{"$f":"MID(INDIRECT(\"'ProjDataInput'!f\"&TEXT($N$2,\"###\")),1,999)","v":""}]
[null,"(Primary Code First)"]
["FOCUS AREAS: ",{"$f":"MID(INDIRECT(\"'ProjDataInput'!d\"&TEXT($N$2,\"###\")),1,999)","v":""}]
[null,"(Primary Focus Area First)"]
["PARTNERS: ",{"$f":"MID(INDIRECT(\"'ProjDataInput'!e\"&TEXT($N$2,\"###\")),1,999)","v":""}]
[]
["OBJECTIVES: ",{"$f":"MID(INDIRECT(\"'ProjDataInput'!g\"&TEXT($N$2,\"###\")),1,19999)","v":""},null,"MULTIPROGRAM? "]
[]
["METHODOLOGY: ",null,null,"OTHER INFORMATION: "]
[]
["RATIONALE: "]
[]
["DATA SHARING PLAN: ",{"$f":"MID(INDIRECT(\"'ProjDataInput'!r\"&TEXT($N$2,\"###\")),1,19999)","v":""}]
[null,"(Required for all research projects)"]

{"sheet":"S35","index":37,"n_rows":41,"n_cols":15,"rows_kept":41,"cut":false,"hidden":true,"merged":[]}
["NSGO use only: ",{"$f":"MID(CELL(\"filename\",'S35'!B1),FIND(\"]\",CELL(\"filename\",'S35'!B1))+1,24)","v":"S35"},"OMB no. ","0648-0362, exp 2/28/2021",null,null,null,null,null,null,null,null,null,"S35","(default worksheet name)"]
[null,30,"Don't use after","2019-04-30","Why?",null,null,null,null,null,null,null,null,{"$f":"IF(LEFT(N1,3)=\"S1-\",2,VALUE(MID(N1,2,99))+1)","v":36}]
[null,null,"updated","2018-10-16",null,null,null,null,null,null,null,null,null,"","(temp workspace for a current cell value)"]
[null,"SEA GRANT PROJECT SUMMARY FORM 90-2",{"$f":"HYPERLINK(\"#'TableOfContents'!B6\",\"Jump to Table \nof Contents\")","v":"Jump to Table \nof Contents"},null,"National Office does not require uncolored fields:",null,"NSGO use only",null,null,null,null,null,null,"023 Remediation","(temp workspace for a new selected value)"]
[null,null,null,null,null,null,null,null,null,null,null,null,null,{"$f":"IF(N3=\"\",IF(N4=\"\",\"\",N4),IF(N4=\"\",N3,N3&\"; \"&N4))","v":"023 Remediation"},"(function to concatenate the above two cells)"]
["INSTITUTION (Program): ",{"$f":"INDIRECT(\"'ProjDataInput'!a\"&TEXT($N$2,\"###\"))&\"\"","v":""},null,null,null,null,{"$f":"\"\"&TableOfContents!G1","v":"uploaded by"}]
["TITLE: ",{"$f":"MID(INDIRECT(\"'ProjDataInput'!C\"&TEXT($N$2,\"###\")),1,999)","v":""},null,null,null,null,{"$f":"\"\"&TableOfContents!H1","v":"grant no"},null,null,null,null,null,null,{"$f":"IF('S35'!B6=\"\",\"\",'S35'!B6)","v":""},"(Program listed on first 90-2)"]
[null,null,null,"START DATE:",null,null,{"$f":"\"\"&TableOfContents!I1","v":"amd no"}]
["PREFIX (A,C,E,M,P or R): "," PROJECT NUMBER",null,"END DATE:",null,null,{"$f":"\"\"&TableOfContents!J1","v":"fund source"}]
[{"$f":"MID(INDIRECT(\"'ProjDataInput'!b\"&TEXT($N$2,\"###\")),1,2)","v":""},{"$f":"MID(INDIRECT(\"'ProjDataInput'!b\"&TEXT($N$2,\"###\")),3,999)","v":""},null,null,null,null,{"$f":"\"\"&TableOfContents!K1","v":""}]
["(every project must have a prefix)",{"$f":"IF(OR(LEFT(A10&\" \",1)=\"r\",AND(A10=\"\",LEFT(B10,1)=\"r\")),1,0)","v":0},null,null,null,null,{"$f":"\"\"&TableOfContents!L1","v":""}]
[null,null,null,"READINESS LEVELS:"]
["PI: ",{"$f":"MID(INDIRECT(\"'ProjDataInput'!j\"&TEXT($N$2,\"###\")),1,999)","v":""}]
["AFFILIATION: ",{"$f":"MID(INDIRECT(\"'ProjDataInput'!k\"&TEXT($N$2,\"###\")),1,999)","v":""},null,null,null,null,"Worksheet"]
[null,null,null,null,null,null,"tools:"]
["2nd PI: ",{"$f":"MID(INDIRECT(\"'ProjDataInput'!L\"&TEXT($N$2,\"###\")),1,999)","v":""}]
["AFFILIATION: ",{"$f":"MID(INDIRECT(\"'ProjDataInput'!m\"&TEXT($N$2,\"###\")),1,999)","v":""}]
[]
["3rd PI: ",{"$f":"MID(INDIRECT(\"'ProjDataInput'!n\"&TEXT($N$2,\"###\")),1,999)","v":""}]
["AFFILIATION: ",{"$f":"MID(INDIRECT(\"'ProjDataInput'!o\"&TEXT($N$2,\"###\")),1,999)","v":""}]
[]
["4th PI: ",{"$f":"MID(INDIRECT(\"'ProjDataInput'!p\"&TEXT($N$2,\"###\")),1,999)","v":""}]
["AFFILIATION: ",{"$f":"MID(INDIRECT(\"'ProjDataInput'!q\"&TEXT($N$2,\"###\")),1,999)","v":""}]
[]
["FEDERAL $ REQUEST: ",{"$f":"INDIRECT(\"'ProjDataInput'!h\"&TEXT($N$2,\"###\"))","v":0}]
["MATCH $: ",{"$f":"INDIRECT(\"'ProjDataInput'!i\"&TEXT($N$2,\"###\"))","v":0}]
[]
["CLASSIFICATION CODES: ",{"$f":"MID(INDIRECT(\"'ProjDataInput'!f\"&TEXT($N$2,\"###\")),1,999)","v":""}]
[null,"(Primary Code First)"]
["FOCUS AREAS: ",{"$f":"MID(INDIRECT(\"'ProjDataInput'!d\"&TEXT($N$2,\"###\")),1,999)","v":""}]
[null,"(Primary Focus Area First)"]
["PARTNERS: ",{"$f":"MID(INDIRECT(\"'ProjDataInput'!e\"&TEXT($N$2,\"###\")),1,999)","v":""}]
[]
["OBJECTIVES: ",{"$f":"MID(INDIRECT(\"'ProjDataInput'!g\"&TEXT($N$2,\"###\")),1,19999)","v":""},null,"MULTIPROGRAM? "]
[]
["METHODOLOGY: ",null,null,"OTHER INFORMATION: "]
[]
["RATIONALE: "]
[]
["DATA SHARING PLAN: ",{"$f":"MID(INDIRECT(\"'ProjDataInput'!r\"&TEXT($N$2,\"###\")),1,19999)","v":""}]
[null,"(Required for all research projects)"]

{"sheet":"S36","index":38,"n_rows":41,"n_cols":15,"rows_kept":41,"cut":false,"hidden":true,"merged":[]}
["NSGO use only: ",{"$f":"MID(CELL(\"filename\",'S36'!B1),FIND(\"]\",CELL(\"filename\",'S36'!B1))+1,24)","v":"S36"},"OMB no. ","0648-0362, exp 2/28/2021",null,null,null,null,null,null,null,null,null,"S36","(default worksheet name)"]
[null,30,"Don't use after","2019-04-30","Why?",null,null,null,null,null,null,null,null,{"$f":"IF(LEFT(N1,3)=\"S1-\",2,VALUE(MID(N1,2,99))+1)","v":37}]
[null,null,"updated","2018-10-16",null,null,null,null,null,null,null,null,null,"","(temp workspace for a current cell value)"]
[null,"SEA GRANT PROJECT SUMMARY FORM 90-2",{"$f":"HYPERLINK(\"#'TableOfContents'!B6\",\"Jump to Table \nof Contents\")","v":"Jump to Table \nof Contents"},null,"National Office does not require uncolored fields:",null,"NSGO use only",null,null,null,null,null,null,"023 Remediation","(temp workspace for a new selected value)"]
[null,null,null,null,null,null,null,null,null,null,null,null,null,{"$f":"IF(N3=\"\",IF(N4=\"\",\"\",N4),IF(N4=\"\",N3,N3&\"; \"&N4))","v":"023 Remediation"},"(function to concatenate the above two cells)"]
["INSTITUTION (Program): ",{"$f":"INDIRECT(\"'ProjDataInput'!a\"&TEXT($N$2,\"###\"))&\"\"","v":""},null,null,null,null,{"$f":"\"\"&TableOfContents!G1","v":"uploaded by"}]
["TITLE: ",{"$f":"MID(INDIRECT(\"'ProjDataInput'!C\"&TEXT($N$2,\"###\")),1,999)","v":""},null,null,null,null,{"$f":"\"\"&TableOfContents!H1","v":"grant no"},null,null,null,null,null,null,{"$f":"IF('S36'!B6=\"\",\"\",'S36'!B6)","v":""},"(Program listed on first 90-2)"]
[null,null,null,"START DATE:",null,null,{"$f":"\"\"&TableOfContents!I1","v":"amd no"}]
["PREFIX (A,C,E,M,P or R): "," PROJECT NUMBER",null,"END DATE:",null,null,{"$f":"\"\"&TableOfContents!J1","v":"fund source"}]
[{"$f":"MID(INDIRECT(\"'ProjDataInput'!b\"&TEXT($N$2,\"###\")),1,2)","v":""},{"$f":"MID(INDIRECT(\"'ProjDataInput'!b\"&TEXT($N$2,\"###\")),3,999)","v":""},null,null,null,null,{"$f":"\"\"&TableOfContents!K1","v":""}]
["(every project must have a prefix)",{"$f":"IF(OR(LEFT(A10&\" \",1)=\"r\",AND(A10=\"\",LEFT(B10,1)=\"r\")),1,0)","v":0},null,null,null,null,{"$f":"\"\"&TableOfContents!L1","v":""}]
[null,null,null,"READINESS LEVELS:"]
["PI: ",{"$f":"MID(INDIRECT(\"'ProjDataInput'!j\"&TEXT($N$2,\"###\")),1,999)","v":""}]
["AFFILIATION: ",{"$f":"MID(INDIRECT(\"'ProjDataInput'!k\"&TEXT($N$2,\"###\")),1,999)","v":""},null,null,null,null,"Worksheet"]
[null,null,null,null,null,null,"tools:"]
["2nd PI: ",{"$f":"MID(INDIRECT(\"'ProjDataInput'!L\"&TEXT($N$2,\"###\")),1,999)","v":""}]
["AFFILIATION: ",{"$f":"MID(INDIRECT(\"'ProjDataInput'!m\"&TEXT($N$2,\"###\")),1,999)","v":""}]
[]
["3rd PI: ",{"$f":"MID(INDIRECT(\"'ProjDataInput'!n\"&TEXT($N$2,\"###\")),1,999)","v":""}]
["AFFILIATION: ",{"$f":"MID(INDIRECT(\"'ProjDataInput'!o\"&TEXT($N$2,\"###\")),1,999)","v":""}]
[]
["4th PI: ",{"$f":"MID(INDIRECT(\"'ProjDataInput'!p\"&TEXT($N$2,\"###\")),1,999)","v":""}]
["AFFILIATION: ",{"$f":"MID(INDIRECT(\"'ProjDataInput'!q\"&TEXT($N$2,\"###\")),1,999)","v":""}]
[]
["FEDERAL $ REQUEST: ",{"$f":"INDIRECT(\"'ProjDataInput'!h\"&TEXT($N$2,\"###\"))","v":0}]
["MATCH $: ",{"$f":"INDIRECT(\"'ProjDataInput'!i\"&TEXT($N$2,\"###\"))","v":0}]
[]
["CLASSIFICATION CODES: ",{"$f":"MID(INDIRECT(\"'ProjDataInput'!f\"&TEXT($N$2,\"###\")),1,999)","v":""}]
[null,"(Primary Code First)"]
["FOCUS AREAS: ",{"$f":"MID(INDIRECT(\"'ProjDataInput'!d\"&TEXT($N$2,\"###\")),1,999)","v":""}]
[null,"(Primary Focus Area First)"]
["PARTNERS: ",{"$f":"MID(INDIRECT(\"'ProjDataInput'!e\"&TEXT($N$2,\"###\")),1,999)","v":""}]
[]
["OBJECTIVES: ",{"$f":"MID(INDIRECT(\"'ProjDataInput'!g\"&TEXT($N$2,\"###\")),1,19999)","v":""},null,"MULTIPROGRAM? "]
[]
["METHODOLOGY: ",null,null,"OTHER INFORMATION: "]
[]
["RATIONALE: "]
[]
["DATA SHARING PLAN: ",{"$f":"MID(INDIRECT(\"'ProjDataInput'!r\"&TEXT($N$2,\"###\")),1,19999)","v":""}]
[null,"(Required for all research projects)"]

{"sheet":"S37","index":39,"n_rows":41,"n_cols":15,"rows_kept":41,"cut":false,"hidden":true,"merged":[]}
["NSGO use only: ",{"$f":"MID(CELL(\"filename\",'S37'!B1),FIND(\"]\",CELL(\"filename\",'S37'!B1))+1,24)","v":"S37"},"OMB no. ","0648-0362, exp 2/28/2021",null,null,null,null,null,null,null,null,null,"S37","(default worksheet name)"]
[null,30,"Don't use after","2019-04-30","Why?",null,null,null,null,null,null,null,null,{"$f":"IF(LEFT(N1,3)=\"S1-\",2,VALUE(MID(N1,2,99))+1)","v":38}]
[null,null,"updated","2018-10-16",null,null,null,null,null,null,null,null,null,"","(temp workspace for a current cell value)"]
[null,"SEA GRANT PROJECT SUMMARY FORM 90-2",{"$f":"HYPERLINK(\"#'TableOfContents'!B6\",\"Jump to Table \nof Contents\")","v":"Jump to Table \nof Contents"},null,"National Office does not require uncolored fields:",null,"NSGO use only",null,null,null,null,null,null,"023 Remediation","(temp workspace for a new selected value)"]
[null,null,null,null,null,null,null,null,null,null,null,null,null,{"$f":"IF(N3=\"\",IF(N4=\"\",\"\",N4),IF(N4=\"\",N3,N3&\"; \"&N4))","v":"023 Remediation"},"(function to concatenate the above two cells)"]
["INSTITUTION (Program): ",{"$f":"INDIRECT(\"'ProjDataInput'!a\"&TEXT($N$2,\"###\"))&\"\"","v":""},null,null,null,null,{"$f":"\"\"&TableOfContents!G1","v":"uploaded by"}]
["TITLE: ",{"$f":"MID(INDIRECT(\"'ProjDataInput'!C\"&TEXT($N$2,\"###\")),1,999)","v":""},null,null,null,null,{"$f":"\"\"&TableOfContents!H1","v":"grant no"},null,null,null,null,null,null,{"$f":"IF('S37'!B6=\"\",\"\",'S37'!B6)","v":""},"(Program listed on first 90-2)"]
[null,null,null,"START DATE:",null,null,{"$f":"\"\"&TableOfContents!I1","v":"amd no"}]
["PREFIX (A,C,E,M,P or R): "," PROJECT NUMBER",null,"END DATE:",null,null,{"$f":"\"\"&TableOfContents!J1","v":"fund source"}]
[{"$f":"MID(INDIRECT(\"'ProjDataInput'!b\"&TEXT($N$2,\"###\")),1,2)","v":""},{"$f":"MID(INDIRECT(\"'ProjDataInput'!b\"&TEXT($N$2,\"###\")),3,999)","v":""},null,null,null,null,{"$f":"\"\"&TableOfContents!K1","v":""}]
["(every project must have a prefix)",{"$f":"IF(OR(LEFT(A10&\" \",1)=\"r\",AND(A10=\"\",LEFT(B10,1)=\"r\")),1,0)","v":0},null,null,null,null,{"$f":"\"\"&TableOfContents!L1","v":""}]
[null,null,null,"READINESS LEVELS:"]
["PI: ",{"$f":"MID(INDIRECT(\"'ProjDataInput'!j\"&TEXT($N$2,\"###\")),1,999)","v":""}]
["AFFILIATION: ",{"$f":"MID(INDIRECT(\"'ProjDataInput'!k\"&TEXT($N$2,\"###\")),1,999)","v":""},null,null,null,null,"Worksheet"]
[null,null,null,null,null,null,"tools:"]
["2nd PI: ",{"$f":"MID(INDIRECT(\"'ProjDataInput'!L\"&TEXT($N$2,\"###\")),1,999)","v":""}]
["AFFILIATION: ",{"$f":"MID(INDIRECT(\"'ProjDataInput'!m\"&TEXT($N$2,\"###\")),1,999)","v":""}]
[]
["3rd PI: ",{"$f":"MID(INDIRECT(\"'ProjDataInput'!n\"&TEXT($N$2,\"###\")),1,999)","v":""}]
["AFFILIATION: ",{"$f":"MID(INDIRECT(\"'ProjDataInput'!o\"&TEXT($N$2,\"###\")),1,999)","v":""}]
[]
["4th PI: ",{"$f":"MID(INDIRECT(\"'ProjDataInput'!p\"&TEXT($N$2,\"###\")),1,999)","v":""}]
["AFFILIATION: ",{"$f":"MID(INDIRECT(\"'ProjDataInput'!q\"&TEXT($N$2,\"###\")),1,999)","v":""}]
[]
["FEDERAL $ REQUEST: ",{"$f":"INDIRECT(\"'ProjDataInput'!h\"&TEXT($N$2,\"###\"))","v":0}]
["MATCH $: ",{"$f":"INDIRECT(\"'ProjDataInput'!i\"&TEXT($N$2,\"###\"))","v":0}]
[]
["CLASSIFICATION CODES: ",{"$f":"MID(INDIRECT(\"'ProjDataInput'!f\"&TEXT($N$2,\"###\")),1,999)","v":""}]
[null,"(Primary Code First)"]
["FOCUS AREAS: ",{"$f":"MID(INDIRECT(\"'ProjDataInput'!d\"&TEXT($N$2,\"###\")),1,999)","v":""}]
[null,"(Primary Focus Area First)"]
["PARTNERS: ",{"$f":"MID(INDIRECT(\"'ProjDataInput'!e\"&TEXT($N$2,\"###\")),1,999)","v":""}]
[]
["OBJECTIVES: ",{"$f":"MID(INDIRECT(\"'ProjDataInput'!g\"&TEXT($N$2,\"###\")),1,19999)","v":""},null,"MULTIPROGRAM? "]
[]
["METHODOLOGY: ",null,null,"OTHER INFORMATION: "]
[]
["RATIONALE: "]
[]
["DATA SHARING PLAN: ",{"$f":"MID(INDIRECT(\"'ProjDataInput'!r\"&TEXT($N$2,\"###\")),1,19999)","v":""}]
[null,"(Required for all research projects)"]

{"sheet":"S38","index":40,"n_rows":41,"n_cols":15,"rows_kept":41,"cut":false,"hidden":true,"merged":[]}
["NSGO use only: ",{"$f":"MID(CELL(\"filename\",'S38'!B1),FIND(\"]\",CELL(\"filename\",'S38'!B1))+1,24)","v":"S38"},"OMB no. ","0648-0362, exp 2/28/2021",null,null,null,null,null,null,null,null,null,"S38","(default worksheet name)"]
[null,30,"Don't use after","2019-04-30","Why?",null,null,null,null,null,null,null,null,{"$f":"IF(LEFT(N1,3)=\"S1-\",2,VALUE(MID(N1,2,99))+1)","v":39}]
[null,null,"updated","2018-10-16",null,null,null,null,null,null,null,null,null,"","(temp workspace for a current cell value)"]
[null,"SEA GRANT PROJECT SUMMARY FORM 90-2",{"$f":"HYPERLINK(\"#'TableOfContents'!B6\",\"Jump to Table \nof Contents\")","v":"Jump to Table \nof Contents"},null,"National Office does not require uncolored fields:",null,"NSGO use only",null,null,null,null,null,null,"023 Remediation","(temp workspace for a new selected value)"]
[null,null,null,null,null,null,null,null,null,null,null,null,null,{"$f":"IF(N3=\"\",IF(N4=\"\",\"\",N4),IF(N4=\"\",N3,N3&\"; \"&N4))","v":"023 Remediation"},"(function to concatenate the above two cells)"]
["INSTITUTION (Program): ",{"$f":"INDIRECT(\"'ProjDataInput'!a\"&TEXT($N$2,\"###\"))&\"\"","v":""},null,null,null,null,{"$f":"\"\"&TableOfContents!G1","v":"uploaded by"}]
["TITLE: ",{"$f":"MID(INDIRECT(\"'ProjDataInput'!C\"&TEXT($N$2,\"###\")),1,999)","v":""},null,null,null,null,{"$f":"\"\"&TableOfContents!H1","v":"grant no"},null,null,null,null,null,null,{"$f":"IF('S38'!B6=\"\",\"\",'S38'!B6)","v":""},"(Program listed on first 90-2)"]
[null,null,null,"START DATE:",null,null,{"$f":"\"\"&TableOfContents!I1","v":"amd no"}]
["PREFIX (A,C,E,M,P or R): "," PROJECT NUMBER",null,"END DATE:",null,null,{"$f":"\"\"&TableOfContents!J1","v":"fund source"}]
[{"$f":"MID(INDIRECT(\"'ProjDataInput'!b\"&TEXT($N$2,\"###\")),1,2)","v":""},{"$f":"MID(INDIRECT(\"'ProjDataInput'!b\"&TEXT($N$2,\"###\")),3,999)","v":""},null,null,null,null,{"$f":"\"\"&TableOfContents!K1","v":""}]
["(every project must have a prefix)",{"$f":"IF(OR(LEFT(A10&\" \",1)=\"r\",AND(A10=\"\",LEFT(B10,1)=\"r\")),1,0)","v":0},null,null,null,null,{"$f":"\"\"&TableOfContents!L1","v":""}]
[null,null,null,"READINESS LEVELS:"]
["PI: ",{"$f":"MID(INDIRECT(\"'ProjDataInput'!j\"&TEXT($N$2,\"###\")),1,999)","v":""}]
["AFFILIATION: ",{"$f":"MID(INDIRECT(\"'ProjDataInput'!k\"&TEXT($N$2,\"###\")),1,999)","v":""},null,null,null,null,"Worksheet"]
[null,null,null,null,null,null,"tools:"]
["2nd PI: ",{"$f":"MID(INDIRECT(\"'ProjDataInput'!L\"&TEXT($N$2,\"###\")),1,999)","v":""}]
["AFFILIATION: ",{"$f":"MID(INDIRECT(\"'ProjDataInput'!m\"&TEXT($N$2,\"###\")),1,999)","v":""}]
[]
["3rd PI: ",{"$f":"MID(INDIRECT(\"'ProjDataInput'!n\"&TEXT($N$2,\"###\")),1,999)","v":""}]
["AFFILIATION: ",{"$f":"MID(INDIRECT(\"'ProjDataInput'!o\"&TEXT($N$2,\"###\")),1,999)","v":""}]
[]
["4th PI: ",{"$f":"MID(INDIRECT(\"'ProjDataInput'!p\"&TEXT($N$2,\"###\")),1,999)","v":""}]
["AFFILIATION: ",{"$f":"MID(INDIRECT(\"'ProjDataInput'!q\"&TEXT($N$2,\"###\")),1,999)","v":""}]
[]
["FEDERAL $ REQUEST: ",{"$f":"INDIRECT(\"'ProjDataInput'!h\"&TEXT($N$2,\"###\"))","v":0}]
["MATCH $: ",{"$f":"INDIRECT(\"'ProjDataInput'!i\"&TEXT($N$2,\"###\"))","v":0}]
[]
["CLASSIFICATION CODES: ",{"$f":"MID(INDIRECT(\"'ProjDataInput'!f\"&TEXT($N$2,\"###\")),1,999)","v":""}]
[null,"(Primary Code First)"]
["FOCUS AREAS: ",{"$f":"MID(INDIRECT(\"'ProjDataInput'!d\"&TEXT($N$2,\"###\")),1,999)","v":""}]
[null,"(Primary Focus Area First)"]
["PARTNERS: ",{"$f":"MID(INDIRECT(\"'ProjDataInput'!e\"&TEXT($N$2,\"###\")),1,999)","v":""}]
[]
["OBJECTIVES: ",{"$f":"MID(INDIRECT(\"'ProjDataInput'!g\"&TEXT($N$2,\"###\")),1,19999)","v":""},null,"MULTIPROGRAM? "]
[]
["METHODOLOGY: ",null,null,"OTHER INFORMATION: "]
[]
["RATIONALE: "]
[]
["DATA SHARING PLAN: ",{"$f":"MID(INDIRECT(\"'ProjDataInput'!r\"&TEXT($N$2,\"###\")),1,19999)","v":""}]
[null,"(Required for all research projects)"]

{"sheet":"S39","index":41,"n_rows":41,"n_cols":15,"rows_kept":41,"cut":false,"hidden":true,"merged":[]}
["NSGO use only: ",{"$f":"MID(CELL(\"filename\",'S39'!B1),FIND(\"]\",CELL(\"filename\",'S39'!B1))+1,24)","v":"S39"},"OMB no. ","0648-0362, exp 2/28/2021",null,null,null,null,null,null,null,null,null,"S39","(default worksheet name)"]
[null,30,"Don't use after","2019-04-30","Why?",null,null,null,null,null,null,null,null,{"$f":"IF(LEFT(N1,3)=\"S1-\",2,VALUE(MID(N1,2,99))+1)","v":40}]
[null,null,"updated","2018-10-16",null,null,null,null,null,null,null,null,null,"","(temp workspace for a current cell value)"]
[null,"SEA GRANT PROJECT SUMMARY FORM 90-2",{"$f":"HYPERLINK(\"#'TableOfContents'!B6\",\"Jump to Table \nof Contents\")","v":"Jump to Table \nof Contents"},null,"National Office does not require uncolored fields:",null,"NSGO use only",null,null,null,null,null,null,"023 Remediation","(temp workspace for a new selected value)"]
[null,null,null,null,null,null,null,null,null,null,null,null,null,{"$f":"IF(N3=\"\",IF(N4=\"\",\"\",N4),IF(N4=\"\",N3,N3&\"; \"&N4))","v":"023 Remediation"},"(function to concatenate the above two cells)"]
["INSTITUTION (Program): ",{"$f":"INDIRECT(\"'ProjDataInput'!a\"&TEXT($N$2,\"###\"))&\"\"","v":""},null,null,null,null,{"$f":"\"\"&TableOfContents!G1","v":"uploaded by"}]
["TITLE: ",{"$f":"MID(INDIRECT(\"'ProjDataInput'!C\"&TEXT($N$2,\"###\")),1,999)","v":""},null,null,null,null,{"$f":"\"\"&TableOfContents!H1","v":"grant no"},null,null,null,null,null,null,{"$f":"IF('S39'!B6=\"\",\"\",'S39'!B6)","v":""},"(Program listed on first 90-2)"]
[null,null,null,"START DATE:",null,null,{"$f":"\"\"&TableOfContents!I1","v":"amd no"}]
["PREFIX (A,C,E,M,P or R): "," PROJECT NUMBER",null,"END DATE:",null,null,{"$f":"\"\"&TableOfContents!J1","v":"fund source"}]
[{"$f":"MID(INDIRECT(\"'ProjDataInput'!b\"&TEXT($N$2,\"###\")),1,2)","v":""},{"$f":"MID(INDIRECT(\"'ProjDataInput'!b\"&TEXT($N$2,\"###\")),3,999)","v":""},null,null,null,null,{"$f":"\"\"&TableOfContents!K1","v":""}]
["(every project must have a prefix)",{"$f":"IF(OR(LEFT(A10&\" \",1)=\"r\",AND(A10=\"\",LEFT(B10,1)=\"r\")),1,0)","v":0},null,null,null,null,{"$f":"\"\"&TableOfContents!L1","v":""}]
[null,null,null,"READINESS LEVELS:"]
["PI: ",{"$f":"MID(INDIRECT(\"'ProjDataInput'!j\"&TEXT($N$2,\"###\")),1,999)","v":""}]
["AFFILIATION: ",{"$f":"MID(INDIRECT(\"'ProjDataInput'!k\"&TEXT($N$2,\"###\")),1,999)","v":""},null,null,null,null,"Worksheet"]
[null,null,null,null,null,null,"tools:"]
["2nd PI: ",{"$f":"MID(INDIRECT(\"'ProjDataInput'!L\"&TEXT($N$2,\"###\")),1,999)","v":""}]
["AFFILIATION: ",{"$f":"MID(INDIRECT(\"'ProjDataInput'!m\"&TEXT($N$2,\"###\")),1,999)","v":""}]
[]
["3rd PI: ",{"$f":"MID(INDIRECT(\"'ProjDataInput'!n\"&TEXT($N$2,\"###\")),1,999)","v":""}]
["AFFILIATION: ",{"$f":"MID(INDIRECT(\"'ProjDataInput'!o\"&TEXT($N$2,\"###\")),1,999)","v":""}]
[]
["4th PI: ",{"$f":"MID(INDIRECT(\"'ProjDataInput'!p\"&TEXT($N$2,\"###\")),1,999)","v":""}]
["AFFILIATION: ",{"$f":"MID(INDIRECT(\"'ProjDataInput'!q\"&TEXT($N$2,\"###\")),1,999)","v":""}]
[]
["FEDERAL $ REQUEST: ",{"$f":"INDIRECT(\"'ProjDataInput'!h\"&TEXT($N$2,\"###\"))","v":0}]
["MATCH $: ",{"$f":"INDIRECT(\"'ProjDataInput'!i\"&TEXT($N$2,\"###\"))","v":0}]
[]
["CLASSIFICATION CODES: ",{"$f":"MID(INDIRECT(\"'ProjDataInput'!f\"&TEXT($N$2,\"###\")),1,999)","v":""}]
[null,"(Primary Code First)"]
["FOCUS AREAS: ",{"$f":"MID(INDIRECT(\"'ProjDataInput'!d\"&TEXT($N$2,\"###\")),1,999)","v":""}]
[null,"(Primary Focus Area First)"]
["PARTNERS: ",{"$f":"MID(INDIRECT(\"'ProjDataInput'!e\"&TEXT($N$2,\"###\")),1,999)","v":""}]
[]
["OBJECTIVES: ",{"$f":"MID(INDIRECT(\"'ProjDataInput'!g\"&TEXT($N$2,\"###\")),1,19999)","v":""},null,"MULTIPROGRAM? "]
[]
["METHODOLOGY: ",null,null,"OTHER INFORMATION: "]
[]
["RATIONALE: "]
[]
["DATA SHARING PLAN: ",{"$f":"MID(INDIRECT(\"'ProjDataInput'!r\"&TEXT($N$2,\"###\")),1,19999)","v":""}]
[null,"(Required for all research projects)"]

{"sheet":"S40","index":42,"n_rows":41,"n_cols":15,"rows_kept":41,"cut":false,"hidden":true,"merged":[]}
["NSGO use only: ",{"$f":"MID(CELL(\"filename\",'S40'!B1),FIND(\"]\",CELL(\"filename\",'S40'!B1))+1,24)","v":"S40"},"OMB no. ","0648-0362, exp 2/28/2021",null,null,null,null,null,null,null,null,null,"S40","(default worksheet name)"]
[null,30,"Don't use after","2019-04-30","Why?",null,null,null,null,null,null,null,null,{"$f":"IF(LEFT(N1,3)=\"S1-\",2,VALUE(MID(N1,2,99))+1)","v":41}]
[null,null,"updated","2018-10-16",null,null,null,null,null,null,null,null,null,"","(temp workspace for a current cell value)"]
[null,"SEA GRANT PROJECT SUMMARY FORM 90-2",{"$f":"HYPERLINK(\"#'TableOfContents'!B6\",\"Jump to Table \nof Contents\")","v":"Jump to Table \nof Contents"},null,"National Office does not require uncolored fields:",null,"NSGO use only",null,null,null,null,null,null,"023 Remediation","(temp workspace for a new selected value)"]
[null,null,null,null,null,null,null,null,null,null,null,null,null,{"$f":"IF(N3=\"\",IF(N4=\"\",\"\",N4),IF(N4=\"\",N3,N3&\"; \"&N4))","v":"023 Remediation"},"(function to concatenate the above two cells)"]
["INSTITUTION (Program): ",{"$f":"INDIRECT(\"'ProjDataInput'!a\"&TEXT($N$2,\"###\"))&\"\"","v":""},null,null,null,null,{"$f":"\"\"&TableOfContents!G1","v":"uploaded by"}]
["TITLE: ",{"$f":"MID(INDIRECT(\"'ProjDataInput'!C\"&TEXT($N$2,\"###\")),1,999)","v":""},null,null,null,null,{"$f":"\"\"&TableOfContents!H1","v":"grant no"},null,null,null,null,null,null,{"$f":"IF('S40'!B6=\"\",\"\",'S40'!B6)","v":""},"(Program listed on first 90-2)"]
[null,null,null,"START DATE:",null,null,{"$f":"\"\"&TableOfContents!I1","v":"amd no"}]
["PREFIX (A,C,E,M,P or R): "," PROJECT NUMBER",null,"END DATE:",null,null,{"$f":"\"\"&TableOfContents!J1","v":"fund source"}]
[{"$f":"MID(INDIRECT(\"'ProjDataInput'!b\"&TEXT($N$2,\"###\")),1,2)","v":""},{"$f":"MID(INDIRECT(\"'ProjDataInput'!b\"&TEXT($N$2,\"###\")),3,999)","v":""},null,null,null,null,{"$f":"\"\"&TableOfContents!K1","v":""}]
["(every project must have a prefix)",{"$f":"IF(OR(LEFT(A10&\" \",1)=\"r\",AND(A10=\"\",LEFT(B10,1)=\"r\")),1,0)","v":0},null,null,null,null,{"$f":"\"\"&TableOfContents!L1","v":""}]
[null,null,null,"READINESS LEVELS:"]
["PI: ",{"$f":"MID(INDIRECT(\"'ProjDataInput'!j\"&TEXT($N$2,\"###\")),1,999)","v":""}]
["AFFILIATION: ",{"$f":"MID(INDIRECT(\"'ProjDataInput'!k\"&TEXT($N$2,\"###\")),1,999)","v":""},null,null,null,null,"Worksheet"]
[null,null,null,null,null,null,"tools:"]
["2nd PI: ",{"$f":"MID(INDIRECT(\"'ProjDataInput'!L\"&TEXT($N$2,\"###\")),1,999)","v":""}]
["AFFILIATION: ",{"$f":"MID(INDIRECT(\"'ProjDataInput'!m\"&TEXT($N$2,\"###\")),1,999)","v":""}]
[]
["3rd PI: ",{"$f":"MID(INDIRECT(\"'ProjDataInput'!n\"&TEXT($N$2,\"###\")),1,999)","v":""}]
["AFFILIATION: ",{"$f":"MID(INDIRECT(\"'ProjDataInput'!o\"&TEXT($N$2,\"###\")),1,999)","v":""}]
[]
["4th PI: ",{"$f":"MID(INDIRECT(\"'ProjDataInput'!p\"&TEXT($N$2,\"###\")),1,999)","v":""}]
["AFFILIATION: ",{"$f":"MID(INDIRECT(\"'ProjDataInput'!q\"&TEXT($N$2,\"###\")),1,999)","v":""}]
[]
["FEDERAL $ REQUEST: ",{"$f":"INDIRECT(\"'ProjDataInput'!h\"&TEXT($N$2,\"###\"))","v":0}]
["MATCH $: ",{"$f":"INDIRECT(\"'ProjDataInput'!i\"&TEXT($N$2,\"###\"))","v":0}]
[]
["CLASSIFICATION CODES: ",{"$f":"MID(INDIRECT(\"'ProjDataInput'!f\"&TEXT($N$2,\"###\")),1,999)","v":""}]
[null,"(Primary Code First)"]
["FOCUS AREAS: ",{"$f":"MID(INDIRECT(\"'ProjDataInput'!d\"&TEXT($N$2,\"###\")),1,999)","v":""}]
[null,"(Primary Focus Area First)"]
["PARTNERS: ",{"$f":"MID(INDIRECT(\"'ProjDataInput'!e\"&TEXT($N$2,\"###\")),1,999)","v":""}]
[]
["OBJECTIVES: ",{"$f":"MID(INDIRECT(\"'ProjDataInput'!g\"&TEXT($N$2,\"###\")),1,19999)","v":""},null,"MULTIPROGRAM? "]
[]
["METHODOLOGY: ",null,null,"OTHER INFORMATION: "]
[]
["RATIONALE: "]
[]
["DATA SHARING PLAN: ",{"$f":"MID(INDIRECT(\"'ProjDataInput'!r\"&TEXT($N$2,\"###\")),1,19999)","v":""}]
[null,"(Required for all research projects)"]

{"sheet":"S41","index":43,"n_rows":41,"n_cols":15,"rows_kept":41,"cut":false,"hidden":true,"merged":[]}
["NSGO use only: ",{"$f":"MID(CELL(\"filename\",'S41'!B1),FIND(\"]\",CELL(\"filename\",'S41'!B1))+1,24)","v":"S41"},"OMB no. ","0648-0362, exp 2/28/2021",null,null,null,null,null,null,null,null,null,"S41","(default worksheet name)"]
[null,30,"Don't use after","2019-04-30","Why?",null,null,null,null,null,null,null,null,{"$f":"IF(LEFT(N1,3)=\"S1-\",2,VALUE(MID(N1,2,99))+1)","v":42}]
[null,null,"updated","2018-10-16",null,null,null,null,null,null,null,null,null,"","(temp workspace for a current cell value)"]
[null,"SEA GRANT PROJECT SUMMARY FORM 90-2",{"$f":"HYPERLINK(\"#'TableOfContents'!B6\",\"Jump to Table \nof Contents\")","v":"Jump to Table \nof Contents"},null,"National Office does not require uncolored fields:",null,"NSGO use only",null,null,null,null,null,null,"023 Remediation","(temp workspace for a new selected value)"]
[null,null,null,null,null,null,null,null,null,null,null,null,null,{"$f":"IF(N3=\"\",IF(N4=\"\",\"\",N4),IF(N4=\"\",N3,N3&\"; \"&N4))","v":"023 Remediation"},"(function to concatenate the above two cells)"]
["INSTITUTION (Program): ",{"$f":"INDIRECT(\"'ProjDataInput'!a\"&TEXT($N$2,\"###\"))&\"\"","v":""},null,null,null,null,{"$f":"\"\"&TableOfContents!G1","v":"uploaded by"}]
["TITLE: ",{"$f":"MID(INDIRECT(\"'ProjDataInput'!C\"&TEXT($N$2,\"###\")),1,999)","v":""},null,null,null,null,{"$f":"\"\"&TableOfContents!H1","v":"grant no"},null,null,null,null,null,null,{"$f":"IF('S41'!B6=\"\",\"\",'S41'!B6)","v":""},"(Program listed on first 90-2)"]
[null,null,null,"START DATE:",null,null,{"$f":"\"\"&TableOfContents!I1","v":"amd no"}]
["PREFIX (A,C,E,M,P or R): "," PROJECT NUMBER",null,"END DATE:",null,null,{"$f":"\"\"&TableOfContents!J1","v":"fund source"}]
[{"$f":"MID(INDIRECT(\"'ProjDataInput'!b\"&TEXT($N$2,\"###\")),1,2)","v":""},{"$f":"MID(INDIRECT(\"'ProjDataInput'!b\"&TEXT($N$2,\"###\")),3,999)","v":""},null,null,null,null,{"$f":"\"\"&TableOfContents!K1","v":""}]
["(every project must have a prefix)",{"$f":"IF(OR(LEFT(A10&\" \",1)=\"r\",AND(A10=\"\",LEFT(B10,1)=\"r\")),1,0)","v":0},null,null,null,null,{"$f":"\"\"&TableOfContents!L1","v":""}]
[null,null,null,"READINESS LEVELS:"]
["PI: ",{"$f":"MID(INDIRECT(\"'ProjDataInput'!j\"&TEXT($N$2,\"###\")),1,999)","v":""}]
["AFFILIATION: ",{"$f":"MID(INDIRECT(\"'ProjDataInput'!k\"&TEXT($N$2,\"###\")),1,999)","v":""},null,null,null,null,"Worksheet"]
[null,null,null,null,null,null,"tools:"]
["2nd PI: ",{"$f":"MID(INDIRECT(\"'ProjDataInput'!L\"&TEXT($N$2,\"###\")),1,999)","v":""}]
["AFFILIATION: ",{"$f":"MID(INDIRECT(\"'ProjDataInput'!m\"&TEXT($N$2,\"###\")),1,999)","v":""}]
[]
["3rd PI: ",{"$f":"MID(INDIRECT(\"'ProjDataInput'!n\"&TEXT($N$2,\"###\")),1,999)","v":""}]
["AFFILIATION: ",{"$f":"MID(INDIRECT(\"'ProjDataInput'!o\"&TEXT($N$2,\"###\")),1,999)","v":""}]
[]
["4th PI: ",{"$f":"MID(INDIRECT(\"'ProjDataInput'!p\"&TEXT($N$2,\"###\")),1,999)","v":""}]
["AFFILIATION: ",{"$f":"MID(INDIRECT(\"'ProjDataInput'!q\"&TEXT($N$2,\"###\")),1,999)","v":""}]
[]
["FEDERAL $ REQUEST: ",{"$f":"INDIRECT(\"'ProjDataInput'!h\"&TEXT($N$2,\"###\"))","v":0}]
["MATCH $: ",{"$f":"INDIRECT(\"'ProjDataInput'!i\"&TEXT($N$2,\"###\"))","v":0}]
[]
["CLASSIFICATION CODES: ",{"$f":"MID(INDIRECT(\"'ProjDataInput'!f\"&TEXT($N$2,\"###\")),1,999)","v":""}]
[null,"(Primary Code First)"]
["FOCUS AREAS: ",{"$f":"MID(INDIRECT(\"'ProjDataInput'!d\"&TEXT($N$2,\"###\")),1,999)","v":""}]
[null,"(Primary Focus Area First)"]
["PARTNERS: ",{"$f":"MID(INDIRECT(\"'ProjDataInput'!e\"&TEXT($N$2,\"###\")),1,999)","v":""}]
[]
["OBJECTIVES: ",{"$f":"MID(INDIRECT(\"'ProjDataInput'!g\"&TEXT($N$2,\"###\")),1,19999)","v":""},null,"MULTIPROGRAM? "]
[]
["METHODOLOGY: ",null,null,"OTHER INFORMATION: "]
[]
["RATIONALE: "]
[]
["DATA SHARING PLAN: ",{"$f":"MID(INDIRECT(\"'ProjDataInput'!r\"&TEXT($N$2,\"###\")),1,19999)","v":""}]
[null,"(Required for all research projects)"]

{"sheet":"S42","index":44,"n_rows":41,"n_cols":15,"rows_kept":41,"cut":false,"hidden":true,"merged":[]}
["NSGO use only: ",{"$f":"MID(CELL(\"filename\",'S42'!B1),FIND(\"]\",CELL(\"filename\",'S42'!B1))+1,24)","v":"S42"},"OMB no. ","0648-0362, exp 2/28/2021",null,null,null,null,null,null,null,null,null,"S42","(default worksheet name)"]
[null,30,"Don't use after","2019-04-30","Why?",null,null,null,null,null,null,null,null,{"$f":"IF(LEFT(N1,3)=\"S1-\",2,VALUE(MID(N1,2,99))+1)","v":43}]
[null,null,"updated","2018-10-16",null,null,null,null,null,null,null,null,null,"","(temp workspace for a current cell value)"]
[null,"SEA GRANT PROJECT SUMMARY FORM 90-2",{"$f":"HYPERLINK(\"#'TableOfContents'!B6\",\"Jump to Table \nof Contents\")","v":"Jump to Table \nof Contents"},null,"National Office does not require uncolored fields:",null,"NSGO use only",null,null,null,null,null,null,"023 Remediation","(temp workspace for a new selected value)"]
[null,null,null,null,null,null,null,null,null,null,null,null,null,{"$f":"IF(N3=\"\",IF(N4=\"\",\"\",N4),IF(N4=\"\",N3,N3&\"; \"&N4))","v":"023 Remediation"},"(function to concatenate the above two cells)"]
["INSTITUTION (Program): ",{"$f":"INDIRECT(\"'ProjDataInput'!a\"&TEXT($N$2,\"###\"))&\"\"","v":""},null,null,null,null,{"$f":"\"\"&TableOfContents!G1","v":"uploaded by"}]
["TITLE: ",{"$f":"MID(INDIRECT(\"'ProjDataInput'!C\"&TEXT($N$2,\"###\")),1,999)","v":""},null,null,null,null,{"$f":"\"\"&TableOfContents!H1","v":"grant no"},null,null,null,null,null,null,{"$f":"IF('S42'!B6=\"\",\"\",'S42'!B6)","v":""},"(Program listed on first 90-2)"]
[null,null,null,"START DATE:",null,null,{"$f":"\"\"&TableOfContents!I1","v":"amd no"}]
["PREFIX (A,C,E,M,P or R): "," PROJECT NUMBER",null,"END DATE:",null,null,{"$f":"\"\"&TableOfContents!J1","v":"fund source"}]
[{"$f":"MID(INDIRECT(\"'ProjDataInput'!b\"&TEXT($N$2,\"###\")),1,2)","v":""},{"$f":"MID(INDIRECT(\"'ProjDataInput'!b\"&TEXT($N$2,\"###\")),3,999)","v":""},null,null,null,null,{"$f":"\"\"&TableOfContents!K1","v":""}]
["(every project must have a prefix)",{"$f":"IF(OR(LEFT(A10&\" \",1)=\"r\",AND(A10=\"\",LEFT(B10,1)=\"r\")),1,0)","v":0},null,null,null,null,{"$f":"\"\"&TableOfContents!L1","v":""}]
[null,null,null,"READINESS LEVELS:"]
["PI: ",{"$f":"MID(INDIRECT(\"'ProjDataInput'!j\"&TEXT($N$2,\"###\")),1,999)","v":""}]
["AFFILIATION: ",{"$f":"MID(INDIRECT(\"'ProjDataInput'!k\"&TEXT($N$2,\"###\")),1,999)","v":""},null,null,null,null,"Worksheet"]
[null,null,null,null,null,null,"tools:"]
["2nd PI: ",{"$f":"MID(INDIRECT(\"'ProjDataInput'!L\"&TEXT($N$2,\"###\")),1,999)","v":""}]
["AFFILIATION: ",{"$f":"MID(INDIRECT(\"'ProjDataInput'!m\"&TEXT($N$2,\"###\")),1,999)","v":""}]
[]
["3rd PI: ",{"$f":"MID(INDIRECT(\"'ProjDataInput'!n\"&TEXT($N$2,\"###\")),1,999)","v":""}]
["AFFILIATION: ",{"$f":"MID(INDIRECT(\"'ProjDataInput'!o\"&TEXT($N$2,\"###\")),1,999)","v":""}]
[]
["4th PI: ",{"$f":"MID(INDIRECT(\"'ProjDataInput'!p\"&TEXT($N$2,\"###\")),1,999)","v":""}]
["AFFILIATION: ",{"$f":"MID(INDIRECT(\"'ProjDataInput'!q\"&TEXT($N$2,\"###\")),1,999)","v":""}]
[]
["FEDERAL $ REQUEST: ",{"$f":"INDIRECT(\"'ProjDataInput'!h\"&TEXT($N$2,\"###\"))","v":0}]
["MATCH $: ",{"$f":"INDIRECT(\"'ProjDataInput'!i\"&TEXT($N$2,\"###\"))","v":0}]
[]
["CLASSIFICATION CODES: ",{"$f":"MID(INDIRECT(\"'ProjDataInput'!f\"&TEXT($N$2,\"###\")),1,999)","v":""}]
[null,"(Primary Code First)"]
["FOCUS AREAS: ",{"$f":"MID(INDIRECT(\"'ProjDataInput'!d\"&TEXT($N$2,\"###\")),1,999)","v":""}]
[null,"(Primary Focus Area First)"]
["PARTNERS: ",{"$f":"MID(INDIRECT(\"'ProjDataInput'!e\"&TEXT($N$2,\"###\")),1,999)","v":""}]
[]
["OBJECTIVES: ",{"$f":"MID(INDIRECT(\"'ProjDataInput'!g\"&TEXT($N$2,\"###\")),1,19999)","v":""},null,"MULTIPROGRAM? "]
[]
["METHODOLOGY: ",null,null,"OTHER INFORMATION: "]
[]
["RATIONALE: "]
[]
["DATA SHARING PLAN: ",{"$f":"MID(INDIRECT(\"'ProjDataInput'!r\"&TEXT($N$2,\"###\")),1,19999)","v":""}]
[null,"(Required for all research projects)"]

{"sheet":"S43","index":45,"n_rows":41,"n_cols":15,"rows_kept":41,"cut":false,"hidden":true,"merged":[]}
["NSGO use only: ",{"$f":"MID(CELL(\"filename\",'S43'!B1),FIND(\"]\",CELL(\"filename\",'S43'!B1))+1,24)","v":"S43"},"OMB no. ","0648-0362, exp 2/28/2021",null,null,null,null,null,null,null,null,null,"S43","(default worksheet name)"]
[null,30,"Don't use after","2019-04-30","Why?",null,null,null,null,null,null,null,null,{"$f":"IF(LEFT(N1,3)=\"S1-\",2,VALUE(MID(N1,2,99))+1)","v":44}]
[null,null,"updated","2018-10-16",null,null,null,null,null,null,null,null,null,"","(temp workspace for a current cell value)"]
[null,"SEA GRANT PROJECT SUMMARY FORM 90-2",{"$f":"HYPERLINK(\"#'TableOfContents'!B6\",\"Jump to Table \nof Contents\")","v":"Jump to Table \nof Contents"},null,"National Office does not require uncolored fields:",null,"NSGO use only",null,null,null,null,null,null,"023 Remediation","(temp workspace for a new selected value)"]
[null,null,null,null,null,null,null,null,null,null,null,null,null,{"$f":"IF(N3=\"\",IF(N4=\"\",\"\",N4),IF(N4=\"\",N3,N3&\"; \"&N4))","v":"023 Remediation"},"(function to concatenate the above two cells)"]
["INSTITUTION (Program): ",{"$f":"INDIRECT(\"'ProjDataInput'!a\"&TEXT($N$2,\"###\"))&\"\"","v":""},null,null,null,null,{"$f":"\"\"&TableOfContents!G1","v":"uploaded by"}]
["TITLE: ",{"$f":"MID(INDIRECT(\"'ProjDataInput'!C\"&TEXT($N$2,\"###\")),1,999)","v":""},null,null,null,null,{"$f":"\"\"&TableOfContents!H1","v":"grant no"},null,null,null,null,null,null,{"$f":"IF('S43'!B6=\"\",\"\",'S43'!B6)","v":""},"(Program listed on first 90-2)"]
[null,null,null,"START DATE:",null,null,{"$f":"\"\"&TableOfContents!I1","v":"amd no"}]
["PREFIX (A,C,E,M,P or R): "," PROJECT NUMBER",null,"END DATE:",null,null,{"$f":"\"\"&TableOfContents!J1","v":"fund source"}]
[{"$f":"MID(INDIRECT(\"'ProjDataInput'!b\"&TEXT($N$2,\"###\")),1,2)","v":""},{"$f":"MID(INDIRECT(\"'ProjDataInput'!b\"&TEXT($N$2,\"###\")),3,999)","v":""},null,null,null,null,{"$f":"\"\"&TableOfContents!K1","v":""}]
["(every project must have a prefix)",{"$f":"IF(OR(LEFT(A10&\" \",1)=\"r\",AND(A10=\"\",LEFT(B10,1)=\"r\")),1,0)","v":0},null,null,null,null,{"$f":"\"\"&TableOfContents!L1","v":""}]
[null,null,null,"READINESS LEVELS:"]
["PI: ",{"$f":"MID(INDIRECT(\"'ProjDataInput'!j\"&TEXT($N$2,\"###\")),1,999)","v":""}]
["AFFILIATION: ",{"$f":"MID(INDIRECT(\"'ProjDataInput'!k\"&TEXT($N$2,\"###\")),1,999)","v":""},null,null,null,null,"Worksheet"]
[null,null,null,null,null,null,"tools:"]
["2nd PI: ",{"$f":"MID(INDIRECT(\"'ProjDataInput'!L\"&TEXT($N$2,\"###\")),1,999)","v":""}]
["AFFILIATION: ",{"$f":"MID(INDIRECT(\"'ProjDataInput'!m\"&TEXT($N$2,\"###\")),1,999)","v":""}]
[]
["3rd PI: ",{"$f":"MID(INDIRECT(\"'ProjDataInput'!n\"&TEXT($N$2,\"###\")),1,999)","v":""}]
["AFFILIATION: ",{"$f":"MID(INDIRECT(\"'ProjDataInput'!o\"&TEXT($N$2,\"###\")),1,999)","v":""}]
[]
["4th PI: ",{"$f":"MID(INDIRECT(\"'ProjDataInput'!p\"&TEXT($N$2,\"###\")),1,999)","v":""}]
["AFFILIATION: ",{"$f":"MID(INDIRECT(\"'ProjDataInput'!q\"&TEXT($N$2,\"###\")),1,999)","v":""}]
[]
["FEDERAL $ REQUEST: ",{"$f":"INDIRECT(\"'ProjDataInput'!h\"&TEXT($N$2,\"###\"))","v":0}]
["MATCH $: ",{"$f":"INDIRECT(\"'ProjDataInput'!i\"&TEXT($N$2,\"###\"))","v":0}]
[]
["CLASSIFICATION CODES: ",{"$f":"MID(INDIRECT(\"'ProjDataInput'!f\"&TEXT($N$2,\"###\")),1,999)","v":""}]
[null,"(Primary Code First)"]
["FOCUS AREAS: ",{"$f":"MID(INDIRECT(\"'ProjDataInput'!d\"&TEXT($N$2,\"###\")),1,999)","v":""}]
[null,"(Primary Focus Area First)"]
["PARTNERS: ",{"$f":"MID(INDIRECT(\"'ProjDataInput'!e\"&TEXT($N$2,\"###\")),1,999)","v":""}]
[]
["OBJECTIVES: ",{"$f":"MID(INDIRECT(\"'ProjDataInput'!g\"&TEXT($N$2,\"###\")),1,19999)","v":""},null,"MULTIPROGRAM? "]
[]
["METHODOLOGY: ",null,null,"OTHER INFORMATION: "]
[]
["RATIONALE: "]
[]
["DATA SHARING PLAN: ",{"$f":"MID(INDIRECT(\"'ProjDataInput'!r\"&TEXT($N$2,\"###\")),1,19999)","v":""}]
[null,"(Required for all research projects)"]

{"sheet":"S44","index":46,"n_rows":41,"n_cols":15,"rows_kept":41,"cut":false,"hidden":true,"merged":[]}
["NSGO use only: ",{"$f":"MID(CELL(\"filename\",'S44'!B1),FIND(\"]\",CELL(\"filename\",'S44'!B1))+1,24)","v":"S44"},"OMB no. ","0648-0362, exp 2/28/2021",null,null,null,null,null,null,null,null,null,"S44","(default worksheet name)"]
[null,30,"Don't use after","2019-04-30","Why?",null,null,null,null,null,null,null,null,{"$f":"IF(LEFT(N1,3)=\"S1-\",2,VALUE(MID(N1,2,99))+1)","v":45}]
[null,null,"updated","2018-10-16",null,null,null,null,null,null,null,null,null,"","(temp workspace for a current cell value)"]
[null,"SEA GRANT PROJECT SUMMARY FORM 90-2",{"$f":"HYPERLINK(\"#'TableOfContents'!B6\",\"Jump to Table \nof Contents\")","v":"Jump to Table \nof Contents"},null,"National Office does not require uncolored fields:",null,"NSGO use only",null,null,null,null,null,null,"023 Remediation","(temp workspace for a new selected value)"]
[null,null,null,null,null,null,null,null,null,null,null,null,null,{"$f":"IF(N3=\"\",IF(N4=\"\",\"\",N4),IF(N4=\"\",N3,N3&\"; \"&N4))","v":"023 Remediation"},"(function to concatenate the above two cells)"]
["INSTITUTION (Program): ",{"$f":"INDIRECT(\"'ProjDataInput'!a\"&TEXT($N$2,\"###\"))&\"\"","v":""},null,null,null,null,{"$f":"\"\"&TableOfContents!G1","v":"uploaded by"}]
["TITLE: ",{"$f":"MID(INDIRECT(\"'ProjDataInput'!C\"&TEXT($N$2,\"###\")),1,999)","v":""},null,null,null,null,{"$f":"\"\"&TableOfContents!H1","v":"grant no"},null,null,null,null,null,null,{"$f":"IF('S44'!B6=\"\",\"\",'S44'!B6)","v":""},"(Program listed on first 90-2)"]
[null,null,null,"START DATE:",null,null,{"$f":"\"\"&TableOfContents!I1","v":"amd no"}]
["PREFIX (A,C,E,M,P or R): "," PROJECT NUMBER",null,"END DATE:",null,null,{"$f":"\"\"&TableOfContents!J1","v":"fund source"}]
[{"$f":"MID(INDIRECT(\"'ProjDataInput'!b\"&TEXT($N$2,\"###\")),1,2)","v":""},{"$f":"MID(INDIRECT(\"'ProjDataInput'!b\"&TEXT($N$2,\"###\")),3,999)","v":""},null,null,null,null,{"$f":"\"\"&TableOfContents!K1","v":""}]
["(every project must have a prefix)",{"$f":"IF(OR(LEFT(A10&\" \",1)=\"r\",AND(A10=\"\",LEFT(B10,1)=\"r\")),1,0)","v":0},null,null,null,null,{"$f":"\"\"&TableOfContents!L1","v":""}]
[null,null,null,"READINESS LEVELS:"]
["PI: ",{"$f":"MID(INDIRECT(\"'ProjDataInput'!j\"&TEXT($N$2,\"###\")),1,999)","v":""}]
["AFFILIATION: ",{"$f":"MID(INDIRECT(\"'ProjDataInput'!k\"&TEXT($N$2,\"###\")),1,999)","v":""},null,null,null,null,"Worksheet"]
[null,null,null,null,null,null,"tools:"]
["2nd PI: ",{"$f":"MID(INDIRECT(\"'ProjDataInput'!L\"&TEXT($N$2,\"###\")),1,999)","v":""}]
["AFFILIATION: ",{"$f":"MID(INDIRECT(\"'ProjDataInput'!m\"&TEXT($N$2,\"###\")),1,999)","v":""}]
[]
["3rd PI: ",{"$f":"MID(INDIRECT(\"'ProjDataInput'!n\"&TEXT($N$2,\"###\")),1,999)","v":""}]
["AFFILIATION: ",{"$f":"MID(INDIRECT(\"'ProjDataInput'!o\"&TEXT($N$2,\"###\")),1,999)","v":""}]
[]
["4th PI: ",{"$f":"MID(INDIRECT(\"'ProjDataInput'!p\"&TEXT($N$2,\"###\")),1,999)","v":""}]
["AFFILIATION: ",{"$f":"MID(INDIRECT(\"'ProjDataInput'!q\"&TEXT($N$2,\"###\")),1,999)","v":""}]
[]
["FEDERAL $ REQUEST: ",{"$f":"INDIRECT(\"'ProjDataInput'!h\"&TEXT($N$2,\"###\"))","v":0}]
["MATCH $: ",{"$f":"INDIRECT(\"'ProjDataInput'!i\"&TEXT($N$2,\"###\"))","v":0}]
[]
["CLASSIFICATION CODES: ",{"$f":"MID(INDIRECT(\"'ProjDataInput'!f\"&TEXT($N$2,\"###\")),1,999)","v":""}]
[null,"(Primary Code First)"]
["FOCUS AREAS: ",{"$f":"MID(INDIRECT(\"'ProjDataInput'!d\"&TEXT($N$2,\"###\")),1,999)","v":""}]
[null,"(Primary Focus Area First)"]
["PARTNERS: ",{"$f":"MID(INDIRECT(\"'ProjDataInput'!e\"&TEXT($N$2,\"###\")),1,999)","v":""}]
[]
["OBJECTIVES: ",{"$f":"MID(INDIRECT(\"'ProjDataInput'!g\"&TEXT($N$2,\"###\")),1,19999)","v":""},null,"MULTIPROGRAM? "]
[]
["METHODOLOGY: ",null,null,"OTHER INFORMATION: "]
[]
["RATIONALE: "]
[]
["DATA SHARING PLAN: ",{"$f":"MID(INDIRECT(\"'ProjDataInput'!r\"&TEXT($N$2,\"###\")),1,19999)","v":""}]
[null,"(Required for all research projects)"]

{"sheet":"S45","index":47,"n_rows":41,"n_cols":15,"rows_kept":41,"cut":false,"hidden":true,"merged":[]}
["NSGO use only: ",{"$f":"MID(CELL(\"filename\",'S45'!B1),FIND(\"]\",CELL(\"filename\",'S45'!B1))+1,24)","v":"S45"},"OMB no. ","0648-0362, exp 2/28/2021",null,null,null,null,null,null,null,null,null,"S45","(default worksheet name)"]
[null,30,"Don't use after","2019-04-30","Why?",null,null,null,null,null,null,null,null,{"$f":"IF(LEFT(N1,3)=\"S1-\",2,VALUE(MID(N1,2,99))+1)","v":46}]
[null,null,"updated","2018-10-16",null,null,null,null,null,null,null,null,null,"","(temp workspace for a current cell value)"]
[null,"SEA GRANT PROJECT SUMMARY FORM 90-2",{"$f":"HYPERLINK(\"#'TableOfContents'!B6\",\"Jump to Table \nof Contents\")","v":"Jump to Table \nof Contents"},null,"National Office does not require uncolored fields:",null,"NSGO use only",null,null,null,null,null,null,"023 Remediation","(temp workspace for a new selected value)"]
[null,null,null,null,null,null,null,null,null,null,null,null,null,{"$f":"IF(N3=\"\",IF(N4=\"\",\"\",N4),IF(N4=\"\",N3,N3&\"; \"&N4))","v":"023 Remediation"},"(function to concatenate the above two cells)"]
["INSTITUTION (Program): ",{"$f":"INDIRECT(\"'ProjDataInput'!a\"&TEXT($N$2,\"###\"))&\"\"","v":""},null,null,null,null,{"$f":"\"\"&TableOfContents!G1","v":"uploaded by"}]
["TITLE: ",{"$f":"MID(INDIRECT(\"'ProjDataInput'!C\"&TEXT($N$2,\"###\")),1,999)","v":""},null,null,null,null,{"$f":"\"\"&TableOfContents!H1","v":"grant no"},null,null,null,null,null,null,{"$f":"IF('S45'!B6=\"\",\"\",'S45'!B6)","v":""},"(Program listed on first 90-2)"]
[null,null,null,"START DATE:",null,null,{"$f":"\"\"&TableOfContents!I1","v":"amd no"}]
["PREFIX (A,C,E,M,P or R): "," PROJECT NUMBER",null,"END DATE:",null,null,{"$f":"\"\"&TableOfContents!J1","v":"fund source"}]
[{"$f":"MID(INDIRECT(\"'ProjDataInput'!b\"&TEXT($N$2,\"###\")),1,2)","v":""},{"$f":"MID(INDIRECT(\"'ProjDataInput'!b\"&TEXT($N$2,\"###\")),3,999)","v":""},null,null,null,null,{"$f":"\"\"&TableOfContents!K1","v":""}]
["(every project must have a prefix)",{"$f":"IF(OR(LEFT(A10&\" \",1)=\"r\",AND(A10=\"\",LEFT(B10,1)=\"r\")),1,0)","v":0},null,null,null,null,{"$f":"\"\"&TableOfContents!L1","v":""}]
[null,null,null,"READINESS LEVELS:"]
["PI: ",{"$f":"MID(INDIRECT(\"'ProjDataInput'!j\"&TEXT($N$2,\"###\")),1,999)","v":""}]
["AFFILIATION: ",{"$f":"MID(INDIRECT(\"'ProjDataInput'!k\"&TEXT($N$2,\"###\")),1,999)","v":""},null,null,null,null,"Worksheet"]
[null,null,null,null,null,null,"tools:"]
["2nd PI: ",{"$f":"MID(INDIRECT(\"'ProjDataInput'!L\"&TEXT($N$2,\"###\")),1,999)","v":""}]
["AFFILIATION: ",{"$f":"MID(INDIRECT(\"'ProjDataInput'!m\"&TEXT($N$2,\"###\")),1,999)","v":""}]
[]
["3rd PI: ",{"$f":"MID(INDIRECT(\"'ProjDataInput'!n\"&TEXT($N$2,\"###\")),1,999)","v":""}]
["AFFILIATION: ",{"$f":"MID(INDIRECT(\"'ProjDataInput'!o\"&TEXT($N$2,\"###\")),1,999)","v":""}]
[]
["4th PI: ",{"$f":"MID(INDIRECT(\"'ProjDataInput'!p\"&TEXT($N$2,\"###\")),1,999)","v":""}]
["AFFILIATION: ",{"$f":"MID(INDIRECT(\"'ProjDataInput'!q\"&TEXT($N$2,\"###\")),1,999)","v":""}]
[]
["FEDERAL $ REQUEST: ",{"$f":"INDIRECT(\"'ProjDataInput'!h\"&TEXT($N$2,\"###\"))","v":0}]
["MATCH $: ",{"$f":"INDIRECT(\"'ProjDataInput'!i\"&TEXT($N$2,\"###\"))","v":0}]
[]
["CLASSIFICATION CODES: ",{"$f":"MID(INDIRECT(\"'ProjDataInput'!f\"&TEXT($N$2,\"###\")),1,999)","v":""}]
[null,"(Primary Code First)"]
["FOCUS AREAS: ",{"$f":"MID(INDIRECT(\"'ProjDataInput'!d\"&TEXT($N$2,\"###\")),1,999)","v":""}]
[null,"(Primary Focus Area First)"]
["PARTNERS: ",{"$f":"MID(INDIRECT(\"'ProjDataInput'!e\"&TEXT($N$2,\"###\")),1,999)","v":""}]
[]
["OBJECTIVES: ",{"$f":"MID(INDIRECT(\"'ProjDataInput'!g\"&TEXT($N$2,\"###\")),1,19999)","v":""},null,"MULTIPROGRAM? "]
[]
["METHODOLOGY: ",null,null,"OTHER INFORMATION: "]
[]
["RATIONALE: "]
[]
["DATA SHARING PLAN: ",{"$f":"MID(INDIRECT(\"'ProjDataInput'!r\"&TEXT($N$2,\"###\")),1,19999)","v":""}]
[null,"(Required for all research projects)"]

{"sheet":"S46","index":48,"n_rows":41,"n_cols":15,"rows_kept":41,"cut":false,"hidden":true,"merged":[]}
["NSGO use only: ",{"$f":"MID(CELL(\"filename\",'S46'!B1),FIND(\"]\",CELL(\"filename\",'S46'!B1))+1,24)","v":"S46"},"OMB no. ","0648-0362, exp 2/28/2021",null,null,null,null,null,null,null,null,null,"S46","(default worksheet name)"]
[null,30,"Don't use after","2019-04-30","Why?",null,null,null,null,null,null,null,null,{"$f":"IF(LEFT(N1,3)=\"S1-\",2,VALUE(MID(N1,2,99))+1)","v":47}]
[null,null,"updated","2018-10-16",null,null,null,null,null,null,null,null,null,"","(temp workspace for a current cell value)"]
[null,"SEA GRANT PROJECT SUMMARY FORM 90-2",{"$f":"HYPERLINK(\"#'TableOfContents'!B6\",\"Jump to Table \nof Contents\")","v":"Jump to Table \nof Contents"},null,"National Office does not require uncolored fields:",null,"NSGO use only",null,null,null,null,null,null,"023 Remediation","(temp workspace for a new selected value)"]
[null,null,null,null,null,null,null,null,null,null,null,null,null,{"$f":"IF(N3=\"\",IF(N4=\"\",\"\",N4),IF(N4=\"\",N3,N3&\"; \"&N4))","v":"023 Remediation"},"(function to concatenate the above two cells)"]
["INSTITUTION (Program): ",{"$f":"INDIRECT(\"'ProjDataInput'!a\"&TEXT($N$2,\"###\"))&\"\"","v":""},null,null,null,null,{"$f":"\"\"&TableOfContents!G1","v":"uploaded by"}]
["TITLE: ",{"$f":"MID(INDIRECT(\"'ProjDataInput'!C\"&TEXT($N$2,\"###\")),1,999)","v":""},null,null,null,null,{"$f":"\"\"&TableOfContents!H1","v":"grant no"},null,null,null,null,null,null,{"$f":"IF('S46'!B6=\"\",\"\",'S46'!B6)","v":""},"(Program listed on first 90-2)"]
[null,null,null,"START DATE:",null,null,{"$f":"\"\"&TableOfContents!I1","v":"amd no"}]
["PREFIX (A,C,E,M,P or R): "," PROJECT NUMBER",null,"END DATE:",null,null,{"$f":"\"\"&TableOfContents!J1","v":"fund source"}]
[{"$f":"MID(INDIRECT(\"'ProjDataInput'!b\"&TEXT($N$2,\"###\")),1,2)","v":""},{"$f":"MID(INDIRECT(\"'ProjDataInput'!b\"&TEXT($N$2,\"###\")),3,999)","v":""},null,null,null,null,{"$f":"\"\"&TableOfContents!K1","v":""}]
["(every project must have a prefix)",{"$f":"IF(OR(LEFT(A10&\" \",1)=\"r\",AND(A10=\"\",LEFT(B10,1)=\"r\")),1,0)","v":0},null,null,null,null,{"$f":"\"\"&TableOfContents!L1","v":""}]
[null,null,null,"READINESS LEVELS:"]
["PI: ",{"$f":"MID(INDIRECT(\"'ProjDataInput'!j\"&TEXT($N$2,\"###\")),1,999)","v":""}]
["AFFILIATION: ",{"$f":"MID(INDIRECT(\"'ProjDataInput'!k\"&TEXT($N$2,\"###\")),1,999)","v":""},null,null,null,null,"Worksheet"]
[null,null,null,null,null,null,"tools:"]
["2nd PI: ",{"$f":"MID(INDIRECT(\"'ProjDataInput'!L\"&TEXT($N$2,\"###\")),1,999)","v":""}]
["AFFILIATION: ",{"$f":"MID(INDIRECT(\"'ProjDataInput'!m\"&TEXT($N$2,\"###\")),1,999)","v":""}]
[]
["3rd PI: ",{"$f":"MID(INDIRECT(\"'ProjDataInput'!n\"&TEXT($N$2,\"###\")),1,999)","v":""}]
["AFFILIATION: ",{"$f":"MID(INDIRECT(\"'ProjDataInput'!o\"&TEXT($N$2,\"###\")),1,999)","v":""}]
[]
["4th PI: ",{"$f":"MID(INDIRECT(\"'ProjDataInput'!p\"&TEXT($N$2,\"###\")),1,999)","v":""}]
["AFFILIATION: ",{"$f":"MID(INDIRECT(\"'ProjDataInput'!q\"&TEXT($N$2,\"###\")),1,999)","v":""}]
[]
["FEDERAL $ REQUEST: ",{"$f":"INDIRECT(\"'ProjDataInput'!h\"&TEXT($N$2,\"###\"))","v":0}]
["MATCH $: ",{"$f":"INDIRECT(\"'ProjDataInput'!i\"&TEXT($N$2,\"###\"))","v":0}]
[]
["CLASSIFICATION CODES: ",{"$f":"MID(INDIRECT(\"'ProjDataInput'!f\"&TEXT($N$2,\"###\")),1,999)","v":""}]
[null,"(Primary Code First)"]
["FOCUS AREAS: ",{"$f":"MID(INDIRECT(\"'ProjDataInput'!d\"&TEXT($N$2,\"###\")),1,999)","v":""}]
[null,"(Primary Focus Area First)"]
["PARTNERS: ",{"$f":"MID(INDIRECT(\"'ProjDataInput'!e\"&TEXT($N$2,\"###\")),1,999)","v":""}]
[]
["OBJECTIVES: ",{"$f":"MID(INDIRECT(\"'ProjDataInput'!g\"&TEXT($N$2,\"###\")),1,19999)","v":""},null,"MULTIPROGRAM? "]
[]
["METHODOLOGY: ",null,null,"OTHER INFORMATION: "]
[]
["RATIONALE: "]
[]
["DATA SHARING PLAN: ",{"$f":"MID(INDIRECT(\"'ProjDataInput'!r\"&TEXT($N$2,\"###\")),1,19999)","v":""}]
[null,"(Required for all research projects)"]

{"sheet":"S47","index":49,"n_rows":41,"n_cols":15,"rows_kept":41,"cut":false,"hidden":true,"merged":[]}
["NSGO use only: ",{"$f":"MID(CELL(\"filename\",'S47'!B1),FIND(\"]\",CELL(\"filename\",'S47'!B1))+1,24)","v":"S47"},"OMB no. ","0648-0362, exp 2/28/2021",null,null,null,null,null,null,null,null,null,"S47","(default worksheet name)"]
[null,30,"Don't use after","2019-04-30","Why?",null,null,null,null,null,null,null,null,{"$f":"IF(LEFT(N1,3)=\"S1-\",2,VALUE(MID(N1,2,99))+1)","v":48}]
[null,null,"updated","2018-10-16",null,null,null,null,null,null,null,null,null,"","(temp workspace for a current cell value)"]
[null,"SEA GRANT PROJECT SUMMARY FORM 90-2",{"$f":"HYPERLINK(\"#'TableOfContents'!B6\",\"Jump to Table \nof Contents\")","v":"Jump to Table \nof Contents"},null,"National Office does not require uncolored fields:",null,"NSGO use only",null,null,null,null,null,null,"023 Remediation","(temp workspace for a new selected value)"]
[null,null,null,null,null,null,null,null,null,null,null,null,null,{"$f":"IF(N3=\"\",IF(N4=\"\",\"\",N4),IF(N4=\"\",N3,N3&\"; \"&N4))","v":"023 Remediation"},"(function to concatenate the above two cells)"]
["INSTITUTION (Program): ",{"$f":"INDIRECT(\"'ProjDataInput'!a\"&TEXT($N$2,\"###\"))&\"\"","v":""},null,null,null,null,{"$f":"\"\"&TableOfContents!G1","v":"uploaded by"}]
["TITLE: ",{"$f":"MID(INDIRECT(\"'ProjDataInput'!C\"&TEXT($N$2,\"###\")),1,999)","v":""},null,null,null,null,{"$f":"\"\"&TableOfContents!H1","v":"grant no"},null,null,null,null,null,null,{"$f":"IF('S47'!B6=\"\",\"\",'S47'!B6)","v":""},"(Program listed on first 90-2)"]
[null,null,null,"START DATE:",null,null,{"$f":"\"\"&TableOfContents!I1","v":"amd no"}]
["PREFIX (A,C,E,M,P or R): "," PROJECT NUMBER",null,"END DATE:",null,null,{"$f":"\"\"&TableOfContents!J1","v":"fund source"}]
[{"$f":"MID(INDIRECT(\"'ProjDataInput'!b\"&TEXT($N$2,\"###\")),1,2)","v":""},{"$f":"MID(INDIRECT(\"'ProjDataInput'!b\"&TEXT($N$2,\"###\")),3,999)","v":""},null,null,null,null,{"$f":"\"\"&TableOfContents!K1","v":""}]
["(every project must have a prefix)",{"$f":"IF(OR(LEFT(A10&\" \",1)=\"r\",AND(A10=\"\",LEFT(B10,1)=\"r\")),1,0)","v":0},null,null,null,null,{"$f":"\"\"&TableOfContents!L1","v":""}]
[null,null,null,"READINESS LEVELS:"]
["PI: ",{"$f":"MID(INDIRECT(\"'ProjDataInput'!j\"&TEXT($N$2,\"###\")),1,999)","v":""}]
["AFFILIATION: ",{"$f":"MID(INDIRECT(\"'ProjDataInput'!k\"&TEXT($N$2,\"###\")),1,999)","v":""},null,null,null,null,"Worksheet"]
[null,null,null,null,null,null,"tools:"]
["2nd PI: ",{"$f":"MID(INDIRECT(\"'ProjDataInput'!L\"&TEXT($N$2,\"###\")),1,999)","v":""}]
["AFFILIATION: ",{"$f":"MID(INDIRECT(\"'ProjDataInput'!m\"&TEXT($N$2,\"###\")),1,999)","v":""}]
[]
["3rd PI: ",{"$f":"MID(INDIRECT(\"'ProjDataInput'!n\"&TEXT($N$2,\"###\")),1,999)","v":""}]
["AFFILIATION: ",{"$f":"MID(INDIRECT(\"'ProjDataInput'!o\"&TEXT($N$2,\"###\")),1,999)","v":""}]
[]
["4th PI: ",{"$f":"MID(INDIRECT(\"'ProjDataInput'!p\"&TEXT($N$2,\"###\")),1,999)","v":""}]
["AFFILIATION: ",{"$f":"MID(INDIRECT(\"'ProjDataInput'!q\"&TEXT($N$2,\"###\")),1,999)","v":""}]
[]
["FEDERAL $ REQUEST: ",{"$f":"INDIRECT(\"'ProjDataInput'!h\"&TEXT($N$2,\"###\"))","v":0}]
["MATCH $: ",{"$f":"INDIRECT(\"'ProjDataInput'!i\"&TEXT($N$2,\"###\"))","v":0}]
[]
["CLASSIFICATION CODES: ",{"$f":"MID(INDIRECT(\"'ProjDataInput'!f\"&TEXT($N$2,\"###\")),1,999)","v":""}]
[null,"(Primary Code First)"]
["FOCUS AREAS: ",{"$f":"MID(INDIRECT(\"'ProjDataInput'!d\"&TEXT($N$2,\"###\")),1,999)","v":""}]
[null,"(Primary Focus Area First)"]
["PARTNERS: ",{"$f":"MID(INDIRECT(\"'ProjDataInput'!e\"&TEXT($N$2,\"###\")),1,999)","v":""}]
[]
["OBJECTIVES: ",{"$f":"MID(INDIRECT(\"'ProjDataInput'!g\"&TEXT($N$2,\"###\")),1,19999)","v":""},null,"MULTIPROGRAM? "]
[]
["METHODOLOGY: ",null,null,"OTHER INFORMATION: "]
[]
["RATIONALE: "]
[]
["DATA SHARING PLAN: ",{"$f":"MID(INDIRECT(\"'ProjDataInput'!r\"&TEXT($N$2,\"###\")),1,19999)","v":""}]
[null,"(Required for all research projects)"]

{"sheet":"S48","index":50,"n_rows":41,"n_cols":15,"rows_kept":41,"cut":false,"hidden":true,"merged":[]}
["NSGO use only: ",{"$f":"MID(CELL(\"filename\",'S48'!B1),FIND(\"]\",CELL(\"filename\",'S48'!B1))+1,24)","v":"S48"},"OMB no. ","0648-0362, exp 2/28/2021",null,null,null,null,null,null,null,null,null,"S48","(default worksheet name)"]
[null,30,"Don't use after","2019-04-30","Why?",null,null,null,null,null,null,null,null,{"$f":"IF(LEFT(N1,3)=\"S1-\",2,VALUE(MID(N1,2,99))+1)","v":49}]
[null,null,"updated","2018-10-16",null,null,null,null,null,null,null,null,null,"","(temp workspace for a current cell value)"]
[null,"SEA GRANT PROJECT SUMMARY FORM 90-2",{"$f":"HYPERLINK(\"#'TableOfContents'!B6\",\"Jump to Table \nof Contents\")","v":"Jump to Table \nof Contents"},null,"National Office does not require uncolored fields:",null,"NSGO use only",null,null,null,null,null,null,"023 Remediation","(temp workspace for a new selected value)"]
[null,null,null,null,null,null,null,null,null,null,null,null,null,{"$f":"IF(N3=\"\",IF(N4=\"\",\"\",N4),IF(N4=\"\",N3,N3&\"; \"&N4))","v":"023 Remediation"},"(function to concatenate the above two cells)"]
["INSTITUTION (Program): ",{"$f":"INDIRECT(\"'ProjDataInput'!a\"&TEXT($N$2,\"###\"))&\"\"","v":""},null,null,null,null,{"$f":"\"\"&TableOfContents!G1","v":"uploaded by"}]
["TITLE: ",{"$f":"MID(INDIRECT(\"'ProjDataInput'!C\"&TEXT($N$2,\"###\")),1,999)","v":""},null,null,null,null,{"$f":"\"\"&TableOfContents!H1","v":"grant no"},null,null,null,null,null,null,{"$f":"IF('S48'!B6=\"\",\"\",'S48'!B6)","v":""},"(Program listed on first 90-2)"]
[null,null,null,"START DATE:",null,null,{"$f":"\"\"&TableOfContents!I1","v":"amd no"}]
["PREFIX (A,C,E,M,P or R): "," PROJECT NUMBER",null,"END DATE:",null,null,{"$f":"\"\"&TableOfContents!J1","v":"fund source"}]
[{"$f":"MID(INDIRECT(\"'ProjDataInput'!b\"&TEXT($N$2,\"###\")),1,2)","v":""},{"$f":"MID(INDIRECT(\"'ProjDataInput'!b\"&TEXT($N$2,\"###\")),3,999)","v":""},null,null,null,null,{"$f":"\"\"&TableOfContents!K1","v":""}]
["(every project must have a prefix)",{"$f":"IF(OR(LEFT(A10&\" \",1)=\"r\",AND(A10=\"\",LEFT(B10,1)=\"r\")),1,0)","v":0},null,null,null,null,{"$f":"\"\"&TableOfContents!L1","v":""}]
[null,null,null,"READINESS LEVELS:"]
["PI: ",{"$f":"MID(INDIRECT(\"'ProjDataInput'!j\"&TEXT($N$2,\"###\")),1,999)","v":""}]
["AFFILIATION: ",{"$f":"MID(INDIRECT(\"'ProjDataInput'!k\"&TEXT($N$2,\"###\")),1,999)","v":""},null,null,null,null,"Worksheet"]
[null,null,null,null,null,null,"tools:"]
["2nd PI: ",{"$f":"MID(INDIRECT(\"'ProjDataInput'!L\"&TEXT($N$2,\"###\")),1,999)","v":""}]
["AFFILIATION: ",{"$f":"MID(INDIRECT(\"'ProjDataInput'!m\"&TEXT($N$2,\"###\")),1,999)","v":""}]
[]
["3rd PI: ",{"$f":"MID(INDIRECT(\"'ProjDataInput'!n\"&TEXT($N$2,\"###\")),1,999)","v":""}]
["AFFILIATION: ",{"$f":"MID(INDIRECT(\"'ProjDataInput'!o\"&TEXT($N$2,\"###\")),1,999)","v":""}]
[]
["4th PI: ",{"$f":"MID(INDIRECT(\"'ProjDataInput'!p\"&TEXT($N$2,\"###\")),1,999)","v":""}]
["AFFILIATION: ",{"$f":"MID(INDIRECT(\"'ProjDataInput'!q\"&TEXT($N$2,\"###\")),1,999)","v":""}]
[]
["FEDERAL $ REQUEST: ",{"$f":"INDIRECT(\"'ProjDataInput'!h\"&TEXT($N$2,\"###\"))","v":0}]
["MATCH $: ",{"$f":"INDIRECT(\"'ProjDataInput'!i\"&TEXT($N$2,\"###\"))","v":0}]
[]
["CLASSIFICATION CODES: ",{"$f":"MID(INDIRECT(\"'ProjDataInput'!f\"&TEXT($N$2,\"###\")),1,999)","v":""}]
[null,"(Primary Code First)"]
["FOCUS AREAS: ",{"$f":"MID(INDIRECT(\"'ProjDataInput'!d\"&TEXT($N$2,\"###\")),1,999)","v":""}]
[null,"(Primary Focus Area First)"]
["PARTNERS: ",{"$f":"MID(INDIRECT(\"'ProjDataInput'!e\"&TEXT($N$2,\"###\")),1,999)","v":""}]
[]
["OBJECTIVES: ",{"$f":"MID(INDIRECT(\"'ProjDataInput'!g\"&TEXT($N$2,\"###\")),1,19999)","v":""},null,"MULTIPROGRAM? "]
[]
["METHODOLOGY: ",null,null,"OTHER INFORMATION: "]
[]
["RATIONALE: "]
[]
["DATA SHARING PLAN: ",{"$f":"MID(INDIRECT(\"'ProjDataInput'!r\"&TEXT($N$2,\"###\")),1,19999)","v":""}]
[null,"(Required for all research projects)"]

{"sheet":"S49","index":51,"n_rows":41,"n_cols":15,"rows_kept":41,"cut":false,"hidden":true,"merged":[]}
["NSGO use only: ",{"$f":"MID(CELL(\"filename\",'S49'!B1),FIND(\"]\",CELL(\"filename\",'S49'!B1))+1,24)","v":"S49"},"OMB no. ","0648-0362, exp 2/28/2021",null,null,null,null,null,null,null,null,null,"S49","(default worksheet name)"]
[null,30,"Don't use after","2019-04-30","Why?",null,null,null,null,null,null,null,null,{"$f":"IF(LEFT(N1,3)=\"S1-\",2,VALUE(MID(N1,2,99))+1)","v":50}]
[null,null,"updated","2018-10-16",null,null,null,null,null,null,null,null,null,"","(temp workspace for a current cell value)"]
[null,"SEA GRANT PROJECT SUMMARY FORM 90-2",{"$f":"HYPERLINK(\"#'TableOfContents'!B6\",\"Jump to Table \nof Contents\")","v":"Jump to Table \nof Contents"},null,"National Office does not require uncolored fields:",null,"NSGO use only",null,null,null,null,null,null,"023 Remediation","(temp workspace for a new selected value)"]
[null,null,null,null,null,null,null,null,null,null,null,null,null,{"$f":"IF(N3=\"\",IF(N4=\"\",\"\",N4),IF(N4=\"\",N3,N3&\"; \"&N4))","v":"023 Remediation"},"(function to concatenate the above two cells)"]
["INSTITUTION (Program): ",{"$f":"INDIRECT(\"'ProjDataInput'!a\"&TEXT($N$2,\"###\"))&\"\"","v":""},null,null,null,null,{"$f":"\"\"&TableOfContents!G1","v":"uploaded by"}]
["TITLE: ",{"$f":"MID(INDIRECT(\"'ProjDataInput'!C\"&TEXT($N$2,\"###\")),1,999)","v":""},null,null,null,null,{"$f":"\"\"&TableOfContents!H1","v":"grant no"},null,null,null,null,null,null,{"$f":"IF('S49'!B6=\"\",\"\",'S49'!B6)","v":""},"(Program listed on first 90-2)"]
[null,null,null,"START DATE:",null,null,{"$f":"\"\"&TableOfContents!I1","v":"amd no"}]
["PREFIX (A,C,E,M,P or R): "," PROJECT NUMBER",null,"END DATE:",null,null,{"$f":"\"\"&TableOfContents!J1","v":"fund source"}]
[{"$f":"MID(INDIRECT(\"'ProjDataInput'!b\"&TEXT($N$2,\"###\")),1,2)","v":""},{"$f":"MID(INDIRECT(\"'ProjDataInput'!b\"&TEXT($N$2,\"###\")),3,999)","v":""},null,null,null,null,{"$f":"\"\"&TableOfContents!K1","v":""}]
["(every project must have a prefix)",{"$f":"IF(OR(LEFT(A10&\" \",1)=\"r\",AND(A10=\"\",LEFT(B10,1)=\"r\")),1,0)","v":0},null,null,null,null,{"$f":"\"\"&TableOfContents!L1","v":""}]
[null,null,null,"READINESS LEVELS:"]
["PI: ",{"$f":"MID(INDIRECT(\"'ProjDataInput'!j\"&TEXT($N$2,\"###\")),1,999)","v":""}]
["AFFILIATION: ",{"$f":"MID(INDIRECT(\"'ProjDataInput'!k\"&TEXT($N$2,\"###\")),1,999)","v":""},null,null,null,null,"Worksheet"]
[null,null,null,null,null,null,"tools:"]
["2nd PI: ",{"$f":"MID(INDIRECT(\"'ProjDataInput'!L\"&TEXT($N$2,\"###\")),1,999)","v":""}]
["AFFILIATION: ",{"$f":"MID(INDIRECT(\"'ProjDataInput'!m\"&TEXT($N$2,\"###\")),1,999)","v":""}]
[]
["3rd PI: ",{"$f":"MID(INDIRECT(\"'ProjDataInput'!n\"&TEXT($N$2,\"###\")),1,999)","v":""}]
["AFFILIATION: ",{"$f":"MID(INDIRECT(\"'ProjDataInput'!o\"&TEXT($N$2,\"###\")),1,999)","v":""}]
[]
["4th PI: ",{"$f":"MID(INDIRECT(\"'ProjDataInput'!p\"&TEXT($N$2,\"###\")),1,999)","v":""}]
["AFFILIATION: ",{"$f":"MID(INDIRECT(\"'ProjDataInput'!q\"&TEXT($N$2,\"###\")),1,999)","v":""}]
[]
["FEDERAL $ REQUEST: ",{"$f":"INDIRECT(\"'ProjDataInput'!h\"&TEXT($N$2,\"###\"))","v":0}]
["MATCH $: ",{"$f":"INDIRECT(\"'ProjDataInput'!i\"&TEXT($N$2,\"###\"))","v":0}]
[]
["CLASSIFICATION CODES: ",{"$f":"MID(INDIRECT(\"'ProjDataInput'!f\"&TEXT($N$2,\"###\")),1,999)","v":""}]
[null,"(Primary Code First)"]
["FOCUS AREAS: ",{"$f":"MID(INDIRECT(\"'ProjDataInput'!d\"&TEXT($N$2,\"###\")),1,999)","v":""}]
[null,"(Primary Focus Area First)"]
["PARTNERS: ",{"$f":"MID(INDIRECT(\"'ProjDataInput'!e\"&TEXT($N$2,\"###\")),1,999)","v":""}]
[]
["OBJECTIVES: ",{"$f":"MID(INDIRECT(\"'ProjDataInput'!g\"&TEXT($N$2,\"###\")),1,19999)","v":""},null,"MULTIPROGRAM? "]
[]
["METHODOLOGY: ",null,null,"OTHER INFORMATION: "]
[]
["RATIONALE: "]
[]
["DATA SHARING PLAN: ",{"$f":"MID(INDIRECT(\"'ProjDataInput'!r\"&TEXT($N$2,\"###\")),1,19999)","v":""}]
[null,"(Required for all research projects)"]

{"sheet":"S50","index":52,"n_rows":41,"n_cols":15,"rows_kept":41,"cut":false,"hidden":true,"merged":[]}
["NSGO use only: ",{"$f":"MID(CELL(\"filename\",'S50'!B1),FIND(\"]\",CELL(\"filename\",'S50'!B1))+1,24)","v":"S50"},"OMB no. ","0648-0362, exp 2/28/2021",null,null,null,null,null,null,null,null,null,"S50","(default worksheet name)"]
[null,30,"Don't use after","2019-04-30","Why?",null,null,null,null,null,null,null,null,{"$f":"IF(LEFT(N1,3)=\"S1-\",2,VALUE(MID(N1,2,99))+1)","v":51}]
[null,null,"updated","2018-10-16",null,null,null,null,null,null,null,null,null,"","(temp workspace for a current cell value)"]
[null,"SEA GRANT PROJECT SUMMARY FORM 90-2",{"$f":"HYPERLINK(\"#'TableOfContents'!B6\",\"Jump to Table \nof Contents\")","v":"Jump to Table \nof Contents"},null,"National Office does not require uncolored fields:",null,"NSGO use only",null,null,null,null,null,null,"023 Remediation","(temp workspace for a new selected value)"]
[null,null,null,null,null,null,null,null,null,null,null,null,null,{"$f":"IF(N3=\"\",IF(N4=\"\",\"\",N4),IF(N4=\"\",N3,N3&\"; \"&N4))","v":"023 Remediation"},"(function to concatenate the above two cells)"]
["INSTITUTION (Program): ",{"$f":"INDIRECT(\"'ProjDataInput'!a\"&TEXT($N$2,\"###\"))&\"\"","v":""},null,null,null,null,{"$f":"\"\"&TableOfContents!G1","v":"uploaded by"}]
["TITLE: ",{"$f":"MID(INDIRECT(\"'ProjDataInput'!C\"&TEXT($N$2,\"###\")),1,999)","v":""},null,null,null,null,{"$f":"\"\"&TableOfContents!H1","v":"grant no"},null,null,null,null,null,null,{"$f":"IF('S50'!B6=\"\",\"\",'S50'!B6)","v":""},"(Program listed on first 90-2)"]
[null,null,null,"START DATE:",null,null,{"$f":"\"\"&TableOfContents!I1","v":"amd no"}]
["PREFIX (A,C,E,M,P or R): "," PROJECT NUMBER",null,"END DATE:",null,null,{"$f":"\"\"&TableOfContents!J1","v":"fund source"}]
[{"$f":"MID(INDIRECT(\"'ProjDataInput'!b\"&TEXT($N$2,\"###\")),1,2)","v":""},{"$f":"MID(INDIRECT(\"'ProjDataInput'!b\"&TEXT($N$2,\"###\")),3,999)","v":""},null,null,null,null,{"$f":"\"\"&TableOfContents!K1","v":""}]
["(every project must have a prefix)",{"$f":"IF(OR(LEFT(A10&\" \",1)=\"r\",AND(A10=\"\",LEFT(B10,1)=\"r\")),1,0)","v":0},null,null,null,null,{"$f":"\"\"&TableOfContents!L1","v":""}]
[null,null,null,"READINESS LEVELS:"]
["PI: ",{"$f":"MID(INDIRECT(\"'ProjDataInput'!j\"&TEXT($N$2,\"###\")),1,999)","v":""}]
["AFFILIATION: ",{"$f":"MID(INDIRECT(\"'ProjDataInput'!k\"&TEXT($N$2,\"###\")),1,999)","v":""},null,null,null,null,"Worksheet"]
[null,null,null,null,null,null,"tools:"]
["2nd PI: ",{"$f":"MID(INDIRECT(\"'ProjDataInput'!L\"&TEXT($N$2,\"###\")),1,999)","v":""}]
["AFFILIATION: ",{"$f":"MID(INDIRECT(\"'ProjDataInput'!m\"&TEXT($N$2,\"###\")),1,999)","v":""}]
[]
["3rd PI: ",{"$f":"MID(INDIRECT(\"'ProjDataInput'!n\"&TEXT($N$2,\"###\")),1,999)","v":""}]
["AFFILIATION: ",{"$f":"MID(INDIRECT(\"'ProjDataInput'!o\"&TEXT($N$2,\"###\")),1,999)","v":""}]
[]
["4th PI: ",{"$f":"MID(INDIRECT(\"'ProjDataInput'!p\"&TEXT($N$2,\"###\")),1,999)","v":""}]
["AFFILIATION: ",{"$f":"MID(INDIRECT(\"'ProjDataInput'!q\"&TEXT($N$2,\"###\")),1,999)","v":""}]
[]
["FEDERAL $ REQUEST: ",{"$f":"INDIRECT(\"'ProjDataInput'!h\"&TEXT($N$2,\"###\"))","v":0}]
["MATCH $: ",{"$f":"INDIRECT(\"'ProjDataInput'!i\"&TEXT($N$2,\"###\"))","v":0}]
[]
["CLASSIFICATION CODES: ",{"$f":"MID(INDIRECT(\"'ProjDataInput'!f\"&TEXT($N$2,\"###\")),1,999)","v":""}]
[null,"(Primary Code First)"]
["FOCUS AREAS: ",{"$f":"MID(INDIRECT(\"'ProjDataInput'!d\"&TEXT($N$2,\"###\")),1,999)","v":""}]
[null,"(Primary Focus Area First)"]
["PARTNERS: ",{"$f":"MID(INDIRECT(\"'ProjDataInput'!e\"&TEXT($N$2,\"###\")),1,999)","v":""}]
[]
["OBJECTIVES: ",{"$f":"MID(INDIRECT(\"'ProjDataInput'!g\"&TEXT($N$2,\"###\")),1,19999)","v":""},null,"MULTIPROGRAM? "]
[]
["METHODOLOGY: ",null,null,"OTHER INFORMATION: "]
[]
["RATIONALE: "]
[]
["DATA SHARING PLAN: ",{"$f":"MID(INDIRECT(\"'ProjDataInput'!r\"&TEXT($N$2,\"###\")),1,19999)","v":""}]
[null,"(Required for all research projects)"]

{"sheet":"PartnerSearch","index":53,"n_rows":17323,"n_cols":20,"rows_kept":4500,"cut":true,"hidden":false,"merged":[],"bounds":{"rows_first":2000,"rows_last":500,"rows_between":2000,"halvings":0}}
[null,"AFFILIATION LOOKUP. Use the search function to find your institutional affiliation. ",null,"Partner info downloaded from PIER on:",null,null,null,null,null,null,null,null,"2017-07-11",null,"S1-Start Here","(worksheet that called the macro)"]
[null,"SEARCH DIRECTIONS: (1) Enter search words or parts of words below; (2) click on \"Search\":",null,null,null,null,null,null,null,null,null,null,null,null,17,"(row to paste the result into)"]
[null,"(3) Select one affiliation (single-click on that cell), then hit \"Add\":",null,null,null,null,null,null,null,null,null,null,null,null,{"$f":"IF(O2=-1,\"'\"&O1&\"'!F17\",\"'\"&O1&\"'!B\"&O2)","v":"'S1-Start Here'!B17"},"(full formula of where the result is pasted into)"]
[null,"To return without adding a partner, hit \"Cancel\":",null,null,null,null,null,null,null,null,null,null,null,null,{"$f":"HYPERLINK(INDIRECT(O3),\"return\")","v":"return"}]
[]
[null,"SEARCH TERMS:  Institution name contains:"]
[null,"univer","AND"]
[null,"(entering NAT will get you NATIONAL, Natural, international, etc )","BUT NOT","university"]
[]
[null,"IF YOU'RE SURE your Partner or Affiliation is not in the list below, click on the \"****Add New Partner****\" button."]
[]
[null,null,"Can also search scale and type. Hit \"Show All Partners\" to clear."]
[null,"Name","Scale","Type","x","y","ID",null,null,null,null,null,"found?",null,null,null,null,null,"IDs","Names"]
[null,"(California) KZO Sea Farms/Catalina Sea Ranch","Unknown","INDUSTRY AND BUSINESS",0,3,18752,null,null,null,null,null,{"$f":"AND(  NOT(ISERROR(FIND(UPPER($B$7),UPPER($B14),1))),\n               OR($D$7=\"\",NOT(ISERROR(FIND(UPPER($D$7),UPPER($B14),1)))),\n               OR($D$8=\"\",(ISERROR(FIND(UPPER($D$8),UPPER($B14),1))))\n            )","v":false},null,null,null,null,null,0,"UNKNOWN"]
[null,"(David) Willis Seafood","STATE","INDUSTRY AND BUSINESS",2,3,3978,null,null,null,null,null,{"$f":"AND(  NOT(ISERROR(FIND(UPPER($B$7),UPPER($B15),1))),  OR($D$7=\"\",NOT(ISERROR(FIND(UPPER($D$7),UPPER($B15),1)))),    OR($D$8=\"\",(ISERROR(FIND(UPPER($D$8),UPPER($B15),1))))           )","v":false},null,null,null,null,null,1,"LOCAL"]
[null,"‘Opihi Monitoring Partnership","STATE","NGO",2,2,14274,null,null,null,null,null,false,null,null,null,null,null,2,"STATE"]
[null,"100 Resilient Cities","FEDERAL or NATIONAL","NGO",4,2,15978,null,null,null,null,null,false,null,null,null,null,null,3,"REGIONAL"]
[null,"1000 Friends Nature Center","LOCAL","SEA GRANT PROGRAMS",1,5,16019,null,null,null,null,null,false,null,null,null,null,null,4,"FEDERAL or NATIONAL"]
[null,"1000 Friends of Wisconsin","STATE","NGO",2,2,11468,null,null,null,null,null,false,null,null,null,null,null,5,"INTERNATIONAL"]
[null,"113 Calhoun Street Foundation","LOCAL","NGO",1,2,1,null,null,null,null,null,false,null,null,null,null,null,13,"TRIBAL"]
[null,"11893, 13494","Unknown","Unknown",0,0,18281,null,null,null,null,null,false]
[null,"11th Hour Racing","LOCAL","NGO",1,2,9555,null,null,null,null,null,false]
[null,"16th Street Community Health Center","LOCAL","OTHER PARTNERS",1,6,9586,null,null,null,null,null,false,null,null,null,null,null,"IDs","Names"]
[null,"18 Seaboard","STATE","INDUSTRY AND BUSINESS",2,3,3889,null,null,null,null,null,false,null,null,null,null,null,0,"Unknown"]
[null,"1836 Treaty Waters Technical Fisheries Committee","Tribal","GOVERNMENT",13,1,10922,null,null,null,null,null,false,null,null,null,null,null,1,"GOVERNMENT"]
[null,"1854 Treaty Authority","REGIONAL","GOVERNMENT",3,1,7972,null,null,null,null,null,false,null,null,null,null,null,2,"NGO"]
[null,"2020 Engineering","LOCAL","INDUSTRY AND BUSINESS",1,3,8390,null,null,null,null,null,false,null,null,null,null,null,3,"INDUSTRY AND BUSINESS"]
[null,"21 Agricultural Research Service (USDA, ARS)","FEDERAL or NATIONAL","NULL",4,"NULL",11042,null,null,null,null,null,false,null,null,null,null,null,4,"ACADEMIC INSTITUTION"]
[null,"21st Century Learning Centers","FEDERAL or NATIONAL","GOVERNMENT",4,1,4854,null,null,null,null,null,false,null,null,null,null,null,5,"SEA GRANT PROGRAMS"]
[null,"21st Century Learning Centers (many)","FEDERAL or NATIONAL","Unknown",4,0,18250,null,null,null,null,null,false,null,null,null,null,null,6,"OTHER"]
[null,"29 Radio Stations that carry Sea Talk","LOCAL","NGO",1,2,2,null,null,null,null,null,false]
[null,"38 Degrees North Osyter Company","STATE","INDUSTRY AND BUSINESS",2,3,18426,null,null,null,null,null,false]
[null,"389 California State University Maritime","NULL","NULL","NULL","NULL",14333,null,null,null,null,null,false]
[null,"396 California State University Monterey Bay","NULL","NULL","NULL","NULL",14330,null,null,null,null,null,false]
[null,"4Cs Breeding Technologies, Inc.","FEDERAL or NATIONAL","INDUSTRY AND BUSINESS",4,3,16911,null,null,null,null,null,false]
[null,"4Cs Breeding Technology, Inc","FEDERAL or NATIONAL","INDUSTRY AND BUSINESS",4,3,5664,null,null,null,null,null,false]
[null,"4-H Clubs Program","STATE","GOVERNMENT",2,1,18154,null,null,null,null,null,false]
[null,"5 Gyres","INTERNATIONAL","NGO",5,2,10910,null,null,null,null,null,false]
[null,"5 Rivers Delta Resource Center","STATE","GOVERNMENT",2,1,14288,null,null,null,null,null,false]
[null,"94.5 “The Point”","LOCAL","INDUSTRY AND BUSINESS",1,3,19316,null,null,null,null,null,false]
[null,"A La Carte Specialty Foods","LOCAL","INDUSTRY AND BUSINESS",1,3,17620,null,null,null,null,null,false]
[null,"A Little Bite of Italy restaurant","LOCAL","INDUSTRY AND BUSINESS",1,3,18648,null,null,null,null,null,false]
[null,"A Living Museum","LOCAL","NGO",1,2,3,null,null,null,null,null,false]
[null,"A Time for Science","LOCAL","NGO",1,2,14436,null,null,null,null,null,false]
[null,"A. Kakubik","LOCAL","Unknown",1,0,14851,null,null,null,null,null,false]
[null,"A. La Rocca Seafoods Inc.","INTERNATIONAL","INDUSTRY AND BUSINESS",5,3,8195,null,null,null,null,null,false]
[null,"A.H. Zeppa Foundation","LOCAL","NGO",1,2,6287,null,null,null,null,null,false]
[null,"A.S. Fiskevegn","INTERNATIONAL","INDUSTRY AND BUSINESS",5,3,4,null,null,null,null,null,false]
[null,"A-1 Quality Designs","LOCAL","INDUSTRY AND BUSINESS",1,3,5,null,null,null,null,null,false]
[null,"AAA Septic Service","LOCAL","INDUSTRY AND BUSINESS",1,3,6,null,null,null,null,null,false]
[null,"AAUW","REGIONAL","NGO",3,2,8851,null,null,null,null,null,false]
[null,"Abandoned Farms, Inc.","Unknown","Unknown",0,0,3498,null,null,null,null,null,false]
[null,"ABB Corporate Research Center","INTERNATIONAL","INDUSTRY AND BUSINESS",5,3,6866,null,null,null,null,null,false]
[null,"ABB Corporate Research Center - United States","INTERNATIONAL","INDUSTRY AND BUSINESS",5,3,7619,null,null,null,null,null,false]
[null,"Abbeville Harbor and Terminal","LOCAL","INDUSTRY AND BUSINESS",1,3,17601,null,null,null,null,null,false]
[null,"Abbey Marina, Lake Geneva, Wis.","STATE","INDUSTRY AND BUSINESS",2,3,3682,null,null,null,null,null,false]
[null,"Abbotsford-Sumas Aquifer International Task Force","INTERNATIONAL","OTHER PARTNERS",5,6,8391,null,null,null,null,null,false]
[null,"Abbott's on Broad Creek","LOCAL","INDUSTRY AND BUSINESS",1,3,17797,null,null,null,null,null,false]
[null,"AbbVie","INTERNATIONAL","INDUSTRY AND BUSINESS",5,3,19905,null,null,null,null,null,false]
[null,"ABC Mussel Company, Ltd.","STATE","INDUSTRY AND BUSINESS",2,3,7,null,null,null,null,null,false]
[null,"ABC Research Co.","FEDERAL or NATIONAL","INDUSTRY AND BUSINESS",4,3,8,null,null,null,null,null,false]
[null,"ABDI Land and Water Conservation District, Wis.","LOCAL","GOVERNMENT",1,1,11426,null,null,null,null,null,false]
[null,"Aberdeen Township","LOCAL","GOVERNMENT",1,1,14990,null,null,null,null,null,false]
[null,"Abt Associates, Inc.","LOCAL","INDUSTRY AND BUSINESS",1,3,9,null,null,null,null,null,false]
[null,"Abundant Seafood","LOCAL","INDUSTRY AND BUSINESS",1,3,7188,null,null,null,null,null,false]
[null,"Academic Magnet High School","LOCAL","ACADEMIC INSTITUTION",1,4,5667,null,null,null,null,null,false]
[null,"Academy of Natural Sciences of Drexel University","REGIONAL","ACADEMIC INSTITUTION",3,4,14368,null,null,null,null,null,false]
[null,"Acadia Harvests Inc (Chris Heinig)","REGIONAL","INDUSTRY AND BUSINESS",3,3,16995,null,null,null,null,null,false]
[null,"Acadia National Park","FEDERAL or NATIONAL","GOVERNMENT",4,1,11,null,null,null,null,null,false]
[null,"Acadia Parish School System","LOCAL","OTHER PARTNERS",1,6,15523,null,null,null,null,null,false]
[null,"Acadia University, Nova Scotia, CA","INTERNATIONAL","ACADEMIC INSTITUTION",5,4,7620,null,null,null,null,null,false]
[null,"Acadian Seaplants","INTERNATIONAL","INDUSTRY AND BUSINESS",5,3,10626,null,null,null,null,null,false]
[null,"Acadiana Regional Development District","LOCAL","Unknown",1,0,19087,null,null,null,null,null,false]
[null,"Accomack County","LOCAL","GOVERNMENT",1,1,5474,null,null,null,null,null,false]
[null,"Accomack County, Board of Supervisors","LOCAL","GOVERNMENT",1,1,17347,null,null,null,null,null,false]
[null,"Accomack-Northampton Planning District Commission","STATE","GOVERNMENT",2,1,5500,null,null,null,null,null,false]
[null,"Accord3.0","STATE","INDUSTRY AND BUSINESS",2,3,12925,null,null,null,null,null,false]
[null,"ACE Basin National Estuarine Research Reserve (US DOC, NOAA, NOS, NERRS)","FEDERAL or NATIONAL","GOVERNMENT",4,1,4532,null,null,null,null,null,{"$f":"AND(  NOT(ISERROR(FIND(UPPER($B$7),UPPER($B78),1))),  OR($D$7=\"\",NOT(ISERROR(FIND(UPPER($D$7),UPPER($B78),1)))),    OR($D$8=\"\",(ISERROR(FIND(UPPER($D$8),UPPER($B78),1))))           )","v":false}]
[null,"ACF First State Chefs Association","STATE","OTHER PARTNERS",2,6,7672,null,null,null,null,null,false]
[null,"ACF Stakeholders Group","REGIONAL","INDUSTRY AND BUSINESS",3,3,11162,null,null,null,null,null,false]
[null,"Acme Oyster House","REGIONAL","INDUSTRY AND BUSINESS",3,3,13906,null,null,null,null,null,false]
[null,"Acme Smoked Fish","LOCAL","INDUSTRY AND BUSINESS",1,3,17961,null,null,null,null,null,false]
[null,"ACME Sponge & Chamois Company, Inc.","LOCAL","INDUSTRY AND BUSINESS",1,3,13002,null,null,null,null,null,false]
[null,"Acton Boxborough High School","LOCAL","ACADEMIC INSTITUTION",1,4,7621,null,null,null,null,null,false]
[null,"Acton Wakefield Watersheds Alliance","LOCAL","NGO",1,2,9526,null,null,null,null,null,false]
[null,"Adam Tyler, Commercial Fisherman","LOCAL","INDUSTRY AND BUSINESS",1,3,12656,null,null,null,null,null,false]
[null,"Adaptation International","LOCAL","INDUSTRY AND BUSINESS",1,3,8392,null,null,null,null,null,false]
[null,"Adelphi University","STATE","ACADEMIC INSTITUTION",2,4,3500,null,null,null,null,null,false]
[null,"Adirondack Coast Visitors and Convention Bureau","LOCAL","INDUSTRY AND BUSINESS",1,3,11173,null,null,null,null,null,false]
[null,"Adirondack Lakes Alliance","LOCAL","NGO",1,2,18980,null,null,null,null,null,false]
[null,"Adirondack Park Invasive Plant Program","LOCAL","NGO",1,2,14072,null,null,null,null,null,false]
[null,"Adirondack Watershed Institute at Paul Smith's College","REGIONAL","ACADEMIC INSTITUTION",3,4,16134,null,null,null,null,null,false]
[null,"Adirondeck Park Invasive Plant Program","STATE","GOVERNMENT",2,1,5795,null,null,null,null,null,false]
[null,"Adiuvans Family Foundation","STATE","OTHER PARTNERS",2,6,17348,null,null,null,null,null,false]
[null,"ADMB Foundation","FEDERAL or NATIONAL","NGO",4,2,15292,null,null,null,null,null,false]
[null,"Adopt-a-Wetlands","FEDERAL or NATIONAL","NGO",4,2,12,null,null,null,null,null,false]
[null,"AdvaMed","LOCAL","NGO",1,2,13,null,null,null,null,null,false]
[null,"Advanced BioNutrition Corporation","INTERNATIONAL","INDUSTRY AND BUSINESS",5,3,14,null,null,null,null,null,false]
[null,"Advanced Research Corporation","STATE","INDUSTRY AND BUSINESS",2,3,8715,null,null,null,null,null,false]
[null,"Advanced Roofing Inc.","REGIONAL","INDUSTRY AND BUSINESS",3,3,7938,null,null,null,null,null,false]
[null,"Adventure Productions, Inc., Baltimore, MD","LOCAL","OTHER PARTNERS",1,6,16569,null,null,null,null,null,false]
[null,"Adventure Scientists","FEDERAL or NATIONAL","NGO",4,2,19906,null,null,null,null,null,false]
[null,"Adventures by the Sea, Monterey, CA","REGIONAL","GOVERNMENT",3,1,3335,null,null,null,null,null,false]
[null,"Advocates for the Knife River Watershed","LOCAL","NGO",1,2,13417,null,null,null,null,null,false]
[null,"AE Fisheries","LOCAL","INDUSTRY AND BUSINESS",1,3,15,null,null,null,null,null,false]
[null,"AECOM","FEDERAL or NATIONAL","INDUSTRY AND BUSINESS",4,3,4113,null,null,null,null,null,false]
[null,"Aemetis Inc.","INTERNATIONAL","INDUSTRY AND BUSINESS",5,3,11225,null,null,null,null,null,false]
[null,"Aeros Cultured Oyster Co. Inc.","LOCAL","Unknown",1,0,9682,null,null,null,null,null,false]
[null,"Aeros Cultured Oyster Company","LOCAL","INDUSTRY AND BUSINESS",1,3,20025,null,null,null,null,null,false]
[null,"Aeros Cultured Oyster LLC","LOCAL","INDUSTRY AND BUSINESS",1,3,9335,null,null,null,null,null,false]
[null,"AERS","REGIONAL","NGO",3,2,6699,null,null,null,null,null,false]
[null,"AFC Sushi","INTERNATIONAL","INDUSTRY AND BUSINESS",5,3,8175,null,null,null,null,null,false]
[null,"Affiliated Tribes of Northwest Indians","Tribal","GOVERNMENT",13,1,4449,null,null,null,null,null,false]
[null,"AFG Corp.","INTERNATIONAL","INDUSTRY AND BUSINESS",5,3,8153,null,null,null,null,null,false]
[null,"African Alliance of Rhode Island","STATE","NGO",2,2,14579,null,null,null,null,null,false]
[null,"Afton Marina","LOCAL","INDUSTRY AND BUSINESS",1,3,8763,null,null,null,null,null,false]
[null,"AG3 Inc.","LOCAL","INDUSTRY AND BUSINESS",1,3,7947,null,null,null,null,null,false]
[null,"Agency for Toxic Substance and Disease Registry (US HHS)","FEDERAL or NATIONAL","GOVERNMENT",4,1,16,null,null,null,null,null,false]
[null,"Agnew::Beck Consulting","STATE","INDUSTRY AND BUSINESS",2,3,17203,null,null,null,null,null,false]
[null,"Agreement on the Conservation of Albatrosses and Petrels","INTERNATIONAL","NGO",5,2,4168,null,null,null,null,null,false]
[null,"Agricultural Coop Extension Service, UPR","STATE","GOVERNMENT",2,1,18151,null,null,null,null,null,false]
[null,"Agricultural Marketing Service (USDA)","FEDERAL or NATIONAL","GOVERNMENT",4,1,17,null,null,null,null,null,false]
[null,"Agricultural Network Information Center (AgNIC)","INTERNATIONAL","OTHER PARTNERS",5,6,18,null,null,null,null,null,false]
[null,"Agricultural Pest Survey Program (INHS)","STATE","ACADEMIC INSTITUTION",2,4,16094,null,null,null,null,null,false]
[null,"Agricultural University of Norway","INTERNATIONAL","ACADEMIC INSTITUTION",5,4,19,null,null,null,null,null,false]
[null,"Agriculture and Agri-Food Canada","INTERNATIONAL","GOVERNMENT",5,1,13752,null,null,null,null,null,false]
[null,"Agriculture in the Classroom","FEDERAL or NATIONAL","OTHER PARTNERS",4,6,20,null,null,null,null,null,false]
[null,"Agriculture Research Service (USDA, ARS)","FEDERAL or NATIONAL","GOVERNMENT",4,1,21,null,null,null,null,null,false]
[null,"Ahead of the Storm","LOCAL","NGO",1,2,14147,null,null,null,null,null,false]
[null,"AI Land Trust","LOCAL","INDUSTRY AND BUSINESS",1,3,22,null,null,null,null,null,false]
[null,"Aiken High School","LOCAL","ACADEMIC INSTITUTION",1,4,8813,null,null,null,null,null,false]
[null,"Ailana Surveying and Geomatics","LOCAL","INDUSTRY AND BUSINESS",1,3,15988,null,null,null,null,null,false]
[null,"AIR Worldwide Corporation","INTERNATIONAL","INDUSTRY AND BUSINESS",5,3,7941,null,null,null,null,null,false]
[null,"AIS Stakeholder Team/MNDNR","STATE","OTHER PARTNERS",2,6,6334,null,null,null,null,null,false]
[null,"AIS-HACCP","REGIONAL","NGO",3,2,6320,null,null,null,null,null,false]
[null,"Ajinomoto North America","REGIONAL","INDUSTRY AND BUSINESS",3,3,17349,null,null,null,null,null,false]
[null,"Akwesasne Task Force on the Environment","LOCAL","NGO",1,2,23,null,null,null,null,null,false]
[null,"Ala Kahakai National Historic Trail","LOCAL","NGO",1,2,10836,null,null,null,null,null,false]
[null,"Ala Wai Watershed Partnership","LOCAL","OTHER PARTNERS",1,6,15979,null,null,null,null,null,false]
[null,"Alabama A&M University","STATE","ACADEMIC INSTITUTION",2,4,16733,null,null,null,null,null,false]
[null,"Alabama Agricultural Experiment Station","STATE","GOVERNMENT",2,1,24,null,null,null,null,null,false]
[null,"Alabama Aquatic Nuisance Species Task Force (ANS)","STATE","GOVERNMENT",2,1,25,null,null,null,null,null,{"$f":"AND(  NOT(ISERROR(FIND(UPPER($B$7),UPPER($B142),1))),  OR($D$7=\"\",NOT(ISERROR(FIND(UPPER($D$7),UPPER($B142),1)))),    OR($D$8=\"\",(ISERROR(FIND(UPPER($D$8),UPPER($B142),1))))           )","v":false}]
[null,"Alabama Association of State Floodplain Managers","STATE","GOVERNMENT",2,1,6481,null,null,null,null,null,false]
[null,"Alabama Center for Estuarine Studies","STATE","GOVERNMENT",2,1,26,null,null,null,null,null,false]
[null,"Alabama Center for Insurance Information & Research","STATE","NGO",2,2,18247,null,null,null,null,null,false]
[null,"Alabama Clean Water Partnership","STATE","NGO",2,2,27,null,null,null,null,null,false]
[null,"Alabama Coastal Conservation Association","LOCAL","NGO",1,2,9902,null,null,null,null,null,false]
[null,"Alabama Coastal Foundation","STATE","NGO",2,2,28,null,null,null,null,null,false]
[null,"Alabama Cooperative Extension System","STATE","GOVERNMENT",2,1,29,null,null,null,null,null,false]
[null,"Alabama Department of Agriculture & Industries","STATE","GOVERNMENT",2,1,9903,null,null,null,null,null,false]
[null,"Alabama Department of Conservation & Natural Resources, State Lands Division","STATE","GOVERNMENT",2,1,9904,null,null,null,null,null,false]
[null,"Alabama Department of Conservation and Natural Resources, Coastal Programs (AL DNR)","STATE","GOVERNMENT",2,1,30,null,null,null,null,null,false]
[null,"Alabama Department of Conservation and Natural Resources, Division of Wildlife and Fisheries (AL DNR)","STATE","GOVERNMENT",2,1,31,null,null,null,null,null,false]
[null,"Alabama Department of Conservation and Natural Resources, Marine Resource Division (AL DNR)","STATE","GOVERNMENT",2,1,32,null,null,null,null,null,false]
[null,"Alabama Department of Conservation and Natural Resources, State Lands Division (AL DNR)","STATE","GOVERNMENT",2,1,6482,null,null,null,null,null,false]
[null,"Alabama Department of Economic and Community Affairs","STATE","GOVERNMENT",2,1,9905,null,null,null,null,null,false]
[null,"Alabama Department of Education - ACCESS program","STATE","ACADEMIC INSTITUTION",2,4,9906,null,null,null,null,null,false]
[null,"Alabama Department of Education (AL ED)","STATE","GOVERNMENT",2,1,33,null,null,null,null,null,false]
[null,"Alabama Department of Environmental Management (AL DEM)","STATE","GOVERNMENT",2,1,34,null,null,null,null,null,false]
[null,"Alabama Department of Health:Seafood Division","STATE","GOVERNMENT",2,1,6483,null,null,null,null,null,false]
[null,"Alabama Department of Natural Resources (AL DNR)","STATE","GOVERNMENT",2,1,35,null,null,null,null,null,false]
[null,"Alabama Department of Public Health (ADPH)","STATE","GOVERNMENT",2,1,6962,null,null,null,null,null,false]
[null,"Alabama Department of Tourism","STATE","GOVERNMENT",2,1,9907,null,null,null,null,null,false]
[null,"Alabama Department of Transportation (AL DOT)","STATE","GOVERNMENT",2,1,36,null,null,null,null,null,false]
[null,"Alabama Fish Farming Center","STATE","INDUSTRY AND BUSINESS",2,3,6484,null,null,null,null,null,false]
[null,"Alabama Fisheries Association","STATE","NGO",2,2,37,null,null,null,null,null,false]
[null,"Alabama Forestry Commission","STATE","GOVERNMENT",2,1,38,null,null,null,null,null,false]
[null,"Alabama Gulf Coast Area Chamber of Commerce","STATE","INDUSTRY AND BUSINESS",2,3,39,null,null,null,null,null,false]
[null,"Alabama Gulf Coast Chapter of the International Code Council","REGIONAL","INDUSTRY AND BUSINESS",3,3,13916,null,null,null,null,null,false]
[null,"Alabama Gulf Coast Convention and Visitor’s Bureau","STATE","NGO",2,2,40,null,null,null,null,null,false]
[null,"Alabama Gulf Coast Recovery Council","STATE","NGO",2,2,12919,null,null,null,null,null,false]
[null,"Alabama Gulf Coast Reef and Restoration Foundation","LOCAL","NGO",1,2,9908,null,null,null,null,null,false]
[null,"Alabama Inland Shrimp Producers Association (AISPA)","STATE","INDUSTRY AND BUSINESS",2,3,6485,null,null,null,null,null,false]
[null,"Alabama Insurance Underwriters Association","STATE","NGO",2,2,19713,null,null,null,null,null,false]
[null,"Alabama Kayak Adventures","LOCAL","INDUSTRY AND BUSINESS",1,3,9509,null,null,null,null,null,false]
[null,"Alabama Marine Environmental Sciences Consortium","Unknown","Unknown",0,0,3501,null,null,null,null,null,false]
[null,"Alabama Math Science Technology Initiative","STATE","NGO",2,2,6486,null,null,null,null,null,false]
[null,"Alabama Partners Against Litter","STATE","NGO",2,2,41,null,null,null,null,null,false]
[null,"Alabama Power Company","STATE","INDUSTRY AND BUSINESS",2,3,9909,null,null,null,null,null,false]
[null,"Alabama Power Inc.","STATE","INDUSTRY AND BUSINESS",2,3,6487,null,null,null,null,null,false]
[null,"Alabama Real Estate Commission","STATE","GOVERNMENT",2,1,13929,null,null,null,null,null,false]
[null,"Alabama Scenic River Trail","LOCAL","NGO",1,2,9910,null,null,null,null,null,false]
[null,"Alabama School for the Deaf and Blind","STATE","ACADEMIC INSTITUTION",2,4,9911,null,null,null,null,null,false]
[null,"Alabama Science Teachers Association","STATE","NGO",2,2,6488,null,null,null,null,null,false]
[null,"Alabama Seafood Association","STATE","INDUSTRY AND BUSINESS",2,3,42,null,null,null,null,null,false]
[null,"Alabama Seafood Marketing Commission","LOCAL","INDUSTRY AND BUSINESS",1,3,13902,null,null,null,null,null,false]
[null,"Alabama State Docks","STATE","GOVERNMENT",2,1,6489,null,null,null,null,null,false]
[null,"Alabama State Port Authority","STATE","GOVERNMENT",2,1,9912,null,null,null,null,null,false]
[null,"Alabama Trails Commission","STATE","GOVERNMENT",2,1,9913,null,null,null,null,null,false]
[null,"Alabama Water Watch Association","STATE","NGO",2,2,43,null,null,null,null,null,false]
[null,"Alabama Waterfront Access Study Committee","LOCAL","GOVERNMENT",1,1,13927,null,null,null,null,null,false]
[null,"Alabama Working Waterfront Coalition","STATE","GOVERNMENT",2,1,6490,null,null,null,null,null,false]
[null,"Alabama-Mississippi Clean Marina Program","STATE","GOVERNMENT",2,1,44,null,null,null,null,null,false]
[null,"Alabama's Coastal Connection Scenic Byway","LOCAL","INDUSTRY AND BUSINESS",1,3,13907,null,null,null,null,null,false]
[null,"Alaska Aerospace Development Corporation","STATE","NGO",2,2,45,null,null,null,null,null,false]
[null,"Alaska Aqua Farms","STATE","INDUSTRY AND BUSINESS",2,3,46,null,null,null,null,null,false]
[null,"Alaska Association of Harbormasters and Port Administrators","STATE","NGO",2,2,47,null,null,null,null,null,false]
[null,"Alaska Bering Sea Crabbers","REGIONAL","NGO",3,2,8393,null,null,null,null,null,false]
[null,"Alaska Board of Fisheries","STATE","GOVERNMENT",2,1,10996,null,null,null,null,null,false]
[null,"Alaska Board of Game","STATE","GOVERNMENT",2,1,10995,null,null,null,null,null,false]
[null,"Alaska Boats and Permits","STATE","INDUSTRY AND BUSINESS",2,3,19767,null,null,null,null,null,false]
[null,"Alaska Center for Climate Assessment and Policy (ACCAP)","STATE","GOVERNMENT",2,1,6921,null,null,null,null,null,false]
[null,"Alaska Center for the Environment","STATE","NGO",2,2,48,null,null,null,null,null,false]
[null,"Alaska Charter Association","STATE","OTHER PARTNERS",2,6,5417,null,null,null,null,null,false]
[null,"Alaska Coastal Management Program Division of Governmental Coordination","STATE","GOVERNMENT",2,1,49,null,null,null,null,null,false]
[null,"Alaska Commercial Fisheries Entry Commission","STATE","GOVERNMENT",2,1,50,null,null,null,null,null,{"$f":"AND(  NOT(ISERROR(FIND(UPPER($B$7),UPPER($B206),1))),  OR($D$7=\"\",NOT(ISERROR(FIND(UPPER($D$7),UPPER($B206),1)))),    OR($D$8=\"\",(ISERROR(FIND(UPPER($D$8),UPPER($B206),1))))           )","v":false}]
[null,"Alaska Commercial Fishing and Agriculture Bank","STATE","GOVERNMENT",2,1,51,null,null,null,null,null,false]
[null,"Alaska Community Action on Toxics","STATE","NGO",2,2,52,null,null,null,null,null,false]
[null,"Alaska Conservation Foundation","STATE","NGO",2,2,53,null,null,null,null,null,false]
[null,"Alaska Cooperative Extension Service","STATE","GOVERNMENT",2,1,5381,null,null,null,null,null,false]
[null,"Alaska Council of Teachers of Math","STATE","NGO",2,2,8030,null,null,null,null,null,false]
[null,"Alaska Crab Coalition","STATE","INDUSTRY AND BUSINESS",2,3,10987,null,null,null,null,null,false]
[null,"Alaska Department of Commerce, Community and Economic Development (AK DOC)","STATE","GOVERNMENT",2,1,54,null,null,null,null,null,false]
[null,"Alaska Department of Education and Early Development (AK ED)","STATE","GOVERNMENT",2,1,55,null,null,null,null,null,false]
[null,"Alaska Department of Environmental Conservation","STATE","NULL",2,"NULL",17967,null,null,null,null,null,false]
[null,"Alaska Department of Environmental Conservation (AK DEC)","STATE","GOVERNMENT",2,1,56,null,null,null,null,null,false]
[null,"Alaska Department of Fish and Game (AK DFG)","STATE","GOVERNMENT",2,1,57,null,null,null,null,null,false]
[null,"Alaska Department of Labor and Workforce Development","STATE","GOVERNMENT",2,1,14016,null,null,null,null,null,false]
[null,"Alaska Department of Law","STATE","GOVERNMENT",2,1,11003,null,null,null,null,null,false]
[null,"Alaska Department of Natural Resources (AK DNR)","STATE","GOVERNMENT",2,1,58,null,null,null,null,null,false]
[null,"Alaska Department of Natural Resources Division of Oil and Gas (AK DNR DOG)","STATE","GOVERNMENT",2,1,59,null,null,null,null,null,false]
[null,"Alaska Department of Transportation (AK DOT)","STATE","GOVERNMENT",2,1,60,null,null,null,null,null,false]
[null,"Alaska Division of Emergency Services (AK DES)","STATE","GOVERNMENT",2,1,61,null,null,null,null,null,false]
[null,"Alaska Division of Geological and Geophysical Surveys","STATE","GOVERNMENT",2,1,17187,null,null,null,null,null,false]
[null,"Alaska Division of Governmental Coordination Coastal Zone Management Program (AK CZMP)","STATE","GOVERNMENT",2,1,62,null,null,null,null,null,false]
[null,"Alaska Division of Homeland Security and Emergency Management (AK DHS and EM)","STATE","GOVERNMENT",2,1,63,null,null,null,null,null,false]
[null,"Alaska Division of Investments","STATE","GOVERNMENT",2,1,17234,null,null,null,null,null,false]
[null,"Alaska Division of Public Health","STATE","GOVERNMENT",2,1,17213,null,null,null,null,null,false]
[null,"Alaska Draggers Association","STATE","GOVERNMENT",2,1,64,null,null,null,null,null,false]
[null,"Alaska Energy Authority","STATE","GOVERNMENT",2,1,6920,null,null,null,null,null,false]
[null,"Alaska Eskimo Whaling Commission","STATE","NGO",2,2,14017,null,null,null,null,null,false]
[null,"Alaska Federation of Natives","STATE","OTHER PARTNERS",2,6,5409,null,null,null,null,null,false]
[null,"Alaska Fisheries Development Foundation","STATE","NGO",2,2,65,null,null,null,null,null,false]
[null,"Alaska Fisheries Revitalization Strategy","STATE","GOVERNMENT",2,1,66,null,null,null,null,null,false]
[null,"Alaska Fisheries Science Center (US DOC, NOAA, NMFS)","FEDERAL or NATIONAL","GOVERNMENT",4,1,67,null,null,null,null,null,false]
[null,"Alaska Fishermen’s Union","STATE","INDUSTRY AND BUSINESS",2,3,68,null,null,null,null,null,false]
[null,"Alaska Fishing Industry Relief Mission","STATE","NGO",2,2,69,null,null,null,null,null,false]
[null,"Alaska Forum for Environmental Responsibility","STATE","NGO",2,2,70,null,null,null,null,null,false]
[null,"Alaska Forum, Inc.","STATE","NGO",2,2,8028,null,null,null,null,null,false]
[null,"Alaska geoduck farmers","STATE","Unknown",2,0,17953,null,null,null,null,null,false]
[null,"Alaska Geographic Alliance (AGA)","STATE","NGO",2,2,14094,null,null,null,null,null,false]
[null,"Alaska Geological and Geophysical Survey (DGGS)","STATE","GOVERNMENT",2,1,14093,null,null,null,null,null,false]
[null,"Alaska Groundfish Data Bank","STATE","NGO",2,2,71,null,null,null,null,null,false]
[null,"Alaska Groundfish Forum","STATE","NGO",2,2,72,null,null,null,null,null,false]
[null,"Alaska GulfWatch Program","REGIONAL","NGO",3,2,9632,null,null,null,null,null,false]
[null,"Alaska Harmful Algal Bloom Network","REGIONAL","OTHER PARTNERS",3,6,19787,null,null,null,null,null,false]
[null,"Alaska Health and Social Services","STATE","GOVERNMENT",2,1,17223,null,null,null,null,null,false]
[null,"Alaska Historical Society","STATE","NGO",2,2,19763,null,null,null,null,null,false]
[null,"Alaska Ice Seafoods","REGIONAL","INDUSTRY AND BUSINESS",3,3,7376,null,null,null,null,null,false]
[null,"Alaska Legislative Salmon Industry Task Force","STATE","GOVERNMENT",2,1,73,null,null,null,null,null,false]
[null,"Alaska Lighthouse Association","STATE","NGO",2,2,19755,null,null,null,null,null,false]
[null,"Alaska Longline Fishermen's Association","STATE","INDUSTRY AND BUSINESS",2,3,74,null,null,null,null,null,false]
[null,"Alaska Marine Conservation Council","STATE","NGO",2,2,75,null,null,null,null,null,false]
[null,"Alaska Marine Mammal Stranding Network (US DOC, NOAA, NMFS)","FEDERAL or NATIONAL","GOVERNMENT",4,1,5380,null,null,null,null,null,false]
[null,"Alaska Marine Safety Education Association","STATE","NGO",2,2,76,null,null,null,null,null,false]
[null,"Alaska Miners Association","STATE","OTHER PARTNERS",2,6,5418,null,null,null,null,null,false]
[null,"Alaska Native Fund","STATE","NGO",2,2,17238,null,null,null,null,null,false]
[null,"Alaska Native Tribal Health Consortium","Tribal","GOVERNMENT",13,1,5382,null,null,null,null,null,false]
[null,"Alaska Natural History Association","STATE","NGO",2,2,77,null,null,null,null,null,false]
[null,"Alaska Natural Resource and Outdoor Education","STATE","NGO",2,2,78,null,null,null,null,null,false]
[null,"Alaska Natural Resources and Outdoor Education","LOCAL","NGO",1,2,17249,null,null,null,null,null,false]
[null,"Alaska Ocean Observing System (AOOS)","STATE","GOVERNMENT",2,1,79,null,null,null,null,null,false]
[null,"Alaska Oceans Network","STATE","NGO",2,2,80,null,null,null,null,null,false]
[null,"Alaska Oceans Program","STATE","NGO",2,2,81,null,null,null,null,null,false]
[null,"Alaska Office of Boating Safety","STATE","GOVERNMENT",2,1,82,null,null,null,null,null,false]
[null,"Alaska Pacific Seafoods","STATE","OTHER PARTNERS",2,6,5419,null,null,null,null,null,false]
[null,"alaska pacific university","STATE","Unknown",2,0,14091,null,null,null,null,null,false]
[null,"Alaska Pacific University (APU)","STATE","ACADEMIC INSTITUTION",2,4,83,null,null,null,null,null,false]
[null,"Alaska Regional Marine Research Program (US DOC, NOAA, OAR, NSGCP, RMRP)","FEDERAL or NATIONAL","GOVERNMENT",4,1,84,null,null,null,null,null,false]
[null,"Alaska Regional Office (US DOC, NOAA, NMFS)","FEDERAL or NATIONAL","GOVERNMENT",4,1,85,null,null,null,null,null,{"$f":"AND(  NOT(ISERROR(FIND(UPPER($B$7),UPPER($B270),1))),  OR($D$7=\"\",NOT(ISERROR(FIND(UPPER($D$7),UPPER($B270),1)))),    OR($D$8=\"\",(ISERROR(FIND(UPPER($D$8),UPPER($B270),1))))           )","v":false}]
[null,"Alaska Science and Technology Foundation","STATE","NGO",2,2,86,null,null,null,null,null,false]
[null,"Alaska Science Consortium","STATE","NGO",2,2,87,null,null,null,null,null,false]
[null,"Alaska Science Teachers Association","STATE","NGO",2,2,8029,null,null,null,null,null,false]
[null,"Alaska Sea Farms","STATE","INDUSTRY AND BUSINESS",2,3,10997,null,null,null,null,null,false]
[null,"Alaska Sea Grant","STATE","SEA GRANT PROGRAMS",2,5,3268,null,null,null,null,null,false]
[null,"Alaska Sea grant Marine Advisory Program","STATE","SEA GRANT PROGRAMS",2,5,7192,null,null,null,null,null,false]
[null,"Alaska Sea Grant, University of Maine, Maine Shellfish Research and Development, APICDA, TNC","STATE","Unknown",2,0,17949,null,null,null,null,null,false]
[null,"Alaska Sea Otter and Steller Sea Lion Commission","STATE","GOVERNMENT",2,1,89,null,null,null,null,null,false]
[null,"Alaska Seafood Cooperative","STATE","INDUSTRY AND BUSINESS",2,3,14064,null,null,null,null,null,false]
[null,"Alaska Seafood Interna-tional","STATE","INDUSTRY AND BUSINESS",2,3,90,null,null,null,null,null,false]
[null,"Alaska Seafood Marketing Institute","STATE","INDUSTRY AND BUSINESS",2,3,91,null,null,null,null,null,false]
[null,"Alaska SeaLife Center","STATE","NGO",2,2,92,null,null,null,null,null,false]
[null,"Alaska Shellfish Growers Association","STATE","NGO",2,2,93,null,null,null,null,null,false]
[null,"Alaska Small Business Development Center","STATE","GOVERNMENT",2,1,94,null,null,null,null,null,false]
[null,"Alaska State Legislature","STATE","GOVERNMENT",2,1,10988,null,null,null,null,null,false]
[null,"Alaska State Troopers","STATE","GOVERNMENT",2,1,14018,null,null,null,null,null,false]
[null,"Alaska Sustainable Salmon Fund","REGIONAL","NGO",3,2,10497,null,null,null,null,null,false]
[null,"Alaska Tide Book Company","STATE","INDUSTRY AND BUSINESS",2,3,95,null,null,null,null,null,false]
[null,"Alaska Troller's Association","STATE","NGO",2,2,8034,null,null,null,null,null,false]
[null,"Alaska Underwater Science Foundation","STATE","NGO",2,2,96,null,null,null,null,null,false]
[null,"Alaska Veterinary Pathology Services","STATE","INDUSTRY AND BUSINESS",2,3,17228,null,null,null,null,null,false]
[null,"Alaska Vocational Technical Education Center","STATE","ACADEMIC INSTITUTION",2,4,97,null,null,null,null,null,false]
[null,"Alaska Whitefish Trawlers Association","STATE","NGO",2,2,8031,null,null,null,null,null,false]
[null,"Alaska Wildlife Alliance","STATE","NGO",2,2,98,null,null,null,null,null,false]
[null,"Alaska Workforce Investment Board","STATE","GOVERNMENT",2,1,14019,null,null,null,null,null,false]
[null,"Alaskan Leader Fisheries","STATE","INDUSTRY AND BUSINESS",2,3,10980,null,null,null,null,null,false]
[null,"Alba Middle School","LOCAL","ACADEMIC INSTITUTION",1,4,99,null,null,null,null,null,false]
[null,"Albany Seafood","LOCAL","INDUSTRY AND BUSINESS",1,3,13991,null,null,null,null,null,false]
[null,"Albatross Fleet","LOCAL","INDUSTRY AND BUSINESS",1,3,15585,null,null,null,null,null,false]
[null,"Albatross Task Force, BirdLife International","INTERNATIONAL","NGO",5,2,4163,null,null,null,null,null,false]
[null,"Albemarle Commission","LOCAL","GOVERNMENT",1,1,14448,null,null,null,null,null,false]
[null,"Albemarle Corporation","INTERNATIONAL","INDUSTRY AND BUSINESS",5,3,6145,null,null,null,null,null,false]
[null,"Albemarle Council of Governments","LOCAL","GOVERNMENT",1,1,17727,null,null,null,null,null,false]
[null,"Albemarle Regional Council of Governments","REGIONAL","GOVERNMENT",3,1,18916,null,null,null,null,null,false]
[null,"Albemarle Resource Conservation & Development Council","LOCAL","GOVERNMENT",1,1,4982,null,null,null,null,null,false]
[null,"Albemarle-Pamlico National Estuary Program (US EPA, NEP)","FEDERAL or NATIONAL","GOVERNMENT",4,1,100,null,null,null,null,null,false]
[null,"Alber Seafoods","REGIONAL","INDUSTRY AND BUSINESS",3,3,8166,null,null,null,null,null,false]
[null,"Albion Borough","LOCAL","GOVERNMENT",1,1,10681,null,null,null,null,null,false]
[null,"Albion School District","LOCAL","ACADEMIC INSTITUTION",1,4,13946,null,null,null,null,null,false]
[null,"Alchemy Restaurant","LOCAL","INDUSTRY AND BUSINESS",1,3,13258,null,null,null,null,null,false]
[null,"Alcoa Intalco Works","INTERNATIONAL","Unknown",5,0,13155,null,null,null,null,null,false]
[null,"Alcona Community High School","LOCAL","ACADEMIC INSTITUTION",1,4,9121,null,null,null,null,null,false]
[null,"Alcona County Board of Commissioners","LOCAL","GOVERNMENT",1,1,9122,null,null,null,null,null,false]
[null,"Alcona County Master Gardeners","LOCAL","NGO",1,2,9123,null,null,null,null,null,false]
[null,"Alcona Elementary School","LOCAL","INDUSTRY AND BUSINESS",1,3,9124,null,null,null,null,null,false]
[null,"Alcona Middle School","LOCAL","ACADEMIC INSTITUTION",1,4,9125,null,null,null,null,null,false]
[null,"Alcona Township","LOCAL","GOVERNMENT",1,1,9126,null,null,null,null,null,false]
[null,"Alderbrook Resort and Spa","LOCAL","INDUSTRY AND BUSINESS",1,3,101,null,null,null,null,null,false]
[null,"Aldo Leopold Wilderness Research Institute","FEDERAL or NATIONAL","NGO",4,2,102,null,null,null,null,null,false]
[null,"Aleut Community of St. Paul Island","LOCAL","GOVERNMENT",1,1,17174,null,null,null,null,null,false]
[null,"Aleut Corporation","LOCAL","NGO",1,2,103,null,null,null,null,null,false]
[null,"Aleutian Pribilof Island Association","LOCAL","NGO",1,2,104,null,null,null,null,null,false]
[null,"Aleutian Pribilof Island Community Development Association","LOCAL","NGO",1,2,105,null,null,null,null,null,false]
[null,"Aleutian Spray Seafoods","LOCAL","INDUSTRY AND BUSINESS",1,3,4303,null,null,null,null,null,false]
[null,"Aleutians and Bering Sea Islands Landscape Conservation Cooperative","STATE","NGO",2,2,14020,null,null,null,null,null,false]
[null,"Aleutians East Borough School District","LOCAL","GOVERNMENT",1,1,10959,null,null,null,null,null,false]
[null,"Alewife Harvesters of Maine","STATE","INDUSTRY AND BUSINESS",2,3,17258,null,null,null,null,null,false]
[null,"Alex C. Walker Foundation","LOCAL","NGO",1,2,106,null,null,null,null,null,false]
[null,"Alexandria Renew Enterprises","LOCAL","INDUSTRY AND BUSINESS",1,3,19210,null,null,null,null,null,false]
[null,"Alfa Gamma Seafood","REGIONAL","INDUSTRY AND BUSINESS",3,3,10758,null,null,null,null,null,false]
[null,"Alford Seafood","STATE","INDUSTRY AND BUSINESS",2,3,3890,null,null,null,null,null,false]
[null,"Alfred P. Sloan Foundation","FEDERAL or NATIONAL","NGO",4,2,16591,null,null,null,null,null,false]
[null,"Algaverde, Inc. dba Bioalgene","FEDERAL or NATIONAL","INDUSTRY AND BUSINESS",4,3,9348,null,null,null,null,null,false]
[null,"AlgaXperts","LOCAL","INDUSTRY AND BUSINESS",1,3,12418,null,null,null,null,null,{"$f":"AND(  NOT(ISERROR(FIND(UPPER($B$7),UPPER($B334),1))),  OR($D$7=\"\",NOT(ISERROR(FIND(UPPER($D$7),UPPER($B334),1)))),    OR($D$8=\"\",(ISERROR(FIND(UPPER($D$8),UPPER($B334),1))))           )","v":false}]
[null,"Alger County, MI","LOCAL","GOVERNMENT",1,1,5991,null,null,null,null,null,false]
[null,"Algoma City Department of Recreation","LOCAL","GOVERNMENT",1,1,107,null,null,null,null,null,false]
[null,"Alianza Comunitaria y Ambiental en Acción Solidaria","LOCAL","NGO",1,2,8885,null,null,null,null,null,false]
[null,"Alice Independent School District , TX","LOCAL","ACADEMIC INSTITUTION",1,4,6073,null,null,null,null,null,false]
[null,"Alki Jetty Citizen Science volunteers","LOCAL","OTHER PARTNERS",1,6,11608,null,null,null,null,null,false]
[null,"Alki Salmon Team","LOCAL","NGO",1,2,108,null,null,null,null,null,false]
[null,"All American Oyster Company","STATE","INDUSTRY AND BUSINESS",2,3,15586,null,null,null,null,null,false]
[null,"All other Sea Grant Programs and the National Sea Grant Office","FEDERAL or NATIONAL","Unknown",4,0,18020,null,null,null,null,null,false]
[null,"All Power Cables","Unknown","INDUSTRY AND BUSINESS",0,3,7861,null,null,null,null,null,false]
[null,"All Saints Catholic School","LOCAL","ACADEMIC INSTITUTION",1,4,9127,null,null,null,null,null,false]
[null,"All Seas Wholesale, Inc (ASW)","REGIONAL","NGO",3,2,3336,null,null,null,null,null,false]
[null,"All Souls Interfaith Gathering","LOCAL","OTHER PARTNERS",1,6,15967,null,null,null,null,null,false]
[null,"Allegany County Public Schools","STATE","ACADEMIC INSTITUTION",2,4,15872,null,null,null,null,null,false]
[null,"Allegheny College","LOCAL","ACADEMIC INSTITUTION",1,4,14595,null,null,null,null,null,false]
[null,"Allen Academy, Bryan, TX","LOCAL","ACADEMIC INSTITUTION",1,4,12187,null,null,null,null,null,false]
[null,"Allen County","LOCAL","GOVERNMENT",1,1,10886,null,null,null,null,null,false]
[null,"Allen Engineering and Science","REGIONAL","INDUSTRY AND BUSINESS",3,3,13915,null,null,null,null,null,false]
[null,"Allen Landscape","Unknown","INDUSTRY AND BUSINESS",0,3,7084,null,null,null,null,null,false]
[null,"Allen Marine","LOCAL","INDUSTRY AND BUSINESS",1,3,10956,null,null,null,null,null,false]
[null,"Allen Shellfish LLC","REGIONAL","INDUSTRY AND BUSINESS",3,3,7377,null,null,null,null,null,false]
[null,"Alley Pond Environmental Center","LOCAL","NGO",1,2,12364,null,null,null,null,null,false]
[null,"Alliance for a Healthy South Sound","LOCAL","OTHER PARTNERS",1,6,13154,null,null,null,null,null,false]
[null,"Alliance For A Livable Newport","LOCAL","NGO",1,2,9556,null,null,null,null,null,false]
[null,"Alliance for a Living Ocean","STATE","NGO",2,2,14914,null,null,null,null,null,false]
[null,"Alliance for Coastal Technology","LOCAL","ACADEMIC INSTITUTION",1,4,109,null,null,null,null,null,false]
[null,"Alliance for Communities for Sustainable Fisheries","STATE","Unknown",2,0,8128,null,null,null,null,null,false]
[null,"Alliance for Living Ocean","REGIONAL","NGO",3,2,13133,null,null,null,null,null,false]
[null,"Alliance for New Jersey Environmental Education","STATE","NGO",2,2,9040,null,null,null,null,null,false]
[null,"Alliance for Regional Collaboratives for Climate Adaptation","REGIONAL","NGO",3,2,17277,null,null,null,null,null,false]
[null,"Alliance for the Chesapeake Bay","REGIONAL","NGO",3,2,110,null,null,null,null,null,false]
[null,"Alliance for the Great Lakes","REGIONAL","NGO",3,2,111,null,null,null,null,null,false]
[null,"Alliance for Water Efficiency","REGIONAL","NGO",3,2,8609,null,null,null,null,null,false]
[null,"Allied Drive Learning Center","LOCAL","OTHER PARTNERS",1,6,8581,null,null,null,null,null,false]
[null,"Al-Lou’s Fish","LOCAL","INDUSTRY AND BUSINESS",1,3,112,null,null,null,null,null,false]
[null,"Allouez Marine","LOCAL","INDUSTRY AND BUSINESS",1,3,7287,null,null,null,null,null,false]
[null,"AllStart Auto Electric","LOCAL","INDUSTRY AND BUSINESS",1,3,8717,null,null,null,null,null,false]
[null,"Alltech Inc.","STATE","INDUSTRY AND BUSINESS",2,3,113,null,null,null,null,null,false]
[null,"Allyn Community Association","LOCAL","INDUSTRY AND BUSINESS",1,3,7378,null,null,null,null,null,false]
[null,"Alma Bryant High School","LOCAL","ACADEMIC INSTITUTION",1,4,114,null,null,null,null,null,false]
[null,"Almost Persuaded Charters","LOCAL","INDUSTRY AND BUSINESS",1,3,13744,null,null,null,null,null,false]
[null,"Alpena Area Chamber of Commerce","LOCAL","GOVERNMENT",1,1,9128,null,null,null,null,null,false]
[null,"Alpena Community College","LOCAL","ACADEMIC INSTITUTION",1,4,7976,null,null,null,null,null,false]
[null,"Alpena Convention and Visitors Bureau","LOCAL","GOVERNMENT",1,1,9129,null,null,null,null,null,false]
[null,"Alpena County Board of Commissioners","LOCAL","GOVERNMENT",1,1,9130,null,null,null,null,null,false]
[null,"Alpena High School","LOCAL","ACADEMIC INSTITUTION",1,4,9131,null,null,null,null,null,false]
[null,"Alpena Shipwreck Tours","LOCAL","INDUSTRY AND BUSINESS",1,3,7977,null,null,null,null,null,false]
[null,"Alpena Township","LOCAL","GOVERNMENT",1,1,9132,null,null,null,null,null,false]
[null,"Alpena Wildlife Sanctuary Committee (River Center)","LOCAL","GOVERNMENT",1,1,9133,null,null,null,null,null,false]
[null,"Alpena-Montmorency-Alcona ESD","LOCAL","ACADEMIC INSTITUTION",1,4,115,null,null,null,null,null,false]
[null,"Alsip Nursery","LOCAL","INDUSTRY AND BUSINESS",1,3,14815,null,null,null,null,null,false]
[null,"Alta Pointe Health Systems","STATE","NGO",2,2,6491,null,null,null,null,null,false]
[null,"Altamaha Riverkeeper","REGIONAL","NGO",3,2,116,null,null,null,null,null,false]
[null,"AltaSea at the Port of Los Angeles","LOCAL","INDUSTRY AND BUSINESS",1,3,17300,null,null,null,null,null,false]
[null,"Alternatives Northwest","LOCAL","INDUSTRY AND BUSINESS",1,3,117,null,null,null,null,null,false]
[null,"Altria Foundation","FEDERAL or NATIONAL","NGO",4,2,5491,null,null,null,null,null,false]
[null,"Alu Like Inc.","LOCAL","NGO",1,2,13060,null,null,null,null,null,false]
[null,"Alutiiq Museum","LOCAL","OTHER PARTNERS",1,6,5383,null,null,null,null,null,false]
[null,"Alutiiq Pride Shellfish Hatchery","LOCAL","INDUSTRY AND BUSINESS",1,3,118,null,null,null,null,null,false]
[null,"Alutiiq Pride ShellfishHatchery","Tribal","Unknown",13,0,17951,null,null,null,null,null,false]
[null,"Alutiiq Tribe of Old Harbor","LOCAL","GOVERNMENT",1,1,17180,null,null,null,null,null,false]
[null,"Alutiq Pride Shellfish Hatchery","REGIONAL","INDUSTRY AND BUSINESS",3,3,15070,null,null,null,null,null,false]
[null,"Alvin Community College","LOCAL","ACADEMIC INSTITUTION",1,4,12188,null,null,null,null,null,false]
[null,"Alward Institute for Collaborative Science","FEDERAL or NATIONAL","NGO",4,2,16791,null,null,null,null,null,false]
[null,"AMA/Iosco Math and Science Center","LOCAL","NGO",1,2,12458,null,null,null,null,null,{"$f":"AND(  NOT(ISERROR(FIND(UPPER($B$7),UPPER($B398),1))),  OR($D$7=\"\",NOT(ISERROR(FIND(UPPER($D$7),UPPER($B398),1)))),    OR($D$8=\"\",(ISERROR(FIND(UPPER($D$8),UPPER($B398),1))))           )","v":false}]
[null,"Amazon","INTERNATIONAL","INDUSTRY AND BUSINESS",5,3,119,null,null,null,null,null,false]
[null,"AMEC plc","INTERNATIONAL","INDUSTRY AND BUSINESS",5,3,9510,null,null,null,null,null,false]
[null,"AMEREN","STATE","INDUSTRY AND BUSINESS",2,3,19907,null,null,null,null,null,false]
[null,"American Abalone","STATE","INDUSTRY AND BUSINESS",2,3,3761,null,null,null,null,null,false]
[null,"American Abalone Farm","STATE","INDUSTRY AND BUSINESS",2,3,11226,null,null,null,null,null,false]
[null,"American Academy of Family Physicians","FEDERAL or NATIONAL","NGO",4,2,120,null,null,null,null,null,false]
[null,"American Academy of Underwater Scientists (AAUS)","FEDERAL or NATIONAL","NGO",4,2,8479,null,null,null,null,null,false]
[null,"American Association for the Advancement of Science (AAAS)","FEDERAL or NATIONAL","OTHER PARTNERS",4,6,123,null,null,null,null,null,false]
[null,"American Association for the Study of Liver Diseases","FEDERAL or NATIONAL","NGO",4,2,121,null,null,null,null,null,false]
[null,"American Association of Clinical Endocrinologists","FEDERAL or NATIONAL","NGO",4,2,122,null,null,null,null,null,false]
[null,"American Association of Diabetes Educators","FEDERAL or NATIONAL","NGO",4,2,124,null,null,null,null,null,false]
[null,"American Association of Flood Plain Managers","FEDERAL or NATIONAL","NGO",4,2,9557,null,null,null,null,null,false]
[null,"American Association of Landscape Architects","STATE","NGO",2,2,10573,null,null,null,null,null,false]
[null,"American Association of Port Authorities","FEDERAL or NATIONAL","OTHER PARTNERS",4,6,15498,null,null,null,null,null,false]
[null,"American Association of University Women","FEDERAL or NATIONAL","OTHER PARTNERS",4,6,125,null,null,null,null,null,false]
[null,"American Bar Association Section of Environment, Energy, and Resources","FEDERAL or NATIONAL","Unknown",4,0,17646,null,null,null,null,null,false]
[null,"American Bird Conservancy","FEDERAL or NATIONAL","NGO",4,2,126,null,null,null,null,null,false]
[null,"American Boat and Yacht Council","REGIONAL","INDUSTRY AND BUSINESS",3,3,12407,null,null,null,null,null,false]
[null,"American Bottoms Regional Wastewater Treatment","LOCAL","GOVERNMENT",1,1,13753,null,null,null,null,null,false]
[null,"American Bureau of Shipping","FEDERAL or NATIONAL","INDUSTRY AND BUSINESS",4,3,127,null,null,null,null,null,false]
[null,"American Cancer Research Center And Hospital, Denver","Unknown","Unknown",0,0,3502,null,null,null,null,null,false]
[null,"American Canoe Association","FEDERAL or NATIONAL","NGO",4,2,15311,null,null,null,null,null,false]
[null,"American Center for Mongolian Studies Research Grant","INTERNATIONAL","ACADEMIC INSTITUTION",5,4,19740,null,null,null,null,null,false]
[null,"American Cetacean Society","FEDERAL or NATIONAL","NGO",4,2,128,null,null,null,null,null,false]
[null,"American Chemistry Council (Plastics Division)","FEDERAL or NATIONAL","NGO",4,2,19908,null,null,null,null,null,false]
[null,"American Chestnut Foundation","REGIONAL","NGO",3,2,16568,null,null,null,null,null,false]
[null,"American College of Emergency Physicians","FEDERAL or NATIONAL","ACADEMIC INSTITUTION",4,4,129,null,null,null,null,null,false]
[null,"American College of Gastroenterology","FEDERAL or NATIONAL","ACADEMIC INSTITUTION",4,4,130,null,null,null,null,null,false]
[null,"American Culinary Federation","FEDERAL or NATIONAL","NGO",4,2,131,null,null,null,null,null,false]
[null,"American Culinary Federation","FEDERAL or NATIONAL","INDUSTRY AND BUSINESS",4,3,7293,null,null,null,null,null,false]
[null,"American Culinary Federation Virginia Chefs Association","STATE","NGO",2,2,19293,null,null,null,null,null,false]
[null,"American Educational Research Association (AERA)","FEDERAL or NATIONAL","NGO",4,2,18167,null,null,null,null,null,false]
[null,"American Engineering and Testing","FEDERAL or NATIONAL","NGO",4,2,8775,null,null,null,null,null,false]
[null,"American Farm Trust","FEDERAL or NATIONAL","NGO",4,2,132,null,null,null,null,null,false]
[null,"American Fisheries Association","FEDERAL or NATIONAL","NGO",4,2,133,null,null,null,null,null,false]
[null,"American Fisheries Society","FEDERAL or NATIONAL","Unknown",4,0,9683,null,null,null,null,null,false]
[null,"American Fisheries Society (AFS)","FEDERAL or NATIONAL","NGO",4,2,134,null,null,null,null,null,false]
[null,"American Fisheries Society Oregon Chapter","STATE","OTHER PARTNERS",2,6,19751,null,null,null,null,null,false]
[null,"American Gastroenterological Association","FEDERAL or NATIONAL","NGO",4,2,135,null,null,null,null,null,false]
[null,"American Genetics Society","FEDERAL or NATIONAL","NGO",4,2,17723,null,null,null,null,null,false]
[null,"American Geophysical Union (AGU)","Unknown","Unknown",0,0,3503,null,null,null,null,null,false]
[null,"American Geophysical Union Thriving Earth Exchange","LOCAL","OTHER PARTNERS",1,6,19322,null,null,null,null,null,false]
[null,"American Gold Seafoods","REGIONAL","INDUSTRY AND BUSINESS",3,3,4304,null,null,null,null,null,false]
[null,"American Great Lakes Ports Association and Its Members","REGIONAL","NGO",3,2,6288,null,null,null,null,null,false]
[null,"American Heart Association (AHA)","FEDERAL or NATIONAL","NGO",4,2,17780,null,null,null,null,null,false]
[null,"American Institute of Architechts (NJ)","STATE","NGO",2,2,10570,null,null,null,null,null,false]
[null,"American Institute of Architects Honolulu Chapter","FEDERAL or NATIONAL","INDUSTRY AND BUSINESS",4,3,136,null,null,null,null,null,false]
[null,"American Institute of Architects, MN Chapter","STATE","INDUSTRY AND BUSINESS",2,3,6255,null,null,null,null,null,false]
[null,"American Institute Of Biological Sciences","Unknown","Unknown",0,0,3504,null,null,null,null,null,false]
[null,"American Littoral Society","REGIONAL","NGO",3,2,7200,null,null,null,null,null,false]
[null,"American Mariculture","REGIONAL","INDUSTRY AND BUSINESS",3,3,15154,null,null,null,null,null,false]
[null,"American Marine Corporation","REGIONAL","INDUSTRY AND BUSINESS",3,3,7445,null,null,null,null,null,false]
[null,"American Medical Association","REGIONAL","ACADEMIC INSTITUTION",3,4,7926,null,null,null,null,null,false]
[null,"American Meteorological Society (AMS)","FEDERAL or NATIONAL","NGO",4,2,137,null,null,null,null,null,false]
[null,"American Museum of Natural History","FEDERAL or NATIONAL","NGO",4,2,15860,null,null,null,null,null,false]
[null,"American Museum of Natural History (NY)","FEDERAL or NATIONAL","GOVERNMENT",4,1,5132,null,null,null,null,null,false]
[null,"American Mussel Harvester","LOCAL","INDUSTRY AND BUSINESS",1,3,7310,null,null,null,null,null,false]
[null,"American Nursery and Landscape Association","LOCAL","INDUSTRY AND BUSINESS",1,3,15537,null,null,null,null,null,false]
[null,"American Nursery Landscape Association","FEDERAL or NATIONAL","NGO",4,2,139,null,null,null,null,null,false]
[null,"American Nurses Association","FEDERAL or NATIONAL","NGO",4,2,140,null,null,null,null,null,false]
[null,"American Ornithology Socieity","FEDERAL or NATIONAL","NGO",4,2,19580,null,null,null,null,null,false]
[null,"American Planning Association","FEDERAL or NATIONAL","NGO",4,2,6123,null,null,null,null,null,false]
[null,"American Planning Association","FEDERAL or NATIONAL","NGO",4,2,4536,null,null,null,null,null,false]
[null,"American Planning Association- Chicago Metro Section","LOCAL","GOVERNMENT",1,1,14793,null,null,null,null,null,{"$f":"AND(  NOT(ISERROR(FIND(UPPER($B$7),UPPER($B462),1))),  OR($D$7=\"\",NOT(ISERROR(FIND(UPPER($D$7),UPPER($B462),1)))),    OR($D$8=\"\",(ISERROR(FIND(UPPER($D$8),UPPER($B462),1))))           )","v":false}]
[null,"American Planning Association Hawaii Chapter","STATE","NGO",2,2,8252,null,null,null,null,null,false]
[null,"American Planning Association, New Jersey Chapter","LOCAL","NGO",1,2,19329,null,null,null,null,null,false]
[null,"American Prawn Cooperative","REGIONAL","INDUSTRY AND BUSINESS",3,3,12657,null,null,null,null,null,false]
[null,"American Rainwater Catchment Systems Association","FEDERAL or NATIONAL","INDUSTRY AND BUSINESS",4,3,8288,null,null,null,null,null,false]
[null,"American Red Cross","INTERNATIONAL","NGO",5,2,2303,null,null,null,null,null,false]
[null,"American Rivers","FEDERAL or NATIONAL","NGO",4,2,13331,null,null,null,null,null,false]
[null,"American Samoa Community College","STATE","ACADEMIC INSTITUTION",2,4,141,null,null,null,null,null,false]
[null,"American Samoa Community College Agriculture, Community and Natural Resources Division","STATE","ACADEMIC INSTITUTION",2,4,16251,null,null,null,null,null,false]
[null,"American Samoa Department of Commerce Community Services","LOCAL","GOVERNMENT",1,1,13381,null,null,null,null,null,false]
[null,"American Samoa Department of Education (AS ED)","REGIONAL","GOVERNMENT",3,1,142,null,null,null,null,null,false]
[null,"American Samoa EMS","REGIONAL","GOVERNMENT",3,1,16387,null,null,null,null,null,false]
[null,"American Samoa Environmental Protection Agency","STATE","GOVERNMENT",2,1,16250,null,null,null,null,null,false]
[null,"American Samoa Government Coral Reef Advisory Group","REGIONAL","GOVERNMENT",3,1,143,null,null,null,null,null,false]
[null,"American Samoa Government Department of Marine and Wildlife Resources","LOCAL","GOVERNMENT",1,1,12573,null,null,null,null,null,false]
[null,"American Samoa Governor's Office","STATE","GOVERNMENT",2,1,18459,null,null,null,null,null,false]
[null,"American Samoa Marine Patrol","REGIONAL","GOVERNMENT",3,1,16386,null,null,null,null,null,false]
[null,"American Samoa Marine Sanctuaries Dive Drill Response","REGIONAL","GOVERNMENT",3,1,16388,null,null,null,null,null,false]
[null,"American Samoa Power Authority","STATE","GOVERNMENT",2,1,16252,null,null,null,null,null,false]
[null,"American Samoa Renewable Energy Committee","STATE","GOVERNMENT",2,1,18458,null,null,null,null,null,false]
[null,"American Samoa Resource, Conservation and Development Council","STATE","NGO",2,2,144,null,null,null,null,null,false]
[null,"American School for the Deaf","FEDERAL or NATIONAL","ACADEMIC INSTITUTION",4,4,145,null,null,null,null,null,false]
[null,"American Seafoods","LOCAL","INDUSTRY AND BUSINESS",1,3,19558,null,null,null,null,null,false]
[null,"American Seafoods Company","FEDERAL or NATIONAL","INDUSTRY AND BUSINESS",4,3,4305,null,null,null,null,null,false]
[null,"American Shore and Beach Preservation Association","REGIONAL","NGO",3,2,4029,null,null,null,null,null,false]
[null,"American Shrimp Processors Association","FEDERAL or NATIONAL","INDUSTRY AND BUSINESS",4,3,9511,null,null,null,null,null,false]
[null,"American Society for Microbiology","FEDERAL or NATIONAL","NGO",4,2,8964,null,null,null,null,null,false]
[null,"American Society of Adaptation Professionals","FEDERAL or NATIONAL","NGO",4,2,18917,null,null,null,null,null,false]
[null,"American Society of Civil Engineers (ASCE)","FEDERAL or NATIONAL","INDUSTRY AND BUSINESS",4,3,146,null,null,null,null,null,false]
[null,"American Society of Civil Engineers, Coastal Practice Team (ASCE, CPT)","FEDERAL or NATIONAL","NGO",4,2,147,null,null,null,null,null,false]
[null,"American Society of Civil Engineers, Dredging Team (ASCE, DT)","FEDERAL or NATIONAL","NGO",4,2,148,null,null,null,null,null,false]
[null,"American Society of Landscape Architects (ASLA)","REGIONAL","NGO",3,2,8690,null,null,null,null,null,false]
[null,"American Society of Limnology and Oceanography (ASLO)","FEDERAL or NATIONAL","NGO",4,2,149,null,null,null,null,null,false]
[null,"American Society of Pharmacognosy","FEDERAL or NATIONAL","NGO",4,2,150,null,null,null,null,null,false]
[null,"American Soybean Association","REGIONAL","INDUSTRY AND BUSINESS",3,3,12533,null,null,null,null,null,false]
[null,"American University","NULL","NULL","NULL","NULL",14686,null,null,null,null,null,false]
[null,"American University - Washington College of Law","NULL","NULL","NULL","NULL",17878,null,null,null,null,null,false]
[null,"American University, Washington DC","STATE","ACADEMIC INSTITUTION",2,4,9260,null,null,null,null,null,false]
[null,"American Veterinary Medical Association","FEDERAL or NATIONAL","NGO",4,2,151,null,null,null,null,null,false]
[null,"American Water Resources Association","FEDERAL or NATIONAL","NGO",4,2,152,null,null,null,null,null,false]
[null,"American Water Works Association -- Illinois Chapter","STATE","NGO",2,2,8610,null,null,null,null,null,false]
[null,"American Water Works Association-South Carolina Section","STATE","NGO",2,2,14304,null,null,null,null,null,false]
[null,"American Waterways Association - West Coast Towboat Industry","FEDERAL or NATIONAL","INDUSTRY AND BUSINESS",4,3,153,null,null,null,null,null,false]
[null,"American Waterways Operators","FEDERAL or NATIONAL","INDUSTRY AND BUSINESS",4,3,154,null,null,null,null,null,false]
[null,"American West Steamboat Co.","REGIONAL","INDUSTRY AND BUSINESS",3,3,7446,null,null,null,null,null,false]
[null,"American Wind Energy Association Offshore Wind Working Group;","Unknown","Unknown",0,0,8945,null,null,null,null,null,false]
[null,"America's Wetland Foundation","FEDERAL or NATIONAL","Unknown",4,0,9684,null,null,null,null,null,false]
[null,"America's Wild Rivers Coast Alliance","STATE","NGO",2,2,10468,null,null,null,null,null,false]
[null,"Americorp Watershed Amabassdors","LOCAL","NGO",1,2,18663,null,null,null,null,null,false]
[null,"AmeriCorps","FEDERAL or NATIONAL","GOVERNMENT",4,1,5058,null,null,null,null,null,false]
[null,"AmeriCorps Cape Cod","FEDERAL or NATIONAL","NGO",4,2,11521,null,null,null,null,null,false]
[null,"AmeriCorps Watershed Stewards Program","FEDERAL or NATIONAL","OTHER PARTNERS",4,6,18731,null,null,null,null,null,false]
[null,"AMEXCAN","LOCAL","NGO",1,2,18918,null,null,null,null,null,false]
[null,"AMI Consulting Engineers","LOCAL","INDUSTRY AND BUSINESS",1,3,155,null,null,null,null,null,false]
[null,"AMI Consulting Engineers, P.A.","LOCAL","INDUSTRY AND BUSINESS",1,3,6256,null,null,null,null,null,false]
[null,"AMI Engineering","LOCAL","INDUSTRY AND BUSINESS",1,3,19499,null,null,null,null,null,false]
[null,"Amigos de Bolsa Chica","LOCAL","NGO",1,2,17292,null,null,null,null,null,false]
[null,"Amigos de Tres Palmas","LOCAL","NGO",1,2,14047,null,null,null,null,null,false]
[null,"Amory Seafood","STATE","INDUSTRY AND BUSINESS",2,3,15587,null,null,null,null,null,false]
[null,"AmTest Laboratories","LOCAL","INDUSTRY AND BUSINESS",1,3,156,null,null,null,null,null,false]
[null,"Amundsen High School, Chicago","LOCAL","ACADEMIC INSTITUTION",1,4,5914,null,null,null,null,null,false]
[null,"An All American Oyster Company","LOCAL","INDUSTRY AND BUSINESS",1,3,19211,null,null,null,null,null,false]
[null,"Anacortes School District","LOCAL","ACADEMIC INSTITUTION",1,4,10498,null,null,null,null,null,false]
[null,"Anacostia Riverkeeper","LOCAL","NGO",1,2,11565,null,null,null,null,null,false]
[null,"Anacostia Watershed Association","REGIONAL","NGO",3,2,157,null,null,null,null,null,{"$f":"AND(  NOT(ISERROR(FIND(UPPER($B$7),UPPER($B526),1))),  OR($D$7=\"\",NOT(ISERROR(FIND(UPPER($D$7),UPPER($B526),1)))),    OR($D$8=\"\",(ISERROR(FIND(UPPER($D$8),UPPER($B526),1))))           )","v":false}]
[null,"Anahuac ISD","LOCAL","ACADEMIC INSTITUTION",1,4,12189,null,null,null,null,null,false]
[null,"Analysis Group, Inc. (AG)","Unknown","INDUSTRY AND BUSINESS",0,3,6738,null,null,null,null,null,false]
[null,"Analytical Instrument Systems, Inc.","REGIONAL","INDUSTRY AND BUSINESS",3,3,9349,null,null,null,null,null,false]
[null,"Anchor QEA","FEDERAL or NATIONAL","INDUSTRY AND BUSINESS",4,3,17297,null,null,null,null,null,false]
[null,"Anchor Seafood","LOCAL","INDUSTRY AND BUSINESS",1,3,12190,null,null,null,null,null,false]
[null,"Anchorage International Airport","LOCAL","INDUSTRY AND BUSINESS",1,3,158,null,null,null,null,null,false]
[null,"Anchorage Park Foundation","LOCAL","NGO",1,2,17216,null,null,null,null,null,false]
[null,"Anchorage School District","LOCAL","GOVERNMENT",1,1,159,null,null,null,null,null,false]
[null,"Anchorage School District STEM Department and Business Partners Program","LOCAL","GOVERNMENT",1,1,17214,null,null,null,null,null,false]
[null,"Anchorage Waterways Council","LOCAL","NGO",1,2,17215,null,null,null,null,null,false]
[null,"Anderson Construction","LOCAL","INDUSTRY AND BUSINESS",1,3,7498,null,null,null,null,null,false]
[null,"Andrew S. McGinty","STATE","ACADEMIC INSTITUTION",2,4,16835,null,null,null,null,null,false]
[null,"Andrews, SC","LOCAL","GOVERNMENT",1,1,4942,null,null,null,null,null,false]
[null,"Andria's Seafood","LOCAL","INDUSTRY AND BUSINESS",1,3,8173,null,null,null,null,null,false]
[null,"Angies List","FEDERAL or NATIONAL","INDUSTRY AND BUSINESS",4,3,6696,null,null,null,null,null,false]
[null,"Angler’s Sport Center, MD","LOCAL","INDUSTRY AND BUSINESS",1,3,11227,null,null,null,null,null,false]
[null,"Anglers for Better Louisiana's Estuaries","STATE","Unknown",2,0,19099,null,null,null,null,null,false]
[null,"Angleton Independent School District","LOCAL","ACADEMIC INSTITUTION",1,4,12191,null,null,null,null,null,false]
[null,"Angling Women","LOCAL","INDUSTRY AND BUSINESS",1,3,14010,null,null,null,null,null,false]
[null,"Animal Allies","LOCAL","NGO",1,2,11308,null,null,null,null,null,false]
[null,"Animal and Plant Health Inspection Service (APHIS)","LOCAL","ACADEMIC INSTITUTION",1,4,3309,null,null,null,null,null,false]
[null,"Animal Health Centre","INTERNATIONAL","INDUSTRY AND BUSINESS",5,3,17227,null,null,null,null,null,false]
[null,"Animal Island Pet Shop","LOCAL","INDUSTRY AND BUSINESS",1,3,16148,null,null,null,null,null,false]
[null,"Animal Planet","INTERNATIONAL","INDUSTRY AND BUSINESS",5,3,2705,null,null,null,null,null,false]
[null,"Animal Rehabilitation Keep (ARK)","LOCAL","NGO",1,2,14125,null,null,null,null,null,false]
[null,"Anini community members","LOCAL","OTHER PARTNERS",1,6,19479,null,null,null,null,null,false]
[null,"Anita Purves Nature Center","LOCAL","OTHER PARTNERS",1,6,160,null,null,null,null,null,false]
[null,"Anita Purves Nature Center","LOCAL","GOVERNMENT",1,1,5915,null,null,null,null,null,false]
[null,"Ann P. Stokes Landscape Architects","LOCAL","INDUSTRY AND BUSINESS",1,3,13644,null,null,null,null,null,false]
[null,"Anna Marie Shrimp","LOCAL","INDUSTRY AND BUSINESS",1,3,15480,null,null,null,null,null,false]
[null,"Annapolis Historic Preservation Division","LOCAL","GOVERNMENT",1,1,18237,null,null,null,null,null,false]
[null,"Anne Arundel Community College","STATE","ACADEMIC INSTITUTION",2,4,7514,null,null,null,null,null,false]
[null,"Anne Arundel County","LOCAL","GOVERNMENT",1,1,8967,null,null,null,null,null,false]
[null,"Anne Arundel County Watershed Stewards Academy","LOCAL","NGO",1,2,11228,null,null,null,null,null,false]
[null,"Anne Penniman Associates","LOCAL","INDUSTRY AND BUSINESS",1,3,6797,null,null,null,null,null,false]
[null,"Annenberg Foundation","Unknown","NGO",0,2,7780,null,null,null,null,null,false]
[null,"Annis Water Resources Institute (GVSU)","LOCAL","ACADEMIC INSTITUTION",1,4,5982,null,null,null,null,null,false]
[null,"Año Nuevo State Park and Reserve","STATE","GOVERNMENT",2,1,3466,null,null,null,null,null,false]
[null,"ANOVA Food USA","INTERNATIONAL","INDUSTRY AND BUSINESS",5,3,8209,null,null,null,null,null,false]
[null,"Anresco Laboratories","INTERNATIONAL","INDUSTRY AND BUSINESS",5,3,8154,null,null,null,null,null,false]
[null,"Anthropology Department, University of Alaska Anchorage (UAA)","STATE","ACADEMIC INSTITUTION",2,4,10080,null,null,null,null,null,false]
[null,"Antioch University New England","STATE","ACADEMIC INSTITUTION",2,4,6913,null,null,null,null,null,false]
[null,"Antique Rose Emporium","STATE","INDUSTRY AND BUSINESS",2,3,6152,null,null,null,null,null,false]
[null,"AOML, NOAA, Sea Grant","FEDERAL or NATIONAL","Unknown",4,0,9636,null,null,null,null,null,false]
[null,"Apache Corporation","INTERNATIONAL","INDUSTRY AND BUSINESS",5,3,19101,null,null,null,null,null,false]
[null,"Apache Pier Campground","LOCAL","GOVERNMENT",1,1,7122,null,null,null,null,null,false]
[null,"Apalachee Regional Planning Council","REGIONAL","Unknown",3,0,19710,null,null,null,null,null,false]
[null,"Apalachicola Bay Chamber of Commerce","LOCAL","INDUSTRY AND BUSINESS",1,3,15645,null,null,null,null,null,false]
[null,"Apalachicola National Estuarine Research Reserve (NERR)","FEDERAL or NATIONAL","GOVERNMENT",4,1,6492,null,null,null,null,null,false]
[null,"Apalachicola National Estuarine Research Reserve (US DOC, NOAA, NOS, NERRS)","REGIONAL","Unknown",3,0,16340,null,null,null,null,null,false]
[null,"Apalachicola NERR","REGIONAL","Unknown",3,0,9637,null,null,null,null,null,false]
[null,"Apalachicola Seafood Workers Association","LOCAL","Unknown",1,0,9638,null,null,null,null,null,false]
[null,"Apostle Islands National Lakeshore, National Park Service (US DOI, NPS)","FEDERAL or NATIONAL","GOVERNMENT",4,1,161,null,null,null,null,null,false]
[null,"Apostle Islands Sport Fisherman Assn.","LOCAL","NGO",1,2,162,null,null,null,null,null,false]
[null,"Apostle Islands Sport Fisherman's Association","LOCAL","OTHER PARTNERS",1,6,11469,null,null,null,null,null,false]
[null,"Appalachian Forest Heritage Area (AFHA)","LOCAL","NGO",1,2,15874,null,null,null,null,null,false]
[null,"Appalachian State University (AppState)","STATE","ACADEMIC INSTITUTION",2,4,163,null,null,null,null,null,false]
[null,"Apple Island Marina","Unknown","INDUSTRY AND BUSINESS",0,3,18081,null,null,null,null,null,false]
[null,"Applied Ecological Services, Inc.","LOCAL","INDUSTRY AND BUSINESS",1,3,20029,null,null,null,null,null,false]
[null,"Applied food Technologies","Unknown","INDUSTRY AND BUSINESS",0,3,6956,null,null,null,null,null,false]
[null,"Applied Phytogenetics, Inc.","FEDERAL or NATIONAL","INDUSTRY AND BUSINESS",4,3,164,null,null,null,null,null,false]
[null,"Applied Research Associates Bachem","FEDERAL or NATIONAL","INDUSTRY AND BUSINESS",4,3,165,null,null,null,null,null,false]
[null,"applied research in environmental","Unknown","Unknown",0,0,18165,null,null,null,null,null,false]
[null,"Applied Research in Environmental Sciences","FEDERAL or NATIONAL","NGO",4,2,13664,null,null,null,null,null,{"$f":"AND(  NOT(ISERROR(FIND(UPPER($B$7),UPPER($B590),1))),  OR($D$7=\"\",NOT(ISERROR(FIND(UPPER($D$7),UPPER($B590),1)))),    OR($D$8=\"\",(ISERROR(FIND(UPPER($D$8),UPPER($B590),1))))           )","v":false}]
[null,"Applied Science Associates","LOCAL","INDUSTRY AND BUSINESS",1,3,10493,null,null,null,null,null,false]
[null,"Applied Sustainable Aquaculture","FEDERAL or NATIONAL","INDUSTRY AND BUSINESS",4,3,166,null,null,null,null,null,false]
[null,"Applied Technology and Management, Inc.","FEDERAL or NATIONAL","INDUSTRY AND BUSINESS",4,3,167,null,null,null,null,null,false]
[null,"Applied Technology Council","Unknown","NGO",0,2,4031,null,null,null,null,null,false]
[null,"Appold Design","LOCAL","INDUSTRY AND BUSINESS",1,3,6281,null,null,null,null,null,false]
[null,"Apprise Technologies","Unknown","Unknown",0,0,3505,null,null,null,null,null,false]
[null,"Aqua America","LOCAL","INDUSTRY AND BUSINESS",1,3,14982,null,null,null,null,null,false]
[null,"Aqua Bounty Pacific, Inc., San Diego, California","FEDERAL or NATIONAL","INDUSTRY AND BUSINESS",4,3,168,null,null,null,null,null,false]
[null,"Aqua Dive Services","LOCAL","INDUSTRY AND BUSINESS",1,3,8394,null,null,null,null,null,false]
[null,"Aqua Farms LLC","REGIONAL","INDUSTRY AND BUSINESS",3,3,10864,null,null,null,null,null,false]
[null,"Aqua Growers","STATE","INDUSTRY AND BUSINESS",2,3,12459,null,null,null,null,null,false]
[null,"Aqua Plantations","LOCAL","INDUSTRY AND BUSINESS",1,3,12658,null,null,null,null,null,false]
[null,"Aqua Terra","LOCAL","INDUSTRY AND BUSINESS",1,3,12409,null,null,null,null,null,false]
[null,"AquaBlok","LOCAL","INDUSTRY AND BUSINESS",1,3,6851,null,null,null,null,null,false]
[null,"Aquacoustics","INTERNATIONAL","INDUSTRY AND BUSINESS",5,3,10627,null,null,null,null,null,false]
[null,"Aquacultural Research Corporation (ARC)","LOCAL","INDUSTRY AND BUSINESS",1,3,11522,null,null,null,null,null,false]
[null,"Aquaculture Center of the Florida Keys, Inc.","FEDERAL or NATIONAL","INDUSTRY AND BUSINESS",4,3,169,null,null,null,null,null,false]
[null,"Aquaculture Demonstration Facility","FEDERAL or NATIONAL","ACADEMIC INSTITUTION",4,4,170,null,null,null,null,null,false]
[null,"Aquaculture Development Committee (CA DFG)","STATE","GOVERNMENT",2,1,5191,null,null,null,null,null,false]
[null,"Aquaculture Industry","FEDERAL or NATIONAL","INDUSTRY AND BUSINESS",4,3,171,null,null,null,null,null,false]
[null,"Aquaculture Innovation Center","STATE","ACADEMIC INSTITUTION",2,4,16607,null,null,null,null,null,false]
[null,"Aquaculture Network Information Center","REGIONAL","OTHER PARTNERS",3,6,5698,null,null,null,null,null,false]
[null,"Aquaculture North America Magazine","FEDERAL or NATIONAL","INDUSTRY AND BUSINESS",4,3,15588,null,null,null,null,null,false]
[null,"Aquaculture Program Office (US DOC, NOAA, NMFS)","FEDERAL or NATIONAL","GOVERNMENT",4,1,5579,null,null,null,null,null,false]
[null,"Aquaculture Research Corporation","LOCAL","INDUSTRY AND BUSINESS",1,3,11470,null,null,null,null,null,false]
[null,"Aquaculture Research Station (LSU)","STATE","ACADEMIC INSTITUTION",2,4,5065,null,null,null,null,null,false]
[null,"Aquaculture System Technologies","FEDERAL or NATIONAL","Unknown",4,0,9685,null,null,null,null,null,false]
[null,"Aquaculture Systems Technologies, LLC","FEDERAL or NATIONAL","INDUSTRY AND BUSINESS",4,3,172,null,null,null,null,null,false]
[null,"Aquafauna Bio-Marine, Inc. Hawthorne, Ca.","STATE","INDUSTRY AND BUSINESS",2,3,3683,null,null,null,null,null,false]
[null,"Aqua-Kids LLC and Adventure Productions","LOCAL","INDUSTRY AND BUSINESS",1,3,4538,null,null,null,null,null,false]
[null,"Aqualand Pets","LOCAL","INDUSTRY AND BUSINESS",1,3,16149,null,null,null,null,null,false]
[null,"Aqualider Maricultura Ltda.","INTERNATIONAL","INDUSTRY AND BUSINESS",5,3,173,null,null,null,null,null,false]
[null,"AquaManna, LLC","STATE","INDUSTRY AND BUSINESS",2,3,5942,null,null,null,null,null,false]
[null,"Aquamar","INTERNATIONAL","INDUSTRY AND BUSINESS",5,3,8135,null,null,null,null,null,false]
[null,"Aquamarine Adventures","LOCAL","INDUSTRY AND BUSINESS",1,3,17350,null,null,null,null,null,false]
[null,"AquaMay","INTERNATIONAL","INDUSTRY AND BUSINESS",5,3,8985,null,null,null,null,null,false]
[null,"AquaRanch Industries","REGIONAL","INDUSTRY AND BUSINESS",3,3,5908,null,null,null,null,null,false]
[null,"Aquarion Water Company","FEDERAL or NATIONAL","INDUSTRY AND BUSINESS",4,3,174,null,null,null,null,null,false]
[null,"Aquarium Fish Sanctuary","LOCAL","NGO",1,2,18200,null,null,null,null,null,false]
[null,"Aquarium of Niagara","REGIONAL","OTHER PARTNERS",3,6,175,null,null,null,null,null,false]
[null,"Aquarium of Niagara (NY)","LOCAL","INDUSTRY AND BUSINESS",1,3,15559,null,null,null,null,null,false]
[null,"Aquarium of the Americas","FEDERAL or NATIONAL","Unknown",4,0,9686,null,null,null,null,null,false]
[null,"Aquarium of the Pacific","REGIONAL","NGO",3,2,13237,null,null,null,null,null,false]
[null,"Aquarium of Veracruz, Mexico","INTERNATIONAL","NGO",5,2,9914,null,null,null,null,null,false]
[null,"Aquarium Pharmaceuticals, Inc.","FEDERAL or NATIONAL","INDUSTRY AND BUSINESS",4,3,176,null,null,null,null,null,false]
[null,"Aquaruis Water Gardens","REGIONAL","INDUSTRY AND BUSINESS",3,3,4539,null,null,null,null,null,false]
[null,"Aquascapes","LOCAL","INDUSTRY AND BUSINESS",1,3,14817,null,null,null,null,null,false]
[null,"AquaTechnics, Inc.","FEDERAL or NATIONAL","INDUSTRY AND BUSINESS",4,3,177,null,null,null,null,null,false]
[null,"Aquatic Analysis and Consulting, LLC","LOCAL","INDUSTRY AND BUSINESS",1,3,14364,null,null,null,null,null,false]
[null,"Aquatic Control Technology","FEDERAL or NATIONAL","INDUSTRY AND BUSINESS",4,3,178,null,null,null,null,null,false]
[null,"Aquatic Ecosystem Health and Management Society","FEDERAL or NATIONAL","NGO",4,2,16142,null,null,null,null,null,false]
[null,"Aquatic Ecosystems","Unknown","INDUSTRY AND BUSINESS",0,3,13926,null,null,null,null,null,false]
[null,"Aquatic Farms","FEDERAL or NATIONAL","INDUSTRY AND BUSINESS",4,3,179,null,null,null,null,null,false]
[null,"Aquatic Invasive Species, Mid-Atlantic Regional Panel (AIS)","REGIONAL","NGO",3,2,180,null,null,null,null,null,false]
[null,"Aquatic Landscape Ecology Lab","STATE","ACADEMIC INSTITUTION",2,4,15820,null,null,null,null,null,false]
[null,"Aquatic Nuisance Species Task Force (ANS)","FEDERAL or NATIONAL","GOVERNMENT",4,1,181,null,null,null,null,null,false]
[null,"Aquatic Plant Management Society","INTERNATIONAL","NGO",5,2,182,null,null,null,null,null,false]
[null,"Aquatic Plants of Florida","Unknown","Unknown",0,0,18181,null,null,null,null,null,false]
[null,"Aquatic Research Consultants","LOCAL","INDUSTRY AND BUSINESS",1,3,14272,null,null,null,null,null,false]
[null,"Aquatic Resources Division, Washington State Department of Natural Resources","STATE","GOVERNMENT",2,1,4504,null,null,null,null,null,false]
[null,"Aquatic Science & Health Services","INTERNATIONAL","INDUSTRY AND BUSINESS",5,3,8571,null,null,null,null,null,false]
[null,"Aquatic Treasures","LOCAL","INDUSTRY AND BUSINESS",1,3,16152,null,null,null,null,null,false]
[null,"Aquatic World","LOCAL","INDUSTRY AND BUSINESS",1,3,14816,null,null,null,null,null,false]
[null,"Aquatica Landscaping","LOCAL","INDUSTRY AND BUSINESS",1,3,11471,null,null,null,null,null,{"$f":"AND(  NOT(ISERROR(FIND(UPPER($B$7),UPPER($B654),1))),  OR($D$7=\"\",NOT(ISERROR(FIND(UPPER($D$7),UPPER($B654),1)))),    OR($D$8=\"\",(ISERROR(FIND(UPPER($D$8),UPPER($B654),1))))           )","v":false}]
[null,"Aquatica Ltd","REGIONAL","INDUSTRY AND BUSINESS",3,3,4541,null,null,null,null,null,false]
[null,"Aquia Bay Marina","LOCAL","INDUSTRY AND BUSINESS",1,3,13705,null,null,null,null,null,false]
[null,"Aquia Harbor Marina","LOCAL","INDUSTRY AND BUSINESS",1,3,10759,null,null,null,null,null,false]
[null,"Aquidneck Island Planning Commission","REGIONAL","NGO",3,2,183,null,null,null,null,null,false]
[null,"Aquionics, Inc","FEDERAL or NATIONAL","INDUSTRY AND BUSINESS",4,3,184,null,null,null,null,null,false]
[null,"Aragonite Products, Inc.","LOCAL","INDUSTRY AND BUSINESS",1,3,10760,null,null,null,null,null,false]
[null,"Aransas","LOCAL","Unknown",1,0,14308,null,null,null,null,null,false]
[null,"Aransas Bird and Nature Club","REGIONAL","NGO",3,2,14124,null,null,null,null,null,false]
[null,"Aransas County, TX","LOCAL","GOVERNMENT",1,1,6063,null,null,null,null,null,false]
[null,"Aransas First","LOCAL","NGO",1,2,12192,null,null,null,null,null,false]
[null,"Aransas National Wildlife Refuge (US DOI, FWS, NWRS)","FEDERAL or NATIONAL","GOVERNMENT",4,1,6102,null,null,null,null,null,false]
[null,"Arcadia Point Seafoods","REGIONAL","INDUSTRY AND BUSINESS",3,3,185,null,null,null,null,null,false]
[null,"Arcadia Point Shellfish Co","LOCAL","INDUSTRY AND BUSINESS",1,3,15064,null,null,null,null,null,false]
[null,"ARCadis","LOCAL","OTHER PARTNERS",1,6,13123,null,null,null,null,null,false]
[null,"Arcadis Inc.","INTERNATIONAL","Unknown",5,0,9687,null,null,null,null,null,false]
[null,"Arcana Greenhouse","LOCAL","INDUSTRY AND BUSINESS",1,3,7070,null,null,null,null,null,false]
[null,"Arch Aluminum and Glass Company","REGIONAL","INDUSTRY AND BUSINESS",3,3,7939,null,null,null,null,null,false]
[null,"Arch Cape, OR","LOCAL","OTHER PARTNERS",1,6,14501,null,null,null,null,null,false]
[null,"Archer Daniels Midland","INTERNATIONAL","NGO",5,2,6019,null,null,null,null,null,false]
[null,"Archie Carr National Wildlife Refuge","FEDERAL or NATIONAL","GOVERNMENT",4,1,14540,null,null,null,null,null,false]
[null,"Archie Green Fellowship for American Folklore Center at the Library of Congress","FEDERAL or NATIONAL","GOVERNMENT",4,1,20083,null,null,null,null,null,false]
[null,"Archipelago Marine Research, Ltd.","INTERNATIONAL","INDUSTRY AND BUSINESS",5,3,4149,null,null,null,null,null,false]
[null,"Architecture Advantage","LOCAL","INDUSTRY AND BUSINESS",1,3,6283,null,null,null,null,null,false]
[null,"Architecture, Marine and Infrastructure Inc.","LOCAL","INDUSTRY AND BUSINESS",1,3,11472,null,null,null,null,null,false]
[null,"ARCS Foundation","FEDERAL or NATIONAL","NGO",4,2,9256,null,null,null,null,null,false]
[null,"Arctic Region Super-computing Center","REGIONAL","ACADEMIC INSTITUTION",3,4,186,null,null,null,null,null,false]
[null,"Arctic Studies Center, Smithsonian Institution (SI)","FEDERAL or NATIONAL","GOVERNMENT",4,1,187,null,null,null,null,null,false]
[null,"Arctic Yukon Kuskokwim Sustainable","REGIONAL","NGO",3,2,188,null,null,null,null,null,false]
[null,"Ardis DeFreece (artist)","Unknown2","OTHER PARTNERS",6,6,16464,null,null,null,null,null,false]
[null,"Arenac County Board of Commissioners","LOCAL","GOVERNMENT",1,1,9134,null,null,null,null,null,false]
[null,"Argone National Laboratory (DOE)","FEDERAL or NATIONAL","GOVERNMENT",4,1,8574,null,null,null,null,null,false]
[null,"Arielle Oyster Co","LOCAL","INDUSTRY AND BUSINESS",1,3,17351,null,null,null,null,null,false]
[null,"Arizona Game and Fish Department","STATE","GOVERNMENT",2,1,189,null,null,null,null,null,false]
[null,"Arizona State University","LOCAL","ACADEMIC INSTITUTION",1,4,9587,null,null,null,null,null,false]
[null,"Arizona State University (ASU)","STATE","ACADEMIC INSTITUTION",2,4,4451,null,null,null,null,null,false]
[null,"Arkansas State University","STATE","ACADEMIC INSTITUTION",2,4,6493,null,null,null,null,null,false]
[null,"Arlington Restaurant","LOCAL","INDUSTRY AND BUSINESS",1,3,18647,null,null,null,null,null,false]
[null,"Arliss Sturgulewski, former state senator","STATE","OTHER PARTNERS",2,6,5384,null,null,null,null,null,false]
[null,"Armand Bayou Nature Center","LOCAL","NGO",1,2,6091,null,null,null,null,null,false]
[null,"Armand Bayou Watershed Partnership","LOCAL","NGO",1,2,13019,null,null,null,null,null,false]
[null,"Armstrong Atlantic State University (AASU)","STATE","ACADEMIC INSTITUTION",2,4,190,null,null,null,null,null,false]
[null,"Armstrong-Keta, Inc.","LOCAL","INDUSTRY AND BUSINESS",1,3,9329,null,null,null,null,null,false]
[null,"Arnett, Muldrow & Associates, Inc.","LOCAL","INDUSTRY AND BUSINESS",1,3,17798,null,null,null,null,null,false]
[null,"Arnold's Seafood","LOCAL","INDUSTRY AND BUSINESS",1,3,12193,null,null,null,null,null,false]
[null,"Arrow Excavating","LOCAL","INDUSTRY AND BUSINESS",1,3,191,null,null,null,null,null,false]
[null,"Arrow Septic Service","LOCAL","INDUSTRY AND BUSINESS",1,3,192,null,null,null,null,null,false]
[null,"Arrowhead Builder's Association","LOCAL","NGO",1,2,6327,null,null,null,null,null,false]
[null,"Arrowhead Regional Development Commission","LOCAL","GOVERNMENT",1,1,193,null,null,null,null,null,false]
[null,"Arrowhead Water Quality Team","LOCAL","ACADEMIC INSTITUTION",1,4,194,null,null,null,null,null,false]
[null,"Arroyo Colorado Audobon Society","LOCAL","NGO",1,2,14143,null,null,null,null,null,false]
[null,"Arroyo Colorado Conservancy","LOCAL","NGO",1,2,12194,null,null,null,null,null,false]
[null,"Arroyo Colorado Water Partnership","LOCAL","NGO",1,2,12195,null,null,null,null,null,false]
[null,"Art of Survival","LOCAL","NGO",1,2,9042,null,null,null,null,null,false]
[null,"Art Works","LOCAL","OTHER PARTNERS",1,6,16600,null,null,null,null,null,false]
[null,"Artesian Aquafarms LLC","LOCAL","INDUSTRY AND BUSINESS",1,3,4978,null,null,null,null,null,false]
[null,"Artisans Center of Virginia","STATE","OTHER PARTNERS",2,6,19212,null,null,null,null,null,false]
[null,"Artist Boat","LOCAL","NGO",1,2,6173,null,null,null,null,null,false]
[null,"Asbury Park Beach Patrol","LOCAL","OTHER PARTNERS",1,6,9080,null,null,null,null,null,false]
[null,"Asbury Park Environmental Commission","LOCAL","GOVERNMENT",1,1,7526,null,null,null,null,null,false]
[null,"Asbury Park Environmental Commission","LOCAL","GOVERNMENT",1,1,7560,null,null,null,null,null,false]
[null,"Asbury Park Press","LOCAL","INDUSTRY AND BUSINESS",1,3,7521,null,null,null,null,null,false]
[null,"ASCE Coasts Oceans Ports and Rivers Institute","REGIONAL","ACADEMIC INSTITUTION",3,4,13131,null,null,null,null,null,false]
[null,"AshBritt, Inc.","FEDERAL or NATIONAL","INDUSTRY AND BUSINESS",4,3,7123,null,null,null,null,null,false]
[null,"Ashford School","LOCAL","ACADEMIC INSTITUTION",1,4,15856,null,null,null,null,null,{"$f":"AND(  NOT(ISERROR(FIND(UPPER($B$7),UPPER($B718),1))),  OR($D$7=\"\",NOT(ISERROR(FIND(UPPER($D$7),UPPER($B718),1)))),    OR($D$8=\"\",(ISERROR(FIND(UPPER($D$8),UPPER($B718),1))))           )","v":false}]
[null,"Ashland City Engineer","LOCAL","GOVERNMENT",1,1,195,null,null,null,null,null,false]
[null,"Ashland County","LOCAL","GOVERNMENT",1,1,196,null,null,null,null,null,false]
[null,"Ashland Fishery Resources Office (US DOI, FWS)","FEDERAL or NATIONAL","GOVERNMENT",4,1,197,null,null,null,null,null,false]
[null,"Ashland Office (WI DNR)","Unknown","Unknown",0,0,9869,null,null,null,null,null,false]
[null,"Ashland School District","LOCAL","ACADEMIC INSTITUTION",1,4,12410,null,null,null,null,null,false]
[null,"Ashley Dayer Consulting","REGIONAL","INDUSTRY AND BUSINESS",3,3,9336,null,null,null,null,null,false]
[null,"Ashley Hall","LOCAL","ACADEMIC INSTITUTION",1,4,7106,null,null,null,null,null,false]
[null,"Ashley Scenic River Advisory Council","LOCAL","NGO",1,2,198,null,null,null,null,null,false]
[null,"Ashley-Cooper Stormwater Education Consortium","LOCAL","Unknown",1,0,4964,null,null,null,null,null,false]
[null,"Ashtabula County Development Corp","STATE","INDUSTRY AND BUSINESS",2,3,3831,null,null,null,null,null,false]
[null,"Ashtabula Port Authority","LOCAL","GOVERNMENT",1,1,7770,null,null,null,null,null,false]
[null,"Ashtabula Remedial Action Plan (RAP)","STATE","GOVERNMENT",2,1,13263,null,null,null,null,null,false]
[null,"Ashtabula River Cooperation Group II","LOCAL","NGO",1,2,7769,null,null,null,null,null,false]
[null,"Ashtabula Yacht Club","LOCAL","INDUSTRY AND BUSINESS",1,3,5139,null,null,null,null,null,false]
[null,"Asia Pacific Economic Group","INTERNATIONAL","NGO",5,2,199,null,null,null,null,null,false]
[null,"Asian Carp Regional Coordinating Committee","REGIONAL","NGO",3,2,14809,null,null,null,null,null,false]
[null,"Asilomar State Beach","STATE","OTHER PARTNERS",2,6,4543,null,null,null,null,null,false]
[null,"Asociacion ANAI","INTERNATIONAL","NGO",5,2,200,null,null,null,null,null,false]
[null,"Asociación de Salvavidas de Puerto Rico (Puerto Rico Lifesaving Association)","STATE","NGO",2,2,18156,null,null,null,null,null,false]
[null,"Assateague State Park","STATE","GOVERNMENT",2,1,14252,null,null,null,null,null,false]
[null,"Assateague State Park (MD)","STATE","GOVERNMENT",2,1,15662,null,null,null,null,null,false]
[null,"Assension Parish, LA","LOCAL","GOVERNMENT",1,1,15502,null,null,null,null,null,false]
[null,"Assessment and Restoration Division (US DOC, NOAA, NOS)","FEDERAL or NATIONAL","GOVERNMENT",4,1,5580,null,null,null,null,null,false]
[null,"Associated Koi Clubs of America","FEDERAL or NATIONAL","NGO",4,2,5874,null,null,null,null,null,false]
[null,"Associated Packaging Technologies","INTERNATIONAL","INDUSTRY AND BUSINESS",5,3,201,null,null,null,null,null,false]
[null,"Associated Press","LOCAL","INDUSTRY AND BUSINESS",1,3,16305,null,null,null,null,null,false]
[null,"Association County Commissioners of Georgia (ACCG)","LOCAL","GOVERNMENT",1,1,202,null,null,null,null,null,false]
[null,"Association for New Jersey Environmental Educators","STATE","NGO",2,2,4858,null,null,null,null,null,false]
[null,"Association for the Protection of Hammersley, Eld and Totten Inlets","LOCAL","NGO",1,2,203,null,null,null,null,null,false]
[null,"Association for the Sciences of Limnology and Oceanography","INTERNATIONAL","ACADEMIC INSTITUTION",5,4,17082,null,null,null,null,null,false]
[null,"Association for Women in Science (AWIS)","FEDERAL or NATIONAL","NGO",4,2,6289,null,null,null,null,null,false]
[null,"Association of Bainbridge Communities","LOCAL","NGO",1,2,4370,null,null,null,null,null,false]
[null,"Association of Climate Change Officers","FEDERAL or NATIONAL","NGO",4,2,15268,null,null,null,null,null,false]
[null,"Association of Fish and Wildlife Agencies","FEDERAL or NATIONAL","NGO",4,2,10461,null,null,null,null,null,false]
[null,"Association of Floodplain Managers","REGIONAL","NGO",3,2,11473,null,null,null,null,null,false]
[null,"Association of Floodplain Managers of Mississippi","STATE","NGO",2,2,9915,null,null,null,null,null,false]
[null,"Association of Floodplain Managers, Madison, Wis.","STATE","NGO",2,2,3684,null,null,null,null,null,false]
[null,"Association of Food and Drug Officials (AFDO)","INTERNATIONAL","NGO",5,2,204,null,null,null,null,null,false]
[null,"Association of Marina Industries","LOCAL","INDUSTRY AND BUSINESS",1,3,7201,null,null,null,null,null,false]
[null,"Association of Marine Industries","STATE","INDUSTRY AND BUSINESS",2,3,5796,null,null,null,null,null,false]
[null,"Association of Mexicans in North Carolina","STATE","NGO",2,2,5005,null,null,null,null,null,false]
[null,"Association of Minnesota Counties","LOCAL","GOVERNMENT",1,1,205,null,null,null,null,null,false]
[null,"Association of Monterey Bay Area Governments (AMBAG)","LOCAL","GOVERNMENT",1,1,3311,null,null,null,null,null,false]
[null,"Association of National Estuary Programs (ANEP)","FEDERAL or NATIONAL","NGO",4,2,11562,null,null,null,null,null,false]
[null,"Association of Natural Resource Extension Professionals","INTERNATIONAL","ACADEMIC INSTITUTION",5,4,206,null,null,null,null,null,false]
[null,"Association of Natural Resources Extension Professionals, Ohio Chapter","STATE","NGO",2,2,5136,null,null,null,null,null,false]
[null,"Association of Public and Land-grant Universities","FEDERAL or NATIONAL","NGO",4,2,9588,null,null,null,null,null,{"$f":"AND(  NOT(ISERROR(FIND(UPPER($B$7),UPPER($B765),1))),  OR($D$7=\"\",NOT(ISERROR(FIND(UPPER($D$7),UPPER($B765),1)))),    OR($D$8=\"\",(ISERROR(FIND(UPPER($D$8),UPPER($B765),1))))           )","v":true}]
[null,"Association of State Floodplain Managers","FEDERAL or NATIONAL","NGO",4,2,16400,null,null,null,null,null,false]
[null,"Association Réunionnaise de Development de l'Aquaculture (ARDA)","INTERNATIONAL","NGO",5,2,207,null,null,null,null,null,false]
[null,"Association to Preserve Cape Cod","REGIONAL","NGO",3,2,18777,null,null,null,null,null,false]
[null,"Associaton of Food & Drug Officials","Unknown","NGO",0,2,6973,null,null,null,null,null,false]
[null,"Assumption Parish, LA","LOCAL","GOVERNMENT",1,1,5054,null,null,null,null,null,false]
[null,"Assumption Regional School, Galloway","LOCAL","ACADEMIC INSTITUTION",1,4,10593,null,null,null,null,null,false]
[null,"Astoria Fire Department","LOCAL","GOVERNMENT",1,1,208,null,null,null,null,null,false]
[null,"Astoria School District","LOCAL","GOVERNMENT",1,1,11671,null,null,null,null,null,false]
[null,"AT&T","INTERNATIONAL","INDUSTRY AND BUSINESS",5,3,6494,null,null,null,null,null,false]
[null,"Atchafalaya Basin Program","STATE","Unknown",2,0,9688,null,null,null,null,null,false]
[null,"Athens Clarke County Schools","LOCAL","ACADEMIC INSTITUTION",1,4,8708,null,null,null,null,null,false]
[null,"Atherton Family Foundation","STATE","NGO",2,2,15133,null,null,null,null,null,false]
[null,"Atkins Global","INTERNATIONAL","INDUSTRY AND BUSINESS",5,3,12334,null,null,null,null,null,false]
[null,"Atkins North America","FEDERAL or NATIONAL","INDUSTRY AND BUSINESS",4,3,12563,null,null,null,null,null,false]
[null,"Atkinson Center for a Sustainable Future at Cornell University","INTERNATIONAL","ACADEMIC INSTITUTION",5,4,16393,null,null,null,null,null,false]
[null,"Atlanta Community Schools","LOCAL","ACADEMIC INSTITUTION",1,4,9135,null,null,null,null,null,false]
[null,"Atlanta Regional Commission","LOCAL","GOVERNMENT",1,1,209,null,null,null,null,null,{"$f":"AND(  NOT(ISERROR(FIND(UPPER($B$7),UPPER($B782),1))),  OR($D$7=\"\",NOT(ISERROR(FIND(UPPER($D$7),UPPER($B782),1)))),    OR($D$8=\"\",(ISERROR(FIND(UPPER($D$8),UPPER($B782),1))))           )","v":false}]
[null,"Atlantic Aquasport","REGIONAL","INDUSTRY AND BUSINESS",3,3,19464,null,null,null,null,null,false]
[null,"Atlantic Beach Chamber of Commerce","LOCAL","GOVERNMENT",1,1,4983,null,null,null,null,null,false]
[null,"Atlantic Beach, SC","LOCAL","GOVERNMENT",1,1,4926,null,null,null,null,null,false]
[null,"Atlantic Boat and Yacht Trades School","LOCAL","ACADEMIC INSTITUTION",1,4,210,null,null,null,null,null,false]
[null,"Atlantic Cape Coalition","LOCAL","NGO",1,2,15032,null,null,null,null,null,false]
[null,"Atlantic Cape Fisheries","LOCAL","Unknown",1,0,9991,null,null,null,null,null,false]
[null,"Atlantic Capes Fisheries","LOCAL","INDUSTRY AND BUSINESS",1,3,4900,null,null,null,null,null,false]
[null,"Atlantic Capes Seafood","FEDERAL or NATIONAL","INDUSTRY AND BUSINESS",4,3,17352,null,null,null,null,null,false]
[null,"Atlantic City Beach Patrol","LOCAL","OTHER PARTNERS",1,6,9081,null,null,null,null,null,false]
[null,"Atlantic City Convention & Visitors' Authority","STATE","GOVERNMENT",2,1,10595,null,null,null,null,null,false]
[null,"Atlantic Coast Conference Inter-Institutional Academic Collaborative (ACCIAC)","STATE","ACADEMIC INSTITUTION",2,4,13092,null,null,null,null,null,false]
[null,"Atlantic Coastal Cooperative Statistics Program (ACCSP)","REGIONAL","GOVERNMENT",3,1,6892,null,null,null,null,null,false]
[null,"Atlantic Coastal Telemetry (ACT) Network","REGIONAL","NGO",3,2,15589,null,null,null,null,null,false]
[null,"Atlantic County Office of Cultural and Heritage Affairs","REGIONAL","GOVERNMENT",3,1,4825,null,null,null,null,null,false]
[null,"Atlantic County Utilities Authority","LOCAL","GOVERNMENT",1,1,13096,null,null,null,null,null,false]
[null,"Atlantic Enterprises, LLC","LOCAL","INDUSTRY AND BUSINESS",1,3,17353,null,null,null,null,null,false]
[null,"Atlantic Estuarine Research Society","STATE","NGO",2,2,8118,null,null,null,null,null,false]
[null,"Atlantic Highlands Borough","LOCAL","GOVERNMENT",1,1,14991,null,null,null,null,null,false]
[null,"Atlantic Holdfast Seaweed Company","INTERNATIONAL","INDUSTRY AND BUSINESS",5,3,13844,null,null,null,null,null,false]
[null,"Atlantic Intracoastal Waterway Association","INTERNATIONAL","NGO",5,2,4032,null,null,null,null,null,false]
[null,"Atlantic Lobster Sustainability Foundation","INTERNATIONAL","NGO",5,2,8575,null,null,null,null,null,false]
[null,"Atlantic Marine Aquaculture Center","REGIONAL","NGO",3,2,3772,null,null,null,null,null,false]
[null,"Atlantic Offshore Lobstermen's Association","REGIONAL","NGO",3,2,7045,null,null,null,null,null,false]
[null,"Atlantic Pacific Marine Farm","STATE","INDUSTRY AND BUSINESS",2,3,11229,null,null,null,null,null,false]
[null,"Atlantic Red Crab","REGIONAL","INDUSTRY AND BUSINESS",3,3,10761,null,null,null,null,null,false]
[null,"Atlantic Salmon Federaltion","STATE","GOVERNMENT",2,1,17084,null,null,null,null,null,false]
[null,"Atlantic Saltwater Flyrodders","LOCAL","INDUSTRY AND BUSINESS",1,3,10945,null,null,null,null,null,false]
[null,"Atlantic Seabass Inc.","INTERNATIONAL","INDUSTRY AND BUSINESS",5,3,211,null,null,null,null,null,false]
[null,"Atlantic Seafood Company","STATE","INDUSTRY AND BUSINESS",2,3,3892,null,null,null,null,null,false]
[null,"Atlantic States Marine Fisheries Comm","FEDERAL or NATIONAL","Unknown",4,0,9639,null,null,null,null,null,false]
[null,"Atlantic States Marine Fisheries Commission","REGIONAL","GOVERNMENT",3,1,18919,null,null,null,null,null,false]
[null,"Atlantic States Marine Fisheries Commission (ASMFC)","REGIONAL","NGO",3,2,212,null,null,null,null,null,false]
[null,"Atlantic White Shark Conservancy","REGIONAL","NGO",3,2,18790,null,null,null,null,null,false]
[null,"Atlantic Wind Connection","REGIONAL","INDUSTRY AND BUSINESS",3,3,9350,null,null,null,null,null,false]
[null,"Atlantic Yacht Basin","LOCAL","INDUSTRY AND BUSINESS",1,3,10762,null,null,null,null,null,false]
[null,"Atlantis Angler Association","LOCAL","INDUSTRY AND BUSINESS",1,3,7815,null,null,null,null,null,false]
[null,"Atlantis Submarines","INTERNATIONAL","Unknown",5,0,8907,null,null,null,null,null,false]
[null,"Atoll Marine Aquaculture","LOCAL","INDUSTRY AND BUSINESS",1,3,16289,null,null,null,null,null,false]
[null,"Atomic Shellfish","STATE","INDUSTRY AND BUSINESS",2,3,213,null,null,null,null,null,false]
[null,"At-Sea Processors Association","FEDERAL or NATIONAL","INDUSTRY AND BUSINESS",4,3,214,null,null,null,null,null,false]
[null,"Auburn Marine and Extension Research Center","STATE","ACADEMIC INSTITUTION",2,4,9916,null,null,null,null,null,false]
[null,"Auburn University","STATE","NULL",2,"NULL",14696,null,null,null,null,null,false]
[null,"Auburn University (AU)","STATE","ACADEMIC INSTITUTION",2,4,215,null,null,null,null,null,false]
[null,"Auburn University Marine Extension & Research Center (AUMERC)","STATE","ACADEMIC INSTITUTION",2,4,6495,null,null,null,null,null,false]
[null,"Auburn University Shellfish Laboratory","STATE","ACADEMIC INSTITUTION",2,4,13986,null,null,null,null,null,false]
[null,"Audience Viewpoints Consulting","FEDERAL or NATIONAL","INDUSTRY AND BUSINESS",4,3,14513,null,null,null,null,null,false]
[null,"Audobon Naturalist Society","REGIONAL","NGO",3,2,15875,null,null,null,null,null,false]
[null,"Audubon","FEDERAL or NATIONAL","NGO",4,2,18920,null,null,null,null,null,false]
[null,"Audubon Bird Sanctuary, Dauphin Island","LOCAL","NGO",1,2,6496,null,null,null,null,null,false]
[null,"Audubon Canyon Ranch","LOCAL","NGO",1,2,3467,null,null,null,null,null,false]
[null,"Audubon Connecticut","STATE","NGO",2,2,6798,null,null,null,null,null,false]
[null,"Audubon Nature Institute & Aquarium of the Americas","STATE","NGO",2,2,9917,null,null,null,null,null,false]
[null,"Audubon Nature Institute GULF Program","Unknown","NGO",0,2,17648,null,null,null,null,null,false]
[null,"Audubon North Carolina","STATE","NGO",2,2,4033,null,null,null,null,null,false]
[null,"Audubon of Florida","STATE","Unknown",2,0,9640,null,null,null,null,null,false]
[null,"Audubon Outdoor Club","LOCAL","NGO",1,2,14126,null,null,null,null,null,false]
[null,"Audubon Rhode Island","LOCAL","NGO",1,2,15939,null,null,null,null,null,false]
[null,"Audubon Society","INTERNATIONAL","NGO",5,2,216,null,null,null,null,null,false]
[null,"Audubon Texas","STATE","NGO",2,2,12196,null,null,null,null,null,false]
[null,"Audubon Washington","STATE","NGO",2,2,7342,null,null,null,null,null,false]
[null,"Audubon Zoo","FEDERAL or NATIONAL","Unknown",4,0,9689,null,null,null,null,null,false]
[null,"Au-Gres Simms Schools","LOCAL","ACADEMIC INSTITUTION",1,4,9136,null,null,null,null,null,false]
[null,"Auke Bay Laboratory (US DOC, NOAA, NMFS)","FEDERAL or NATIONAL","GOVERNMENT",4,1,217,null,null,null,null,null,false]
[null,"Aurora Energy Services, LLC","STATE","INDUSTRY AND BUSINESS",2,3,14021,null,null,null,null,null,{"$f":"AND(  NOT(ISERROR(FIND(UPPER($B$7),UPPER($B846),1))),  OR($D$7=\"\",NOT(ISERROR(FIND(UPPER($D$7),UPPER($B846),1)))),    OR($D$8=\"\",(ISERROR(FIND(UPPER($D$8),UPPER($B846),1))))           )","v":false}]
[null,"Aurora Fossil Museum","REGIONAL","NGO",3,2,18921,null,null,null,null,null,false]
[null,"Aurora Packing Company","STATE","INDUSTRY AND BUSINESS",2,3,3894,null,null,null,null,null,false]
[null,"AuSable Valley Audobon Chapter","LOCAL","NGO",1,2,9137,null,null,null,null,null,false]
[null,"Austin Brothers Fisheries","Unknown","INDUSTRY AND BUSINESS",0,3,7039,null,null,null,null,null,false]
[null,"Austin Fish Company","STATE","INDUSTRY AND BUSINESS",2,3,3893,null,null,null,null,null,false]
[null,"Austin Paey University","REGIONAL","ACADEMIC INSTITUTION",3,4,15074,null,null,null,null,null,false]
[null,"Austin Public Libraries","LOCAL","GOVERNMENT",1,1,12197,null,null,null,null,null,false]
[null,"Austin School of the Deaf","STATE","ACADEMIC INSTITUTION",2,4,12198,null,null,null,null,null,false]
[null,"Australian Antarctic Division","INTERNATIONAL","GOVERNMENT",5,1,218,null,null,null,null,null,false]
[null,"Australian Research Council","INTERNATIONAL","GOVERNMENT",5,1,15285,null,null,null,null,null,false]
[null,"Autonomous Municipality of Cabo Rojo, PR","LOCAL","GOVERNMENT",1,1,14048,null,null,null,null,null,false]
[null,"Autoridad de Conservación y Desarrollo de Culebra","LOCAL","GOVERNMENT",1,1,18162,null,null,null,null,null,false]
[null,"AUVSI Foundation","FEDERAL or NATIONAL","NGO",4,2,7949,null,null,null,null,null,false]
[null,"AUVSI Foundation","INTERNATIONAL","NGO",5,2,10920,null,null,null,null,null,false]
[null,"Avakian Inc.","LOCAL","INDUSTRY AND BUSINESS",1,3,15030,null,null,null,null,null,false]
[null,"Avalon Park and Preserve’s Students Taking Action for Tomorrow’s Environment (STATE) program","LOCAL","NGO",1,2,12361,null,null,null,null,null,false]
[null,"Avalonia Land Conservancy","LOCAL","NGO",1,2,19394,null,null,null,null,null,false]
[null,"Avery Point campus administration, University of Connecticut (UCONN)","STATE","OTHER PARTNERS",2,6,219,null,null,null,null,null,false]
[null,"Avon Lake Boat Club","STATE","INDUSTRY AND BUSINESS",2,3,13264,null,null,null,null,null,false]
[null,"Avon Police Department","LOCAL","GOVERNMENT",1,1,10890,null,null,null,null,null,false]
[null,"Avure Technologies, Inc.","FEDERAL or NATIONAL","INDUSTRY AND BUSINESS",4,3,220,null,null,null,null,null,false]
[null,"Awaiaulu","STATE","NGO",2,2,8285,null,null,null,null,null,false]
[null,"AWEA Offshore Wind Working Group","FEDERAL or NATIONAL","OTHER PARTNERS",4,6,9351,null,null,null,null,null,false]
[null,"Awendaw, SC","LOCAL","GOVERNMENT",1,1,4941,null,null,null,null,null,false]
[null,"Aylesworth Foundation","LOCAL","NGO",1,2,221,null,null,null,null,null,false]
[null,"AZ Dept of Fish and Wildlife","STATE","GOVERNMENT",2,1,8853,null,null,null,null,null,false]
[null,"AZTI Technalia","REGIONAL","GOVERNMENT",3,1,10839,null,null,null,null,null,false]
[null,"Azuma Foods International, Inc.","INTERNATIONAL","INDUSTRY AND BUSINESS",5,3,8167,null,null,null,null,null,false]
[null,"B&B Pet Stop","LOCAL","INDUSTRY AND BUSINESS",1,3,17672,null,null,null,null,null,false]
[null,"B. Peers","LOCAL","Unknown",1,0,14852,null,null,null,null,null,false]
[null,"B.E. Feist","FEDERAL or NATIONAL","INDUSTRY AND BUSINESS",4,3,222,null,null,null,null,null,false]
[null,"Babylon Town Sport Fishing Education Center","LOCAL","GOVERNMENT",1,1,223,null,null,null,null,null,false]
[null,"Bachem Biosciences Inc.","STATE","INDUSTRY AND BUSINESS",2,3,3895,null,null,null,null,null,false]
[null,"Back Bay Science Center","LOCAL","NGO",1,2,7985,null,null,null,null,null,false]
[null,"Bad River Tribe of Lake Superior Chippewa","Tribal","GOVERNMENT",13,1,224,null,null,null,null,null,false]
[null,"Bad River Watershed Association","Unknown","Unknown",0,0,18268,null,null,null,null,null,false]
[null,"Badger Rock Middle School","LOCAL","ACADEMIC INSTITUTION",1,4,12411,null,null,null,null,null,false]
[null,"Badgerland Resource Conservation and Development Council","STATE","GOVERNMENT",2,1,8272,null,null,null,null,null,false]
[null,"Baffin Bay Volunteer Citizen Scientists","LOCAL","NGO",1,2,15400,null,null,null,null,null,false]
[null,"Bagaduce Oyster Co.","INTERNATIONAL","INDUSTRY AND BUSINESS",5,3,13845,null,null,null,null,null,false]
[null,"Bahrs Landing and Seafood Restaurant","Unknown","INDUSTRY AND BUSINESS",0,3,4901,null,null,null,null,null,false]
[null,"Bainbridge Alliance for Puget Sound","LOCAL","NGO",1,2,7343,null,null,null,null,null,false]
[null,"Bainbridge Beach Naturalists","LOCAL","OTHER PARTNERS",1,6,11609,null,null,null,null,null,false]
[null,"Bainbridge High School","LOCAL","ACADEMIC INSTITUTION",1,4,4175,null,null,null,null,null,false]
[null,"Bainbridge Island Land Trust","LOCAL","NGO",1,2,225,null,null,null,null,null,false]
[null,"Bainbridge Island Marina","LOCAL","INDUSTRY AND BUSINESS",1,3,4306,null,null,null,null,null,false]
[null,"Bainbridge Island School District","LOCAL","ACADEMIC INSTITUTION",1,4,10499,null,null,null,null,null,false]
[null,"Bainbridge Parks and Recreation","LOCAL","GOVERNMENT",1,1,7344,null,null,null,null,null,false]
[null,"Baird and Associates","FEDERAL or NATIONAL","INDUSTRY AND BUSINESS",4,3,226,null,null,null,null,null,false]
[null,"Bait & Hook Store","LOCAL","INDUSTRY AND BUSINESS",1,3,9391,null,null,null,null,null,false]
[null,"Bait Association of Ontario","INTERNATIONAL","INDUSTRY AND BUSINESS",5,3,227,null,null,null,null,null,false]
[null,"Baja Aquaculture","INTERNATIONAL","INDUSTRY AND BUSINESS",5,3,10763,null,null,null,null,null,false]
[null,"Baja Naval","INTERNATIONAL","INDUSTRY AND BUSINESS",5,3,228,null,null,null,null,null,false]
[null,"Baker Crab Company","STATE","INDUSTRY AND BUSINESS",2,3,3896,null,null,null,null,null,false]
[null,"Baker Fishery, Inc.","FEDERAL or NATIONAL","INDUSTRY AND BUSINESS",4,3,229,null,null,null,null,null,false]
[null,"Baker High School","LOCAL","ACADEMIC INSTITUTION",1,4,6497,null,null,null,null,null,false]
[null,"Bald Head Island Chamber of Commerce","LOCAL","GOVERNMENT",1,1,4984,null,null,null,null,null,false]
[null,"Bald Head Island Conservancy","LOCAL","NGO",1,2,7021,null,null,null,null,null,false]
[null,"Balderson","LOCAL","INDUSTRY AND BUSINESS",1,3,17354,null,null,null,null,null,false]
[null,"Baldwin and Mobile County Soil and Water Conservation Districts","LOCAL","GOVERNMENT",1,1,230,null,null,null,null,null,false]
[null,"Baldwin County Board of Education","LOCAL","GOVERNMENT",1,1,6499,null,null,null,null,null,false]
[null,"Baldwin County Career Tech School","LOCAL","ACADEMIC INSTITUTION",1,4,6500,null,null,null,null,null,false]
[null,"Baldwin County Commission Alabama","LOCAL","GOVERNMENT",1,1,9918,null,null,null,null,null,false]
[null,"Baldwin County Emergency Management","LOCAL","GOVERNMENT",1,1,6501,null,null,null,null,null,{"$f":"AND(  NOT(ISERROR(FIND(UPPER($B$7),UPPER($B910),1))),  OR($D$7=\"\",NOT(ISERROR(FIND(UPPER($D$7),UPPER($B910),1)))),    OR($D$8=\"\",(ISERROR(FIND(UPPER($D$8),UPPER($B910),1))))           )","v":false}]
[null,"Baldwin County High School","LOCAL","GOVERNMENT",1,1,231,null,null,null,null,null,false]
[null,"Baldwin County Mental Health Center","LOCAL","NGO",1,2,6502,null,null,null,null,null,false]
[null,"Baldwin County Planning and Zoning Department","LOCAL","GOVERNMENT",1,1,232,null,null,null,null,null,false]
[null,"Baldwin County School System","LOCAL","ACADEMIC INSTITUTION",1,4,6503,null,null,null,null,null,false]
[null,"Baldwin County Soil and Water Conservation District","LOCAL","GOVERNMENT",1,1,9919,null,null,null,null,null,false]
[null,"Baldwin County Watershed Coalition","LOCAL","NGO",1,2,6504,null,null,null,null,null,false]
[null,"Baldwin County Wetlands and Watershed Protection","LOCAL","GOVERNMENT",1,1,233,null,null,null,null,null,false]
[null,"Baldwin County, AL","LOCAL","GOVERNMENT",1,1,6498,null,null,null,null,null,false]
[null,"Baldwin-Wallace College","STATE","ACADEMIC INSTITUTION",2,4,234,null,null,null,null,null,false]
[null,"Ball Horticulture","INTERNATIONAL","Unknown",5,0,9392,null,null,null,null,null,false]
[null,"Ball State University (BSU)","STATE","ACADEMIC INSTITUTION",2,4,235,null,null,null,null,null,false]
[null,"Ballard High School","LOCAL","ACADEMIC INSTITUTION",1,4,4176,null,null,null,null,null,false]
[null,"Ballard Seafood","LOCAL","INDUSTRY AND BUSINESS",1,3,7513,null,null,null,null,null,false]
[null,"Baltimore City Deparment of Public Works","LOCAL","NGO",1,2,4545,null,null,null,null,null,false]
[null,"Baltimore City Public Schools","STATE","ACADEMIC INSTITUTION",2,4,15878,null,null,null,null,null,false]
[null,"Baltimore County","STATE","GOVERNMENT",2,1,16562,null,null,null,null,null,false]
[null,"Baltimore County Department of Environmental Protection, Regulation and Management","LOCAL","OTHER PARTNERS",1,6,6457,null,null,null,null,null,false]
[null,"Baltimore County Governments","STATE","GOVERNMENT",2,1,11230,null,null,null,null,null,false]
[null,"Baltimore County Public Schools","STATE","ACADEMIC INSTITUTION",2,4,15877,null,null,null,null,null,false]
[null,"Baltimore Department of Transportation (Balt. DOT)","LOCAL","GOVERNMENT",1,1,236,null,null,null,null,null,false]
[null,"Baltimore Ecosystem Study URBAN LTER Site","LOCAL","ACADEMIC INSTITUTION",1,4,11569,null,null,null,null,null,false]
[null,"Baltimore Office of Sustainability","STATE","GOVERNMENT",2,1,17494,null,null,null,null,null,false]
[null,"Baltimore Polytechnic Institute high school","LOCAL","ACADEMIC INSTITUTION",1,4,15879,null,null,null,null,null,false]
[null,"Baltimore Waterfront Partnership","LOCAL","OTHER PARTNERS",1,6,11231,null,null,null,null,null,false]
[null,"Baltimore Watershed Partnership","STATE","NGO",2,2,5155,null,null,null,null,null,false]
[null,"BAMA Seafood Products Inc.","LOCAL","INDUSTRY AND BUSINESS",1,3,7921,null,null,null,null,null,false]
[null,"Bandon High School","LOCAL","ACADEMIC INSTITUTION",1,4,17327,null,null,null,null,null,false]
[null,"Bandon Mariculture","REGIONAL","INDUSTRY AND BUSINESS",3,3,237,null,null,null,null,null,false]
[null,"Bandon School District","LOCAL","GOVERNMENT",1,1,11678,null,null,null,null,null,false]
[null,"Bangor Area Stormwater Group","REGIONAL","NGO",3,2,3773,null,null,null,null,null,false]
[null,"Bangor Savings Bank","STATE","INDUSTRY AND BUSINESS",2,3,19365,null,null,null,null,null,false]
[null,"Bangor University","STATE","ACADEMIC INSTITUTION",2,4,7044,null,null,null,null,null,false]
[null,"Bangs Island Mussels","INTERNATIONAL","INDUSTRY AND BUSINESS",5,3,13846,null,null,null,null,null,false]
[null,"Banquete Independent School District , TX","LOCAL","ACADEMIC INSTITUTION",1,4,6071,null,null,null,null,null,false]
[null,"Bar Harbor Marine Resources Committee","LOCAL","NGO",1,2,19353,null,null,null,null,null,false]
[null,"Baraboo Police Department (WI)","LOCAL","GOVERNMENT",1,1,7756,null,null,null,null,null,false]
[null,"Barataria-Terrebonne National Estuary Program","REGIONAL","OTHER PARTNERS",3,6,4546,null,null,null,null,null,false]
[null,"Barbare Brothers, Inc.","STATE","INDUSTRY AND BUSINESS",2,3,238,null,null,null,null,null,false]
[null,"Barcomb's Marina","Unknown","INDUSTRY AND BUSINESS",0,3,18082,null,null,null,null,null,false]
[null,"Barge, Waggoner, Sumner and Cannon, Inc.","STATE","INDUSTRY AND BUSINESS",2,3,6505,null,null,null,null,null,false]
[null,"Barnacle Bob's","LOCAL","Unknown",1,0,9393,null,null,null,null,null,false]
[null,"Barnegat Bay Decoy and Baymans Museum","LOCAL","NGO",1,2,13097,null,null,null,null,null,false]
[null,"Barnegat Bay Partnership","LOCAL","GOVERNMENT",1,1,4826,null,null,null,null,null,false]
[null,"Barnegat Light Borough","LOCAL","GOVERNMENT",1,1,14992,null,null,null,null,null,false]
[null,"Barnegat Light Historical Society Museum","LOCAL","NGO",1,2,13134,null,null,null,null,null,false]
[null,"Barnegat Oyster Collection","LOCAL","INDUSTRY AND BUSINESS",1,3,18642,null,null,null,null,null,false]
[null,"Barnes and Noble","INTERNATIONAL","INDUSTRY AND BUSINESS",5,3,239,null,null,null,null,null,false]
[null,"Barnhill Fisheries, Inc.","LOCAL","INDUSTRY AND BUSINESS",1,3,16917,null,null,null,null,null,false]
[null,"Barnstable County Building Departments","REGIONAL","GOVERNMENT",3,1,18988,null,null,null,null,null,false]
[null,"Barnstable County Cape Cod Coooperative Extension","LOCAL","Unknown",1,0,18266,null,null,null,null,null,false]
[null,"Barnstable County Cape Cod Cooperative Extension","STATE","OTHER PARTNERS",2,6,5699,null,null,null,null,null,false]
[null,"Barnstable County Conservation Departments","REGIONAL","GOVERNMENT",3,1,18989,null,null,null,null,null,false]
[null,"Barnstable County Natural Resource Departments","REGIONAL","GOVERNMENT",3,1,18999,null,null,null,null,null,false]
[null,"Barnstable County Ocean Management Planning District of Critical Planning Concern (DCPC)","LOCAL","GOVERNMENT",1,1,6714,null,null,null,null,null,false]
[null,"Barnstable County Shellfish Advisory Committee","LOCAL","GOVERNMENT",1,1,11523,null,null,null,null,null,false]
[null,"Barnstable County, Mass.","LOCAL","GOVERNMENT",1,1,10840,null,null,null,null,null,false]
[null,"Baron's Marine Ways","LOCAL","INDUSTRY AND BUSINESS",1,3,12199,null,null,null,null,null,false]
[null,"Barr Engineering","LOCAL","INDUSTRY AND BUSINESS",1,3,6257,null,null,null,null,null,false]
[null,"Barr Engineering Co.","LOCAL","INDUSTRY AND BUSINESS",1,3,11474,null,null,null,null,null,false]
[null,"Barrier Island Eco Tours","LOCAL","INDUSTRY AND BUSINESS",1,3,7184,null,null,null,null,null,false]
[null,"Barrier Island Oyster Company","LOCAL","INDUSTRY AND BUSINESS",1,3,16189,null,null,null,null,null,false]
[null,"Barrierisland.net","INTERNATIONAL","INDUSTRY AND BUSINESS",5,3,240,null,null,null,null,null,false]
[null,"Barrow Arctic Science Consortium","FEDERAL or NATIONAL","NGO",4,2,241,null,null,null,null,null,false]
[null,"Barrow Whaling Captains’ Association","LOCAL","NGO",1,2,14015,null,null,null,null,null,{"$f":"AND(  NOT(ISERROR(FIND(UPPER($B$7),UPPER($B974),1))),  OR($D$7=\"\",NOT(ISERROR(FIND(UPPER($D$7),UPPER($B974),1)))),    OR($D$8=\"\",(ISERROR(FIND(UPPER($D$8),UPPER($B974),1))))           )","v":false}]
[null,"Bartholomew County","LOCAL","GOVERNMENT",1,1,13754,null,null,null,null,null,false]
[null,"Bartholomew County Parks and Recreation Board","LOCAL","GOVERNMENT",1,1,16719,null,null,null,null,null,false]
[null,"Barton & Loguidice, D.P.A","STATE","INDUSTRY AND BUSINESS",2,3,16401,null,null,null,null,null,false]
[null,"Bartrum’s Garden","LOCAL","INDUSTRY AND BUSINESS",1,3,13954,null,null,null,null,null,false]
[null,"BASF","INTERNATIONAL","INDUSTRY AND BUSINESS",5,3,242,null,null,null,null,null,false]
[null,"Basin Harbor Resort and Boat Club","Unknown","INDUSTRY AND BUSINESS",0,3,18083,null,null,null,null,null,false]
[null,"Basnight's Lone Cedar Cafe","LOCAL","INDUSTRY AND BUSINESS",1,3,12659,null,null,null,null,null,false]
[null,"Bass Haven","LOCAL","INDUSTRY AND BUSINESS",1,3,243,null,null,null,null,null,false]
[null,"Bass Lake Property Owners Association","LOCAL","NGO",1,2,18224,null,null,null,null,null,false]
[null,"Bass Pro Shops","INTERNATIONAL","INDUSTRY AND BUSINESS",5,3,244,null,null,null,null,null,false]
[null,"Bassett Creek Watershed Management Comminssion","REGIONAL","GOVERNMENT",3,1,13402,null,null,null,null,null,false]
[null,"Bass'N Gals","REGIONAL","NGO",3,2,18201,null,null,null,null,null,false]
[null,"Bates College","STATE","ACADEMIC INSTITUTION",2,4,245,null,null,null,null,null,false]
[null,"Batiquitos Lagoon Foundation","LOCAL","NGO",1,2,7986,null,null,null,null,null,false]
[null,"Baton Rouge Area Foundation","LOCAL","OTHER PARTNERS",1,6,15528,null,null,null,null,null,false]
[null,"Baton Rouge Bar Association","LOCAL","OTHER PARTNERS",1,6,15476,null,null,null,null,null,false]
[null,"Baton Rouge Center for Visual and Performing Arts","LOCAL","ACADEMIC INSTITUTION",1,4,17602,null,null,null,null,null,false]
[null,"Baton Rouge Community College","STATE","ACADEMIC INSTITUTION",2,4,15517,null,null,null,null,null,false]
[null,"Baton Rouge Earth Day Festival","LOCAL","Unknown",1,0,9690,null,null,null,null,null,false]
[null,"Baton Rouge Magnet High School","LOCAL","OTHER PARTNERS",1,6,15514,null,null,null,null,null,false]
[null,"Baton Rouge Sail and Power Squadron","LOCAL","Unknown",1,0,9691,null,null,null,null,null,false]
[null,"Baton Rouge Zoo","LOCAL","Unknown",1,0,9692,null,null,null,null,null,false]
[null,"Battelle Memorial Institute","FEDERAL or NATIONAL","INDUSTRY AND BUSINESS",4,3,4547,null,null,null,null,null,false]
[null,"Battery Park Marina","LOCAL","INDUSTRY AND BUSINESS",1,3,247,null,null,null,null,null,false]
[null,"Baxter and Woodman Consultin","REGIONAL","INDUSTRY AND BUSINESS",3,3,7797,null,null,null,null,null,false]
[null,"Baxter State Park","STATE","GOVERNMENT",2,1,7272,null,null,null,null,null,false]
[null,"Bay and Gulf Marine Supply","LOCAL","INDUSTRY AND BUSINESS",1,3,12200,null,null,null,null,null,false]
[null,"Bay Area Climate & Energy Resilience Project","REGIONAL","OTHER PARTNERS",3,6,17282,null,null,null,null,null,false]
[null,"Bay Area Early Detection Network","LOCAL","GOVERNMENT",1,1,6859,null,null,null,null,null,false]
[null,"Bay Area Regional Collaborative","REGIONAL","OTHER PARTNERS",3,6,17283,null,null,null,null,null,false]
[null,"Bay Center Mariculture Company","REGIONAL","INDUSTRY AND BUSINESS",3,3,248,null,null,null,null,null,false]
[null,"Bay City Chamber of Commerce","LOCAL","INDUSTRY AND BUSINESS",1,3,6841,null,null,null,null,null,false]
[null,"Bay City Community Development Corp.","LOCAL","INDUSTRY AND BUSINESS",1,3,6842,null,null,null,null,null,false]
[null,"Bay City Crab Company","STATE","INDUSTRY AND BUSINESS",2,3,3897,null,null,null,null,null,false]
[null,"Bay Country Kayaking","LOCAL","INDUSTRY AND BUSINESS",1,3,8991,null,null,null,null,null,false]
[null,"Bay County","LOCAL","GOVERNMENT",1,1,15456,null,null,null,null,null,false]
[null,"Bay County Board of County Commissioners","LOCAL","GOVERNMENT",1,1,12951,null,null,null,null,null,false]
[null,"Bay County Boat Yard","LOCAL","INDUSTRY AND BUSINESS",1,3,15461,null,null,null,null,null,false]
[null,"Bay County Health Department","LOCAL","GOVERNMENT",1,1,9220,null,null,null,null,null,false]
[null,"Bay County Planning and Zoning","LOCAL","GOVERNMENT",1,1,15439,null,null,null,null,null,false]
[null,"Bay County Tourist Development Council","LOCAL","INDUSTRY AND BUSINESS",1,3,12953,null,null,null,null,null,false]
[null,"Bay County, MI","LOCAL","GOVERNMENT",1,1,7906,null,null,null,null,null,false]
[null,"Bay Education Center","FEDERAL or NATIONAL","OTHER PARTNERS",4,6,12201,null,null,null,null,null,false]
[null,"Bay Fisheries","LOCAL","INDUSTRY AND BUSINESS",1,3,16248,null,null,null,null,null,false]
[null,"Bay Foundation of Morro Bay","FEDERAL or NATIONAL","NGO",4,2,249,null,null,null,null,null,false]
[null,"Bay Head","LOCAL","NGO",1,2,10557,null,null,null,null,null,false]
[null,"Bay Journal","STATE","INDUSTRY AND BUSINESS",2,3,11232,null,null,null,null,null,false]
[null,"Bay LTD","INTERNATIONAL","INDUSTRY AND BUSINESS",5,3,20012,null,null,null,null,null,false]
[null,"Bay Mills Community College","STATE","ACADEMIC INSTITUTION",2,4,18526,null,null,null,null,null,false]
[null,"Bay Mills Tribe","Tribal","GOVERNMENT",13,1,250,null,null,null,null,null,false]
[null,"Bay Port Fish Company","LOCAL","INDUSTRY AND BUSINESS",1,3,7918,null,null,null,null,null,false]
[null,"Bay Realty","LOCAL","INDUSTRY AND BUSINESS",1,3,9558,null,null,null,null,null,false]
[null,"Bay Renaissance","REGIONAL","NGO",3,2,8590,null,null,null,null,null,false]
[null,"Bay Shellfish","Unknown","Unknown",0,0,18182,null,null,null,null,null,false]
[null,"Bay Shellfish Co.","LOCAL","INDUSTRY AND BUSINESS",1,3,12969,null,null,null,null,null,false]
[null,"Bay View Yacht Club","LOCAL","INDUSTRY AND BUSINESS",1,3,5137,null,null,null,null,null,false]
[null,"Bay Watch Oyster Seeds","LOCAL","INDUSTRY AND BUSINESS",1,3,17355,null,null,null,null,null,false]
[null,"Bay Watershed Education and Training (B-WET)","FEDERAL or NATIONAL","GOVERNMENT",4,1,12479,null,null,null,null,null,false]
[null,"BayBBlue Oyster Company","LOCAL","INDUSTRY AND BUSINESS",1,3,19213,null,null,null,null,null,false]
[null,"Baydelta Maritime","REGIONAL","INDUSTRY AND BUSINESS",3,3,7447,null,null,null,null,null,false]
[null,"Bayer Environmental Science","Unknown","INDUSTRY AND BUSINESS",0,3,7083,null,null,null,null,null,false]
[null,"Bayfield County","LOCAL","GOVERNMENT",1,1,251,null,null,null,null,null,false]
[null,"Bayfield School District","LOCAL","ACADEMIC INSTITUTION",1,4,11427,null,null,null,null,null,false]
[null,"Bayfront Merchants Association","LOCAL","INDUSTRY AND BUSINESS",1,3,8724,null,null,null,null,null,{"$f":"AND(  NOT(ISERROR(FIND(UPPER($B$7),UPPER($B1038),1))),  OR($D$7=\"\",NOT(ISERROR(FIND(UPPER($D$7),UPPER($B1038),1)))),    OR($D$8=\"\",(ISERROR(FIND(UPPER($D$8),UPPER($B1038),1))))           )","v":false}]
[null,"Bay-Lake Regional Planning Commission","LOCAL","GOVERNMENT",1,1,252,null,null,null,null,null,false]
[null,"Baylor College Of Medicine","Unknown","Unknown",0,0,3506,null,null,null,null,null,false]
[null,"Baylor University, Department of Mechanical Engineering","LOCAL","ACADEMIC INSTITUTION",1,4,18318,null,null,null,null,null,false]
[null,"Baylor University, Glasscock Fund for Excellence in Environmental Science","STATE","ACADEMIC INSTITUTION",2,4,8337,null,null,null,null,null,false]
[null,"Bayly-Tiffany Scholarship, UVA Scholarship","LOCAL","ACADEMIC INSTITUTION",1,4,19346,null,null,null,null,null,false]
[null,"Bayou Bend (Museum of Fine Arts, Houston)","LOCAL","NGO",1,2,6141,null,null,null,null,null,false]
[null,"Bayou Interfaith Shared Community Organizing (BISCO)","LOCAL","NGO",1,2,8348,null,null,null,null,null,false]
[null,"Bayou LaBatre Chamber of Commerce","LOCAL","INDUSTRY AND BUSINESS",1,3,253,null,null,null,null,null,false]
[null,"Bayou Land Conservancy","LOCAL","NGO",1,2,6116,null,null,null,null,null,false]
[null,"Bayou Land Res. Consv. and Development Council","FEDERAL or NATIONAL","Unknown",4,0,9693,null,null,null,null,null,false]
[null,"Bayou Preservation Association","LOCAL","NGO",1,2,6115,null,null,null,null,null,false]
[null,"Bayou Rebirth","LOCAL","Unknown",1,0,9694,null,null,null,null,null,false]
[null,"Bayou Segnette Boaters Association","FEDERAL or NATIONAL","NGO",4,2,254,null,null,null,null,null,false]
[null,"Bayou Texar Foundation","REGIONAL","NGO",3,2,12963,null,null,null,null,null,false]
[null,"Bayport Marina","LOCAL","INDUSTRY AND BUSINESS",1,3,8768,null,null,null,null,null,false]
[null,"Bayport Marina ","Unknown","Unknown",0,0,9870,null,null,null,null,null,false]
[null,"BaySail","STATE","NGO",2,2,9119,null,null,null,null,null,false]
[null,"Bayshore Center at Bivalve","LOCAL","NGO",1,2,13890,null,null,null,null,null,false]
[null,"Bayside Academy","LOCAL","ACADEMIC INSTITUTION",1,4,6506,null,null,null,null,null,false]
[null,"Bayview Park","LOCAL","NGO",1,2,13135,null,null,null,null,null,false]
[null,"Baywater Shellfish Company","LOCAL","INDUSTRY AND BUSINESS",1,3,11572,null,null,null,null,null,false]
[null,"Baywater Shellfish Farms","STATE","INDUSTRY AND BUSINESS",2,3,10998,null,null,null,null,null,false]
[null,"Baywater, Inc.","REGIONAL","INDUSTRY AND BUSINESS",3,3,255,null,null,null,null,null,false]
[null,"Bay-Watershed Education and Training Program, Office of Education (US DOC, NOAA, B-WET)","FEDERAL or NATIONAL","GOVERNMENT",4,1,4082,null,null,null,null,null,false]
[null,"Beach Ecology Association for Coastal Habitat (BEACH) Ecology Coalition","LOCAL","NGO",1,2,3468,null,null,null,null,null,false]
[null,"Beach Haven Borough","LOCAL","GOVERNMENT",1,1,14993,null,null,null,null,null,false]
[null,"Beach Haven Historic Preservation Advisory Commission","LOCAL","NGO",1,2,13136,null,null,null,null,null,false]
[null,"Beach Haven Library","LOCAL","ACADEMIC INSTITUTION",1,4,18632,null,null,null,null,null,false]
[null,"Beach Haven Public Library","LOCAL","NGO",1,2,13137,null,null,null,null,null,false]
[null,"Beach Sweep/River Sweep Private Partners","STATE","OTHER PARTNERS",2,6,14067,null,null,null,null,null,false]
[null,"Beach vacation rental companies North Carolina","LOCAL","INDUSTRY AND BUSINESS",1,3,12660,null,null,null,null,null,false]
[null,"Beacon 44","LOCAL","INDUSTRY AND BUSINESS",1,3,12202,null,null,null,null,null,false]
[null,"Beacon of Hope","LOCAL","Unknown",1,0,9695,null,null,null,null,null,false]
[null,"Beam Reach Marine Science and Sustainability School","LOCAL","ACADEMIC INSTITUTION",1,4,7425,null,null,null,null,null,false]
[null,"Bear Point Marina","LOCAL","INDUSTRY AND BUSINESS",1,3,6507,null,null,null,null,null,false]
[null,"Bears Bluff National Fish Hatchery (USFWS)","STATE","GOVERNMENT",2,1,13363,null,null,null,null,null,false]
[null,"Beaufort Conservation District","LOCAL","GOVERNMENT",1,1,13364,null,null,null,null,null,false]
[null,"Beaufort County (SC) Planning Department","LOCAL","GOVERNMENT",1,1,10216,null,null,null,null,null,false]
[null,"Beaufort County Open Land Trust","LOCAL","NGO",1,2,256,null,null,null,null,null,false]
[null,"Beaufort County Planning Department","LOCAL","GOVERNMENT",1,1,11150,null,null,null,null,null,false]
[null,"Beaufort County School District","LOCAL","ACADEMIC INSTITUTION",1,4,14001,null,null,null,null,null,false]
[null,"Beaufort County Water Quality Task Force","LOCAL","NGO",1,2,257,null,null,null,null,null,false]
[null,"Beaufort County, SC","LOCAL","GOVERNMENT",1,1,4918,null,null,null,null,null,false]
[null,"Beaufort High School","LOCAL","ACADEMIC INSTITUTION",1,4,8814,null,null,null,null,null,false]
[null,"Beaufort Jasoer Water and Sewer Authority","LOCAL","NGO",1,2,14305,null,null,null,null,null,false]
[null,"Beaufort Kayak Tours","LOCAL","INDUSTRY AND BUSINESS",1,3,15152,null,null,null,null,null,false]
[null,"Beaufort Lab (US DOC, NOAA, NMFS, SEFSC)","FEDERAL or NATIONAL","GOVERNMENT",4,1,258,null,null,null,null,null,false]
[null,"Beaufort Shellfish Company","LOCAL","INDUSTRY AND BUSINESS",1,3,11152,null,null,null,null,null,false]
[null,"Beaufort Soil and Water Conservation District","LOCAL","GOVERNMENT",1,1,14396,null,null,null,null,null,false]
[null,"Beaufort Wine and Food Festival","LOCAL","NGO",1,2,16792,null,null,null,null,null,false]
[null,"Beaufort, SC","LOCAL","GOVERNMENT",1,1,4931,null,null,null,null,null,false]
[null,"Beaver Island Historical Society","LOCAL","NGO",1,2,18390,null,null,null,null,null,false]
[null,"Beaver Park Marina","LOCAL","INDUSTRY AND BUSINESS",1,3,259,null,null,null,null,null,false]
[null,"Beaver Park North","LOCAL","INDUSTRY AND BUSINESS",1,3,260,null,null,null,null,null,false]
[null,"Beaver Street Fisheries","LOCAL","INDUSTRY AND BUSINESS",1,3,7925,null,null,null,null,null,false]
[null,"Bechtel Power Company","FEDERAL or NATIONAL","INDUSTRY AND BUSINESS",4,3,261,null,null,null,null,null,false]
[null,"Becker County Soil and Water Conservation District","REGIONAL","GOVERNMENT",3,1,8786,null,null,null,null,null,false]
[null,"Bedford High School","LOCAL","ACADEMIC INSTITUTION",1,4,7622,null,null,null,null,null,false]
[null,"Bedford Institute of Oceanography, Nova Scotia, CA","INTERNATIONAL","ACADEMIC INSTITUTION",5,4,7623,null,null,null,null,null,false]
[null,"Beebe Dock and Mooring Systems","LOCAL","INDUSTRY AND BUSINESS",1,3,19399,null,null,null,null,null,false]
[null,"Beebe Hospital Department of Emergency Medicine","LOCAL","OTHER PARTNERS",1,6,5700,null,null,null,null,null,false]
[null,"Beebe Medical Center","LOCAL","INDUSTRY AND BUSINESS",1,3,17814,null,null,null,null,null,false]
[null,"Beechtree Homeowners Association","LOCAL","OTHER PARTNERS",1,6,16793,null,null,null,null,null,false]
[null,"Beijer International Institute of Ecological Economics, Stockholm, Sweden","INTERNATIONAL","ACADEMIC INSTITUTION",5,4,262,null,null,null,null,null,{"$f":"AND(  NOT(ISERROR(FIND(UPPER($B$7),UPPER($B1102),1))),  OR($D$7=\"\",NOT(ISERROR(FIND(UPPER($D$7),UPPER($B1102),1)))),    OR($D$8=\"\",(ISERROR(FIND(UPPER($D$8),UPPER($B1102),1))))           )","v":false}]
[null,"Bekah's Bay Oyster Company","LOCAL","INDUSTRY AND BUSINESS",1,3,19703,null,null,null,null,null,false]
[null,"Belau Watershed Alliance","INTERNATIONAL","NGO",5,2,6739,null,null,null,null,null,false]
[null,"Belize Department of Fisheries","INTERNATIONAL","GOVERNMENT",5,1,263,null,null,null,null,null,false]
[null,"Bell Aquaculture","REGIONAL","INDUSTRY AND BUSINESS",3,3,5906,null,null,null,null,null,false]
[null,"Bell Aquaculture, Albany, Ind.","STATE","INDUSTRY AND BUSINESS",2,3,3685,null,null,null,null,null,false]
[null,"Bell Harbor Marina","LOCAL","INDUSTRY AND BUSINESS",1,3,4307,null,null,null,null,null,false]
[null,"Bell’s Fisheries","FEDERAL or NATIONAL","INDUSTRY AND BUSINESS",4,3,264,null,null,null,null,null,false]
[null,"Belle Esle Marina","LOCAL","INDUSTRY AND BUSINESS",1,3,19214,null,null,null,null,null,false]
[null,"Belle Haven Marina","LOCAL","INDUSTRY AND BUSINESS",1,3,13706,null,null,null,null,null,false]
[null,"Belle Isle Aquarium","LOCAL","INDUSTRY AND BUSINESS",1,3,14840,null,null,null,null,null,false]
[null,"Belle Isle Conservancy","LOCAL","NGO",1,2,18391,null,null,null,null,null,false]
[null,"Belle W. Baruch Institute for Marine and Coastal Science","STATE","ACADEMIC INSTITUTION",2,4,7108,null,null,null,null,null,false]
[null,"Bellevue Reporter","LOCAL","INDUSTRY AND BUSINESS",1,3,4308,null,null,null,null,null,false]
[null,"Bellingham Cold Storage","REGIONAL","INDUSTRY AND BUSINESS",3,3,265,null,null,null,null,null,false]
[null,"Bellingham Fire Department","LOCAL","GOVERNMENT",1,1,7370,null,null,null,null,null,false]
[null,"Bellingham School District","LOCAL","ACADEMIC INSTITUTION",1,4,4177,null,null,null,null,null,false]
[null,"Bellingham Technical College","LOCAL","ACADEMIC INSTITUTION",1,4,13156,null,null,null,null,null,false]
[null,"Bellingham Vocational Technical Institute","STATE","ACADEMIC INSTITUTION",2,4,3507,null,null,null,null,null,false]
[null,"Bellingham Working Waterfront Task Force","LOCAL","Unknown",1,0,13157,null,null,null,null,null,false]
[null,"Bell's Reef Mariculture","STATE","INDUSTRY AND BUSINESS",2,3,14452,null,null,null,null,null,false]
[null,"Belmar","LOCAL","NGO",1,2,10555,null,null,null,null,null,false]
[null,"Belmar Environmental Commission","LOCAL","GOVERNMENT",1,1,4827,null,null,null,null,null,false]
[null,"Belmont Bay Marina","LOCAL","INDUSTRY AND BUSINESS",1,3,13707,null,null,null,null,null,false]
[null,"Belmont High School","LOCAL","ACADEMIC INSTITUTION",1,4,7624,null,null,null,null,null,false]
[null,"Bemidji State University","STATE","ACADEMIC INSTITUTION",2,4,3686,null,null,null,null,null,false]
[null,"Benedict Estuarine Marine Lab. - Academy Of Natural Sciences","Unknown","Unknown",0,0,3508,null,null,null,null,null,false]
[null,"Benedictine Sisters of Erie","LOCAL","OTHER PARTNERS",1,6,13948,null,null,null,null,null,false]
[null,"Bennett Elementary School","LOCAL","ACADEMIC INSTITUTION",1,4,7798,null,null,null,null,null,false]
[null,"Bennett-Martinen Tidelands","STATE","INDUSTRY AND BUSINESS",2,3,266,null,null,null,null,null,false]
[null,"Bennett's Creek Marina","LOCAL","INDUSTRY AND BUSINESS",1,3,19215,null,null,null,null,null,false]
[null,"Benson Lake Association","LOCAL","NGO",1,2,4371,null,null,null,null,null,false]
[null,"Benton County, OR","REGIONAL","GOVERNMENT",3,1,10095,null,null,null,null,null,false]
[null,"Bering Air","STATE","INDUSTRY AND BUSINESS",2,3,19768,null,null,null,null,null,false]
[null,"Bering Ecosystem Study, National Science Foundation (NSF)","FEDERAL or NATIONAL","GOVERNMENT",4,1,4083,null,null,null,null,null,false]
[null,"Bering Sea Fisheries Research Foundation","STATE","NGO",2,2,10989,null,null,null,null,null,false]
[null,"Bering Sea Fishermen’s Association","STATE","NGO",2,2,267,null,null,null,null,null,false]
[null,"BERK Consulting","LOCAL","INDUSTRY AND BUSINESS",1,3,8395,null,null,null,null,null,false]
[null,"Berkeley","Unknown","INDUSTRY AND BUSINESS",0,3,18084,null,null,null,null,null,false]
[null,"Berkeley California","STATE","ACADEMIC INSTITUTION",2,4,9229,null,null,null,null,null,false]
[null,"Berkeley Conservation Trust","LOCAL","NGO",1,2,7101,null,null,null,null,null,false]
[null,"Berkeley County Water and Sanitation Authority","LOCAL","GOVERNMENT",1,1,7131,null,null,null,null,null,false]
[null,"Berkeley County, SC","LOCAL","GOVERNMENT",1,1,4921,null,null,null,null,null,false]
[null,"Berkeley Electric Cooperative","FEDERAL or NATIONAL","INDUSTRY AND BUSINESS",4,3,268,null,null,null,null,null,false]
[null,"Berkeley S&W District","LOCAL","GOVERNMENT",1,1,7121,null,null,null,null,null,false]
[null,"Berkeley Striper Club","LOCAL","INDUSTRY AND BUSINESS",1,3,10944,null,null,null,null,null,false]
[null,"Berkeley Township Schools-Gifted and Talented Program","LOCAL","ACADEMIC INSTITUTION",1,4,7525,null,null,null,null,null,false]
[null,"Berkeley-Charleston-Dorchester Council of Governments","LOCAL","GOVERNMENT",1,1,269,null,null,null,null,null,false]
[null,"Berkley","FEDERAL or NATIONAL","INDUSTRY AND BUSINESS",4,3,13640,null,null,null,null,null,false]
[null,"Berkley Heights Township","LOCAL","GOVERNMENT",1,1,7711,null,null,null,null,null,false]
[null,"Bermuda Biological Station for Research","INTERNATIONAL","ACADEMIC INSTITUTION",5,4,270,null,null,null,null,null,false]
[null,"Bernie’s Conch","LOCAL","INDUSTRY AND BUSINESS",1,3,271,null,null,null,null,null,false]
[null,"Berret's Restaurant","LOCAL","INDUSTRY AND BUSINESS",1,3,7202,null,null,null,null,null,false]
[null,"Berry Plastics","FEDERAL or NATIONAL","INDUSTRY AND BUSINESS",4,3,9004,null,null,null,null,null,false]
[null,"Bertie County","LOCAL","GOVERNMENT",1,1,18913,null,null,null,null,null,false]
[null,"Bertie County Cooperative Extension","STATE","OTHER PARTNERS",2,6,18922,null,null,null,null,null,false]
[null,"Besser Elementary School (Alpena Public Schools)","LOCAL","ACADEMIC INSTITUTION",1,4,9138,null,null,null,null,null,false]
[null,"Besser Museum for Northeast Michigan","LOCAL","NGO",1,2,9139,null,null,null,null,null,false]
[null,"Beth Admire, IDEM","LOCAL","GOVERNMENT",1,1,14776,null,null,null,null,null,false]
[null,"Bethpage Campground Marina","LOCAL","INDUSTRY AND BUSINESS",1,3,13708,null,null,null,null,null,false]
[null,"Betsy's Cape Shore Salts","LOCAL","INDUSTRY AND BUSINESS",1,3,9035,null,null,null,null,null,false]
[null,"Better Block Hawaii","LOCAL","NGO",1,2,12926,null,null,null,null,null,false]
[null,"Bevan's Oyster Company","FEDERAL or NATIONAL","INDUSTRY AND BUSINESS",4,3,272,null,null,null,null,null,false]
[null,"Beverly Shores","LOCAL","GOVERNMENT",1,1,10887,null,null,null,null,null,false]
[null,"BHP Billiton, Limited","FEDERAL or NATIONAL","INDUSTRY AND BUSINESS",4,3,273,null,null,null,null,null,{"$f":"AND(  NOT(ISERROR(FIND(UPPER($B$7),UPPER($B1166),1))),  OR($D$7=\"\",NOT(ISERROR(FIND(UPPER($D$7),UPPER($B1166),1)))),    OR($D$8=\"\",(ISERROR(FIND(UPPER($D$8),UPPER($B1166),1))))           )","v":false}]
[null,"Big Bass Bsh at Bass Pro, Portage","LOCAL","INDUSTRY AND BUSINESS",1,3,14805,null,null,null,null,null,false]
[null,"Big Bay de Noc Fishery","FEDERAL or NATIONAL","INDUSTRY AND BUSINESS",4,3,274,null,null,null,null,null,false]
[null,"Big Bear Shrimp and Seafood","LOCAL","INDUSTRY AND BUSINESS",1,3,12203,null,null,null,null,null,false]
[null,"Big Beef Creek Field Research Station","STATE","ACADEMIC INSTITUTION",2,4,7729,null,null,null,null,null,false]
[null,"Big Cove Shellfish","LOCAL","INDUSTRY AND BUSINESS",1,3,10500,null,null,null,null,null,false]
[null,"Big Creek Lumber Co.","LOCAL","INDUSTRY AND BUSINESS",1,3,3469,null,null,null,null,null,false]
[null,"Big Island Abalone","REGIONAL","INDUSTRY AND BUSINESS",3,3,6337,null,null,null,null,null,false]
[null,"Big Island Aquaculture","LOCAL","INDUSTRY AND BUSINESS",1,3,17948,null,null,null,null,null,false]
[null,"Big Oak Seafood","LOCAL","INDUSTRY AND BUSINESS",1,3,10328,null,null,null,null,null,false]
[null,"Big Red's Bait and Tackle","LOCAL","INDUSTRY AND BUSINESS",1,3,16104,null,null,null,null,null,false]
[null,"Big Sandy Lake Association","LOCAL","NGO",1,2,6290,null,null,null,null,null,false]
[null,"Big Stone Bay Fish Company","FEDERAL or NATIONAL","INDUSTRY AND BUSINESS",4,3,275,null,null,null,null,null,false]
[null,"Big Thicket Association","LOCAL","NGO",1,2,12204,null,null,null,null,null,false]
[null,"Bigelow Analytical Services","INTERNATIONAL","INDUSTRY AND BUSINESS",5,3,19373,null,null,null,null,null,false]
[null,"Bigelow Institue of Oceanography","LOCAL","ACADEMIC INSTITUTION",1,4,18993,null,null,null,null,null,false]
[null,"Bigelow Laboratory for Ocean Sciences","STATE","OTHER PARTNERS",2,6,278,null,null,null,null,null,false]
[null,"Bill Avery Bill Avery, Bill Avery's Quality Bay Clams","STATE","INDUSTRY AND BUSINESS",2,3,16302,null,null,null,null,null,false]
[null,"Bill Knudson, MSU - Product Center","STATE","ACADEMIC INSTITUTION",2,4,9239,null,null,null,null,null,false]
[null,"Bill Peterson (artist)","Unknown2","OTHER PARTNERS",6,6,16465,null,null,null,null,null,false]
[null,"Bill Russell Company","STATE","INDUSTRY AND BUSINESS",2,3,279,null,null,null,null,null,false]
[null,"Billfish Foundation","INTERNATIONAL","Unknown",5,0,9641,null,null,null,null,null,false]
[null,"Bill's Bait Shop, DE","LOCAL","INDUSTRY AND BUSINESS",1,3,11233,null,null,null,null,null,false]
[null,"Biloxi High School","LOCAL","Unknown",1,0,3509,null,null,null,null,null,false]
[null,"Biloxi Junior High School","LOCAL","ACADEMIC INSTITUTION",1,4,6508,null,null,null,null,null,false]
[null,"Biloxi Port Commission","LOCAL","GOVERNMENT",1,1,280,null,null,null,null,null,false]
[null,"Biloxi Public School District","LOCAL","ACADEMIC INSTITUTION",1,4,6509,null,null,null,null,null,false]
[null,"Biltmore Estates","STATE","INDUSTRY AND BUSINESS",2,3,3898,null,null,null,null,null,false]
[null,"Binational Agriculture Research & Development (BARD)","INTERNATIONAL","INDUSTRY AND BUSINESS",5,3,5369,null,null,null,null,null,false]
[null,"Bingham Academy","LOCAL","ACADEMIC INSTITUTION",1,4,9140,null,null,null,null,null,false]
[null,"Binghamton University","REGIONAL","ACADEMIC INSTITUTION",3,4,16794,null,null,null,null,null,false]
[null,"Bio-Amazonia International","REGIONAL","OTHER PARTNERS",3,6,11646,null,null,null,null,null,false]
[null,"Bioaquatics International","Unknown","Unknown",0,0,3510,null,null,null,null,null,false]
[null,"Biodiversity Resarch Institute","Unknown","NGO",0,2,6967,null,null,null,null,null,false]
[null,"Bioenergy Technologies Office, Energy Efficiency and Renewable Energy (US DOE)","FEDERAL or NATIONAL","GOVERNMENT",4,1,9252,null,null,null,null,null,false]
[null,"BioFlorida","STATE","NGO",2,2,281,null,null,null,null,null,false]
[null,"Biogeography Branch  (US DOC, NOAA, NOS, NCCOS, CCMA)","FEDERAL or NATIONAL","GOVERNMENT",4,1,5581,null,null,null,null,null,false]
[null,"Biogeography Branch (US DOC, NOAA, NOS, NCCOS, CCMA)","FEDERAL or NATIONAL","Unknown",4,0,14678,null,null,null,null,null,false]
[null,"Biohabitats","LOCAL","INDUSTRY AND BUSINESS",1,3,18638,null,null,null,null,null,false]
[null,"Bioionix Inc.","INTERNATIONAL","INDUSTRY AND BUSINESS",5,3,19216,null,null,null,null,null,false]
[null,"Biological Conservation","REGIONAL","NGO",3,2,5077,null,null,null,null,null,false]
[null,"Biological Oceanography Program (NSF)","FEDERAL or NATIONAL","GOVERNMENT",4,1,5582,null,null,null,null,null,false]
[null,"Biological Resources Discipline (US DOI, USGS)","FEDERAL or NATIONAL","GOVERNMENT",4,1,5583,null,null,null,null,null,false]
[null,"Biological Resources Division National Center (US DOI, USGS)","FEDERAL or NATIONAL","GOVERNMENT",4,1,282,null,null,null,null,null,false]
[null,"Biological Resources Division, Ohio State (US DOI, USGS)","FEDERAL or NATIONAL","GOVERNMENT",4,1,283,null,null,null,null,null,false]
[null,"Biological Science","FEDERAL or NATIONAL","ACADEMIC INSTITUTION",4,4,284,null,null,null,null,null,false]
[null,"Biology Department, Dalhousie University, Halifax, Nova Scotia","INTERNATIONAL","ACADEMIC INSTITUTION",5,4,4123,null,null,null,null,null,false]
[null,"Biomark","INTERNATIONAL","INDUSTRY AND BUSINESS",5,3,19750,null,null,null,null,null,false]
[null,"Biomedix","REGIONAL","INDUSTRY AND BUSINESS",3,3,8159,null,null,null,null,null,false]
[null,"Biomimicry New England","LOCAL","NGO",1,2,18797,null,null,null,null,null,false]
[null,"Bionautics Inc.","STATE","INDUSTRY AND BUSINESS",2,3,18623,null,null,null,null,null,false]
[null,"Biopix","INTERNATIONAL","INDUSTRY AND BUSINESS",5,3,14814,null,null,null,null,null,false]
[null,"Biospherics P/L – Australia","INTERNATIONAL","INDUSTRY AND BUSINESS",5,3,5078,null,null,null,null,null,false]
[null,"Biotechnology Industry Organization","INTERNATIONAL","INDUSTRY AND BUSINESS",5,3,286,null,null,null,null,null,false]
[null,"Biotechnology Institute, University of Minnesota","STATE","ACADEMIC INSTITUTION",2,4,10040,null,null,null,null,null,false]
[null,"Birch Aquarium at Scripps under NGO","INTERNATIONAL","SEA GRANT PROGRAMS",5,5,4551,null,null,null,null,null,false]
[null,"Birch Bay State Park, Washington State Parks and Recreation Commission","STATE","GOVERNMENT",2,1,4505,null,null,null,null,null,false]
[null,"Birch Bay Water and Sewer District","LOCAL","GOVERNMENT",1,1,4234,null,null,null,null,null,false]
[null,"Birches Elementary School","LOCAL","ACADEMIC INSTITUTION",1,4,7547,null,null,null,null,null,false]
[null,"Birchline Planning LLC","LOCAL","INDUSTRY AND BUSINESS",1,3,14738,null,null,null,null,null,false]
[null,"bird conservation organizations","Unknown","NGO",0,2,287,null,null,null,null,null,false]
[null,"Bird Studies Canada","INTERNATIONAL","NGO",5,2,3687,null,null,null,null,null,false]
[null,"BirdLife International","INTERNATIONAL","NGO",5,2,4164,null,null,null,null,null,false]
[null,"Birds and Beasts Pet Shop","LOCAL","INDUSTRY AND BUSINESS",1,3,16144,null,null,null,null,null,false]
[null,"Birdseye Outfitters","LOCAL","OTHER PARTNERS",1,6,18392,null,null,null,null,null,{"$f":"AND(  NOT(ISERROR(FIND(UPPER($B$7),UPPER($B1230),1))),  OR($D$7=\"\",NOT(ISERROR(FIND(UPPER($D$7),UPPER($B1230),1)))),    OR($D$8=\"\",(ISERROR(FIND(UPPER($D$8),UPPER($B1230),1))))           )","v":false}]
[null,"Biscayne Community Foundation","LOCAL","NGO",1,2,12958,null,null,null,null,null,false]
[null,"Biscayne National Park","LOCAL","GOVERNMENT",1,1,12957,null,null,null,null,null,false]
[null,"Bishop Museum","STATE","INDUSTRY AND BUSINESS",2,3,15976,null,null,null,null,null,false]
[null,"Bishop Noll Institute","LOCAL","ACADEMIC INSTITUTION",1,4,13755,null,null,null,null,null,false]
[null,"Bistro By-The-Sea","LOCAL","INDUSTRY AND BUSINESS",1,3,288,null,null,null,null,null,false]
[null,"Bit & Grain","LOCAL","INDUSTRY AND BUSINESS",1,3,16795,null,null,null,null,null,false]
[null,"BJ Seafood Farm","REGIONAL","INDUSTRY AND BUSINESS",3,3,289,null,null,null,null,null,false]
[null,"Black Bear Conservation Committee","STATE","NGO",2,2,15516,null,null,null,null,null,false]
[null,"Black Brant Hunters Group","LOCAL","OTHER PARTNERS",1,6,18751,null,null,null,null,null,false]
[null,"Black Creek Watershed Association","LOCAL","OTHER PARTNERS",1,6,18923,null,null,null,null,null,false]
[null,"Black Elementary Schools","LOCAL","ACADEMIC INSTITUTION",1,4,7799,null,null,null,null,null,false]
[null,"Black Lake Association","LOCAL","NGO",1,2,18979,null,null,null,null,null,false]
[null,"Black Laser Learning","STATE","INDUSTRY AND BUSINESS",2,3,5701,null,null,null,null,null,false]
[null,"Black SCUBA Divers","LOCAL","NGO",1,2,13000,null,null,null,null,null,false]
[null,"Blackbeard Oyster Company","STATE","INDUSTRY AND BUSINESS",2,3,15149,null,null,null,null,null,false]
[null,"Blackbeard's Seafood Company","LOCAL","INDUSTRY AND BUSINESS",1,3,13990,null,null,null,null,null,false]
[null,"Blackboard Oyster Company","STATE","INDUSTRY AND BUSINESS",2,3,14399,null,null,null,null,null,false]
[null,"Blackburn Brothers Seafood Company","STATE","INDUSTRY AND BUSINESS",2,3,3899,null,null,null,null,null,false]
[null,"Blackburn Middle School","LOCAL","ACADEMIC INSTITUTION",1,4,6510,null,null,null,null,null,false]
[null,"Blackstone River Coalition","REGIONAL","NGO",3,2,7015,null,null,null,null,null,false]
[null,"Blackwater River Watershed Foundation","LOCAL","NGO",1,2,7934,null,null,null,null,null,false]
[null,"Blackwood Farms","LOCAL","INDUSTRY AND BUSINESS",1,3,8982,null,null,null,null,null,false]
[null,"Blaine Marina","LOCAL","INDUSTRY AND BUSINESS",1,3,4309,null,null,null,null,null,false]
[null,"Blau Oyster Company","REGIONAL","INDUSTRY AND BUSINESS",3,3,290,null,null,null,null,null,false]
[null,"Blind Canyon Aquaranch, Inc.","LOCAL","INDUSTRY AND BUSINESS",1,3,6824,null,null,null,null,null,false]
[null,"B-Line Construction","STATE","INDUSTRY AND BUSINESS",2,3,291,null,null,null,null,null,false]
[null,"Block Island High School","LOCAL","ACADEMIC INSTITUTION",1,4,7865,null,null,null,null,null,false]
[null,"Block Island Nursery & Landscape Association","LOCAL","INDUSTRY AND BUSINESS",1,3,9559,null,null,null,null,null,false]
[null,"Block Island Residents Association","LOCAL","NGO",1,2,9560,null,null,null,null,null,false]
[null,"Block Island Tourism Council","LOCAL","INDUSTRY AND BUSINESS",1,3,15942,null,null,null,null,null,false]
[null,"Blog Together/Science Online","INTERNATIONAL","NGO",5,2,4034,null,null,null,null,null,false]
[null,"Bloomberg Philanthropies","INTERNATIONAL","NGO",5,2,14475,null,null,null,null,null,false]
[null,"Blossman Gas","FEDERAL or NATIONAL","INDUSTRY AND BUSINESS",4,3,19714,null,null,null,null,null,false]
[null,"Blount Fine Foods","LOCAL","INDUSTRY AND BUSINESS",1,3,7311,null,null,null,null,null,false]
[null,"Blue Bear Productions","FEDERAL or NATIONAL","INDUSTRY AND BUSINESS",4,3,292,null,null,null,null,null,false]
[null,"Blue Cross Blue Shield","INTERNATIONAL","INDUSTRY AND BUSINESS",5,3,8050,null,null,null,null,null,false]
[null,"Blue Evolution","FEDERAL or NATIONAL","INDUSTRY AND BUSINESS",4,3,19760,null,null,null,null,null,false]
[null,"Blue Fins, MD","LOCAL","INDUSTRY AND BUSINESS",1,3,11234,null,null,null,null,null,false]
[null,"Blue Flag","INTERNATIONAL","NGO",5,2,15582,null,null,null,null,null,false]
[null,"Blue Flag International","INTERNATIONAL","NGO",5,2,15591,null,null,null,null,null,false]
[null,"Blue Green Golf Development","FEDERAL or NATIONAL","NGO",4,2,293,null,null,null,null,null,false]
[null,"Blue Heron Condominiums","LOCAL","INDUSTRY AND BUSINESS",1,3,7379,null,null,null,null,null,false]
[null,"Blue Hill Bay Mussels","LOCAL","INDUSTRY AND BUSINESS",1,3,8546,null,null,null,null,null,false]
[null,"Blue Hill Heritage Trust","LOCAL","NGO",1,2,19390,null,null,null,null,null,false]
[null,"Blue Hill Hydraulics Incorporated","LOCAL","INDUSTRY AND BUSINESS",1,3,9261,null,null,null,null,null,false]
[null,"Blue Iris Fish Farm","REGIONAL","INDUSTRY AND BUSINESS",3,3,10712,null,null,null,null,null,false]
[null,"Blue Island Chamber of Commerce","LOCAL","GOVERNMENT",1,1,8612,null,null,null,null,null,false]
[null,"Blue Island Park District","LOCAL","GOVERNMENT",1,1,8613,null,null,null,null,null,false]
[null,"Blue Marline Atlantic International","Unknown","INDUSTRY AND BUSINESS",0,3,6955,null,null,null,null,null,false]
[null,"Blue Moon Fund","INTERNATIONAL","NGO",5,2,13696,null,null,null,null,null,false]
[null,"Blue Oasis Aquaculture","STATE","INDUSTRY AND BUSINESS",2,3,18956,null,null,null,null,null,false]
[null,"Blue Ocean Farms","STATE","INDUSTRY AND BUSINESS",2,3,3900,null,null,null,null,null,false]
[null,"Blue Ocean Institute","INTERNATIONAL","NGO",5,2,294,null,null,null,null,null,false]
[null,"Blue Ocean Society","INTERNATIONAL","NGO",5,2,295,null,null,null,null,null,false]
[null,"Blue Ridge Aquaculture","FEDERAL or NATIONAL","INDUSTRY AND BUSINESS",4,3,296,null,null,null,null,null,false]
[null,"Blue Spruce Biologic Supply","LOCAL","INDUSTRY AND BUSINESS",1,3,7092,null,null,null,null,null,false]
[null,"Blue Star Foods","INTERNATIONAL","INDUSTRY AND BUSINESS",5,3,8218,null,null,null,null,null,false]
[null,"Blue Starr Oyster Co","LOCAL","OTHER PARTNERS",1,6,5420,null,null,null,null,null,false]
[null,"Blue Talon Bistro","FEDERAL or NATIONAL","INDUSTRY AND BUSINESS",4,3,297,null,null,null,null,null,false]
[null,"Blue Urchin Consulting","STATE","INDUSTRY AND BUSINESS",2,3,4114,null,null,null,null,null,false]
[null,"Blue Urchin/Wesley Shaw","Unknown","INDUSTRY AND BUSINESS",0,3,17647,null,null,null,null,null,false]
[null,"Blue Voyage Productions","STATE","INDUSTRY AND BUSINESS",2,3,20056,null,null,null,null,null,false]
[null,"Blue Water Baltimore","LOCAL","NGO",1,2,15876,null,null,null,null,null,false]
[null,"Blue Water Concepts","REGIONAL","INDUSTRY AND BUSINESS",3,3,19454,null,null,null,null,null,{"$f":"AND(  NOT(ISERROR(FIND(UPPER($B$7),UPPER($B1294),1))),  OR($D$7=\"\",NOT(ISERROR(FIND(UPPER($D$7),UPPER($B1294),1)))),    OR($D$8=\"\",(ISERROR(FIND(UPPER($D$8),UPPER($B1294),1))))           )","v":false}]
[null,"Blue Water Concepts, Inc.","LOCAL","INDUSTRY AND BUSINESS",1,3,14553,null,null,null,null,null,false]
[null,"Blue Water Condominiums","FEDERAL or NATIONAL","INDUSTRY AND BUSINESS",4,3,298,null,null,null,null,null,false]
[null,"Blue Water Fisheries","STATE","INDUSTRY AND BUSINESS",2,3,19477,null,null,null,null,null,false]
[null,"Blue Water Science","FEDERAL or NATIONAL","INDUSTRY AND BUSINESS",4,3,299,null,null,null,null,null,false]
[null,"Blue Water Sportfishing Association","LOCAL","NGO",1,2,7907,null,null,null,null,null,false]
[null,"Blue, Land, Water Interface","FEDERAL or NATIONAL","INDUSTRY AND BUSINESS",4,3,300,null,null,null,null,null,false]
[null,"Bluebonnet Swamp Nature Center","LOCAL","Unknown",1,0,9696,null,null,null,null,null,false]
[null,"Bluefin Robotics Corporation","INTERNATIONAL","INDUSTRY AND BUSINESS",5,3,7625,null,null,null,null,null,false]
[null,"Bluegill Restaurant","LOCAL","INDUSTRY AND BUSINESS",1,3,13894,null,null,null,null,null,false]
[null,"Bluewater Wind","REGIONAL","INDUSTRY AND BUSINESS",3,3,5702,null,null,null,null,null,false]
[null,"Blue-water Yachts Sales","LOCAL","INDUSTRY AND BUSINESS",1,3,5478,null,null,null,null,null,false]
[null,"Blueway Adventures","LOCAL","INDUSTRY AND BUSINESS",1,3,15142,null,null,null,null,null,false]
[null,"Bluff City Tackle","LOCAL","INDUSTRY AND BUSINESS",1,3,16102,null,null,null,null,null,false]
[null,"Bluff Hill Cove Oysters","LOCAL","INDUSTRY AND BUSINESS",1,3,15951,null,null,null,null,null,false]
[null,"Bluffton, SC","LOCAL","GOVERNMENT",1,1,4930,null,null,null,null,null,false]
[null,"BluWrap Company","INTERNATIONAL","INDUSTRY AND BUSINESS",5,3,13971,null,null,null,null,null,false]
[null,"BMT Syntek Technologies","INTERNATIONAL","INDUSTRY AND BUSINESS",5,3,7626,null,null,null,null,null,false]
[null,"BMT Syntek Technologies","INTERNATIONAL","INDUSTRY AND BUSINESS",5,3,6867,null,null,null,null,null,false]
[null,"BMW Manufacturing Corp.","FEDERAL or NATIONAL","INDUSTRY AND BUSINESS",4,3,301,null,null,null,null,null,false]
[null,"Board Of Cooperative Educational Services of Nassau County (Nassau BOCES)","LOCAL","ACADEMIC INSTITUTION",1,4,302,null,null,null,null,null,false]
[null,"Board of the Friends of Shepard State Park","FEDERAL or NATIONAL","NGO",4,2,303,null,null,null,null,null,false]
[null,"Boat Camp","STATE","NGO",2,2,3799,null,null,null,null,null,false]
[null,"Boat Street Marina","LOCAL","INDUSTRY AND BUSINESS",1,3,4310,null,null,null,null,null,false]
[null,"Boat U.S.","FEDERAL or NATIONAL","NGO",4,2,304,null,null,null,null,null,false]
[null,"Boating Association of Ohio","STATE","INDUSTRY AND BUSINESS",2,3,13265,null,null,null,null,null,false]
[null,"Boating Education and Rescue","LOCAL","NGO",1,2,16597,null,null,null,null,null,false]
[null,"Boating Industries Association of Upstate New York","STATE","INDUSTRY AND BUSINESS",2,3,12375,null,null,null,null,null,false]
[null,"Boating Industry Association of upstate New York","LOCAL","NGO",1,2,305,null,null,null,null,null,false]
[null,"Boating Trades Association of Texas","STATE","NGO",2,2,12205,null,null,null,null,null,false]
[null,"BoatUS Foundation","INTERNATIONAL","NGO",5,2,7480,null,null,null,null,null,false]
[null,"Boctouche Bay Industries","INTERNATIONAL","INDUSTRY AND BUSINESS",5,3,19488,null,null,null,null,null,false]
[null,"Bodega Marine Laboratory, University of California, Davis (UCD BML)","STATE","ACADEMIC INSTITUTION",2,4,306,null,null,null,null,null,false]
[null,"Bodie Island Oysters","STATE","INDUSTRY AND BUSINESS",2,3,14457,null,null,null,null,null,false]
[null,"Bodin Fisheries","FEDERAL or NATIONAL","INDUSTRY AND BUSINESS",4,3,307,null,null,null,null,null,false]
[null,"Bogue Chitto State Park","STATE","Unknown",2,0,19083,null,null,null,null,null,false]
[null,"Boh Bros. Construction","LOCAL","Unknown",1,0,9697,null,null,null,null,null,false]
[null,"Bolsa Chica Reserve","LOCAL","GOVERNMENT",1,1,308,null,null,null,null,null,false]
[null,"Bombay Hook National Wildlife Refuge","FEDERAL or NATIONAL","GOVERNMENT",4,1,17812,null,null,null,null,null,false]
[null,"Bon Secour Fisheries Inc.","FEDERAL or NATIONAL","INDUSTRY AND BUSINESS",4,3,309,null,null,null,null,null,false]
[null,"Bon Secour National Wildlife Refuge (US DOI, FWS, NWRS)","FEDERAL or NATIONAL","GOVERNMENT",4,1,310,null,null,null,null,null,false]
[null,"Bonefish Grill","LOCAL","INDUSTRY AND BUSINESS",1,3,7924,null,null,null,null,null,false]
[null,"Bonneville Power Administration (BPA)","FEDERAL or NATIONAL","GOVERNMENT",4,1,10096,null,null,null,null,null,false]
[null,"Booker T. Washington Middle School","LOCAL","ACADEMIC INSTITUTION",1,4,5483,null,null,null,null,null,false]
[null,"Boondocks Grill and Bait","LOCAL","INDUSTRY AND BUSINESS",1,3,16116,null,null,null,null,null,false]
[null,"Boone County Solid Waste Management District","LOCAL","GOVERNMENT",1,1,13883,null,null,null,null,null,false]
[null,"Boone Seafood","Unknown","INDUSTRY AND BUSINESS",0,3,6990,null,null,null,null,null,false]
[null,"Booth's Bait","LOCAL","INDUSTRY AND BUSINESS",1,3,9394,null,null,null,null,null,false]
[null,"Boreal Natives","LOCAL","INDUSTRY AND BUSINESS",1,3,6284,null,null,null,null,null,false]
[null,"Borlaug Higher Education for Agricultural Research and Development (BHEARD) Program","INTERNATIONAL","ACADEMIC INSTITUTION",5,4,13837,null,null,null,null,null,false]
[null,"Bornstein Seafoods","FEDERAL or NATIONAL","INDUSTRY AND BUSINESS",4,3,311,null,null,null,null,null,false]
[null,"Borough of Atlantic City","LOCAL","GOVERNMENT",1,1,15018,null,null,null,null,null,false]
[null,"Borough of Avon","LOCAL","GOVERNMENT",1,1,15327,null,null,null,null,null,false]
[null,"Borough of Belmar","LOCAL","GOVERNMENT",1,1,4829,null,null,null,null,null,false]
[null,"Borough of Brick Township","LOCAL","GOVERNMENT",1,1,7563,null,null,null,null,null,false]
[null,"Borough of Bridgeton","LOCAL","GOVERNMENT",1,1,19334,null,null,null,null,null,false]
[null,"Borough of Cape May","LOCAL","GOVERNMENT",1,1,13100,null,null,null,null,null,false]
[null,"Borough of Cape May Point","LOCAL","GOVERNMENT",1,1,18684,null,null,null,null,null,false]
[null,"Borough of Fair Haven","LOCAL","GOVERNMENT",1,1,15014,null,null,null,null,null,false]
[null,"Borough of Frenchtown","LOCAL","GOVERNMENT",1,1,19335,null,null,null,null,null,false]
[null,"Borough of Harmony","LOCAL","GOVERNMENT",1,1,19338,null,null,null,null,null,false]
[null,"Borough of Lavalette","LOCAL","GOVERNMENT",1,1,7562,null,null,null,null,null,false]
[null,"Borough of Manasquan","LOCAL","GOVERNMENT",1,1,15329,null,null,null,null,null,false]
[null,"Borough of Ocean City","LOCAL","GOVERNMENT",1,1,7561,null,null,null,null,null,false]
[null,"Borough of Oceanport","LOCAL","GOVERNMENT",1,1,15326,null,null,null,null,null,{"$f":"AND(  NOT(ISERROR(FIND(UPPER($B$7),UPPER($B1358),1))),  OR($D$7=\"\",NOT(ISERROR(FIND(UPPER($D$7),UPPER($B1358),1)))),    OR($D$8=\"\",(ISERROR(FIND(UPPER($D$8),UPPER($B1358),1))))           )","v":false}]
[null,"Borough of Pleasantville","LOCAL","GOVERNMENT",1,1,15324,null,null,null,null,null,false]
[null,"Borough of Pohatcong","LOCAL","GOVERNMENT",1,1,19337,null,null,null,null,null,false]
[null,"Borough of Rumson","LOCAL","GOVERNMENT",1,1,16596,null,null,null,null,null,false]
[null,"Borough of Spring Lake","LOCAL","GOVERNMENT",1,1,15023,null,null,null,null,null,false]
[null,"Borough of Tuckerton","LOCAL","GOVERNMENT",1,1,15015,null,null,null,null,null,false]
[null,"Borough of Westwood","STATE","GOVERNMENT",2,1,10534,null,null,null,null,null,false]
[null,"Borough of Wildwood","LOCAL","GOVERNMENT",1,1,15017,null,null,null,null,null,false]
[null,"Borough of Winslow","LOCAL","GOVERNMENT",1,1,19333,null,null,null,null,null,false]
[null,"Borrego Foundation","Unknown","NGO",0,2,19019,null,null,null,null,null,false]
[null,"Bosarge Boats, Inc.","LOCAL","INDUSTRY AND BUSINESS",1,3,6511,null,null,null,null,null,false]
[null,"Boston College (BC)","STATE","Unknown",2,0,3511,null,null,null,null,null,false]
[null,"Boston Green Academy High School","LOCAL","ACADEMIC INSTITUTION",1,4,8361,null,null,null,null,null,false]
[null,"Boston Harbor Ecosystem Network","LOCAL","NGO",1,2,18791,null,null,null,null,null,false]
[null,"Boston Harbor Island Alliance","LOCAL","NGO",1,2,6413,null,null,null,null,null,false]
[null,"Boston Harbor Islands (US DOI, NPS)","FEDERAL or NATIONAL","GOVERNMENT",4,1,6400,null,null,null,null,null,false]
[null,"Boston Harbor Islands Coalition","LOCAL","NGO",1,2,6412,null,null,null,null,null,false]
[null,"Boston Museum of Science","LOCAL","NGO",1,2,18789,null,null,null,null,null,false]
[null,"Boston Seafood Show","REGIONAL","INDUSTRY AND BUSINESS",3,3,18768,null,null,null,null,null,false]
[null,"Boston University","STATE","NULL",2,"NULL",14703,null,null,null,null,null,false]
[null,"Boston University (BU)","STATE","ACADEMIC INSTITUTION",2,4,3512,null,null,null,null,null,false]
[null,"Boston University Center for Conservation Biology and Ecology","LOCAL","ACADEMIC INSTITUTION",1,4,7662,null,null,null,null,null,false]
[null,"Boston University Center or Information and Systems Engineering","LOCAL","ACADEMIC INSTITUTION",1,4,7663,null,null,null,null,null,false]
[null,"Boston University Research Education Communication Science","STATE","ACADEMIC INSTITUTION",2,4,18792,null,null,null,null,null,false]
[null,"Botanical Designs with Barbara","LOCAL","INDUSTRY AND BUSINESS",1,3,8787,null,null,null,null,null,false]
[null,"Botany Bay volunteers","LOCAL","NGO",1,2,13349,null,null,null,null,null,false]
[null,"Bouctouche Bay Industries","INTERNATIONAL","INDUSTRY AND BUSINESS",5,3,16191,null,null,null,null,null,false]
[null,"Bourbonnais Police Department","LOCAL","GOVERNMENT",1,1,10899,null,null,null,null,null,false]
[null,"Bourough of Lopatcong","LOCAL","GOVERNMENT",1,1,19336,null,null,null,null,null,false]
[null,"Bowdoin College","STATE","ACADEMIC INSTITUTION",2,4,6896,null,null,null,null,null,false]
[null,"Bowers Seafood Processing Plan","LOCAL","INDUSTRY AND BUSINESS",1,3,12206,null,null,null,null,null,false]
[null,"Bowers Shrimp Company","LOCAL","INDUSTRY AND BUSINESS",1,3,13020,null,null,null,null,null,false]
[null,"Bowie State University","STATE","ACADEMIC INSTITUTION",2,4,17493,null,null,null,null,null,false]
[null,"Bowling Green State University","STATE","ACADEMIC INSTITUTION",2,4,10053,null,null,null,null,null,false]
[null,"Bowling Green State University (BGSU)","STATE","ACADEMIC INSTITUTION",2,4,313,null,null,null,null,null,false]
[null,"BowUS DOIn College Coastal Studies Center,,,,,","STATE","ACADEMIC INSTITUTION",2,4,312,null,null,null,null,null,false]
[null,"Boy Scout Troop 95","LOCAL","OTHER PARTNERS",1,6,7673,null,null,null,null,null,false]
[null,"Boy Scouts of America","FEDERAL or NATIONAL","Unknown",4,0,9992,null,null,null,null,null,false]
[null,"Boy Scouts of America (BSA)","FEDERAL or NATIONAL","NGO",4,2,314,null,null,null,null,null,false]
[null,"Boyer Towing Co.","REGIONAL","INDUSTRY AND BUSINESS",3,3,7448,null,null,null,null,null,false]
[null,"Boynton & Boynton","LOCAL","INDUSTRY AND BUSINESS",1,3,7854,null,null,null,null,null,false]
[null,"Boys and Girls Club of Bainbridge Island","LOCAL","NGO",1,2,8396,null,null,null,null,null,false]
[null,"Boys and Girls Club of SW Oregon","LOCAL","NGO",1,2,14228,null,null,null,null,null,false]
[null,"Boys and Girls Club of Vineland","LOCAL","NGO",1,2,14912,null,null,null,null,null,false]
[null,"BP Amoco","INTERNATIONAL","INDUSTRY AND BUSINESS",5,3,13756,null,null,null,null,null,false]
[null,"BP Cooper River Plant","FEDERAL or NATIONAL","INDUSTRY AND BUSINESS",4,3,315,null,null,null,null,null,false]
[null,"BP Gulf of Mexico Research Initiative (BP GRI)","INTERNATIONAL","INDUSTRY AND BUSINESS",5,3,6370,null,null,null,null,null,false]
[null,"Bradford Bay Farms / Mid-Atlantic AquaTech, LLC","REGIONAL","INDUSTRY AND BUSINESS",3,3,16999,null,null,null,null,null,false]
[null,"Bradley Beach Environmental Commission","LOCAL","GOVERNMENT",1,1,4828,null,null,null,null,null,false]
[null,"Bradner Consulting Group, Inc.","LOCAL","INDUSTRY AND BUSINESS",1,3,8284,null,null,null,null,null,false]
[null,"Brady's Oyster Co.","LOCAL","INDUSTRY AND BUSINESS",1,3,13158,null,null,null,null,null,false]
[null,"Brain Power Software","LOCAL","INDUSTRY AND BUSINESS",1,3,19733,null,null,null,null,null,false]
[null,"Brainerd Area Chamber of Commerce","LOCAL","INDUSTRY AND BUSINESS",1,3,316,null,null,null,null,null,false]
[null,"Braise Milwaukee","LOCAL","INDUSTRY AND BUSINESS",1,3,11475,null,null,null,null,null,false]
[null,"Brandeis University, Waltham, Massachusetts","STATE","ACADEMIC INSTITUTION",2,4,3513,null,null,null,null,null,false]
[null,"Brandywine Valley Association","REGIONAL","NGO",3,2,6375,null,null,null,null,null,false]
[null,"Brandywine Valley Association","LOCAL","OTHER PARTNERS",1,6,7883,null,null,null,null,null,false]
[null,"Brantley County","LOCAL","GOVERNMENT",1,1,317,null,null,null,null,null,false]
[null,"Bravo Medical Magnet High School","LOCAL","ACADEMIC INSTITUTION",1,4,17087,null,null,null,null,null,false]
[null,"Brazilian Ministry of Fisheries and Aquaculture","INTERNATIONAL","GOVERNMENT",5,1,16476,null,null,null,null,null,false]
[null,"Brazilian Ministry of the Environment","INTERNATIONAL","GOVERNMENT",5,1,16478,null,null,null,null,null,false]
[null,"Brazoria County 4-H Adult Leader and Parents Association","LOCAL","NGO",1,2,12207,null,null,null,null,null,false]
[null,"Brazoria County Commissioner's Court","LOCAL","GOVERNMENT",1,1,12208,null,null,null,null,null,false]
[null,"Brazoria County Emergency Management","LOCAL","GOVERNMENT",1,1,12209,null,null,null,null,null,false]
[null,"Brazoria County Historical Museum","LOCAL","GOVERNMENT",1,1,12210,null,null,null,null,null,{"$f":"AND(  NOT(ISERROR(FIND(UPPER($B$7),UPPER($B1422),1))),  OR($D$7=\"\",NOT(ISERROR(FIND(UPPER($D$7),UPPER($B1422),1)))),    OR($D$8=\"\",(ISERROR(FIND(UPPER($D$8),UPPER($B1422),1))))           )","v":false}]
[null,"Brazoria County Library System","LOCAL","GOVERNMENT",1,1,12211,null,null,null,null,null,false]
[null,"Brazoria County Master Gardener Association","STATE","ACADEMIC INSTITUTION",2,4,15376,null,null,null,null,null,false]
[null,"Brazoria County Parks Department","LOCAL","GOVERNMENT",1,1,12212,null,null,null,null,null,false]
[null,"Brazoria County, TX","LOCAL","GOVERNMENT",1,1,13843,null,null,null,null,null,false]
[null,"Brazoria National Wildlife Refuge","FEDERAL or NATIONAL","GOVERNMENT",4,1,12213,null,null,null,null,null,false]
[null,"Brazos Christian School, Bryan, TX","LOCAL","ACADEMIC INSTITUTION",1,4,12214,null,null,null,null,null,false]
[null,"Brazos Towing Incorporated","LOCAL","INDUSTRY AND BUSINESS",1,3,17676,null,null,null,null,null,false]
[null,"Brazos Valley Children's Museum","LOCAL","NGO",1,2,12215,null,null,null,null,null,false]
[null,"Brazos Valley Council of Governments","LOCAL","NGO",1,2,15396,null,null,null,null,null,false]
[null,"Brazos Valley Museum of Natural History","LOCAL","GOVERNMENT",1,1,12216,null,null,null,null,null,false]
[null,"Brazosport College","LOCAL","ACADEMIC INSTITUTION",1,4,15867,null,null,null,null,null,false]
[null,"Brazosport Community College","LOCAL","ACADEMIC INSTITUTION",1,4,12217,null,null,null,null,null,false]
[null,"Breakaway Adventures","INTERNATIONAL","INDUSTRY AND BUSINESS",5,3,17208,null,null,null,null,null,false]
[null,"BRECs Baton Rouge Zoo","LOCAL","OTHER PARTNERS",1,6,17607,null,null,null,null,null,false]
[null,"BRECs Bluebonnet Swamp Nature Center","LOCAL","OTHER PARTNERS",1,6,17614,null,null,null,null,null,false]
[null,"BRECs Conservation Department","LOCAL","OTHER PARTNERS",1,6,17608,null,null,null,null,null,false]
[null,"Bremen Lobster Co-op","STATE","INDUSTRY AND BUSINESS",2,3,19381,null,null,null,null,null,false]
[null,"Bremen Police Department","LOCAL","GOVERNMENT",1,1,8614,null,null,null,null,null,false]
[null,"Bremerton Marina","LOCAL","INDUSTRY AND BUSINESS",1,3,4311,null,null,null,null,null,false]
[null,"Bremerton Parks and Recreation, City of Bremerton","LOCAL","GOVERNMENT",1,1,8397,null,null,null,null,null,false]
[null,"Brenner Marine, Toledo","FEDERAL or NATIONAL","INDUSTRY AND BUSINESS",4,3,319,null,null,null,null,null,false]
[null,"Brenner Oyster Company","REGIONAL","INDUSTRY AND BUSINESS",3,3,320,null,null,null,null,null,false]
[null,"Brevard County","LOCAL","GOVERNMENT",1,1,12935,null,null,null,null,null,false]
[null,"Brevard Zoo","LOCAL","NGO",1,2,12936,null,null,null,null,null,false]
[null,"Brewer's Cove Haven Marina","LOCAL","INDUSTRY AND BUSINESS",1,3,14580,null,null,null,null,null,false]
[null,"Brewer's Greenwich Bay Marina","LOCAL","INDUSTRY AND BUSINESS",1,3,14581,null,null,null,null,null,false]
[null,"Brick Municipal Utilities Authority","LOCAL","GOVERNMENT",1,1,7870,null,null,null,null,null,false]
[null,"Bridge Marinas","LOCAL","INDUSTRY AND BUSINESS",1,3,17356,null,null,null,null,null,false]
[null,"Bridgeport and Port Jefferson Steamboat Co.","FEDERAL or NATIONAL","INDUSTRY AND BUSINESS",4,3,321,null,null,null,null,null,false]
[null,"Bridgeport Regional Vocational Aquaculture School","FEDERAL or NATIONAL","ACADEMIC INSTITUTION",4,4,322,null,null,null,null,null,false]
[null,"Bridgeton Public Schools","LOCAL","ACADEMIC INSTITUTION",1,4,7536,null,null,null,null,null,false]
[null,"Bridgewater Plaza Marina","LOCAL","INDUSTRY AND BUSINESS",1,3,7203,null,null,null,null,null,false]
[null,"Brielle Township Environmental Commission","LOCAL","GOVERNMENT",1,1,7543,null,null,null,null,null,false]
[null,"Brigantine Township","LOCAL","GOVERNMENT",1,1,15019,null,null,null,null,null,false]
[null,"Brigham and Women's Hospital","FEDERAL or NATIONAL","ACADEMIC INSTITUTION",4,4,323,null,null,null,null,null,false]
[null,"Brightwater Seafood Company","STATE","INDUSTRY AND BUSINESS",2,3,3901,null,null,null,null,null,false]
[null,"Brimm Medical Arts High School","LOCAL","ACADEMIC INSTITUTION",1,4,9052,null,null,null,null,null,false]
[null,"Bristol Bay Borough","STATE","GOVERNMENT",2,1,5385,null,null,null,null,null,false]
[null,"Bristol Bay Economic Development Corporation","LOCAL","INDUSTRY AND BUSINESS",1,3,324,null,null,null,null,null,false]
[null,"Bristol Bay Marine Mammal Council","REGIONAL","NGO",3,2,8044,null,null,null,null,null,false]
[null,"Bristol Bay Native Association","LOCAL","NGO",1,2,325,null,null,null,null,null,false]
[null,"Bristol Bay Regional Seafood Development Association","LOCAL","OTHER PARTNERS",1,6,5421,null,null,null,null,null,false]
[null,"Bristol Bay Science and Research Institute","LOCAL","NGO",1,2,326,null,null,null,null,null,false]
[null,"Bristol Community College","STATE","ACADEMIC INSTITUTION",2,4,6811,null,null,null,null,null,false]
[null,"Bristol Harbor Commission","LOCAL","GOVERNMENT",1,1,13016,null,null,null,null,null,false]
[null,"Bristol High School","LOCAL","ACADEMIC INSTITUTION",1,4,6812,null,null,null,null,null,false]
[null,"Bristol Sanitary District","STATE","GOVERNMENT",2,1,19909,null,null,null,null,null,false]
[null,"British Columbia Association of Salmon Farmers, Canada","INTERNATIONAL","INDUSTRY AND BUSINESS",5,3,327,null,null,null,null,null,false]
[null,"British Columbia Centre for Disease Control, Canada","INTERNATIONAL","GOVERNMENT",5,1,328,null,null,null,null,null,false]
[null,"British Columbia Cetacean Sightings Network, Vancouver Aquarium","INTERNATIONAL","NGO",5,2,7424,null,null,null,null,null,false]
[null,"British Columbia Ministry of Environment, Canada","INTERNATIONAL","GOVERNMENT",5,1,4134,null,null,null,null,null,false]
[null,"British Columbia Ministry of Fisheries, Canada","INTERNATIONAL","GOVERNMENT",5,1,329,null,null,null,null,null,false]
[null,"British Columbia Shellfish Growers Association, Canada","INTERNATIONAL","INDUSTRY AND BUSINESS",5,3,330,null,null,null,null,null,false]
[null,"British Oceanographic Data Centre","INTERNATIONAL","GOVERNMENT",5,1,11415,null,null,null,null,null,false]
[null,"British Petroleum (BP)","INTERNATIONAL","INDUSTRY AND BUSINESS",5,3,5025,null,null,null,null,null,false]
[null,"British School of Boston","LOCAL","ACADEMIC INSTITUTION",1,4,7627,null,null,null,null,null,false]
[null,"Broader Impacts, LLC","Unknown","Unknown",0,0,10067,null,null,null,null,null,false]
[null,"Broadkill Tributary Action Team","LOCAL","OTHER PARTNERS",1,6,5703,null,null,null,null,null,false]
[null,"Broadreach Fund","STATE","NGO",2,2,19372,null,null,null,null,null,false]
[null,"Broadwater Seafood","LOCAL","INDUSTRY AND BUSINESS",1,3,17357,null,null,null,null,null,false]
[null,"Brockman Apprentice Foundation","REGIONAL","INDUSTRY AND BUSINESS",3,3,14006,null,null,null,null,null,false]
[null,"Bronx River Watershed Initiative","STATE","GOVERNMENT",2,1,10624,null,null,null,null,null,false]
[null,"Brook Street Family Literacy Center","LOCAL","ACADEMIC INSTITUTION",1,4,5253,null,null,null,null,null,false]
[null,"Brookdale Community College","STATE","ACADEMIC INSTITUTION",2,4,4871,null,null,null,null,null,{"$f":"AND(  NOT(ISERROR(FIND(UPPER($B$7),UPPER($B1486),1))),  OR($D$7=\"\",NOT(ISERROR(FIND(UPPER($D$7),UPPER($B1486),1)))),    OR($D$8=\"\",(ISERROR(FIND(UPPER($D$8),UPPER($B1486),1))))           )","v":false}]
[null,"Brookfield Zoo","LOCAL","INDUSTRY AND BUSINESS",1,3,5911,null,null,null,null,null,false]
[null,"Brookhaven National Laboratory","FEDERAL or NATIONAL","GOVERNMENT",4,1,331,null,null,null,null,null,false]
[null,"Brookhaven Science Associates","FEDERAL or NATIONAL","INDUSTRY AND BUSINESS",4,3,332,null,null,null,null,null,false]
[null,"Brookings Fishery Committee","FEDERAL or NATIONAL","NGO",4,2,333,null,null,null,null,null,false]
[null,"Brookings-Harbor School District","LOCAL","ACADEMIC INSTITUTION",1,4,14234,null,null,null,null,null,false]
[null,"Brookline High School","LOCAL","ACADEMIC INSTITUTION",1,4,7628,null,null,null,null,null,false]
[null,"Brooklyn Bridge Park Conservancy","LOCAL","NGO",1,2,13231,null,null,null,null,null,false]
[null,"Brooklyn College","LOCAL","ACADEMIC INSTITUTION",1,4,7812,null,null,null,null,null,false]
[null,"Brooklyn Marine STEM Education Alliance","LOCAL","OTHER PARTNERS",1,6,16395,null,null,null,null,null,false]
[null,"Broward County","LOCAL","GOVERNMENT",1,1,12993,null,null,null,null,null,false]
[null,"Brown and Caldwell","INTERNATIONAL","INDUSTRY AND BUSINESS",5,3,6740,null,null,null,null,null,false]
[null,"Brown County Land and Water Conservation Department","LOCAL","GOVERNMENT",1,1,3688,null,null,null,null,null,false]
[null,"Brown County Port Authority","REGIONAL","GOVERNMENT",3,1,10084,null,null,null,null,null,false]
[null,"Brown County Sheriff's Office","LOCAL","GOVERNMENT",1,1,10892,null,null,null,null,null,false]
[null,"Brown County Solid Waste Management District","LOCAL","GOVERNMENT",1,1,10891,null,null,null,null,null,false]
[null,"Brown County, Wis.","LOCAL","GOVERNMENT",1,1,3689,null,null,null,null,null,false]
[null,"Brown University (BROWN)","STATE","ACADEMIC INSTITUTION",2,4,334,null,null,null,null,null,false]
[null,"Brownstown Township, MI","LOCAL","GOVERNMENT",1,1,7905,null,null,null,null,null,false]
[null,"Brownsville Public Utilities District","LOCAL","GOVERNMENT",1,1,12218,null,null,null,null,null,false]
[null,"Brownsville/Port Isabel Shrimpers Association","LOCAL","INDUSTRY AND BUSINESS",1,3,6055,null,null,null,null,null,false]
[null,"Bruce Koike (artist)","Unknown2","OTHER PARTNERS",6,6,16466,null,null,null,null,null,false]
[null,"Brunswick Catch","LOCAL","Unknown",1,0,3981,null,null,null,null,null,false]
[null,"Brunswick County Chamber of Commerce","LOCAL","GOVERNMENT",1,1,4985,null,null,null,null,null,false]
[null,"Brunswick County Cooperative Extension","STATE","ACADEMIC INSTITUTION",2,4,18924,null,null,null,null,null,false]
[null,"Brunswick County Planning and Community","LOCAL","GOVERNMENT",1,1,7022,null,null,null,null,null,false]
[null,"Brunswick County Sheriff's Department","LOCAL","GOVERNMENT",1,1,19704,null,null,null,null,null,false]
[null,"Brunswick County, N.C.","STATE","Unknown",2,0,3982,null,null,null,null,null,false]
[null,"Brunswick Library","LOCAL","OTHER PARTNERS",1,6,8683,null,null,null,null,null,false]
[null,"Brunswick-Glynn County Development Authority","LOCAL","NGO",1,2,10318,null,null,null,null,null,false]
[null,"Brunswick-Glynn County Joint Water and Sewer Commission","LOCAL","NGO",1,2,10317,null,null,null,null,null,false]
[null,"Brunswick-Glynn County Library","LOCAL","NGO",1,2,10351,null,null,null,null,null,false]
[null,"Brusco Tug and Barge","REGIONAL","INDUSTRY AND BUSINESS",3,3,7449,null,null,null,null,null,false]
[null,"Bryan County","LOCAL","GOVERNMENT",1,1,335,null,null,null,null,null,false]
[null,"Bryan Environmental Consultants, Inc.","STATE","INDUSTRY AND BUSINESS",2,3,19910,null,null,null,null,null,false]
[null,"Bryan Independent School District, TX","LOCAL","ACADEMIC INSTITUTION",1,4,6167,null,null,null,null,null,false]
[null,"Bryn Athyn College","STATE","ACADEMIC INSTITUTION",2,4,336,null,null,null,null,null,false]
[null,"Bryn Mawr College","STATE","ACADEMIC INSTITUTION",2,4,9262,null,null,null,null,null,false]
[null,"Bucci Landscaping","LOCAL","INDUSTRY AND BUSINESS",1,3,13152,null,null,null,null,null,false]
[null,"Buckhead Beef","Unknown","INDUSTRY AND BUSINESS",0,3,6948,null,null,null,null,null,false]
[null,"Buckley's","LOCAL","INDUSTRY AND BUSINESS",1,3,14818,null,null,null,null,null,false]
[null,"Bucknell University","STATE","ACADEMIC INSTITUTION",2,4,16641,null,null,null,null,null,false]
[null,"Budeheim","INTERNATIONAL","INDUSTRY AND BUSINESS",5,3,8207,null,null,null,null,null,false]
[null,"Budget Formulation and Analisys Division (US DOC, NOAA, OAR)","FEDERAL or NATIONAL","GOVERNMENT",4,1,5585,null,null,null,null,null,false]
[null,"BUENA VISTA AUDUBON SOCIETY","LOCAL","NGO",1,2,9579,null,null,null,null,null,false]
[null,"Buffalo Audubon’s Beaver Meadow Nature Center","STATE","NGO",2,2,14879,null,null,null,null,null,false]
[null,"Buffalo Bayou Partnership-Houston","LOCAL","NGO",1,2,12219,null,null,null,null,null,false]
[null,"Buffalo District (DoD, Army, USACE)","FEDERAL or NATIONAL","GOVERNMENT",4,1,337,null,null,null,null,null,false]
[null,"Buffalo Museum of Science","LOCAL","NGO",1,2,7827,null,null,null,null,null,false]
[null,"Buffalo Museum of Science (NY)","LOCAL","INDUSTRY AND BUSINESS",1,3,15560,null,null,null,null,null,false]
[null,"Buffalo Niagara Riverkeepers","REGIONAL","NGO",3,2,5797,null,null,null,null,null,false]
[null,"Buffalo State College","STATE","Unknown",2,0,3514,null,null,null,null,null,false]
[null,"Buffalo Urban Outdoor Education Foundation","LOCAL","NGO",1,2,7828,null,null,null,null,null,false]
[null,"Buffalo Zoo","LOCAL","INDUSTRY AND BUSINESS",1,3,15558,null,null,null,null,null,false]
[null,"Bugwood.org","STATE","ACADEMIC INSTITUTION",2,4,14812,null,null,null,null,null,false]
[null,"Building Industry Association","FEDERAL or NATIONAL","INDUSTRY AND BUSINESS",4,3,338,null,null,null,null,null,false]
[null,"Buist","LOCAL","ACADEMIC INSTITUTION",1,4,19734,null,null,null,null,null,false]
[null,"Bulan's Boatyard","LOCAL","INDUSTRY AND BUSINESS",1,3,339,null,null,null,null,null,false]
[null,"Bull’s Bay Seafood","FEDERAL or NATIONAL","INDUSTRY AND BUSINESS",4,3,340,null,null,null,null,null,false]
[null,"Bulls Bay Chamber of Commerce","LOCAL","GOVERNMENT",1,1,16667,null,null,null,null,null,false]
[null,"Bullseye Bait and Tackle","STATE","INDUSTRY AND BUSINESS",2,3,19911,null,null,null,null,null,false]
[null,"Bumble Bee Seafood","INTERNATIONAL","INDUSTRY AND BUSINESS",5,3,16954,null,null,null,null,null,false]
[null,"Bumble Bee Seafoods","INTERNATIONAL","INDUSTRY AND BUSINESS",5,3,14291,null,null,null,null,null,false]
[null,"Bumble Fish Sushi","INTERNATIONAL","INDUSTRY AND BUSINESS",5,3,8181,null,null,null,null,null,false]
[null,"Bumblebee Foods LLC","INTERNATIONAL","INDUSTRY AND BUSINESS",5,3,341,null,null,null,null,null,{"$f":"AND(  NOT(ISERROR(FIND(UPPER($B$7),UPPER($B1550),1))),  OR($D$7=\"\",NOT(ISERROR(FIND(UPPER($D$7),UPPER($B1550),1)))),    OR($D$8=\"\",(ISERROR(FIND(UPPER($D$8),UPPER($B1550),1))))           )","v":false}]
[null,"Bunnelle Foundation","LOCAL","NGO",1,2,8824,null,null,null,null,null,false]
[null,"Burbank Trawls and Sportnets","LOCAL","INDUSTRY AND BUSINESS",1,3,10333,null,null,null,null,null,false]
[null,"Bureau of Environmental Evaluation & Risk Assessment","STATE","GOVERNMENT",2,1,18645,null,null,null,null,null,false]
[null,"Bureau of Indian Affairs (US DOI, BIA)","FEDERAL or NATIONAL","GOVERNMENT",4,1,342,null,null,null,null,null,false]
[null,"Bureau of Land Management (US DOI, BLM)","FEDERAL or NATIONAL","GOVERNMENT",4,1,343,null,null,null,null,null,false]
[null,"Bureau of Land Management, Yaquina Head Outstanding Natural Area (BLM)","FEDERAL or NATIONAL","GOVERNMENT",4,1,7847,null,null,null,null,null,false]
[null,"Bureau of Ocean Energy Management","FEDERAL or NATIONAL","GOVERNMENT",4,1,10217,null,null,null,null,null,false]
[null,"Bureau of Policy, Planning, and Learning (STATE, USAID, OST, PPL)","FEDERAL or NATIONAL","GOVERNMENT",4,1,5867,null,null,null,null,null,false]
[null,"Bureau of Reclaimation, Central Valley, CA","STATE","GOVERNMENT",2,1,8104,null,null,null,null,null,false]
[null,"Bureau of Safety and Environmental Enforcement (US DOI, BSEE)","FEDERAL or NATIONAL","GOVERNMENT",4,1,9297,null,null,null,null,null,false]
[null,"Burgess and Niple","REGIONAL","INDUSTRY AND BUSINESS",3,3,13645,null,null,null,null,null,false]
[null,"Burlington Board of Health","LOCAL","GOVERNMENT",1,1,5254,null,null,null,null,null,false]
[null,"Burlington City Department of Public Works","LOCAL","GOVERNMENT",1,1,5255,null,null,null,null,null,false]
[null,"Burlington Community Boathouse","LOCAL","GOVERNMENT",1,1,18085,null,null,null,null,null,false]
[null,"Burlington Community Sailing Center","LOCAL","NGO",1,2,5256,null,null,null,null,null,false]
[null,"Burlington County College","STATE","ACADEMIC INSTITUTION",2,4,4872,null,null,null,null,null,false]
[null,"Burlington Department of Parks and Recreation","LOCAL","GOVERNMENT",1,1,5257,null,null,null,null,null,false]
[null,"Burlington Vermont Ferry Dock Marina","Unknown","INDUSTRY AND BUSINESS",0,3,18086,null,null,null,null,null,false]
[null,"Burnell Trawlers","LOCAL","INDUSTRY AND BUSINESS",1,3,6080,null,null,null,null,null,false]
[null,"Burnstein Shur Attorneys","LOCAL","INDUSTRY AND BUSINESS",1,3,5250,null,null,null,null,null,false]
[null,"Burroughs Wellcome Fund","INTERNATIONAL","NGO",5,2,19584,null,null,null,null,null,false]
[null,"Burton 4-H","LOCAL","GOVERNMENT",1,1,8705,null,null,null,null,null,false]
[null,"Burton Island State Park","STATE","GOVERNMENT",2,1,18087,null,null,null,null,null,false]
[null,"Bushkill Stream Conservancy","LOCAL","NGO",1,2,9263,null,null,null,null,null,false]
[null,"Bushkill Township","LOCAL","GOVERNMENT",1,1,15880,null,null,null,null,null,false]
[null,"Business Alliance for a Sound Economy","Unknown","INDUSTRY AND BUSINESS",0,3,7023,null,null,null,null,null,false]
[null,"Business Oregon","STATE","GOVERNMENT",2,1,10475,null,null,null,null,null,false]
[null,"Butch's Bulldozing","LOCAL","INDUSTRY AND BUSINESS",1,3,345,null,null,null,null,null,false]
[null,"Butler University","STATE","ACADEMIC INSTITUTION",2,4,6933,null,null,null,null,null,false]
[null,"Buzzards Bay Coalition","LOCAL","NGO",1,2,6414,null,null,null,null,null,false]
[null,"Buzzards Bay Estuary Program","LOCAL","GOVERNMENT",1,1,10841,null,null,null,null,null,false]
[null,"Byram Township","LOCAL","GOVERNMENT",1,1,7702,null,null,null,null,null,false]
[null,"C. E. Lindsay Oyster Farm","STATE","INDUSTRY AND BUSINESS",2,3,346,null,null,null,null,null,false]
[null,"c.dots Development","FEDERAL or NATIONAL","INDUSTRY AND BUSINESS",4,3,12572,null,null,null,null,null,false]
[null,"C.H. Fenstermaker Inc.","STATE","Unknown",2,0,9698,null,null,null,null,null,false]
[null,"CA Dept. of Fish and Wildlife","STATE","Unknown",2,0,15226,null,null,null,null,null,false]
[null,"CA Dept. of Toxicology","STATE","GOVERNMENT",2,1,10723,null,null,null,null,null,false]
[null,"CA Resources Legacy Fund Foundation","REGIONAL","NGO",3,2,10699,null,null,null,null,null,false]
[null,"CA Sea Grant Extension","STATE","Unknown",2,0,11100,null,null,null,null,null,false]
[null,"Cabela's Master Walleye Circuit","REGIONAL","INDUSTRY AND BUSINESS",3,3,6274,null,null,null,null,null,false]
[null,"Cabela's Masters Walleye Circuit","REGIONAL","INDUSTRY AND BUSINESS",3,3,7618,null,null,null,null,null,false]
[null,"Cabin Life Magazine","REGIONAL","INDUSTRY AND BUSINESS",3,3,6258,null,null,null,null,null,false]
[null,"Caborrojeños Pro-Salud y Ambiente, Inc","LOCAL","NGO",1,2,14013,null,null,null,null,null,false]
[null,"Cabrillo Marine Aquarium","LOCAL","OTHER PARTNERS",1,6,348,null,null,null,null,null,false]
[null,"Cacapon Institute Potomac Highlands Watershed School","LOCAL","ACADEMIC INSTITUTION",1,4,14596,null,null,null,null,null,false]
[null,"Cachuma Lake Marina (CM)","STATE","GOVERNMENT",2,1,3337,null,null,null,null,null,false]
[null,"Cachuma Lake Recreation Area, County of Santa Barbara","LOCAL","GOVERNMENT",1,1,16411,null,null,null,null,null,false]
[null,"Caernarvon Interagency Advisory Committee","STATE","Unknown",2,0,9699,null,null,null,null,null,false]
[null,"Café Lachine, Manteo, NC","LOCAL","INDUSTRY AND BUSINESS",1,3,14488,null,null,null,null,null,false]
[null,"Cafiescencia","LOCAL","NGO",1,2,15584,null,null,null,null,null,false]
[null,"Caito Fisheries (CF)","REGIONAL","NGO",3,2,3338,null,null,null,null,null,false]
[null,"Cajun Shrimp","Unknown","INDUSTRY AND BUSINESS",0,3,6942,null,null,null,null,null,false]
[null,"Cal Bio Marine","Unknown","Unknown",0,0,3515,null,null,null,null,null,false]
[null,"Cal Coast","STATE","NGO",2,2,10014,null,null,null,null,null,false]
[null,"Calapooia Watershed Council","REGIONAL","GOVERNMENT",3,1,5875,null,null,null,null,null,false]
[null,"Calcasieu Parish Planning Department","LOCAL","GOVERNMENT",1,1,349,null,null,null,null,null,false]
[null,"Calcasieu Parish School Board","LOCAL","ACADEMIC INSTITUTION",1,4,350,null,null,null,null,null,false]
[null,"Calcasieu Parish Sheriff's Office","LOCAL","Unknown",1,0,9700,null,null,null,null,null,false]
[null,"Calcasieu Parish, LA","LOCAL","Unknown",1,0,4554,null,null,null,null,null,false]
[null,"Calendar Islands Lobster Company","LOCAL","INDUSTRY AND BUSINESS",1,3,5252,null,null,null,null,null,false]
[null,"CalFed Bay-Delta Authority","REGIONAL","INDUSTRY AND BUSINESS",3,3,351,null,null,null,null,null,false]
[null,"Calhoun County 4-H","LOCAL","NGO",1,2,20023,null,null,null,null,null,false]
[null,"Calhoun County Groundwater Conservation District","LOCAL","GOVERNMENT",1,1,20015,null,null,null,null,null,false]
[null,"Calhoun County Independent School District , TX","LOCAL","ACADEMIC INSTITUTION",1,4,6069,null,null,null,null,null,{"$f":"AND(  NOT(ISERROR(FIND(UPPER($B$7),UPPER($B1614),1))),  OR($D$7=\"\",NOT(ISERROR(FIND(UPPER($D$7),UPPER($B1614),1)))),    OR($D$8=\"\",(ISERROR(FIND(UPPER($D$8),UPPER($B1614),1))))           )","v":false}]
[null,"Calhoun County Library System","LOCAL","GOVERNMENT",1,1,14145,null,null,null,null,null,false]
[null,"Calhoun County Marine Advisory Committee","LOCAL","SEA GRANT PROGRAMS",1,5,17680,null,null,null,null,null,false]
[null,"Calhoun County Museum","LOCAL","GOVERNMENT",1,1,6095,null,null,null,null,null,false]
[null,"Calhoun County Recycling","LOCAL","GOVERNMENT",1,1,6168,null,null,null,null,null,false]
[null,"Calhoun County, TX","LOCAL","GOVERNMENT",1,1,6060,null,null,null,null,null,false]
[null,"California Abalone Association (CAA)","REGIONAL","NGO",3,2,3339,null,null,null,null,null,false]
[null,"California Academy of Sciences","STATE","ACADEMIC INSTITUTION",2,4,6877,null,null,null,null,null,false]
[null,"California Academy of Sciences Steinhart Aquarium","LOCAL","INDUSTRY AND BUSINESS",1,3,10097,null,null,null,null,null,false]
[null,"California and Nevada Applications Program (CNAP)","INTERNATIONAL","INDUSTRY AND BUSINESS",5,3,3312,null,null,null,null,null,false]
[null,"California Aquaculture Association","STATE","NGO",2,2,352,null,null,null,null,null,false]
[null,"California Artificial Reef Enhancement Program","REGIONAL","NGO",3,2,17301,null,null,null,null,null,false]
[null,"California Association of Harbor Masters and Port Captains","STATE","INDUSTRY AND BUSINESS",2,3,353,null,null,null,null,null,false]
[null,"California Association of Port Authorities","STATE","INDUSTRY AND BUSINESS",2,3,354,null,null,null,null,null,false]
[null,"California Association of Resource Conservation Districts","STATE","GOVERNMENT",2,1,6788,null,null,null,null,null,false]
[null,"California Coastal Acidification Network","STATE","OTHER PARTNERS",2,6,10747,null,null,null,null,null,false]
[null,"California Coastal Coalition","STATE","NGO",2,2,355,null,null,null,null,null,false]
[null,"California Coastal Commission (CA RESOURCES, CCC)","STATE","GOVERNMENT",2,1,356,null,null,null,null,null,false]
[null,"California Coastal Conservancy","STATE","NGO",2,2,357,null,null,null,null,null,false]
[null,"California Coastal Invasive Species Center (AIS)","STATE","GOVERNMENT",2,1,358,null,null,null,null,null,false]
[null,"California Collaborative Fisheries Research Organization (CFR)","REGIONAL","NGO",3,2,3313,null,null,null,null,null,false]
[null,"California Cooperative Oceanic Fisheries Investigation (CalCOFI)","STATE","NGO",2,2,359,null,null,null,null,null,false]
[null,"California Council on Science and Technology","STATE","GOVERNMENT",2,1,17586,null,null,null,null,null,false]
[null,"California Current Acidification Network (C-CAN)","REGIONAL","ACADEMIC INSTITUTION",3,4,10098,null,null,null,null,null,false]
[null,"California Department of Boating and Waterways (CA RESOURCES, CA DBW)","STATE","GOVERNMENT",2,1,360,null,null,null,null,null,false]
[null,"California Department of Conservation (CA RESOURCES, CA CONSERVATION)","STATE","GOVERNMENT",2,1,361,null,null,null,null,null,false]
[null,"California Department of Education (CA ED)","STATE","GOVERNMENT",2,1,362,null,null,null,null,null,false]
[null,"California Department of Energy (CA DOE)","STATE","GOVERNMENT",2,1,363,null,null,null,null,null,false]
[null,"California Department of Fish and Game (CA RESOURCES, CA DFG)","STATE","GOVERNMENT",2,1,364,null,null,null,null,null,false]
[null,"California Department of Fish and Wildlife","STATE","GOVERNMENT",2,1,14215,null,null,null,null,null,false]
[null,"California Department of Fish and Wildlife (CA RESOURCES, CA DFG)","STATE","GOVERNMENT",2,1,8299,null,null,null,null,null,false]
[null,"California Department of Food and Agriculture (CA CDFA)","STATE","GOVERNMENT",2,1,365,null,null,null,null,null,false]
[null,"California Department of Health Services (CA CDHS)","STATE","GOVERNMENT",2,1,366,null,null,null,null,null,false]
[null,"California Department of Health Services, Food and Drug Branch (CA CDHS)","STATE","GOVERNMENT",2,1,367,null,null,null,null,null,false]
[null,"California Department of Industrial Relations, Division of Apprenticeship Standards","STATE","GOVERNMENT",2,1,16423,null,null,null,null,null,false]
[null,"California Department of Parks and Recreation (CA RESOURCES, CA DPR)","STATE","GOVERNMENT",2,1,368,null,null,null,null,null,false]
[null,"California Department of Pesticide Regulation (CA CDPR)","STATE","GOVERNMENT",2,1,369,null,null,null,null,null,false]
[null,"California Department of Public Health (CDPH)","STATE","NGO",2,2,3314,null,null,null,null,null,false]
[null,"California Department of Resources Recycling and Recovery (CalRecycle)","STATE","GOVERNMENT",2,1,8398,null,null,null,null,null,false]
[null,"California Department of Transportation (CDT)","REGIONAL","NGO",3,2,3315,null,null,null,null,null,false]
[null,"California Department of Water Resources (CA RESOURCES, CA DWR)","STATE","GOVERNMENT",2,1,370,null,null,null,null,null,false]
[null,"California Departmentt of Fish and Game, Iron Gate Hatchery","REGIONAL","GOVERNMENT",3,1,6338,null,null,null,null,null,false]
[null,"California Energy Commission","STATE","GOVERNMENT",2,1,18740,null,null,null,null,null,false]
[null,"California Energy Commission Public Interest Research Program (PIER)","REGIONAL","NGO",3,2,3316,null,null,null,null,null,false]
[null,"California Environmental Protection Agency (CA CalEPA)","STATE","GOVERNMENT",2,1,371,null,null,null,null,null,false]
[null,"California Environmental Quality Initiative","STATE","NGO",2,2,3470,null,null,null,null,null,false]
[null,"California Fish and Game Commission (CA FGC)","STATE","NGO",2,2,3317,null,null,null,null,null,false]
[null,"California Fisheries and Seafood Institute","STATE","NGO",2,2,372,null,null,null,null,null,false]
[null,"California Fisheries Coalition","STATE","INDUSTRY AND BUSINESS",2,3,7956,null,null,null,null,null,false]
[null,"California Governor’s Office of Planning and Research","STATE","GOVERNMENT",2,1,13392,null,null,null,null,null,false]
[null,"California High School","LOCAL","SEA GRANT PROGRAMS",1,5,4555,null,null,null,null,null,false]
[null,"California Institute Of Technology (Cal TECH)","STATE","ACADEMIC INSTITUTION",2,4,3516,null,null,null,null,null,false]
[null,"California King Tides Project","REGIONAL","OTHER PARTNERS",3,6,13628,null,null,null,null,null,false]
[null,"California Lobster & Trap Fishermen’s Association (CLTFA)","STATE","NGO",2,2,3340,null,null,null,null,null,false]
[null,"California Longline Association","STATE","NGO",2,2,7987,null,null,null,null,null,false]
[null,"California Natural Resources Agency","STATE","GOVERNMENT",2,1,4506,null,null,null,null,null,false]
[null,"California Naturalists","STATE","NGO",2,2,17489,null,null,null,null,null,false]
[null,"California Nevada Applications Program (CNAP) at the Scripps Institution","REGIONAL","OTHER PARTNERS",3,6,8844,null,null,null,null,null,false]
[null,"California Ocean Protection Council (COPC)","STATE","NGO",2,2,3318,null,null,null,null,null,false]
[null,"California Ocean Resources Enhancement & Hatchery Program","STATE","GOVERNMENT",2,1,3471,null,null,null,null,null,false]
[null,"California Ocean Science Trust","STATE","GOVERNMENT",2,1,373,null,null,null,null,null,false]
[null,"California Office of Oil Spill Prevention and Response (CA RESOURCES)","STATE","GOVERNMENT",2,1,374,null,null,null,null,null,false]
[null,"California Office of the Governor","STATE","GOVERNMENT",2,1,4507,null,null,null,null,null,false]
[null,"California Polytechnic State University","NULL","NULL","NULL","NULL",14110,null,null,null,null,null,false]
[null,"California Polytechnic State University, San Luis Obispo (Cal Poly)","STATE","ACADEMIC INSTITUTION",2,4,375,null,null,null,null,null,{"$f":"AND(  NOT(ISERROR(FIND(UPPER($B$7),UPPER($B1678),1))),  OR($D$7=\"\",NOT(ISERROR(FIND(UPPER($D$7),UPPER($B1678),1)))),    OR($D$8=\"\",(ISERROR(FIND(UPPER($D$8),UPPER($B1678),1))))           )","v":false}]
[null,"California Polytechnic State University, Swanton Pacific Ranch (Cal Poly)","STATE","ACADEMIC INSTITUTION",2,4,3472,null,null,null,null,null,false]
[null,"California Program for Regional Enhanced Monitoring for Phycotoxins","STATE","GOVERNMENT",2,1,6711,null,null,null,null,null,false]
[null,"California Regional Water Quality Board","STATE","GOVERNMENT",2,1,376,null,null,null,null,null,false]
[null,"California Resources Agency","STATE","GOVERNMENT",2,1,377,null,null,null,null,null,false]
[null,"California Salmon Council","STATE","NGO",2,2,378,null,null,null,null,null,false]
[null,"California Science Center","STATE","NGO",2,2,379,null,null,null,null,null,false]
[null,"California Science Teachers Association","STATE","NGO",2,2,7988,null,null,null,null,null,false]
[null,"California Sea Grant","STATE","SEA GRANT PROGRAMS",2,5,3270,null,null,null,null,null,false]
[null,"California Sea Grant Extension Program","STATE","SEA GRANT PROGRAMS",2,5,3830,null,null,null,null,null,false]
[null,"California Sea Urchin Commission","STATE","NGO",2,2,381,null,null,null,null,null,false]
[null,"California Shore and Beach Preservation Association","STATE","NGO",2,2,382,null,null,null,null,null,false]
[null,"California State Assembly","STATE","GOVERNMENT",2,1,383,null,null,null,null,null,false]
[null,"California State Lands Commission","STATE","GOVERNMENT",2,1,384,null,null,null,null,null,false]
[null,"California State Lands Commission (CA RESOURCES)","STATE","GOVERNMENT",2,1,385,null,null,null,null,null,false]
[null,"California State Parks","STATE","GOVERNMENT",2,1,386,null,null,null,null,null,false]
[null,"California State Polytechnic University, Pomona (CSU)","STATE","ACADEMIC INSTITUTION",2,4,7899,null,null,null,null,null,false]
[null,"California State Senate","STATE","GOVERNMENT",2,1,387,null,null,null,null,null,false]
[null,"California State University (CSU)","STATE","ACADEMIC INSTITUTION",2,4,388,null,null,null,null,null,false]
[null,"California State University Chancellor’s Office","REGIONAL","ACADEMIC INSTITUTION",3,4,10745,null,null,null,null,null,false]
[null,"California State University Maritime Academy (CSU)","STATE","ACADEMIC INSTITUTION",2,4,389,null,null,null,null,null,false]
[null,"California State University, Channel Islands (CSU)","STATE","ACADEMIC INSTITUTION",2,4,3473,null,null,null,null,null,false]
[null,"California State University, Dominguez Hills (CSUDH)","STATE","ACADEMIC INSTITUTION",2,4,6736,null,null,null,null,null,false]
[null,"California State University, East Bay (CSUEB)","STATE","ACADEMIC INSTITUTION",2,4,5079,null,null,null,null,null,false]
[null,"California State University, Fresno (CSUFresno)","STATE","ACADEMIC INSTITUTION",2,4,390,null,null,null,null,null,false]
[null,"California State University, Fullerton (CSUF)","STATE","ACADEMIC INSTITUTION",2,4,391,null,null,null,null,null,false]
[null,"California State University, Long Beach (CSULB)","STATE","ACADEMIC INSTITUTION",2,4,392,null,null,null,null,null,false]
[null,"California State University, Los Angeles (CSULA)","STATE","ACADEMIC INSTITUTION",2,4,395,null,null,null,null,null,false]
[null,"California State University, Monterey Bay (CSUMB)","STATE","ACADEMIC INSTITUTION",2,4,396,null,null,null,null,null,false]
[null,"California State University, Northridge (CSUN)","STATE","ACADEMIC INSTITUTION",2,4,5080,null,null,null,null,null,false]
[null,"California State University, Sacramento (CSU)","STATE","ACADEMIC INSTITUTION",2,4,5081,null,null,null,null,null,false]
[null,"California State University, San Bernardino (CSU)","STATE","ACADEMIC INSTITUTION",2,4,7900,null,null,null,null,null,false]
[null,"California State University, San Marcos (CSU)","STATE","ACADEMIC INSTITUTION",2,4,6710,null,null,null,null,null,false]
[null,"California State University, Stanislaus (CSU)","STATE","ACADEMIC INSTITUTION",2,4,5082,null,null,null,null,null,false]
[null,"California State Water Resources Control Board","STATE","GOVERNMENT",2,1,399,null,null,null,null,null,false]
[null,"California State Water Resources Control Board (CA RESOURCES, WRCB)","STATE","GOVERNMENT",2,1,400,null,null,null,null,null,false]
[null,"California State Waterboards","STATE","GOVERNMENT",2,1,10701,null,null,null,null,null,false]
[null,"California Superintendent of Education","STATE","GOVERNMENT",2,1,401,null,null,null,null,null,false]
[null,"California Surf Lifesaving Association","STATE","NGO",2,2,8249,null,null,null,null,null,false]
[null,"California University","STATE","ACADEMIC INSTITUTION",2,4,6735,null,null,null,null,null,false]
[null,"California University of Pennsylvania","FEDERAL or NATIONAL","ACADEMIC INSTITUTION",4,4,18925,null,null,null,null,null,false]
[null,"California Water and Land Use Partnership (CA WALUP)","STATE","OTHER PARTNERS",2,6,7989,null,null,null,null,null,false]
[null,"California Water Resources Control Board","STATE","GOVERNMENT",2,1,402,null,null,null,null,null,false]
[null,"California Waterfowl Association (CWA)","STATE","NGO",2,2,3341,null,null,null,null,null,false]
[null,"California Wetfish Producers Association (CWPA)","STATE","NGO",2,2,3342,null,null,null,null,null,false]
[null,"California Yacht Marina","REGIONAL","INDUSTRY AND BUSINESS",3,3,7990,null,null,null,null,null,false]
[null,"CaliforniaFood.org","STATE","NGO",2,2,18737,null,null,null,null,null,false]
[null,"Caligari Center for Environmental Science","STATE","Unknown",2,0,9701,null,null,null,null,null,false]
[null,"Calista Corporation","FEDERAL or NATIONAL","INDUSTRY AND BUSINESS",4,3,403,null,null,null,null,null,false]
[null,"Calleguas Municipal Water District","LOCAL","GOVERNMENT",1,1,16412,null,null,null,null,null,false]
[null,"Calm Cove Oyster Company","LOCAL","INDUSTRY AND BUSINESS",1,3,13159,null,null,null,null,null,false]
[null,"CalTrout","STATE","NGO",2,2,13250,null,null,null,null,null,false]
[null,"Calumet Collaborative","REGIONAL","NGO",3,2,18194,null,null,null,null,null,false]
[null,"Calumet College","LOCAL","ACADEMIC INSTITUTION",1,4,5530,null,null,null,null,null,false]
[null,"Calumet County","LOCAL","GOVERNMENT",1,1,16012,null,null,null,null,null,false]
[null,"Calumet Department of Biological Science","LOCAL","ACADEMIC INSTITUTION",1,4,14789,null,null,null,null,null,false]
[null,"Calumet Stewardship Initiative","LOCAL","NGO",1,2,5523,null,null,null,null,null,false]
[null,"Calvert County Health Department, Environmental Health Services","LOCAL","GOVERNMENT",1,1,18427,null,null,null,null,null,false]
[null,"Calvert County Public Schools","LOCAL","ACADEMIC INSTITUTION",1,4,6923,null,null,null,null,null,false]
[null,"Calvert County, Department of Community Planning and Building","STATE","GOVERNMENT",2,1,15881,null,null,null,null,null,false]
[null,"Calvert County, MD","LOCAL","GOVERNMENT",1,1,8245,null,null,null,null,null,false]
[null,"Calvert Giving Fund","Unknown","OTHER PARTNERS",0,6,5704,null,null,null,null,null,false]
[null,"Calvert Marine Museum","LOCAL","NGO",1,2,11235,null,null,null,null,null,false]
[null,"Calypso Charters","LOCAL","INDUSTRY AND BUSINESS",1,3,7917,null,null,null,null,null,false]
[null,"Cama Beach Foundation","LOCAL","NGO",1,2,7433,null,null,null,null,null,{"$f":"AND(  NOT(ISERROR(FIND(UPPER($B$7),UPPER($B1742),1))),  OR($D$7=\"\",NOT(ISERROR(FIND(UPPER($D$7),UPPER($B1742),1)))),    OR($D$8=\"\",(ISERROR(FIND(UPPER($D$8),UPPER($B1742),1))))           )","v":false}]
[null,"Camber Corporation","INTERNATIONAL","INDUSTRY AND BUSINESS",5,3,15370,null,null,null,null,null,false]
[null,"Cambria Fishing Club","LOCAL","INDUSTRY AND BUSINESS",1,3,8130,null,null,null,null,null,false]
[null,"Cambridge Environmental Technologies","LOCAL","INDUSTRY AND BUSINESS",1,3,9312,null,null,null,null,null,false]
[null,"Cambridge Public Library","LOCAL","OTHER PARTNERS",1,6,11428,null,null,null,null,null,false]
[null,"Cambridge Public School Department","LOCAL","ACADEMIC INSTITUTION",1,4,8362,null,null,null,null,null,false]
[null,"Cambridge Rindge and Latin","LOCAL","ACADEMIC INSTITUTION",1,4,7629,null,null,null,null,null,false]
[null,"Cambridge Science Festival","LOCAL","NGO",1,2,6430,null,null,null,null,null,false]
[null,"Cambridge Springs School District","LOCAL","ACADEMIC INSTITUTION",1,4,14597,null,null,null,null,null,false]
[null,"Camden Code Enforcement","LOCAL","GOVERNMENT",1,1,8551,null,null,null,null,null,false]
[null,"Camden County","LOCAL","GOVERNMENT",1,1,404,null,null,null,null,null,false]
[null,"Camden County 4-H","LOCAL","GOVERNMENT",1,1,8702,null,null,null,null,null,false]
[null,"Camden County Board of Freeholders","LOCAL","GOVERNMENT",1,1,7555,null,null,null,null,null,false]
[null,"Camden County High School","LOCAL","ACADEMIC INSTITUTION",1,4,10218,null,null,null,null,null,false]
[null,"Camden County Municipal Utilities Authority","LOCAL","GOVERNMENT",1,1,7554,null,null,null,null,null,false]
[null,"Camden County Schools","LOCAL","GOVERNMENT",1,1,4986,null,null,null,null,null,false]
[null,"Camden County Technical Schools","LOCAL","ACADEMIC INSTITUTION",1,4,9043,null,null,null,null,null,false]
[null,"Camden Development Department","LOCAL","GOVERNMENT",1,1,8550,null,null,null,null,null,false]
[null,"Camden Harbormaster","LOCAL","GOVERNMENT",1,1,8554,null,null,null,null,null,false]
[null,"Camden Public Works","LOCAL","GOVERNMENT",1,1,8552,null,null,null,null,null,false]
[null,"Camden SMART Initiative","REGIONAL","GOVERNMENT",3,1,7559,null,null,null,null,null,false]
[null,"Camden Wastewater Treatment","LOCAL","GOVERNMENT",1,1,8553,null,null,null,null,null,false]
[null,"Camel's Hump Middle School","LOCAL","ACADEMIC INSTITUTION",1,4,5258,null,null,null,null,null,false]
[null,"Cameo Gift Boutique","LOCAL","INDUSTRY AND BUSINESS",1,3,7380,null,null,null,null,null,false]
[null,"Cameron County Department of Health and Human Services","LOCAL","GOVERNMENT",1,1,13021,null,null,null,null,null,false]
[null,"Cameron County, TX","LOCAL","GOVERNMENT",1,1,6062,null,null,null,null,null,false]
[null,"Cameron Parish Police Jury","LOCAL","GOVERNMENT",1,1,17592,null,null,null,null,null,false]
[null,"Cameron Parish Port, Harbor and Terminal District","LOCAL","OTHER PARTNERS",1,6,17591,null,null,null,null,null,false]
[null,"Cameron Parish School Board","LOCAL","ACADEMIC INSTITUTION",1,4,405,null,null,null,null,null,false]
[null,"Cameron Parish, LA","LOCAL","GOVERNMENT",1,1,5053,null,null,null,null,null,false]
[null,"Camp Berachah","LOCAL","NGO",1,2,406,null,null,null,null,null,false]
[null,"Camp Discovery","STATE","NGO",2,2,16196,null,null,null,null,null,false]
[null,"Camp Lejeune,U.S. Marine Corps","STATE","GOVERNMENT",2,1,3857,null,null,null,null,null,false]
[null,"Camp Little Bay Oysters","LOCAL","INDUSTRY AND BUSINESS",1,3,19217,null,null,null,null,null,false]
[null,"Camp Meeker Recreation and Park District","LOCAL","GOVERNMENT",1,1,15115,null,null,null,null,null,false]
[null,"Camp Salmen, St. Tammany Parish, Louisiana","LOCAL","GOVERNMENT",1,1,17599,null,null,null,null,null,false]
[null,"Camp SEA Lab","LOCAL","ACADEMIC INSTITUTION",1,4,5083,null,null,null,null,null,false]
[null,"Campbell Foundation","REGIONAL","OTHER PARTNERS",3,6,10472,null,null,null,null,null,false]
[null,"Campbell Foundation (CF)","STATE","Unknown",2,0,3343,null,null,null,null,null,false]
[null,"Campbell Towing","REGIONAL","INDUSTRY AND BUSINESS",3,3,7450,null,null,null,null,null,false]
[null,"Can Tho Agricultural and Animal Products (IMEX Company)","INTERNATIONAL","INDUSTRY AND BUSINESS",5,3,407,null,null,null,null,null,false]
[null,"Canada Center for Inland Waters","INTERNATIONAL","GOVERNMENT",5,1,408,null,null,null,null,null,false]
[null,"Canadian Consulate","INTERNATIONAL","GOVERNMENT",5,1,5798,null,null,null,null,null,false]
[null,"Canadian Food Inspection Agency","INTERNATIONAL","GOVERNMENT",5,1,410,null,null,null,null,null,false]
[null,"Canadian Green Marine Program","INTERNATIONAL","NGO",5,2,6291,null,null,null,null,null,false]
[null,"Canadian Partnership Initiative","INTERNATIONAL","NGO",5,2,11304,null,null,null,null,null,false]
[null,"Canadian Ship Owners Association","INTERNATIONAL","OTHER PARTNERS",5,6,6328,null,null,null,null,null,false]
[null,"Canadian St. Lawrence Seaway Management Corporation","INTERNATIONAL","INDUSTRY AND BUSINESS",5,3,6259,null,null,null,null,null,false]
[null,"Canandaigua Lake Watershed Council","REGIONAL","NGO",3,2,20032,null,null,null,null,null,false]
[null,"Canarsie Community Emergency Response Team","LOCAL","NGO",1,2,18803,null,null,null,null,null,false]
[null,"Candlewood Lake Authority","REGIONAL","NGO",3,2,7968,null,null,null,null,null,false]
[null,"Canfisco","INTERNATIONAL","INDUSTRY AND BUSINESS",5,3,8211,null,null,null,null,null,false]
[null,"Cannon Fish","REGIONAL","INDUSTRY AND BUSINESS",3,3,8191,null,null,null,null,null,false]
[null,"Canon River Watershed Partnership","REGIONAL","NGO",3,2,7289,null,null,null,null,null,false]
[null,"Cantho University, Vietnam","INTERNATIONAL","ACADEMIC INSTITUTION",5,4,5119,null,null,null,null,null,false]
[null,"Canton High School","LOCAL","ACADEMIC INSTITUTION",1,4,8615,null,null,null,null,null,false]
[null,"Canton Police Department","LOCAL","GOVERNMENT",1,1,8616,null,null,null,null,null,false]
[null,"Cap Sante Marina","LOCAL","INDUSTRY AND BUSINESS",1,3,4312,null,null,null,null,null,false]
[null,"Capable Construction Company","LOCAL","INDUSTRY AND BUSINESS",1,3,411,null,null,null,null,null,false]
[null,"Capahosic Oyster Company","LOCAL","INDUSTRY AND BUSINESS",1,3,19218,null,null,null,null,null,false]
[null,"Cape Ann Fresh Catch","LOCAL","INDUSTRY AND BUSINESS",1,3,6415,null,null,null,null,null,false]
[null,"Cape Charles Marina","LOCAL","INDUSTRY AND BUSINESS",1,3,9020,null,null,null,null,null,false]
[null,"Cape Charles Yacht Center","LOCAL","INDUSTRY AND BUSINESS",1,3,10764,null,null,null,null,null,false]
[null,"Cape Charles Yachting Center","LOCAL","INDUSTRY AND BUSINESS",1,3,19219,null,null,null,null,null,false]
[null,"Cape Cod (US DOI, NPS)","FEDERAL or NATIONAL","GOVERNMENT",4,1,6401,null,null,null,null,null,{"$f":"AND(  NOT(ISERROR(FIND(UPPER($B$7),UPPER($B1806),1))),  OR($D$7=\"\",NOT(ISERROR(FIND(UPPER($D$7),UPPER($B1806),1)))),    OR($D$8=\"\",(ISERROR(FIND(UPPER($D$8),UPPER($B1806),1))))           )","v":false}]
[null,"Cape Cod and Islands Association of Realtors","REGIONAL","INDUSTRY AND BUSINESS",3,3,18990,null,null,null,null,null,false]
[null,"Cape Cod Commission","LOCAL","GOVERNMENT",1,1,6713,null,null,null,null,null,false]
[null,"Cape Cod Commission, Cape Cod Cooperative Extension","LOCAL","Unknown",1,0,11023,null,null,null,null,null,false]
[null,"Cape Cod Conservation District","LOCAL","GOVERNMENT",1,1,11524,null,null,null,null,null,false]
[null,"Cape Cod Coooperative Extension","NULL","NULL","NULL","NULL",18329,null,null,null,null,null,false]
[null,"Cape Cod Cooperative Extension","LOCAL","Unknown",1,0,10016,null,null,null,null,null,false]
[null,"Cape Cod Cooperative Extension, Waquoit Bay National Estuarine Research Reserve","Unknown","Unknown",0,0,10017,null,null,null,null,null,false]
[null,"Cape Cod Fishermen's Alliance","LOCAL","INDUSTRY AND BUSINESS",1,3,11525,null,null,null,null,null,false]
[null,"Cape Cod National Seashore","FEDERAL or NATIONAL","GOVERNMENT",4,1,9300,null,null,null,null,null,false]
[null,"Cape Cod Oyster Company","REGIONAL","INDUSTRY AND BUSINESS",3,3,13689,null,null,null,null,null,false]
[null,"Cape Cod Public Schools","LOCAL","ACADEMIC INSTITUTION",1,4,18783,null,null,null,null,null,false]
[null,"Cape Fear Public Utility Authority","LOCAL","GOVERNMENT",1,1,16796,null,null,null,null,null,false]
[null,"Cape Fear Realtors","REGIONAL","INDUSTRY AND BUSINESS",3,3,18926,null,null,null,null,null,false]
[null,"Cape Flattery Fishermen's Co-op","LOCAL","INDUSTRY AND BUSINESS",1,3,15291,null,null,null,null,null,false]
[null,"Cape Gazette newspaper","LOCAL","INDUSTRY AND BUSINESS",1,3,5705,null,null,null,null,null,false]
[null,"Cape Hatteras Anglers Club Invitational Surf Fishing Tournament","LOCAL","NGO",1,2,11560,null,null,null,null,null,false]
[null,"Cape Hatteras National Seashore, National Park Service (US DOI, NPS)","FEDERAL or NATIONAL","GOVERNMENT",4,1,412,null,null,null,null,null,false]
[null,"Cape Hatteras Oyster Company","STATE","INDUSTRY AND BUSINESS",2,3,14454,null,null,null,null,null,false]
[null,"Cape Hatteras Secondary School","LOCAL","ACADEMIC INSTITUTION",1,4,10219,null,null,null,null,null,false]
[null,"Cape Henlopen Band Boosters","LOCAL","OTHER PARTNERS",1,6,7674,null,null,null,null,null,false]
[null,"Cape Henlopen Fishing Center, DE","LOCAL","INDUSTRY AND BUSINESS",1,3,11236,null,null,null,null,null,false]
[null,"Cape Henlopen High School","LOCAL","ACADEMIC INSTITUTION",1,4,5706,null,null,null,null,null,false]
[null,"Cape Lookout National Seashore, NPS","STATE","GOVERNMENT",2,1,3858,null,null,null,null,null,false]
[null,"Cape May Bird Observatory","STATE","NGO",2,2,16605,null,null,null,null,null,false]
[null,"Cape May County","LOCAL","GOVERNMENT",1,1,413,null,null,null,null,null,false]
[null,"Cape May County 4-H Program","LOCAL","GOVERNMENT",1,1,4830,null,null,null,null,null,false]
[null,"Cape May County Cooperative Extension (Rutgers University)","STATE","ACADEMIC INSTITUTION",2,4,10583,null,null,null,null,null,false]
[null,"Cape May County Department of Tourism","STATE","GOVERNMENT",2,1,10594,null,null,null,null,null,false]
[null,"Cape May County Freeholders","LOCAL","GOVERNMENT",1,1,17703,null,null,null,null,null,false]
[null,"Cape May County School District","REGIONAL","ACADEMIC INSTITUTION",3,4,9546,null,null,null,null,null,false]
[null,"Cape May Library","LOCAL","ACADEMIC INSTITUTION",1,4,15036,null,null,null,null,null,false]
[null,"Cape May Oyster Company","STATE","INDUSTRY AND BUSINESS",2,3,10576,null,null,null,null,null,false]
[null,"Cape May Plant Materials Center (USDA)","FEDERAL or NATIONAL","GOVERNMENT",4,1,4857,null,null,null,null,null,false]
[null,"Cape May Salts","STATE","INDUSTRY AND BUSINESS",2,3,10574,null,null,null,null,null,false]
[null,"Cape May-Lewes Ferry","REGIONAL","INDUSTRY AND BUSINESS",3,3,5707,null,null,null,null,null,false]
[null,"Cape Neddick River Association City of Saco","LOCAL","GOVERNMENT",1,1,7280,null,null,null,null,null,false]
[null,"Cape Oyster Company","LOCAL","INDUSTRY AND BUSINESS",1,3,8998,null,null,null,null,null,false]
[null,"Cape Seafood","STATE","INDUSTRY AND BUSINESS",2,3,17259,null,null,null,null,null,false]
[null,"Cape Shore Oyster Company","STATE","INDUSTRY AND BUSINESS",2,3,10575,null,null,null,null,null,false]
[null,"Capital City and Lake Murray Country Tourism Region","STATE","GOVERNMENT",2,1,16672,null,null,null,null,null,false]
[null,"Capital-Mohawk Partnership for Regional Invasive Species Management","STATE","GOVERNMENT",2,1,5799,null,null,null,null,null,false]
[null,"Capitol Green Roofs","LOCAL","INDUSTRY AND BUSINESS",1,3,15882,null,null,null,null,null,false]
[null,"Capitol Land Trust","FEDERAL or NATIONAL","NGO",4,2,414,null,null,null,null,null,false]
[null,"Capitol Region Watershed District","LOCAL","GOVERNMENT",1,1,17074,null,null,null,null,null,false]
[null,"Capricorn Fisheries Monitoring","INTERNATIONAL","INDUSTRY AND BUSINESS",5,3,4150,null,null,null,null,null,false]
[null,"Capt. Hook’s Sportfishing (CHS)","REGIONAL","GOVERNMENT",3,1,3344,null,null,null,null,null,false]
[null,"Captain David Chauvin","LOCAL","INDUSTRY AND BUSINESS",1,3,13660,null,null,null,null,null,false]
[null,"Captain Howell Boone","LOCAL","INDUSTRY AND BUSINESS",1,3,13661,null,null,null,null,null,false]
[null,"Captain Lance Nacio","LOCAL","INDUSTRY AND BUSINESS",1,3,13662,null,null,null,null,null,false]
[null,"Captain Les Ghent","LOCAL","INDUSTRY AND BUSINESS",1,3,13709,null,null,null,null,null,false]
[null,"Captain Neill's Seafood","LOCAL","INDUSTRY AND BUSINESS",1,3,14462,null,null,null,null,null,false]
[null,"Captain Pete’s Oysters","LOCAL","Unknown",1,0,9702,null,null,null,null,null,false]
[null,"Captain Ricky Brown","LOCAL","INDUSTRY AND BUSINESS",1,3,13663,null,null,null,null,null,false]
[null,"Captain Robby Midgett","LOCAL","INDUSTRY AND BUSINESS",1,3,12661,null,null,null,null,null,false]
[null,"Captain Tom's Seafood","LOCAL","INDUSTRY AND BUSINESS",1,3,12220,null,null,null,null,null,false]
[null,"Captree Boatmen's Association","LOCAL","INDUSTRY AND BUSINESS",1,3,14885,null,null,null,null,null,false]
[null,"Captree Clam Company","LOCAL","INDUSTRY AND BUSINESS",1,3,5800,null,null,null,null,null,false]
[null,"Carbon Cliff Bait and Tackle","STATE","INDUSTRY AND BUSINESS",2,3,19912,null,null,null,null,null,false]
[null,"Carbon Solutions New England (CSNE)","REGIONAL","ACADEMIC INSTITUTION",3,4,8040,null,null,null,null,null,false]
[null,"Cardinal Environmental Inc.","LOCAL","INDUSTRY AND BUSINESS",1,3,11476,null,null,null,null,null,false]
[null,"CARE Committee","FEDERAL or NATIONAL","NGO",4,2,7888,null,null,null,null,null,false]
[null,"Care Point, Inc.","LOCAL","INDUSTRY AND BUSINESS",1,3,7180,null,null,null,null,null,false]
[null,"CareerSource Brevard","LOCAL","INDUSTRY AND BUSINESS",1,3,16923,null,null,null,null,null,false]
[null,"Caribbean Fisheries Management Council","INTERNATIONAL","NGO",5,2,12945,null,null,null,null,null,{"$f":"AND(  NOT(ISERROR(FIND(UPPER($B$7),UPPER($B1870),1))),  OR($D$7=\"\",NOT(ISERROR(FIND(UPPER($D$7),UPPER($B1870),1)))),    OR($D$8=\"\",(ISERROR(FIND(UPPER($D$8),UPPER($B1870),1))))           )","v":false}]
[null,"Caribbean Fishery Management Council (CFMC)","REGIONAL","NGO",3,2,7747,null,null,null,null,null,false]
[null,"Caribbean Integrated Coastal and Ocean Observing System (CarICOOS)","REGIONAL","OTHER PARTNERS",3,6,14051,null,null,null,null,null,false]
[null,"Caribbean Marine Research Center","REGIONAL","OTHER PARTNERS",3,6,415,null,null,null,null,null,false]
[null,"Caribbean Oceanic Restoration & Education Foundation (CORE)","REGIONAL","NGO",3,2,18263,null,null,null,null,null,false]
[null,"Caribbean Regional Association (CaRA)","REGIONAL","NGO",3,2,7974,null,null,null,null,null,false]
[null,"Caribbean Regional Fisheries Mechanism","REGIONAL","Unknown",3,0,9642,null,null,null,null,null,false]
[null,"Caribbean Science Foundation","INTERNATIONAL","NGO",5,2,8874,null,null,null,null,null,false]
[null,"Cario Middle School","LOCAL","ACADEMIC INSTITUTION",1,4,5672,null,null,null,null,null,false]
[null,"Carl Vison Institute of Government (UGA)","STATE","ACADEMIC INSTITUTION",2,4,6938,null,null,null,null,null,false]
[null,"Carleton University","LOCAL","ACADEMIC INSTITUTION",1,4,18973,null,null,null,null,null,false]
[null,"Carlsbad Aquafarm","STATE","INDUSTRY AND BUSINESS",2,3,3829,null,null,null,null,null,false]
[null,"Carlson Media","FEDERAL or NATIONAL","INDUSTRY AND BUSINESS",4,3,416,null,null,null,null,null,false]
[null,"Carlton College","STATE","ACADEMIC INSTITUTION",2,4,15109,null,null,null,null,null,false]
[null,"Carlton County Soil and Water Conservation District","REGIONAL","GOVERNMENT",3,1,13408,null,null,null,null,null,false]
[null,"Carlton County, Minnesota","LOCAL","GOVERNMENT",1,1,9589,null,null,null,null,null,false]
[null,"Carnegie Institution for Science","FEDERAL or NATIONAL","NGO",4,2,9468,null,null,null,null,null,false]
[null,"Carnegie Mellon University","REGIONAL","ACADEMIC INSTITUTION",3,4,12819,null,null,null,null,null,false]
[null,"Carnegie Museum of Natural History","LOCAL","OTHER PARTNERS",1,6,14598,null,null,null,null,null,false]
[null,"Carolina AquaGyn (Craig Sullivan)","STATE","INDUSTRY AND BUSINESS",2,3,16984,null,null,null,null,null,false]
[null,"Carolina Beach Chamber of Commerce","LOCAL","GOVERNMENT",1,1,4987,null,null,null,null,null,false]
[null,"Carolina Beach, NC","LOCAL","GOVERNMENT",1,1,7693,null,null,null,null,null,false]
[null,"Carolina Biological","FEDERAL or NATIONAL","INDUSTRY AND BUSINESS",4,3,6026,null,null,null,null,null,false]
[null,"Carolina Boat Yard","LOCAL","INDUSTRY AND BUSINESS",1,3,7177,null,null,null,null,null,false]
[null,"Carolina Classics Catfish, Inc.","LOCAL","INDUSTRY AND BUSINESS",1,3,12662,null,null,null,null,null,false]
[null,"Carolina Clear","STATE","ACADEMIC INSTITUTION",2,4,4962,null,null,null,null,null,false]
[null,"Carolina Common Enterprise","REGIONAL","NGO",3,2,19487,null,null,null,null,null,false]
[null,"Carolina Feeds","REGIONAL","INDUSTRY AND BUSINESS",3,3,10220,null,null,null,null,null,false]
[null,"Carolina Fisheries","FEDERAL or NATIONAL","INDUSTRY AND BUSINESS",4,3,417,null,null,null,null,null,false]
[null,"Carolina Flounder","STATE","INDUSTRY AND BUSINESS",2,3,3902,null,null,null,null,null,false]
[null,"Carolina Grande Resort","LOCAL","INDUSTRY AND BUSINESS",1,3,7168,null,null,null,null,null,false]
[null,"Carolina Lady Anglers","LOCAL","NGO",1,2,7161,null,null,null,null,null,false]
[null,"Carolina Mariculture","LOCAL","NGO",1,2,15235,null,null,null,null,null,false]
[null,"Carolina Mariculture Co.","LOCAL","INDUSTRY AND BUSINESS",1,3,12663,null,null,null,null,null,false]
[null,"Carolina Seafood Ventures","STATE","INDUSTRY AND BUSINESS",2,3,3903,null,null,null,null,null,false]
[null,"Carolinas Beach Vitex Task Force","REGIONAL","NGO",3,2,418,null,null,null,null,null,false]
[null,"Carolinas Coastal Ocean Observing and Prediction System (Caro-COOPS)","REGIONAL","GOVERNMENT",3,1,419,null,null,null,null,null,false]
[null,"Carolina's Integrated Sciences and Assessment Center","STATE","SEA GRANT PROGRAMS",2,5,4556,null,null,null,null,null,false]
[null,"Carolina's Integrated Sciences and Assessment Center","REGIONAL","ACADEMIC INSTITUTION",3,4,7193,null,null,null,null,null,false]
[null,"Carolinas Integrated Sciences and Assessments CISA","REGIONAL","Unknown",3,0,19706,null,null,null,null,null,false]
[null,"Caroline County Commissioners","LOCAL","GOVERNMENT",1,1,420,null,null,null,null,null,false]
[null,"Caroline County Municipalities","LOCAL","GOVERNMENT",1,1,421,null,null,null,null,null,false]
[null,"Caroline County Watershed Implementation Team","LOCAL","GOVERNMENT",1,1,8109,null,null,null,null,null,false]
[null,"Carrabelle Area Chamber of Commerce","LOCAL","NGO",1,2,15649,null,null,null,null,null,false]
[null,"Carrabelle Cares","LOCAL","NGO",1,2,15648,null,null,null,null,null,false]
[null,"Carrabelle Economic Development Council","LOCAL","GOVERNMENT",1,1,15650,null,null,null,null,null,false]
[null,"Carrabelle Waterfront Partnership","LOCAL","NGO",1,2,15651,null,null,null,null,null,false]
[null,"Carroll College","STATE","ACADEMIC INSTITUTION",2,4,422,null,null,null,null,null,false]
[null,"Carroll County Public Schools","LOCAL","GOVERNMENT",1,1,14558,null,null,null,null,null,false]
[null,"Carroll County, MD","LOCAL","GOVERNMENT",1,1,8242,null,null,null,null,null,false]
[null,"Carteret Catch, Morehead City","STATE","NGO",2,2,423,null,null,null,null,null,false]
[null,"Carteret Community College","STATE","ACADEMIC INSTITUTION",2,4,424,null,null,null,null,null,false]
[null,"Carteret Community College Aquaculture Program","STATE","ACADEMIC INSTITUTION",2,4,16985,null,null,null,null,null,false]
[null,"Carteret County Beach Commission","LOCAL","GOVERNMENT",1,1,4988,null,null,null,null,null,false]
[null,"Carteret County Chamber of Commerce","LOCAL","NGO",1,2,425,null,null,null,null,null,false]
[null,"Carteret County Chapter of the American Culinary Federation","LOCAL","NGO",1,2,426,null,null,null,null,null,false]
[null,"Carteret County Cooperative Extension","LOCAL","ACADEMIC INSTITUTION",1,4,12664,null,null,null,null,null,false]
[null,"Carteret County Economic Development Council","LOCAL","GOVERNMENT",1,1,427,null,null,null,null,null,false]
[null,"Carteret County Fishermen's Association","LOCAL","GOVERNMENT",1,1,428,null,null,null,null,null,false]
[null,"Carteret County Shore Protection Office","LOCAL","GOVERNMENT",1,1,429,null,null,null,null,null,false]
[null,"Carteret County, N.C.","LOCAL","Unknown",1,0,3983,null,null,null,null,null,false]
[null,"Carter's Cove Marina","LOCAL","INDUSTRY AND BUSINESS",1,3,9014,null,null,null,null,null,false]
[null,"CARTHE- CONSORTIUM FOR ADVANCED RESEARCH ON TRANSPORT OF HYDROCARBON IN THE ENVIRONMENT","Unknown","ACADEMIC INSTITUTION",0,4,17596,null,null,null,null,null,false]
[null,"Carver High School","LOCAL","ACADEMIC INSTITUTION",1,4,6512,null,null,null,null,null,false]
[null,"Carver Water Management Organization","REGIONAL","GOVERNMENT",3,1,13399,null,null,null,null,null,{"$f":"AND(  NOT(ISERROR(FIND(UPPER($B$7),UPPER($B1934),1))),  OR($D$7=\"\",NOT(ISERROR(FIND(UPPER($D$7),UPPER($B1934),1)))),    OR($D$8=\"\",(ISERROR(FIND(UPPER($D$8),UPPER($B1934),1))))           )","v":false}]
[null,"Cary Institute","REGIONAL","ACADEMIC INSTITUTION",3,4,14915,null,null,null,null,null,false]
[null,"Cary Institute of Ecosystem Studies","LOCAL","SEA GRANT PROGRAMS",1,5,4557,null,null,null,null,null,false]
[null,"Carytown Seafood, Inc.","STATE","INDUSTRY AND BUSINESS",2,3,19401,null,null,null,null,null,false]
[null,"Casa Paoli","Unknown","NGO",0,2,8888,null,null,null,null,null,false]
[null,"Casa Paoli","Unknown","NGO",0,2,8890,null,null,null,null,null,false]
[null,"Cascade Land Conservancy","LOCAL","NGO",1,2,4372,null,null,null,null,null,false]
[null,"Cascadia Geosciences (CG)","STATE","GOVERNMENT",2,1,3346,null,null,null,null,null,false]
[null,"Cascadia Law Group","LOCAL","INDUSTRY AND BUSINESS",1,3,8399,null,null,null,null,null,false]
[null,"Cascadia Research Collective","REGIONAL","NGO",3,2,7381,null,null,null,null,null,false]
[null,"Casco Bay Estuary Project","LOCAL","NGO",1,2,430,null,null,null,null,null,false]
[null,"Casco Bay National Estuary Program","REGIONAL","GOVERNMENT",3,1,10842,null,null,null,null,null,false]
[null,"Case Cove LLC","LOCAL","INDUSTRY AND BUSINESS",1,3,13160,null,null,null,null,null,false]
[null,"Case Western Reserve University (CASE)","STATE","ACADEMIC INSTITUTION",2,4,431,null,null,null,null,null,false]
[null,"Casey’s Seafood","FEDERAL or NATIONAL","INDUSTRY AND BUSINESS",4,3,432,null,null,null,null,null,false]
[null,"Casey's Garden Shop","LOCAL","INDUSTRY AND BUSINESS",1,3,14819,null,null,null,null,null,false]
[null,"Cassidy Fish Farm","LOCAL","INDUSTRY AND BUSINESS",1,3,7078,null,null,null,null,null,false]
[null,"Casta Line Trout Farms","STATE","INDUSTRY AND BUSINESS",2,3,19220,null,null,null,null,null,false]
[null,"Castaway Bay","LOCAL","INDUSTRY AND BUSINESS",1,3,433,null,null,null,null,null,false]
[null,"Castaway Bay Marina","STATE","INDUSTRY AND BUSINESS",2,3,13327,null,null,null,null,null,false]
[null,"Casterline Seafood","LOCAL","INDUSTRY AND BUSINESS",1,3,12221,null,null,null,null,null,false]
[null,"Castex Inc.","LOCAL","INDUSTRY AND BUSINESS",1,3,19104,null,null,null,null,null,false]
[null,"Casting for Recovery","LOCAL","NGO",1,2,8520,null,null,null,null,null,false]
[null,"Castle Hayne Fisheries","STATE","INDUSTRY AND BUSINESS",2,3,3904,null,null,null,null,null,false]
[null,"Castle Rock High School","LOCAL","ACADEMIC INSTITUTION",1,4,4178,null,null,null,null,null,false]
[null,"Castle Rock School District","LOCAL","ACADEMIC INSTITUTION",1,4,4179,null,null,null,null,null,false]
[null,"Castleton Elementary School","LOCAL","ACADEMIC INSTITUTION",1,4,5259,null,null,null,null,null,false]
[null,"Castleton State College of Vermont","STATE","ACADEMIC INSTITUTION",2,4,6876,null,null,null,null,null,false]
[null,"Caswell Beach","LOCAL","GOVERNMENT",1,1,13970,null,null,null,null,null,false]
[null,"Catalina Island Chamber of Commerce","LOCAL","INDUSTRY AND BUSINESS",1,3,7991,null,null,null,null,null,false]
[null,"Catalina Offshore Products","REGIONAL","INDUSTRY AND BUSINESS",3,3,15116,null,null,null,null,null,false]
[null,"Catalina Sea Ranch","REGIONAL","INDUSTRY AND BUSINESS",3,3,15071,null,null,null,null,null,false]
[null,"Catalonia Abalone","STATE","INDUSTRY AND BUSINESS",2,3,3905,null,null,null,null,null,false]
[null,"Catawba Island Club","LOCAL","INDUSTRY AND BUSINESS",1,3,5142,null,null,null,null,null,false]
[null,"Catch Modern Seafood Cuisine (Keith Rhodes)","LOCAL","INDUSTRY AND BUSINESS",1,3,16810,null,null,null,null,null,false]
[null,"Category X Coastal Consulting","LOCAL","INDUSTRY AND BUSINESS",1,3,6513,null,null,null,null,null,false]
[null,"Catherine Kolnaski Magnet School, Groton CT","LOCAL","ACADEMIC INSTITUTION",1,4,16903,null,null,null,null,null,false]
[null,"Catholic Charities of the Diocese of Biloxi","LOCAL","NGO",1,2,13892,null,null,null,null,null,false]
[null,"Catholic Community Services, Catholic Housing Services of Western Washington, Yesler Terrace Youth Tutoring Program","LOCAL","NGO",1,2,4373,null,null,null,null,null,false]
[null,"Catholic Diocese","LOCAL","OTHER PARTNERS",1,6,13947,null,null,null,null,null,false]
[null,"Catholic Diocese of Victoria","LOCAL","NGO",1,2,20011,null,null,null,null,null,false]
[null,"Catholic Social and Community Services, Inc.","LOCAL","NGO",1,2,13891,null,null,null,null,null,false]
[null,"Catskill Regional Invasive Species Partnership","REGIONAL","OTHER PARTNERS",3,6,5801,null,null,null,null,null,false]
[null,"Causewave Community Partners","LOCAL","NGO",1,2,20040,null,null,null,null,null,false]
[null,"Cavalier Yacht Club","LOCAL","INDUSTRY AND BUSINESS",1,3,7204,null,null,null,null,null,false]
[null,"Caw Caw Interpretative Center","LOCAL","OTHER PARTNERS",1,6,434,null,null,null,null,null,false]
[null,"Cayuga community college","LOCAL","ACADEMIC INSTITUTION",1,4,5802,null,null,null,null,null,false]
[null,"Cayuga county","LOCAL","GOVERNMENT",1,1,5803,null,null,null,null,null,false]
[null,"Cayuga County Soil and Water Conservation District","LOCAL","GOVERNMENT",1,1,14963,null,null,null,null,null,false]
[null,"Cayuga Lake Watershed Network","LOCAL","Unknown",1,0,14976,null,null,null,null,null,false]
[null,"CBS Chicago","LOCAL","INDUSTRY AND BUSINESS",1,3,13757,null,null,null,null,null,false]
[null,"CBS Philadelphia","LOCAL","ACADEMIC INSTITUTION",1,4,19318,null,null,null,null,null,false]
[null,"CD3 General Benefit Corporation","STATE","INDUSTRY AND BUSINESS",2,3,19497,null,null,null,null,null,false]
[null,"CDC Consulting","STATE","INDUSTRY AND BUSINESS",2,3,10580,null,null,null,null,null,false]
[null,"Cecil County Governments","LOCAL","GOVERNMENT",1,1,11237,null,null,null,null,null,false]
[null,"Cecil County Watershed Stewards Academy","LOCAL","NGO",1,2,15883,null,null,null,null,null,false]
[null,"Cedar Creek Planners, Inc.","LOCAL","INDUSTRY AND BUSINESS",1,3,17804,null,null,null,null,null,false]
[null,"Cedar Key Aquaculture Association","LOCAL","Unknown",1,0,9643,null,null,null,null,null,false]
[null,"Cedar Key Aquaculture Farms","LOCAL","Unknown",1,0,15220,null,null,null,null,null,false]
[null,"Cedar Key Seafarms","LOCAL","Unknown",1,0,15219,null,null,null,null,null,false]
[null,"Cedar Point Amusement Park","LOCAL","INDUSTRY AND BUSINESS",1,3,435,null,null,null,null,null,false]
[null,"Cedar Point Marina","LOCAL","INDUSTRY AND BUSINESS",1,3,436,null,null,null,null,null,false]
[null,"Cedar Point Oyster Company","LOCAL","INDUSTRY AND BUSINESS",1,3,8266,null,null,null,null,null,false]
[null,"Cedar River Anadromous Fish Committee","LOCAL","NGO",1,2,4374,null,null,null,null,null,false]
[null,"CEMEX, INC.","FEDERAL or NATIONAL","INDUSTRY AND BUSINESS",4,3,18513,null,null,null,null,null,{"$f":"AND(  NOT(ISERROR(FIND(UPPER($B$7),UPPER($B1998),1))),  OR($D$7=\"\",NOT(ISERROR(FIND(UPPER($D$7),UPPER($B1998),1)))),    OR($D$8=\"\",(ISERROR(FIND(UPPER($D$8),UPPER($B1998),1))))           )","v":false}]
[null,"Census for Marine Life (CoML)","INTERNATIONAL","NGO",5,2,437,null,null,null,null,null,false]
[null,"Centek Industries","Unknown","INDUSTRY AND BUSINESS",0,3,18088,null,null,null,null,null,false]
[null,"Center for Alaskan Coastal Studies","REGIONAL","NGO",3,2,438,null,null,null,null,null,false]
[null,"Center for Coastal Environmental Health and Biomolecular Research (US DOC, NOAA, NOS, NCCOS)","FEDERAL or NATIONAL","GOVERNMENT",4,1,5677,null,null,null,null,null,false]
[null,"Center for Ecosystem Management and Restoration","LOCAL","NGO",1,2,15117,null,null,null,null,null,false]
[null,"Center for Great Lakes Literacy","REGIONAL","ACADEMIC INSTITUTION",3,4,8785,null,null,null,null,null,false]
[null,"Center for Invasive Species, UGA","STATE","ACADEMIC INSTITUTION",2,4,10464,null,null,null,null,null,false]
[null,"Center for Neighborhood Technology","LOCAL","NGO",1,2,7786,null,null,null,null,null,false]
[null,"Center for Science and Mathematics Education, Case Western Reserve University","STATE","ACADEMIC INSTITUTION",2,4,13267,null,null,null,null,null,false]
[null,"Center for Technology - Essex","LOCAL","ACADEMIC INSTITUTION",1,4,5260,null,null,null,null,null,false]
[null,"Center for Watershed Excellence, Clemson University","STATE","ACADEMIC INSTITUTION",2,4,13365,null,null,null,null,null,false]
[null,"Centers for Ocean Sciences Education Excellence (COSEE)","REGIONAL","ACADEMIC INSTITUTION",3,4,445,null,null,null,null,null,false]
[null,"Centers for Ocean Sciences Education Excellence, West (COSEE)","REGIONAL","ACADEMIC INSTITUTION",3,4,4433,null,null,null,null,null,false]
[null,"Central Basin Charterboat Association (CBCBA)","STATE","INDUSTRY AND BUSINESS",2,3,13266,null,null,null,null,null,false]
[null,"Central Lake Superior Watershed Partnership","LOCAL","GOVERNMENT",1,1,449,null,null,null,null,null,false]
[null,"Central NY Regional Planning and Development Board","LOCAL","GOVERNMENT",1,1,8490,null,null,null,null,null,false]
[null,"Centre for Aquatic Biotechnology Regulatory Research (CABRR), Centre for Aquaculture and Environmental Research, Fisheries and Oceans Canada (DFO)","INTERNATIONAL","GOVERNMENT",5,1,4135,null,null,null,null,null,false]
[null,"Centre national de la recherche scientifique (CNRS), Lyon, France","INTERNATIONAL","GOVERNMENT",5,1,8066,null,null,null,null,null,false]
[null,"Chadwick Creek Oysters","STATE","INDUSTRY AND BUSINESS",2,3,14459,null,null,null,null,null,false]
[null,"Chagrin River Watershed Partners, Inc","LOCAL","NGO",1,2,17045,null,null,null,null,null,false]
[null,"Chambers County 4-H","LOCAL","NGO",1,2,20022,null,null,null,null,null,false]
[null,"Champaign-Urbana Public Health District","LOCAL","GOVERNMENT",1,1,10894,null,null,null,null,null,false]
[null,"Champlain Valley Union High School","LOCAL","ACADEMIC INSTITUTION",1,4,5265,null,null,null,null,null,false]
[null,"Charity Island Dinner Cruise","LOCAL","INDUSTRY AND BUSINESS",1,3,7913,null,null,null,null,null,false]
[null,"Charleston City Marina and Boatyard","LOCAL","GOVERNMENT",1,1,13338,null,null,null,null,null,false]
[null,"Charleston County Emergency Management Department","LOCAL","GOVERNMENT",1,1,13997,null,null,null,null,null,false]
[null,"Charleston Marina, OR","LOCAL","INDUSTRY AND BUSINESS",1,3,10102,null,null,null,null,null,false]
[null,"Charleston Waterkeeper","LOCAL","NGO",1,2,4955,null,null,null,null,null,false]
[null,"Charlie's Aquarium","LOCAL","INDUSTRY AND BUSINESS",1,3,14820,null,null,null,null,null,false]
[null,"Chatham County Cooperative Extension and Master Gardeners","LOCAL","NGO",1,2,10313,null,null,null,null,null,false]
[null,"Cheboygan County Economic Development Committee","LOCAL","GOVERNMENT",1,1,9143,null,null,null,null,null,false]
[null,"Chef's Collaborative","STATE","INDUSTRY AND BUSINESS",2,3,3810,null,null,null,null,null,false]
[null,"Cherry Hill Township","LOCAL","GOVERNMENT",1,1,7704,null,null,null,null,null,false]
[null,"Cherry Point Aquatic Reserve Citizen Stewardship Committee","LOCAL","OTHER PARTNERS",1,6,13161,null,null,null,null,null,false]
[null,"Chesapeake Bay National Estuarine Research Reserve (US DOC, NOAA, NOS, NERRS)","FEDERAL or NATIONAL","GOVERNMENT",4,1,467,null,null,null,null,null,false]
[null,"Chesapeake Bay Region Technical Center for Excellence","REGIONAL","OTHER PARTNERS",3,6,470,null,null,null,null,null,false]
[null,"Chesapeake Climate Action Network","REGIONAL","NGO",3,2,13666,null,null,null,null,null,false]
[null,"Chesapeake Research Consortium","LOCAL","NGO",1,2,4571,null,null,null,null,null,false]
[null,"Chester Community Charter School","LOCAL","ACADEMIC INSTITUTION",1,4,7012,null,null,null,null,null,false]
[null,"Chester Upland School District","LOCAL","ACADEMIC INSTITUTION",1,4,7013,null,null,null,null,null,false]
[null,"Chicago Bungalow","LOCAL","OTHER PARTNERS",1,6,13760,null,null,null,null,null,false]
[null,"Chicago Harbors","LOCAL","INDUSTRY AND BUSINESS",1,3,13761,null,null,null,null,null,false]
[null,"Chicago Metropolitan Agency for Planning","STATE","GOVERNMENT",2,1,4574,null,null,null,null,null,false]
[null,"Chicago Wilderness","LOCAL","NGO",1,2,481,null,null,null,null,null,false]
[null,"Chico Mendes Institute for Biodiversity Conservation","INTERNATIONAL","NGO",5,2,16479,null,null,null,null,null,false]
[null,"Children's Museum of Victoria","LOCAL","ACADEMIC INSTITUTION",1,4,20021,null,null,null,null,null,false]
[null,"Chippewa Ottawa Resources Authority (CORA)","FEDERAL or NATIONAL","OTHER PARTNERS",4,6,484,null,null,null,null,null,false]
[null,"Choctawhatchee Basin Alliance","REGIONAL","NGO",3,2,12967,null,null,null,null,null,false]
[null,"Christian Fischer","LOCAL","Unknown",1,0,14843,null,null,null,null,null,false]
[null,"Chrysler Museum of Art","LOCAL","OTHER PARTNERS",1,6,15593,null,null,null,null,null,false]
[null,"Chugach National Forest (USDA, USFS)","FEDERAL or NATIONAL","GOVERNMENT",4,1,14249,null,null,null,null,null,false]
[null,"Circular Congregational Church, Charleston","LOCAL","OTHER PARTNERS",1,6,13347,null,null,null,null,null,false]
[null,"Citizens of Kitsap County","LOCAL","NGO",1,2,488,null,null,null,null,null,false]
[null,"City and County of Honolulu, Office of the Mayor","LOCAL","GOVERNMENT",1,1,491,null,null,null,null,null,{"$f":"AND(  NOT(ISERROR(FIND(UPPER($B$7),UPPER($B2382),1))),  OR($D$7=\"\",NOT(ISERROR(FIND(UPPER($D$7),UPPER($B2382),1)))),    OR($D$8=\"\",(ISERROR(FIND(UPPER($D$8),UPPER($B2382),1))))           )","v":false}]
[null,"City of Algoma, Wis.","LOCAL","GOVERNMENT",1,1,11430,null,null,null,null,null,false]
[null,"City of Arcata, CA","LOCAL","GOVERNMENT",1,1,497,null,null,null,null,null,false]
[null,"City of Ashland, WI","LOCAL","Unknown",1,0,18276,null,null,null,null,null,false]
[null,"City of Au Train, MI","STATE","INDUSTRY AND BUSINESS",2,3,3962,null,null,null,null,null,false]
[null,"City of Bayou Vista","LOCAL","GOVERNMENT",1,1,14140,null,null,null,null,null,false]
[null,"City of Boston","STATE","GOVERNMENT",2,1,13077,null,null,null,null,null,false]
[null,"City of Buffalo, N.Y.","LOCAL","GOVERNMENT",1,1,11432,null,null,null,null,null,false]
[null,"City of Cannon Beach, Oregon","LOCAL","GOVERNMENT",1,1,14546,null,null,null,null,null,false]
[null,"City of Charleston Planning and Neighborhoods Division","LOCAL","GOVERNMENT",1,1,7144,null,null,null,null,null,false]
[null,"City of Chester, PA","LOCAL","GOVERNMENT",1,1,6389,null,null,null,null,null,false]
[null,"City of Clearwater, FL","LOCAL","GOVERNMENT",1,1,19998,null,null,null,null,null,false]
[null,"City of College Park","LOCAL","GOVERNMENT",1,1,18239,null,null,null,null,null,false]
[null,"City of Corpus Christi, TX","LOCAL","GOVERNMENT",1,1,12228,null,null,null,null,null,false]
[null,"City of Dallas, OR","LOCAL","GOVERNMENT",1,1,10107,null,null,null,null,null,false]
[null,"City of Diamondhead, MS","LOCAL","GOVERNMENT",1,1,15655,null,null,null,null,null,false]
[null,"City of Dickinson, TX","LOCAL","GOVERNMENT",1,1,6160,null,null,null,null,null,false]
[null,"City of East Chicago","LOCAL","GOVERNMENT",1,1,8605,null,null,null,null,null,false]
[null,"City of Erie, PA School District","LOCAL","GOVERNMENT",1,1,6386,null,null,null,null,null,false]
[null,"City of Florence, OR","LOCAL","GOVERNMENT",1,1,14507,null,null,null,null,null,false]
[null,"City of Ft. Lauderdale","LOCAL","GOVERNMENT",1,1,16951,null,null,null,null,null,false]
[null,"City of Garden City","LOCAL","GOVERNMENT",1,1,10341,null,null,null,null,null,false]
[null,"City of Gibraltar, MI","LOCAL","GOVERNMENT",1,1,7903,null,null,null,null,null,false]
[null,"City of Gulfport, MS","LOCAL","GOVERNMENT",1,1,6522,null,null,null,null,null,false]
[null,"City of Hermantown, MN","LOCAL","GOVERNMENT",1,1,520,null,null,null,null,null,false]
[null,"City of Houston, TX","LOCAL","GOVERNMENT",1,1,6137,null,null,null,null,null,false]
[null,"City of Ketchikan, AK","LOCAL","GOVERNMENT",1,1,5388,null,null,null,null,null,false]
[null,"City of Laguna Beach, CA","LOCAL","GOVERNMENT",1,1,523,null,null,null,null,null,false]
[null,"City of LaPorte, TX","LOCAL","GOVERNMENT",1,1,6135,null,null,null,null,null,false]
[null,"City of Lewes, DE Mitigation Planning Team","LOCAL","GOVERNMENT",1,1,5712,null,null,null,null,null,false]
[null,"City of Madison, Wis.","LOCAL","GOVERNMENT",1,1,11440,null,null,null,null,null,false]
[null,"City of Manitowoc, WI","LOCAL","GOVERNMENT",1,1,3695,null,null,null,null,null,false]
[null,"City of Medina, Ohio","LOCAL","GOVERNMENT",1,1,15281,null,null,null,null,null,false]
[null,"City of Merrillville","LOCAL","GOVERNMENT",1,1,13763,null,null,null,null,null,false]
[null,"City of Mount Vernon, WA","LOCAL","GOVERNMENT",1,1,4240,null,null,null,null,null,false]
[null,"City of New Bedford","LOCAL","GOVERNMENT",1,1,8872,null,null,null,null,null,false]
[null,"City of New Orleans, LA","LOCAL","GOVERNMENT",1,1,15489,null,null,null,null,null,false]
[null,"City of Newport, RI","LOCAL","GOVERNMENT",1,1,534,null,null,null,null,null,false]
[null,"City of Ocean Springs, MS","LOCAL","GOVERNMENT",1,1,535,null,null,null,null,null,false]
[null,"City of Painesville, OH","LOCAL","GOVERNMENT",1,1,17043,null,null,null,null,null,false]
[null,"City of Pembroke","LOCAL","GOVERNMENT",1,1,10342,null,null,null,null,null,false]
[null,"City of Poquoson, VA","LOCAL","GOVERNMENT",1,1,5482,null,null,null,null,null,false]
[null,"City of Port Lavaca, TX","LOCAL","GOVERNMENT",1,1,13027,null,null,null,null,null,false]
[null,"City of Proctor, MN","Unknown","Unknown",0,0,9867,null,null,null,null,null,false]
[null,"City of Providence, RI","LOCAL","GOVERNMENT",1,1,542,null,null,null,null,null,false]
[null,"City of Rehoboth Beach","LOCAL","GOVERNMENT",1,1,5713,null,null,null,null,null,false]
[null,"City of Rock Hill","STATE","GOVERNMENT",2,1,16195,null,null,null,null,null,false]
[null,"City of Saco, ME","LOCAL","GOVERNMENT",1,1,13848,null,null,null,null,null,false]
[null,"City of Sandusky, OH","LOCAL","GOVERNMENT",1,1,547,null,null,null,null,null,false]
[null,"city of Saugatuck","STATE","GOVERNMENT",2,1,18243,null,null,null,null,null,false]
[null,"City of Semmes, AL","LOCAL","GOVERNMENT",1,1,13919,null,null,null,null,null,false]
[null,"City of South Padre Island, TX","LOCAL","GOVERNMENT",1,1,12234,null,null,null,null,null,false]
[null,"City of Spanish Fort, AL","LOCAL","GOVERNMENT",1,1,6536,null,null,null,null,null,false]
[null,"City of Sturgeon Bay, Wis.","LOCAL","GOVERNMENT",1,1,11448,null,null,null,null,null,false]
[null,"City of Tangent, OR","LOCAL","GOVERNMENT",1,1,10115,null,null,null,null,null,false]
[null,"City of Two Harbors, Minn.","LOCAL","GOVERNMENT",1,1,11450,null,null,null,null,null,false]
[null,"City of Ventura","LOCAL","GOVERNMENT",1,1,15118,null,null,null,null,null,false]
[null,"City of Warrenton, OR","LOCAL","GOVERNMENT",1,1,14504,null,null,null,null,null,false]
[null,"City of Worcester, MA","LOCAL","GOVERNMENT",1,1,7017,null,null,null,null,null,false]
[null,"City/Borough of Juneau, AK School District","LOCAL","GOVERNMENT",1,1,554,null,null,null,null,null,false]
[null,"CityCraft Ventures, LLC","LOCAL","INDUSTRY AND BUSINESS",1,3,13360,null,null,null,null,null,false]
[null,"Clallam County, Environmental Health Department","LOCAL","GOVERNMENT",1,1,13163,null,null,null,null,null,false]
[null,"Clatsop County","LOCAL","GOVERNMENT",1,1,561,null,null,null,null,null,false]
[null,"Clatsop Soil & Water Conservation District","LOCAL","GOVERNMENT",1,1,5876,null,null,null,null,null,false]
[null,"Clean Bays","REGIONAL","INDUSTRY AND BUSINESS",3,3,10481,null,null,null,null,null,false]
[null,"Clean Wisconsin","STATE","NGO",2,2,566,null,null,null,null,null,false]
[null,"Clear into the Future: A duPont","Unknown","INDUSTRY AND BUSINESS",0,3,4902,null,null,null,null,null,false]
[null,"Cleveland Museum of Natural History","LOCAL","NGO",1,2,568,null,null,null,null,null,false]
[null,"Cleveland Office of Sustainability","LOCAL","NGO",1,2,17052,null,null,null,null,null,false]
[null,"Climate Change and Coastal Zone Management Specialist, Risk Analysis Division (US DHS, FEMA)","FEDERAL or NATIONAL","GOVERNMENT",4,1,5587,null,null,null,null,null,false]
[null,"Climate Solutions New England","REGIONAL","ACADEMIC INSTITUTION",3,4,14946,null,null,null,null,null,false]
[null,"CMU Institute for Great Lakes Research","STATE","ACADEMIC INSTITUTION",2,4,10924,null,null,null,null,null,false]
[null,"Coalition To Protect Puget Sound","LOCAL","NGO",1,2,13165,null,null,null,null,null,false]
[null,"Coastal & Estuarine Research Federation","FEDERAL or NATIONAL","NGO",4,2,9924,null,null,null,null,null,false]
[null,"Coastal and Estuarine Research Federation (ERF)","REGIONAL","NGO",3,2,3801,null,null,null,null,null,false]
[null,"Coastal Carolina Fair","STATE","NGO",2,2,8875,null,null,null,null,null,false]
[null,"Coastal Community Impact Assistance Program","STATE","GOVERNMENT",2,1,17226,null,null,null,null,null,false]
[null,"Coastal Conservation Association of Florida","STATE","NGO",2,2,12998,null,null,null,null,null,false]
[null,"Coastal Expeditions","LOCAL","INDUSTRY AND BUSINESS",1,3,581,null,null,null,null,null,false]
[null,"Coastal Hazards Outreach Strategy Team (CHOST)","REGIONAL","GOVERNMENT",3,1,6545,null,null,null,null,null,false]
[null,"Coastal Maine Botanical Garden","STATE","NGO",2,2,10628,null,null,null,null,null,false]
[null,"Coastal Observation and Seabird Survey Team (COASST, UW)","REGIONAL","ACADEMIC INSTITUTION",3,4,17338,null,null,null,null,null,false]
[null,"Coastal Resource Specialists","LOCAL","INDUSTRY AND BUSINESS",1,3,11527,null,null,null,null,null,false]
[null,"Coastal Safaris","LOCAL","INDUSTRY AND BUSINESS",1,3,12237,null,null,null,null,null,false]
[null,"Coastal Training Program, Padilla Bay National Estuarine Research Reserve (US DOC, NOAA, NOS, NERRS)","FEDERAL or NATIONAL","GOVERNMENT",4,1,4085,null,null,null,null,null,false]
[null,"Coastal Watershed Institute","LOCAL","NGO",1,2,8407,null,null,null,null,null,false]
[null,"Cobb's Marina","LOCAL","INDUSTRY AND BUSINESS",1,3,9021,null,null,null,null,null,false]
[null,"Colby College","STATE","ACADEMIC INSTITUTION",2,4,5714,null,null,null,null,null,false]
[null,"Coleman and Castle","LOCAL","INDUSTRY AND BUSINESS",1,3,596,null,null,null,null,null,false]
[null,"College of Marin","STATE","ACADEMIC INSTITUTION",2,4,598,null,null,null,null,null,false]
[null,"College of the Atlantic","STATE","ACADEMIC INSTITUTION",2,4,601,null,null,null,null,null,false]
[null,"College of William & Mary, Virginia Coastal Policy Center","STATE","ACADEMIC INSTITUTION",2,4,13688,null,null,null,null,null,false]
[null,"College of William and Mary, Geology","STATE","ACADEMIC INSTITUTION",2,4,17473,null,null,null,null,null,false]
[null,"College of William and Mary, Student Environmental & Animal Law Society","STATE","ACADEMIC INSTITUTION",2,4,17470,null,null,null,null,null,false]
[null,"Collins Oyster Co.","LOCAL","Unknown",1,0,9711,null,null,null,null,null,false]
[null,"Columbia County","LOCAL","GOVERNMENT",1,1,603,null,null,null,null,null,{"$f":"AND(  NOT(ISERROR(FIND(UPPER($B$7),UPPER($B3086),1))),  OR($D$7=\"\",NOT(ISERROR(FIND(UPPER($D$7),UPPER($B3086),1)))),    OR($D$8=\"\",(ISERROR(FIND(UPPER($D$8),UPPER($B3086),1))))           )","v":false}]
[null,"Columbia River Crab Fishermen's Association","LOCAL","INDUSTRY AND BUSINESS",1,3,606,null,null,null,null,null,false]
[null,"Columbia-Pacific Economic Development District","LOCAL","NGO",1,2,10118,null,null,null,null,null,false]
[null,"Comite Tres Hermanos de Añasco","LOCAL","NGO",1,2,13841,null,null,null,null,null,false]
[null,"Commission for the Conservation of Antarctic Marine Living Resources","INTERNATIONAL","OTHER PARTNERS",5,6,4169,null,null,null,null,null,false]
[null,"Committee on the Marine Transportation System (DOT, CMTS)","FEDERAL or NATIONAL","Unknown",4,0,14653,null,null,null,null,null,false]
[null,"Commonwealth of the Northern Mariana Islands Coastal Resources Management Office","INTERNATIONAL","GOVERNMENT",5,1,7962,null,null,null,null,null,false]
[null,"Communitty Services","LOCAL","OTHER PARTNERS",1,6,17089,null,null,null,null,null,false]
[null,"Community Foundation for Northeast Michigan","LOCAL","ACADEMIC INSTITUTION",1,4,9150,null,null,null,null,null,false]
[null,"Community Solutions of Hartford","LOCAL","NGO",1,2,13933,null,null,null,null,null,false]
[null,"Compass Marina","LOCAL","INDUSTRY AND BUSINESS",1,3,10774,null,null,null,null,null,false]
[null,"Confederated Tribes of the Grand Ronde","FEDERAL or NATIONAL","GOVERNMENT",4,1,17337,null,null,null,null,null,false]
[null,"Confederated Tribes of the Umatilla Indian Reservation","Tribal","GOVERNMENT",13,1,620,null,null,null,null,null,false]
[null,"Connecticut Association of Land Surveyors","REGIONAL","GOVERNMENT",3,1,8935,null,null,null,null,null,false]
[null,"Connecticut Department of Agriculture, Bureau of Aquaculture (CT CTDA)","STATE","Unknown",2,0,11092,null,null,null,null,null,false]
[null,"Connecticut Department of Environmental Protection—Marine Fisheries Program (CT DEP)","STATE","GOVERNMENT",2,1,630,null,null,null,null,null,false]
[null,"Connecticut Farm Bureau","STATE","INDUSTRY AND BUSINESS",2,3,636,null,null,null,null,null,false]
[null,"Connecticut Port Authority","STATE","INDUSTRY AND BUSINESS",2,3,19392,null,null,null,null,null,false]
[null,"Connecticut River Coastal Conservation District","STATE","NGO",2,2,8093,null,null,null,null,null,false]
[null,"Conscience Point Shellfish Hatchery","LOCAL","INDUSTRY AND BUSINESS",1,3,20026,null,null,null,null,null,false]
[null,"Conservation International Hawaii Fish Trust","INTERNATIONAL","NGO",5,2,10830,null,null,null,null,null,false]
[null,"Conservation Law Foundation","REGIONAL","NGO",3,2,7304,null,null,null,null,null,false]
[null,"Consortium of Universities for the Advancement of Hydrologic Science, Inc.","FEDERAL or NATIONAL","GOVERNMENT",4,1,5950,null,null,null,null,null,true]
[null,"Converteam Naval Systems Inc.","INTERNATIONAL","INDUSTRY AND BUSINESS",5,3,7633,null,null,null,null,null,false]
[null,"Cook County Department of Homeland Security and Emergency Management","LOCAL","GOVERNMENT",1,1,13765,null,null,null,null,null,false]
[null,"Cooksey's Marine Sales and Bait","LOCAL","INDUSTRY AND BUSINESS",1,3,16108,null,null,null,null,null,false]
[null,"Cooper Union School Of Engineering","Unknown","Unknown",0,0,3521,null,null,null,null,null,false]
[null,"Cooperative Institute of Limnology and Ecosystems Research","REGIONAL","ACADEMIC INSTITUTION",3,4,5987,null,null,null,null,null,false]
[null,"Coos Bay City Dock","LOCAL","GOVERNMENT",1,1,10119,null,null,null,null,null,false]
[null,"Copper Station","Unknown2","OTHER PARTNERS",6,6,662,null,null,null,null,null,false]
[null,"Coral Bay Community Council","LOCAL","NGO",1,2,15670,null,null,null,null,null,false]
[null,"Coral Triangle Partnership","INTERNATIONAL","GOVERNMENT",5,1,5897,null,null,null,null,null,false]
[null,"Corinthian Yacht Club","LOCAL","INDUSTRY AND BUSINESS",1,3,10674,null,null,null,null,null,false]
[null,"Cornell Lab of Ornithology","INTERNATIONAL","ACADEMIC INSTITUTION",5,4,18787,null,null,null,null,null,false]
[null,"Cornerstone Christian School","LOCAL","ACADEMIC INSTITUTION",1,4,15393,null,null,null,null,null,false]
[null,"Corpus Christi Independent School District , TX","LOCAL","ACADEMIC INSTITUTION",1,4,6068,null,null,null,null,null,false]
[null,"Cotton, Inc","STATE","INDUSTRY AND BUSINESS",2,3,10221,null,null,null,null,null,false]
[null,"Council of Great Lakes Research Managers","INTERNATIONAL","GOVERNMENT",5,1,673,null,null,null,null,null,false]
[null,"Council on Environmental Quality","FEDERAL or NATIONAL","GOVERNMENT",4,1,14120,null,null,null,null,null,false]
[null,"County Commissioners from all eight coastal counties","Unknown","Unknown",0,0,676,null,null,null,null,null,false]
[null,"County of Los Angeles, CA Department of Public Works","LOCAL","GOVERNMENT",1,1,677,null,null,null,null,null,false]
[null,"Covenant Presbyterian Church School","LOCAL","ACADEMIC INSTITUTION",1,4,12239,null,null,null,null,null,false]
[null,"Crab Express","STATE","INDUSTRY AND BUSINESS",2,3,17364,null,null,null,null,null,false]
[null,"Cranbrook Institse of Science","REGIONAL","NGO",3,2,9116,null,null,null,null,null,false]
[null,"Craven County","LOCAL","GOVERNMENT",1,1,13939,null,null,null,null,null,false]
[null,"Crawford County School District","LOCAL","ACADEMIC INSTITUTION",1,4,14603,null,null,null,null,null,false]
[null,"Croegaerts Great Outdoors","LOCAL","INDUSTRY AND BUSINESS",1,3,19920,null,null,null,null,null,false]
[null,"Crowley Marine Services","REGIONAL","INDUSTRY AND BUSINESS",3,3,7451,null,null,null,null,null,false]
[null,"Crystal Coast Fisheries","LOCAL","INDUSTRY AND BUSINESS",1,3,691,null,null,null,null,null,false]
[null,"CTV Canada","FEDERAL or NATIONAL","INDUSTRY AND BUSINESS",4,3,14217,null,null,null,null,null,false]
[null,"Currier Memorial School","LOCAL","ACADEMIC INSTITUTION",1,4,5276,null,null,null,null,null,false]
[null,"Currituck County Property Owners Association","LOCAL","NGO",1,2,7035,null,null,null,null,null,false]
[null,"Curyung Tribal Council","LOCAL","GOVERNMENT",1,1,17186,null,null,null,null,null,{"$f":"AND(  NOT(ISERROR(FIND(UPPER($B$7),UPPER($B3470),1))),  OR($D$7=\"\",NOT(ISERROR(FIND(UPPER($D$7),UPPER($B3470),1)))),    OR($D$8=\"\",(ISERROR(FIND(UPPER($D$8),UPPER($B3470),1))))           )","v":false}]
[null,"Cypremort Point Yacht Club","LOCAL","Unknown",1,0,19096,null,null,null,null,null,false]
[null,"Dagmar’s Marina","LOCAL","INDUSTRY AND BUSINESS",1,3,4314,null,null,null,null,null,false]
[null,"Damariscotta River Association","LOCAL","NGO",1,2,19384,null,null,null,null,null,false]
[null,"Dancing Salmon Fisheries","FEDERAL or NATIONAL","INDUSTRY AND BUSINESS",4,3,699,null,null,null,null,null,false]
[null,"Daphne High School","STATE","ACADEMIC INSTITUTION",2,4,702,null,null,null,null,null,false]
[null,"Dare Soil and Water Conservation District","LOCAL","GOVERNMENT",1,1,12672,null,null,null,null,null,false]
[null,"Darling Marine Center, University of Maine","STATE","ACADEMIC INSTITUTION",2,4,7635,null,null,null,null,null,false]
[null,"David Cessna, Commercial Fisherman","LOCAL","INDUSTRY AND BUSINESS",1,3,12673,null,null,null,null,null,{"$f":"AND(  NOT(ISERROR(FIND(UPPER($B$7),UPPER($B3534),1))),  OR($D$7=\"\",NOT(ISERROR(FIND(UPPER($D$7),UPPER($B3534),1)))),    OR($D$8=\"\",(ISERROR(FIND(UPPER($D$8),UPPER($B3534),1))))           )","v":false}]
[null,"Day at the Docks","LOCAL","OTHER PARTNERS",1,6,13943,null,null,null,null,null,false]
[null,"Day2 Enterprises","LOCAL","INDUSTRY AND BUSINESS",1,3,709,null,null,null,null,null,false]
[null,"Deal Island-Chance Volunteer Fire Department","LOCAL","GOVERNMENT",1,1,15886,null,null,null,null,null,false]
[null,"Deepwater Wind","INTERNATIONAL","INDUSTRY AND BUSINESS",5,3,14583,null,null,null,null,null,false]
[null,"Del Monte","INTERNATIONAL","INDUSTRY AND BUSINESS",5,3,8198,null,null,null,null,null,false]
[null,"Delaware Association for Environmental Education","STATE","OTHER PARTNERS",2,6,7690,null,null,null,null,null,false]
[null,"Delaware Department of Natural Resources and Environmental Control","REGIONAL","NGO",3,2,9057,null,null,null,null,null,false]
[null,"Delaware Department of Resources and Environmental Control (DNREC)","REGIONAL","GOVERNMENT",3,1,10547,null,null,null,null,null,false]
[null,"Delaware Forest Service","STATE","GOVERNMENT",2,1,5732,null,null,null,null,null,false]
[null,"Delaware Invasive Species Council","STATE","OTHER PARTNERS",2,6,5735,null,null,null,null,null,false]
[null,"Delaware Noational Estuarine Research Reserve","REGIONAL","NGO",3,2,7879,null,null,null,null,null,false]
[null,"Delaware Sea Grant Extension","STATE","SEA GRANT PROGRAMS",2,5,11574,null,null,null,null,null,false]
[null,"Delaware, Geological Survey, Dewey Beach, City of Wilmington","STATE","GOVERNMENT",2,1,725,null,null,null,null,null,false]
[null,"Delmarva Emergency Task Force","REGIONAL","OTHER PARTNERS",3,6,5742,null,null,null,null,null,false]
[null,"Deltaville Boat Yard","LOCAL","INDUSTRY AND BUSINESS",1,3,5479,null,null,null,null,null,false]
[null,"Department of Biological Sciences, Idaho State University","STATE","ACADEMIC INSTITUTION",2,4,10038,null,null,null,null,null,false]
[null,"Department of Botany and Plant Pathology, Purdue University","STATE","ACADEMIC INSTITUTION",2,4,9389,null,null,null,null,null,false]
[null,"Department of Interior Office of Insular Affairs (DOI, OIA)","FEDERAL or NATIONAL","Unknown",4,0,14648,null,null,null,null,null,false]
[null,"DePaul University","STATE","ACADEMIC INSTITUTION",2,4,17034,null,null,null,null,null,false]
[null,"Dept. of Biology/Large Lakes Observatory, Univ. of Minnesota Duluth","NULL","NULL","NULL","NULL",15688,null,null,null,null,null,false]
[null,"Detroit District (DoD, Army, USACE)","FEDERAL or NATIONAL","GOVERNMENT",4,1,731,null,null,null,null,null,false]
[null,"Devil Shoals Oyster and Clam Company","STATE","INDUSTRY AND BUSINESS",2,3,14455,null,null,null,null,null,false]
[null,"Dexter School","LOCAL","ACADEMIC INSTITUTION",1,4,6437,null,null,null,null,null,false]
[null,"Digital Observer, Inc","FEDERAL or NATIONAL","INDUSTRY AND BUSINESS",4,3,737,null,null,null,null,null,false]
[null,"D'Ippolito School, Vineland","LOCAL","ACADEMIC INSTITUTION",1,4,10584,null,null,null,null,null,false]
[null,"Discovery Diving","LOCAL","INDUSTRY AND BUSINESS",1,3,13944,null,null,null,null,null,false]
[null,"Discovery Southeast","STATE","INDUSTRY AND BUSINESS",2,3,17250,null,null,null,null,null,false]
[null,"District of Columbia, DC","FEDERAL or NATIONAL","GOVERNMENT",4,1,8247,null,null,null,null,null,false]
[null,"Division of Fisheries and Aquatic Resources Conservation (US DOI, FWS)","FEDERAL or NATIONAL","GOVERNMENT",4,1,5597,null,null,null,null,null,false]
[null,"Division of Soil and Water, NPS Program (DE DNREC )","STATE","GOVERNMENT",2,1,5718,null,null,null,null,null,false]
[null,"DMC Farms, Inc.","LOCAL","INDUSTRY AND BUSINESS",1,3,17800,null,null,null,null,null,false]
[null,"Dockside Charters","LOCAL","INDUSTRY AND BUSINESS",1,3,14226,null,null,null,null,null,false]
[null,"Dodd & Dodd Nursery, Inc.","LOCAL","INDUSTRY AND BUSINESS",1,3,6556,null,null,null,null,null,false]
[null,"Dolphin Ecology Project","LOCAL","NGO",1,2,6558,null,null,null,null,null,false]
[null,"Dominy's Net Shop","LOCAL","INDUSTRY AND BUSINESS",1,3,12242,null,null,null,null,null,false]
[null,"Dorchester County Commercial Oyster Committee","LOCAL","INDUSTRY AND BUSINESS",1,3,19227,null,null,null,null,null,false]
[null,"Dornsife News Service","LOCAL","ACADEMIC INSTITUTION",1,4,10756,null,null,null,null,null,false]
[null,"Douglas Island Pink and Chum Inc.","LOCAL","NGO",1,2,748,null,null,null,null,null,false]
[null,"Downers Grove Sanitary District","LOCAL","GOVERNMENT",1,1,13766,null,null,null,null,null,false]
[null,"Downtown Mobile Alliance","LOCAL","NGO",1,2,6560,null,null,null,null,null,false]
[null,"Draco Marine Aquaculture","LOCAL","NGO",1,2,4605,null,null,null,null,null,false]
[null,"Driftwood Garden Club-N. Myrtle Beach","LOCAL","NGO",1,2,7152,null,null,null,null,null,false]
[null,"DTE Energy","FEDERAL or NATIONAL","INDUSTRY AND BUSINESS",4,3,752,null,null,null,null,null,false]
[null,"Duke University, Marine Laboratory","STATE","ACADEMIC INSTITUTION",2,4,756,null,null,null,null,null,false]
[null,"Duluth Energy Efficiency Program (DEEP)","LOCAL","NGO",1,2,6326,null,null,null,null,null,false]
[null,"Duluth, MN Parks and Recreation Department","LOCAL","GOVERNMENT",1,1,7857,null,null,null,null,null,false]
[null,"Dunes Village Resort","LOCAL","INDUSTRY AND BUSINESS",1,3,15140,null,null,null,null,null,false]
[null,"Duxbury Planning Commission","LOCAL","GOVERNMENT",1,1,18094,null,null,null,null,null,false]
[null,"E & K Shellfish","STATE","INDUSTRY AND BUSINESS",2,3,10630,null,null,null,null,null,false]
[null,"Earth Networks","Unknown","INDUSTRY AND BUSINESS",0,3,18757,null,null,null,null,null,false]
[null,"Earthquake Country Alliance","REGIONAL","NGO",3,2,12499,null,null,null,null,null,false]
[null,"East Bay Regional Parks","REGIONAL","GOVERNMENT",3,1,8070,null,null,null,null,null,false]
[null,"East Central Florida Regional Planning Council","REGIONAL","GOVERNMENT",3,1,12985,null,null,null,null,null,false]
[null,"Eastern Carolina Artificial Reef Association","REGIONAL","NGO",3,2,10225,null,null,null,null,null,false]
[null,"Eastern Connecticut Resource Conservation and Development Council","LOCAL","NGO",1,2,765,null,null,null,null,null,false]
[null,"Eastern Shore Community College","STATE","ACADEMIC INSTITUTION",2,4,10777,null,null,null,null,null,false]
[null,"Eastern Virginia Groundwater Management Advisory Committee","LOCAL","OTHER PARTNERS",1,6,19230,null,null,null,null,null,false]
[null,"Eastfields Farms","LOCAL","INDUSTRY AND BUSINESS",1,3,19231,null,null,null,null,null,false]
[null,"Eckerd College","LOCAL","GOVERNMENT",1,1,12943,null,null,null,null,null,false]
[null,"Ecolab","INTERNATIONAL","INDUSTRY AND BUSINESS",5,3,8223,null,null,null,null,null,false]
[null,"Ecological Planning Group","REGIONAL","NGO",3,2,10344,null,null,null,null,null,false]
[null,"Econfina Creek Canoe Livery, LLC.","LOCAL","INDUSTRY AND BUSINESS",1,3,16919,null,null,null,null,null,false]
[null,"Ecosystem Research Program (US DOC, NOAA, OAR)","FEDERAL or NATIONAL","GOVERNMENT",4,1,5600,null,null,null,null,null,false]
[null,"EcoVentures International","INTERNATIONAL","INDUSTRY AND BUSINESS",5,3,5746,null,null,null,null,null,false]
[null,"Eden Gardens, Living Waters, Muskegon Heights, Mich.","LOCAL","INDUSTRY AND BUSINESS",1,3,3705,null,null,null,null,null,false]
[null,"Edgewater Yacht Club, Cleveland","LOCAL","INDUSTRY AND BUSINESS",1,3,779,null,null,null,null,null,false]
[null,"Edmonds Underwater Park Stewards","LOCAL","OTHER PARTNERS",1,6,11611,null,null,null,null,null,false]
[null,"Education for Environment and Sustainability, Office of the Superintendent of Public Instruction, State of Washington","STATE","GOVERNMENT",2,1,4508,null,null,null,null,null,false]
[null,"Edward T. Bedford Foundation","FEDERAL or NATIONAL","SEA GRANT PROGRAMS",4,5,17368,null,null,null,null,null,false]
[null,"Egle Nets","STATE","INDUSTRY AND BUSINESS",2,3,14024,null,null,null,null,null,false]
[null,"Elijah Donat, Chilkat Environmental, Haines, Alaska","REGIONAL","NGO",3,2,8036,null,null,null,null,null,false]
[null,"Elizabeth State University","STATE","ACADEMIC INSTITUTION",2,4,10226,null,null,null,null,null,false]
[null,"Elkhorn Slough Safaris (ESS)","REGIONAL","GOVERNMENT",3,1,3364,null,null,null,null,null,false]
[null,"Emergency Management Office","LOCAL","GOVERNMENT",1,1,17044,null,null,null,null,null,false]
[null,"Empire Farm Days","STATE","NGO",2,2,14892,null,null,null,null,null,false]
[null,"Energy Coordinating Agency of Philadelphia (ECA)","REGIONAL","NGO",3,2,10535,null,null,null,null,null,false]
[null,"Engineering Research and Development Center (DoD, Army, USACE)","FEDERAL or NATIONAL","GOVERNMENT",4,1,5601,null,null,null,null,null,false]
[null,"Environmental Association for Great Lakes Education","REGIONAL","NGO",3,2,793,null,null,null,null,null,{"$f":"AND(  NOT(ISERROR(FIND(UPPER($B$7),UPPER($B4110),1))),  OR($D$7=\"\",NOT(ISERROR(FIND(UPPER($D$7),UPPER($B4110),1)))),    OR($D$8=\"\",(ISERROR(FIND(UPPER($D$8),UPPER($B4110),1))))           )","v":false}]
[null,"Environmental Division, Environmental Sciences Branch (US DOI, BOEMRE)","FEDERAL or NATIONAL","GOVERNMENT",4,1,5602,null,null,null,null,null,false]
[null,"Environmental Entrepreneurship Program for Minority Serving Institutions","FEDERAL or NATIONAL","NGO",4,2,797,null,null,null,null,null,false]
[null,"Environmental Initiative","Unknown","NGO",0,2,8774,null,null,null,null,null,false]
[null,"Environmental Protection Agency Region 2","FEDERAL or NATIONAL","GOVERNMENT",4,1,10541,null,null,null,null,null,false]
[null,"Environmental Technologies Inc","FEDERAL or NATIONAL","INDUSTRY AND BUSINESS",4,3,9033,null,null,null,null,null,false]
[null,"EPA Office of Sustainable Communities","FEDERAL or NATIONAL","GOVERNMENT",4,1,8250,null,null,null,null,null,false]
[null,"Erie Art Museum","LOCAL","NGO",1,2,16652,null,null,null,null,null,false]
[null,"Erie County Council of Governments","LOCAL","GOVERNMENT",1,1,19420,null,null,null,null,null,false]
[null,"Erie County Soil and Water","LOCAL","GOVERNMENT",1,1,17341,null,null,null,null,null,false]
[null,"Erie Times News","LOCAL","INDUSTRY AND BUSINESS",1,3,7001,null,null,null,null,null,false]
[null,"Erin Deady, LLC","LOCAL","INDUSTRY AND BUSINESS",1,3,14263,null,null,null,null,null,false]
[null,"Escambia County","LOCAL","GOVERNMENT",1,1,12962,null,null,null,null,null,false]
[null,"Essex (CT) Land Trust","LOCAL","NGO",1,2,6796,null,null,null,null,null,false]
[null,"Eton Bioscience Corp","STATE","INDUSTRY AND BUSINESS",2,3,8132,null,null,null,null,null,false]
[null,"Eurofins","INTERNATIONAL","INDUSTRY AND BUSINESS",5,3,8155,null,null,null,null,null,false]
[null,"Evanston, IL","LOCAL","GOVERNMENT",1,1,14786,null,null,null,null,null,false]
[null,"Ewing Township","LOCAL","GOVERNMENT",1,1,7705,null,null,null,null,null,false]
[null,"Exelon Nuclear","LOCAL","INDUSTRY AND BUSINESS",1,3,7853,null,null,null,null,null,false]
[null,"Exploratorium, CA","LOCAL","NGO",1,2,7740,null,null,null,null,null,false]
[null,"F & F Pay Lakes & Market","Unknown","INDUSTRY AND BUSINESS",0,3,6946,null,null,null,null,null,false]
[null,"F/V AK8739L","STATE","INDUSTRY AND BUSINESS",2,3,10961,null,null,null,null,null,false]
[null,"F/V Hulicat","LOCAL","INDUSTRY AND BUSINESS",1,3,15121,null,null,null,null,null,false]
[null,"F/V Right Whale","STATE","INDUSTRY AND BUSINESS",2,3,10968,null,null,null,null,null,false]
[null,"F/V Ventura II","LOCAL","INDUSTRY AND BUSINESS",1,3,15123,null,null,null,null,null,false]
[null,"Fairfield University","STATE","ACADEMIC INSTITUTION",2,4,826,null,null,null,null,null,false]
[null,"Faith Family Shrimp Company","LOCAL","INDUSTRY AND BUSINESS",1,3,19076,null,null,null,null,null,false]
[null,"Fallen Timbers Environmental Center","LOCAL","NGO",1,2,7050,null,null,null,null,null,false]
[null,"Farmed Here","LOCAL","INDUSTRY AND BUSINESS",1,3,12404,null,null,null,null,null,false]
[null,"Fast Track, Inc","STATE","INDUSTRY AND BUSINESS",2,3,17369,null,null,null,null,null,false]
[null,"Fayetteville Public Works Commission","LOCAL","GOVERNMENT",1,1,16806,null,null,null,null,null,false]
[null,"Federal Energy Regulatory Commission","FEDERAL or NATIONAL","GOVERNMENT",4,1,10631,null,null,null,null,null,false]
[null,"Federated States of Micronesia Office of Environment and Emergency Management","FEDERAL or NATIONAL","GOVERNMENT",4,1,12579,null,null,null,null,null,false]
[null,"Feed Loft Bait Shop","LOCAL","INDUSTRY AND BUSINESS",1,3,9406,null,null,null,null,null,false]
[null,"Fidalgo Marina","LOCAL","INDUSTRY AND BUSINESS",1,3,10509,null,null,null,null,null,false]
[null,"Fire Department, Isle of Palms SC","LOCAL","GOVERNMENT",1,1,14486,null,null,null,null,null,false]
[null,"Fireguard Extinguisher Service","LOCAL","INDUSTRY AND BUSINESS",1,3,8414,null,null,null,null,null,false]
[null,"Fish Creek, Village of","LOCAL","GOVERNMENT",1,1,8275,null,null,null,null,null,false]
[null,"Fisheries and Oceans Canada","INTERNATIONAL","GOVERNMENT",5,1,5974,null,null,null,null,null,false]
[null,"Fisheries Ecology Division, Southeast Fisheries Science Center (US DOC, NOAA, NMFS, SEFSC)","FEDERAL or NATIONAL","GOVERNMENT",4,1,4088,null,null,null,null,null,false]
[null,"Fishermen Advisory Committee for Tillamook (FACT)","LOCAL","INDUSTRY AND BUSINESS",1,3,8719,null,null,null,null,null,false]
[null,"Fishermen's Energy","LOCAL","INDUSTRY AND BUSINESS",1,3,7306,null,null,null,null,null,false]
[null,"Fishin' Boat Charters","STATE","INDUSTRY AND BUSINESS",2,3,13277,null,null,null,null,null,false]
[null,"Fishing Tidewater Radio program","LOCAL","OTHER PARTNERS",1,6,7218,null,null,null,null,null,false]
[null,"Fish-Tale Marina","LOCAL","INDUSTRY AND BUSINESS",1,3,12989,null,null,null,null,null,false]
[null,"Fleet Landing Restaurant","LOCAL","INDUSTRY AND BUSINESS",1,3,11151,null,null,null,null,null,false]
[null,"Flomatin High School","LOCAL","ACADEMIC INSTITUTION",1,4,6566,null,null,null,null,null,false]
[null,"Florida Atlantic University","NULL","NULL","NULL","NULL",18290,null,null,null,null,null,false]
[null,"Florida Department of Economic Opportunity","STATE","GOVERNMENT",2,1,7932,null,null,null,null,null,false]
[null,"Florida Department of Environmental Protection Florida Coastal Office","REGIONAL","GOVERNMENT",3,1,20062,null,null,null,null,null,false]
[null,"Florida Gulf Coast University","NULL","NULL","NULL","NULL",18295,null,null,null,null,null,false]
[null,"Florida Institute for Saltwater Heritage (F.I.S.H.)","STATE","NGO",2,2,16933,null,null,null,null,null,false]
[null,"Florida Marine Research Institute (FL FWCC)","STATE","GOVERNMENT",2,1,860,null,null,null,null,null,false]
[null,"Florida Oceans Alliance","STATE","Unknown",2,0,9653,null,null,null,null,null,false]
[null,"Florida Sea Grant","STATE","SEA GRANT PROGRAMS",2,5,3273,null,null,null,null,null,false]
[null,"Florida State University, Electric Ship Research and Development Consortium (FSU, CAPS, ESRDC)","STATE","ACADEMIC INSTITUTION",2,4,6869,null,null,null,null,null,false]
[null,"Fly Fishermen of Erie County","LOCAL","NGO",1,2,8488,null,null,null,null,null,false]
[null,"Foam Brewers","LOCAL","INDUSTRY AND BUSINESS",1,3,18123,null,null,null,null,null,false]
[null,"Food and Safety Inspection Service (USDA)","FEDERAL or NATIONAL","GOVERNMENT",4,1,13081,null,null,null,null,null,false]
[null,"Food Circus","FEDERAL or NATIONAL","INDUSTRY AND BUSINESS",4,3,869,null,null,null,null,null,false]
[null,"Ford Foundation","INTERNATIONAL","Unknown",5,0,9727,null,null,null,null,null,false]
[null,"Forest Lake Elementary School","LOCAL","ACADEMIC INSTITUTION",1,4,8825,null,null,null,null,null,false]
[null,"Former Congressman Brian Baird","FEDERAL or NATIONAL","OTHER PARTNERS",4,6,7473,null,null,null,null,null,false]
[null,"Fort Monroe Authority","STATE","GOVERNMENT",2,1,13671,null,null,null,null,null,false]
[null,"Fort Sumter National Monument","FEDERAL or NATIONAL","GOVERNMENT",4,1,7111,null,null,null,null,null,false]
[null,"Foundation for Food and Agriculture Research","REGIONAL","NGO",3,2,16790,null,null,null,null,null,false]
[null,"FOX 21 KQDS TV","REGIONAL","INDUSTRY AND BUSINESS",3,3,11296,null,null,null,null,null,false]
[null,"Frank Camarda, Miss Beach Haven","LOCAL","INDUSTRY AND BUSINESS",1,3,11086,null,null,null,null,null,false]
[null,"Frank M. Flower and Sons Inc.","FEDERAL or NATIONAL","INDUSTRY AND BUSINESS",4,3,876,null,null,null,null,null,false]
[null,"Franklin Institute STEM School","LOCAL","ACADEMIC INSTITUTION",1,4,18671,null,null,null,null,null,false]
[null,"Freedom High School, Freedom, Wis.","LOCAL","ACADEMIC INSTITUTION",1,4,8580,null,null,null,null,null,false]
[null,"Freese and Nichols Inc.","STATE","INDUSTRY AND BUSINESS",2,3,15378,null,null,null,null,null,false]
[null,"Fresh Catch Seafood","STATE","INDUSTRY AND BUSINESS",2,3,3912,null,null,null,null,null,false]
[null,"Friends of Birch Bay State Park","LOCAL","OTHER PARTNERS",1,6,14066,null,null,null,null,null,false]
[null,"Friends of Burlington Community Gardens","LOCAL","NGO",1,2,5283,null,null,null,null,null,false]
[null,"Friends of Hanapepe Public Library","LOCAL","NGO",1,2,8311,null,null,null,null,null,false]
[null,"Friends of Sandy Pond Beach","LOCAL","NGO",1,2,8493,null,null,null,null,null,false]
[null,"Friends of Sapelo","LOCAL","GOVERNMENT",1,1,8707,null,null,null,null,null,false]
[null,"Friends of the Edisto","LOCAL","NGO",1,2,887,null,null,null,null,null,{"$f":"AND(  NOT(ISERROR(FIND(UPPER($B$7),UPPER($B4686),1))),  OR($D$7=\"\",NOT(ISERROR(FIND(UPPER($D$7),UPPER($B4686),1)))),    OR($D$8=\"\",(ISERROR(FIND(UPPER($D$8),UPPER($B4686),1))))           )","v":false}]
[null,"Friends of the Rouge","REGIONAL","NGO",3,2,9115,null,null,null,null,null,false]
[null,"Friends of Weedon Island","LOCAL","OTHER PARTNERS",1,6,12941,null,null,null,null,null,false]
[null,"Frontera Audubon Society","LOCAL","NGO",1,2,12249,null,null,null,null,null,false]
[null,"Fund for Lake George","LOCAL","NGO",1,2,15966,null,null,null,null,null,false]
[null,"Future Farmers of America (FFA)","FEDERAL or NATIONAL","OTHER PARTNERS",4,6,18514,null,null,null,null,null,false]
[null,"FV Lost Airmen","LOCAL","INDUSTRY AND BUSINESS",1,3,10634,null,null,null,null,null,false]
[null,"G.A. Cooper","LOCAL","Unknown",1,0,14848,null,null,null,null,null,false]
[null,"Gallaway and Cole, Inc.","LOCAL","INDUSTRY AND BUSINESS",1,3,20007,null,null,null,null,null,false]
[null,"Galveston County Engineering Department","LOCAL","GOVERNMENT",1,1,17691,null,null,null,null,null,false]
[null,"Galveston Independent School District, TX","LOCAL","ACADEMIC INSTITUTION",1,4,6169,null,null,null,null,null,false]
[null,"Gamesa Technology","REGIONAL","INDUSTRY AND BUSINESS",3,3,5749,null,null,null,null,null,false]
[null,"Garibaldi Charters","LOCAL","INDUSTRY AND BUSINESS",1,3,7510,null,null,null,null,null,false]
[null,"Gary Sanitary District","LOCAL","GOVERNMENT",1,1,5511,null,null,null,null,null,false]
[null,"Gateway National Park – Sandy Hook Unit","FEDERAL or NATIONAL","GOVERNMENT",4,1,18682,null,null,null,null,null,false]
[null,"GE Energy - Offshore Wind","REGIONAL","INDUSTRY AND BUSINESS",3,3,9100,null,null,null,null,null,false]
[null,"General McLane School District","LOCAL","ACADEMIC INSTITUTION",1,4,14609,null,null,null,null,null,false]
[null,"Geneva Neighborhood Association","LOCAL","NGO",1,2,10512,null,null,null,null,null,false]
[null,"Geocycle","FEDERAL or NATIONAL","INDUSTRY AND BUSINESS",4,3,19426,null,null,null,null,null,false]
[null,"GeoMatrix LLC","REGIONAL","INDUSTRY AND BUSINESS",3,3,8596,null,null,null,null,null,false]
[null,"George Fox University","LOCAL","ACADEMIC INSTITUTION",1,4,10125,null,null,null,null,null,false]
[null,"George Mason University (GMU)","STATE","ACADEMIC INSTITUTION",2,4,904,null,null,null,null,null,false]
[null,"George’s Restaurant","LOCAL","INDUSTRY AND BUSINESS",1,3,6810,null,null,null,null,null,false]
[null,"Georgetown University Law Center","STATE","ACADEMIC INSTITUTION",2,4,11059,null,null,null,null,null,false]
[null,"Georgia Climate and Society Initiative","REGIONAL","NGO",3,2,10355,null,null,null,null,null,false]
[null,"Georgia Department of Agriculture","STATE","GOVERNMENT",2,1,6960,null,null,null,null,null,false]
[null,"Georgia Environmental Facilities Authority","STATE","GOVERNMENT",2,1,914,null,null,null,null,null,false]
[null,"Georgia Food Safety & Defense Task Force","STATE","GOVERNMENT",2,1,6975,null,null,null,null,null,false]
[null,"Georgia Power","STATE","INDUSTRY AND BUSINESS",2,3,8695,null,null,null,null,null,false]
[null,"Georgia Sea Grant","STATE","SEA GRANT PROGRAMS",2,5,3275,null,null,null,null,null,false]
[null,"Georgia State Botanical Garden","STATE","NGO",2,2,10314,null,null,null,null,null,false]
[null,"Georgia-Pacific","FEDERAL or NATIONAL","INDUSTRY AND BUSINESS",4,3,10126,null,null,null,null,null,false]
[null,"Gerry Santoro/Macomb County Planning & economic Development","LOCAL","GOVERNMENT",1,1,9225,null,null,null,null,null,false]
[null,"Gilson Marine Farms","STATE","INDUSTRY AND BUSINESS",2,3,931,null,null,null,null,null,false]
[null,"Girl Scouts of the USA","FEDERAL or NATIONAL","NGO",4,2,6031,null,null,null,null,null,false]
[null,"Givhans Ferry State park","STATE","GOVERNMENT",2,1,7186,null,null,null,null,null,false]
[null,"Global Computer Systems/ Xiacon (Web site Content Management System)","LOCAL","INDUSTRY AND BUSINESS",1,3,5815,null,null,null,null,null,false]
[null,"Global Ecosystem Dynamics","FEDERAL or NATIONAL","INDUSTRY AND BUSINESS",4,3,935,null,null,null,null,null,false]
[null,"Glosten Associates","FEDERAL or NATIONAL","INDUSTRY AND BUSINESS",4,3,9034,null,null,null,null,null,false]
[null,"Glynn Environmental Coalition","LOCAL","NGO",1,2,8701,null,null,null,null,null,false]
[null,"Glynn Middle School","LOCAL","ACADEMIC INSTITUTION",1,4,6972,null,null,null,null,null,false]
[null,"Golden Isles Convention & Visitors Bureau","LOCAL","GOVERNMENT",1,1,6930,null,null,null,null,null,false]
[null,"Goodwin College","STATE","ACADEMIC INSTITUTION",2,4,5118,null,null,null,null,null,false]
[null,"Gordon Research Conferences","Unknown","Unknown",0,0,3536,null,null,null,null,null,false]
[null,"Governor’s Ocean Policy Cabinet","FEDERAL or NATIONAL","GOVERNMENT",4,1,943,null,null,null,null,null,false]
[null,"Graduate School at the College of Charleston","STATE","ACADEMIC INSTITUTION",2,4,8877,null,null,null,null,null,false]
[null,"Graham and Rollins Seafood","FEDERAL or NATIONAL","INDUSTRY AND BUSINESS",4,3,944,null,null,null,null,null,false]
[null,"Grand Traverse Band of Ottawa and Chippewa Indians","FEDERAL or NATIONAL","NGO",4,2,948,null,null,null,null,null,false]
[null,"Grand Valley State University (GVSU) Economics Department","REGIONAL","ACADEMIC INSTITUTION",3,4,9096,null,null,null,null,null,false]
[null,"Grapeview School","LOCAL","ACADEMIC INSTITUTION",1,4,4185,null,null,null,null,null,false]
[null,"Grays Harbor County","LOCAL","GOVERNMENT",1,1,8419,null,null,null,null,null,false]
[null,"Great Atlantic Trading Company","STATE","INDUSTRY AND BUSINESS",2,3,3919,null,null,null,null,null,false]
[null,"Great Bay National Estuarine Research Reserve (US DOC, NOAA, NOS, NERRS)","FEDERAL or NATIONAL","GOVERNMENT",4,1,960,null,null,null,null,null,false]
[null,"Great Bay Stewards","LOCAL","NGO",1,2,962,null,null,null,null,null,false]
[null,"Great Lakes Cruising Coalition","REGIONAL","INDUSTRY AND BUSINESS",3,3,6264,null,null,null,null,null,false]
[null,"Great Lakes Education Collaborative","REGIONAL","NGO",3,2,6297,null,null,null,null,null,false]
[null,"Great Lakes Historical Society, Inland Seas Maritime Museum and Peachman Lake Shipwreck Research Center","STATE","NGO",2,2,13279,null,null,null,null,null,false]
[null,"Great Lakes Integrated Sciences + Assessments Center","REGIONAL","GOVERNMENT",3,1,14889,null,null,null,null,null,false]
[null,"Great Lakes Phragmites Collaboration","STATE","NGO",2,2,18396,null,null,null,null,null,false]
[null,"Great Lakes Regional Water Program","REGIONAL","NGO",3,2,5135,null,null,null,null,null,false]
[null,"Great Lakes Sea Grant Network","REGIONAL","SEA GRANT PROGRAMS",3,5,7066,null,null,null,null,null,false]
[null,"Great Lakes Shipwreck Research Foundation","REGIONAL","OTHER PARTNERS",3,6,9601,null,null,null,null,null,false]
[null,"Great Lakes United","REGIONAL","NGO",3,2,986,null,null,null,null,null,false]
[null,"Great New York State Fair","STATE","NGO",2,2,12368,null,null,null,null,null,false]
[null,"Greater Lewes Foundation","LOCAL","OTHER PARTNERS",1,6,5752,null,null,null,null,null,false]
[null,"Greater Southeast Development Corporation","REGIONAL","NGO",3,2,13656,null,null,null,null,null,false]
[null,"Green Bay Office (US DOI, FWS)","FEDERAL or NATIONAL","GOVERNMENT",4,1,990,null,null,null,null,null,false]
[null,"Green Girl Land Development Solutions LLC","STATE","INDUSTRY AND BUSINESS",2,3,10127,null,null,null,null,null,false]
[null,"Green Shores for Homes","INTERNATIONAL","OTHER PARTNERS",5,6,7346,null,null,null,null,null,false]
[null,"Greene Prairie Shrimp Aquafarm","LOCAL","INDUSTRY AND BUSINESS",1,3,6572,null,null,null,null,null,{"$f":"AND(  NOT(ISERROR(FIND(UPPER($B$7),UPPER($B5198),1))),  OR($D$7=\"\",NOT(ISERROR(FIND(UPPER($D$7),UPPER($B5198),1)))),    OR($D$8=\"\",(ISERROR(FIND(UPPER($D$8),UPPER($B5198),1))))           )","v":false}]
[null,"GreenScene of Coastal Georgia","STATE","NGO",2,2,10320,null,null,null,null,null,false]
[null,"Grenada Fisheries Division","INTERNATIONAL","GOVERNMENT",5,1,995,null,null,null,null,null,false]
[null,"Groomers Seafood","LOCAL","INDUSTRY AND BUSINESS",1,3,13034,null,null,null,null,null,false]
[null,"Group 70 International","REGIONAL","INDUSTRY AND BUSINESS",3,3,12565,null,null,null,null,null,false]
[null,"Guadalupe-Blanco River Authority","LOCAL","GOVERNMENT",1,1,20017,null,null,null,null,null,false]
[null,"Guam Preservation Trust (GPT)","STATE","NGO",2,2,6749,null,null,null,null,null,false]
[null,"Guam Soil & Water Conservation Districts","LOCAL","NGO",1,2,6760,null,null,null,null,null,false]
[null,"Guernsey Sea Farms, UK","INTERNATIONAL","INDUSTRY AND BUSINESS",5,3,1000,null,null,null,null,null,false]
[null,"Gulf Breeze Lab (US EPA)","FEDERAL or NATIONAL","GOVERNMENT",4,1,1003,null,null,null,null,null,{"$f":"AND(  NOT(ISERROR(FIND(UPPER($B$7),UPPER($B5262),1))),  OR($D$7=\"\",NOT(ISERROR(FIND(UPPER($D$7),UPPER($B5262),1)))),    OR($D$8=\"\",(ISERROR(FIND(UPPER($D$8),UPPER($B5262),1))))           )","v":false}]
[null,"Gulf Coast Marine Life Center","FEDERAL or NATIONAL","INDUSTRY AND BUSINESS",4,3,8269,null,null,null,null,null,false]
[null,"Gulf Coast Services Center","REGIONAL","GOVERNMENT",3,1,6576,null,null,null,null,null,false]
[null,"Gulf Estuarine Research Society","REGIONAL","NGO",3,2,9937,null,null,null,null,null,false]
[null,"Gulf of Maine Research Institute (GMRI)","STATE","ACADEMIC INSTITUTION",2,4,3776,null,null,null,null,null,false]
[null,"Gulf of Mexico Climate Community of Practice (CoP)","REGIONAL","OTHER PARTNERS",3,6,9518,null,null,null,null,null,false]
[null,"Gulf of Mexico Fishery Management Council (GMFMC)","FEDERAL or NATIONAL","GOVERNMENT",4,1,1013,null,null,null,null,null,false]
[null,"Gulf of Mexico Regional Fishery Management Council","REGIONAL","GOVERNMENT",3,1,1017,null,null,null,null,null,false]
[null,"Gulf State Park","STATE","GOVERNMENT",2,1,13928,null,null,null,null,null,false]
[null,"Gulfport Central Middle School","LOCAL","ACADEMIC INSTITUTION",1,4,6579,null,null,null,null,null,false]
[null,"Gustavus Adolphus College","LOCAL","ACADEMIC INSTITUTION",1,4,6230,null,null,null,null,null,false]
[null,"H. Lee White Marine Museum","LOCAL","NGO",1,2,7823,null,null,null,null,null,false]
[null,"Habersham Couty Cooperative Extension Service","LOCAL","GOVERNMENT",1,1,6978,null,null,null,null,null,false]
[null,"Habitattitude Surrender Collaborative","REGIONAL","NGO",3,2,17077,null,null,null,null,null,false]
[null,"Hakai Institute","INTERNATIONAL","ACADEMIC INSTITUTION",5,4,17206,null,null,null,null,null,false]
[null,"Hakai Network","INTERNATIONAL","ACADEMIC INSTITUTION",5,4,15069,null,null,null,null,null,false]
[null,"Hamilton County Soil and Water Conservation District","LOCAL","GOVERNMENT",1,1,13773,null,null,null,null,null,false]
[null,"Hammond, IN School District","LOCAL","GOVERNMENT",1,1,5935,null,null,null,null,null,false]
[null,"Hamot UPMC Hospital","LOCAL","GOVERNMENT",1,1,7006,null,null,null,null,null,false]
[null,"Hanalei Watershed Hui","LOCAL","NGO",1,2,1036,null,null,null,null,null,false]
[null,"Hanson & Curran LLP","STATE","INDUSTRY AND BUSINESS",2,3,8592,null,null,null,null,null,false]
[null,"Harbor Club Marina","LOCAL","INDUSTRY AND BUSINESS",1,3,11482,null,null,null,null,null,false]
[null,"Harbor Wildwatch","LOCAL","NGO",1,2,7339,null,null,null,null,null,false]
[null,"Harlan’s Louisiana Fish","STATE","Unknown",2,0,9740,null,null,null,null,null,false]
[null,"Harley Marine Services","REGIONAL","INDUSTRY AND BUSINESS",3,3,7454,null,null,null,null,null,false]
[null,"Harris County Precinct 2 Parks","LOCAL","GOVERNMENT",1,1,6142,null,null,null,null,null,false]
[null,"Harris Neck Community Land Trust","LOCAL","NGO",1,2,12686,null,null,null,null,null,false]
[null,"Harvard Forest","STATE","ACADEMIC INSTITUTION",2,4,8566,null,null,null,null,null,false]
[null,"Haseko","LOCAL","INDUSTRY AND BUSINESS",1,3,18188,null,null,null,null,null,false]
[null,"Hatteras Island Ocean Center","LOCAL","NGO",1,2,12687,null,null,null,null,null,false]
[null,"Havertown Community Recreation and Environmental Center","LOCAL","NGO",1,2,16643,null,null,null,null,null,false]
[null,"Hawaii Aquaculture Development Program","STATE","GOVERNMENT",2,1,1053,null,null,null,null,null,false]
[null,"Hawai'i Community Development Authority","STATE","GOVERNMENT",2,1,11083,null,null,null,null,null,false]
[null,"Hawaii County Department of Planning","LOCAL","GOVERNMENT",1,1,1061,null,null,null,null,null,false]
[null,"Hawaii Department of Civil Defense (HI DCD)","STATE","GOVERNMENT",2,1,6816,null,null,null,null,null,false]
[null,"Hawaii Department of Transportation, Harbors Division (HI DOT)","STATE","GOVERNMENT",2,1,1070,null,null,null,null,null,false]
[null,"Hawaii Food and Drug Branch (HI DOH)","STATE","GOVERNMENT",2,1,1076,null,null,null,null,null,false]
[null,"Hawaii Land Surveyors Association","STATE","INDUSTRY AND BUSINESS",2,3,1079,null,null,null,null,null,false]
[null,"Hawaii Sentinel Site Cooperative","STATE","GOVERNMENT",2,1,19723,null,null,null,null,null,false]
[null,"Hawaii State Historic Preservation Division (HI DLNR)","STATE","GOVERNMENT",2,1,1085,null,null,null,null,null,false]
[null,"Hawaii Wildlife Management Organization","LOCAL","NGO",1,2,16261,null,null,null,null,null,false]
[null,"Hawaiian Shellfish LLC","LOCAL","INDUSTRY AND BUSINESS",1,3,15774,null,null,null,null,null,false]
[null,"Haystack Rock Awareness Program","LOCAL","NGO",1,2,11607,null,null,null,null,null,false]
[null,"Headwaters Land Conservancy","LOCAL","NGO",1,2,9163,null,null,null,null,null,false]
[null,"Healthy Waters Institute","Unknown2","NGO",6,2,1092,null,null,null,null,null,false]
[null,"Hebrew Educational Society","LOCAL","NGO",1,2,18804,null,null,null,null,null,false]
[null,"Henderson Lake Advisory Committee","LOCAL","GOVERNMENT",1,1,1098,null,null,null,null,null,false]
[null,"Henderson, NY","LOCAL","GOVERNMENT",1,1,10186,null,null,null,null,null,false]
[null,"Henry Grace Doherty Foundation","Unknown","Unknown",0,0,6835,null,null,null,null,null,false]
[null,"Hernando County","LOCAL","GOVERNMENT",1,1,16938,null,null,null,null,null,false]
[null,"Hewlett-Packard","INTERNATIONAL","INDUSTRY AND BUSINESS",5,3,1103,null,null,null,null,null,false]
[null,"High Liner Seafood","LOCAL","INDUSTRY AND BUSINESS",1,3,8999,null,null,null,null,null,false]
[null,"Highland Park Public Library","LOCAL","GOVERNMENT",1,1,9416,null,null,null,null,null,false]
[null,"Hilton Head Preparatory School","LOCAL","ACADEMIC INSTITUTION",1,4,7137,null,null,null,null,null,false]
[null,"Hilton Head, SC","LOCAL","GOVERNMENT",1,1,4945,null,null,null,null,null,false]
[null,"Historic Ricefields Association","LOCAL","NGO",1,2,1110,null,null,null,null,null,false]
[null,"Hoboken Planning","LOCAL","GOVERNMENT",1,1,13129,null,null,null,null,null,false]
[null,"Hog Island Oyster Company","LOCAL","INDUSTRY AND BUSINESS",1,3,1112,null,null,null,null,null,false]
[null,"Holiday City Homeowners Corporation","STATE","INDUSTRY AND BUSINESS",2,3,18625,null,null,null,null,null,false]
[null,"Hollings Marine Laboratory (US DOC, NOAA, NIST, SC DNR HML)","FEDERAL or NATIONAL","GOVERNMENT",4,1,3866,null,null,null,null,null,false]
[null,"Hong Kong Environmental Protection Agency","INTERNATIONAL","GOVERNMENT",5,1,1117,null,null,null,null,null,false]
[null,"Hood Canal Aquanuts","LOCAL","NGO",1,2,1120,null,null,null,null,null,false]
[null,"Hood Canal Coordinating Council","LOCAL","NGO",1,2,1121,null,null,null,null,null,false]
[null,"Hood Canal Shell Fish","LOCAL","INDUSTRY AND BUSINESS",1,3,1125,null,null,null,null,null,false]
[null,"Hope & Main","FEDERAL or NATIONAL","INDUSTRY AND BUSINESS",4,3,14584,null,null,null,null,null,false]
[null,"Hopewell Township","LOCAL","GOVERNMENT",1,1,7708,null,null,null,null,null,false]
[null,"Horsley Witten Group","Unknown2","INDUSTRY AND BUSINESS",6,3,1130,null,null,null,null,null,false]
[null,"Houston Advanced Research Center","STATE","ACADEMIC INSTITUTION",2,4,6034,null,null,null,null,null,false]
[null,"Houston-Galveston Area Council","LOCAL","GOVERNMENT",1,1,6105,null,null,null,null,null,false]
[null,"HT Harvey & Associates (HTHA)","STATE","GOVERNMENT",2,1,3373,null,null,null,null,null,false]
[null,"Hudson River Foundation","STATE","NGO",2,2,5156,null,null,null,null,null,false]
[null,"Hudson Sloop Club","LOCAL","NGO",1,2,18799,null,null,null,null,null,false]
[null,"Huffville Elementary School","LOCAL","ACADEMIC INSTITUTION",1,4,9048,null,null,null,null,null,false]
[null,"Humboldt Bay Stewards","LOCAL","NGO",1,2,1144,null,null,null,null,null,false]
[null,"Humboldt Fishermen’s Marketing Association (HFMA)","REGIONAL","GOVERNMENT",3,1,3375,null,null,null,null,null,false]
[null,"Hunan Agricultural University","INTERNATIONAL","ACADEMIC INSTITUTION",5,4,17056,null,null,null,null,null,false]
[null,"Huntington Beach State Park","STATE","GOVERNMENT",2,1,7150,null,null,null,null,null,false]
[null,"Hurricane Island Foundation","LOCAL","NGO",1,2,18994,null,null,null,null,null,{"$f":"AND(  NOT(ISERROR(FIND(UPPER($B$7),UPPER($B5838),1))),  OR($D$7=\"\",NOT(ISERROR(FIND(UPPER($D$7),UPPER($B5838),1)))),    OR($D$8=\"\",(ISERROR(FIND(UPPER($D$8),UPPER($B5838),1))))           )","v":false}]
[null,"Hyde County, NC","STATE","Unknown",2,0,3989,null,null,null,null,null,false]
[null,"Hydraulics Laboratory (DoD, Army, USACE)","FEDERAL or NATIONAL","GOVERNMENT",4,1,1154,null,null,null,null,null,false]
[null,"Iberia Industrial Development Foundation","LOCAL","GOVERNMENT",1,1,8353,null,null,null,null,null,false]
[null,"Icy Strait Seafood","LOCAL","INDUSTRY AND BUSINESS",1,3,1159,null,null,null,null,null,false]
[null,"IIllinois-Indiana Sea Grant","STATE","SEA GRANT PROGRAMS",2,5,3277,null,null,null,null,null,false]
[null,"Illiana Pond and Garden Society","LOCAL","INDUSTRY AND BUSINESS",1,3,14854,null,null,null,null,null,false]
[null,"Illinois Coastal Management Program","STATE","GOVERNMENT",2,1,9417,null,null,null,null,null,false]
[null,"Illinois Costal Zone Management","LOCAL","GOVERNMENT",1,1,4630,null,null,null,null,null,false]
[null,"Illinois Environmental Health Association","STATE","NGO",2,2,19937,null,null,null,null,null,false]
[null,"Illinois Environmental Regulatory Group","STATE","INDUSTRY AND BUSINESS",2,3,13778,null,null,null,null,null,false]
[null,"Illinois Pollution Control Board (IPCB)","STATE","GOVERNMENT",2,1,19938,null,null,null,null,null,false]
[null,"Illinois State Archaeology Society","STATE","ACADEMIC INSTITUTION",2,4,14780,null,null,null,null,null,false]
[null,"Illinois Sustainable Technology Center","STATE","ACADEMIC INSTITUTION",2,4,7763,null,null,null,null,null,false]
[null,"Imbrium Systems, Inc.","FEDERAL or NATIONAL","INDUSTRY AND BUSINESS",4,3,9582,null,null,null,null,null,false]
[null,"Inalahan Historic Preservation Society","LOCAL","NGO",1,2,6753,null,null,null,null,null,false]
[null,"Independent Insurance Agents of Rhode Island","STATE","INDUSTRY AND BUSINESS",2,3,9562,null,null,null,null,null,false]
[null,"Indiana Association of Soil and Water Conservation Districts","STATE","NGO",2,2,19940,null,null,null,null,null,false]
[null,"Indiana Bass Federation","STATE","NGO",2,2,8666,null,null,null,null,null,false]
[null,"Indiana Department of Environmental Management (IL DEM)","STATE","GOVERNMENT",2,1,1170,null,null,null,null,null,false]
[null,"Indiana Dunes State Park","STATE","GOVERNMENT",2,1,10921,null,null,null,null,null,false]
[null,"Indiana Lake Management Society","STATE","NGO",2,2,1174,null,null,null,null,null,false]
[null,"Indiana State University","STATE","ACADEMIC INSTITUTION",2,4,1177,null,null,null,null,null,false]
[null,"Indiana University Health Hospital (Bloomington)","LOCAL","INDUSTRY AND BUSINESS",1,3,7760,null,null,null,null,null,false]
[null,"Inforum","LOCAL","ACADEMIC INSTITUTION",1,4,9270,null,null,null,null,null,false]
[null,"Inland Lakes Elementary School","LOCAL","ACADEMIC INSTITUTION",1,4,9169,null,null,null,null,null,false]
[null,"Inland Lakes High School","LOCAL","ACADEMIC INSTITUTION",1,4,9170,null,null,null,null,null,false]
[null,"Inlet Seafood Company","LOCAL","INDUSTRY AND BUSINESS",1,3,7817,null,null,null,null,null,false]
[null,"Institute for Broadening Participation","FEDERAL or NATIONAL","NGO",4,2,6926,null,null,null,null,null,false]
[null,"Institute for Fisheries Resources","FEDERAL or NATIONAL","NGO",4,2,1189,null,null,null,null,null,false]
[null,"Institute for Water and Watersheds (OSU)","REGIONAL","ACADEMIC INSTITUTION",3,4,14218,null,null,null,null,null,false]
[null,"Institute of Natural Resources","STATE","ACADEMIC INSTITUTION",2,4,10130,null,null,null,null,null,false]
[null,"Instituto Politécnico Nacional, Centro de Biotecnología Genómica, México","INTERNATIONAL","ACADEMIC INSTITUTION",5,4,14131,null,null,null,null,null,false]
[null,"Integrated Ocean Observing System Animal Telemetry Network NOAA","REGIONAL","ACADEMIC INSTITUTION",3,4,12689,null,null,null,null,null,false]
[null,"Integrated Science and Engineering, Inc.","FEDERAL or NATIONAL","INDUSTRY AND BUSINESS",4,3,1198,null,null,null,null,null,false]
[null,"Interlake High School","LOCAL","ACADEMIC INSTITUTION",1,4,15082,null,null,null,null,null,false]
[null,"International Association of Maritime Economists","INTERNATIONAL","Unknown",5,0,8894,null,null,null,null,null,false]
[null,"International Center for Climate and Global Change Research","INTERNATIONAL","ACADEMIC INSTITUTION",5,4,18249,null,null,null,null,null,false]
[null,"International Conference on Shellfish Restoration","INTERNATIONAL","NGO",5,2,1210,null,null,null,null,null,false]
[null,"International Initative for Sustainable and Biosecure Aquafarming","INTERNATIONAL","ACADEMIC INSTITUTION",5,4,7225,null,null,null,null,null,false]
[null,"International Pacific Halibut Commission","INTERNATIONAL","OTHER PARTNERS",5,6,1216,null,null,null,null,null,false]
[null,"International Women's Fishing Association","INTERNATIONAL","NGO",5,2,8965,null,null,null,null,null,false]
[null,"Intrinsic LifeSciences","INTERNATIONAL","INDUSTRY AND BUSINESS",5,3,1220,null,null,null,null,null,false]
[null,"InWater Research of Florida","Unknown","Unknown",0,0,20058,null,null,null,null,null,false]
[null,"Iosco County Board of Commissioners","LOCAL","GOVERNMENT",1,1,9172,null,null,null,null,null,false]
[null,"Isaac Walton League","FEDERAL or NATIONAL","NGO",4,2,7782,null,null,null,null,null,false]
[null,"Islamorada Youth Council","LOCAL","NGO",1,2,15452,null,null,null,null,null,false]
[null,"Island Fresh Seafood","LOCAL","INDUSTRY AND BUSINESS",1,3,1229,null,null,null,null,null,false]
[null,"Island Tug and Barge","REGIONAL","INDUSTRY AND BUSINESS",3,3,7455,null,null,null,null,null,false]
[null,"Isles, Inc.","LOCAL","INDUSTRY AND BUSINESS",1,3,7885,null,null,null,null,null,false]
[null,"J and B Aquafood","FEDERAL or NATIONAL","INDUSTRY AND BUSINESS",4,3,1233,null,null,null,null,null,false]
[null,"J&J Wright Seafood","LOCAL","INDUSTRY AND BUSINESS",1,3,7226,null,null,null,null,null,false]
[null,"Jack's Feed Shack","LOCAL","INDUSTRY AND BUSINESS",1,3,9420,null,null,null,null,null,false]
[null,"Jackson State University (JSU)","STATE","ACADEMIC INSTITUTION",2,4,1235,null,null,null,null,null,false]
[null,"Jacques Cousteau National Estuarine Research Reserve","STATE","GOVERNMENT",2,1,13852,null,null,null,null,null,false]
[null,"James Edwards Elementary School","LOCAL","ACADEMIC INSTITUTION",1,4,7139,null,null,null,null,null,false]
[null,"Jamestown Seafood","LOCAL","INDUSTRY AND BUSINESS",1,3,1239,null,null,null,null,null,false]
[null,"Jana Cleaning Company","LOCAL","INDUSTRY AND BUSINESS",1,3,7167,null,null,null,null,null,false]
[null,"Japan International Cooperation Agency","INTERNATIONAL","Unknown",5,0,9662,null,null,null,null,null,false]
[null,"Jasper County, SC","LOCAL","GOVERNMENT",1,1,4923,null,null,null,null,null,false]
[null,"Jean Lafitte National Historical Park and Nature Preserve","FEDERAL or NATIONAL","Unknown",4,0,9747,null,null,null,null,null,false]
[null,"Jefferson County Planning Department","LOCAL","GOVERNMENT",1,1,8494,null,null,null,null,null,false]
[null,"Jefferson Ghent","LOCAL","INDUSTRY AND BUSINESS",1,3,13738,null,null,null,null,null,false]
[null,"Jeffery's Seafood","LOCAL","INDUSTRY AND BUSINESS",1,3,10228,null,null,null,null,null,false]
[null,"Jekyll Island Driftwood Nature Center and 4-H Facility","LOCAL","NGO",1,2,1247,null,null,null,null,null,false]
[null,"Jensen Community, SC","LOCAL","OTHER PARTNERS",1,6,4640,null,null,null,null,null,false]
[null,"Jerry's Tackle and Guns","LOCAL","INDUSTRY AND BUSINESS",1,3,16100,null,null,null,null,null,false]
[null,"Jersey Shore Surfcasters (JSS)","REGIONAL","INDUSTRY AND BUSINESS",3,3,10947,null,null,null,null,null,false]
[null,"JJ Perch","LOCAL","INDUSTRY AND BUSINESS",1,3,11484,null,null,null,null,null,false]
[null,"John Carroll University (JCU)","STATE","ACADEMIC INSTITUTION",2,4,1258,null,null,null,null,null,false]
[null,"John Paul II High School","LOCAL","ACADEMIC INSTITUTION",1,4,16496,null,null,null,null,null,false]
[null,"Johnson Creek Watershed Council","LOCAL","NGO",1,2,1262,null,null,null,null,null,false]
[null,"Joint Polar Satellite System Office (US DOC, NOAA, NESDIS)","FEDERAL or NATIONAL","GOVERNMENT",4,1,8079,null,null,null,null,null,false]
[null,"JPS Industries, In.c","LOCAL","INDUSTRY AND BUSINESS",1,3,14868,null,null,null,null,null,false]
[null,"Julian W. Anderson, Shrimper","LOCAL","INDUSTRY AND BUSINESS",1,3,12693,null,null,null,null,null,false]
[null,"Jurica-Suchy Nature Museum","LOCAL","NGO",1,2,1269,null,null,null,null,null,false]
[null,"Kachemak Bay National Estuarine Research Reserve (US DOC, NOAA, NOS, NERRS)","FEDERAL or NATIONAL","GOVERNMENT",4,1,1271,null,null,null,null,null,false]
[null,"Kahuna Sportfishing","LOCAL","INDUSTRY AND BUSINESS",1,3,16474,null,null,null,null,null,false]
[null,"Kaktovik Whaling Captains Association","LOCAL","NGO",1,2,14028,null,null,null,null,null,{"$f":"AND(  NOT(ISERROR(FIND(UPPER($B$7),UPPER($B6414),1))),  OR($D$7=\"\",NOT(ISERROR(FIND(UPPER($D$7),UPPER($B6414),1)))),    OR($D$8=\"\",(ISERROR(FIND(UPPER($D$8),UPPER($B6414),1))))           )","v":false}]
[null,"Kamchatka Institute of Ecology and Nature Protection","INTERNATIONAL","NGO",5,2,1279,null,null,null,null,null,false]
[null,"Kansas Department of Natural Resources","STATE","GOVERNMENT",2,1,14810,null,null,null,null,null,false]
[null,"Karen Talbot Art Gallery","LOCAL","INDUSTRY AND BUSINESS",1,3,17264,null,null,null,null,null,false]
[null,"Karnes City Independent School District , TX","LOCAL","ACADEMIC INSTITUTION",1,4,6070,null,null,null,null,null,false]
[null,"Kauai Community Radio (KKCR)","LOCAL","INDUSTRY AND BUSINESS",1,3,8313,null,null,null,null,null,false]
[null,"Kawerak, Inc.","LOCAL","OTHER PARTNERS",1,6,5437,null,null,null,null,null,false]
[null,"KCB Seafood","LOCAL","INDUSTRY AND BUSINESS",1,3,5481,null,null,null,null,null,false]
[null,"Keep Charleston Beautiful","LOCAL","GOVERNMENT",1,1,7128,null,null,null,null,null,false]
[null,"Kegotank Farm LLC","LOCAL","INDUSTRY AND BUSINESS",1,3,9310,null,null,null,null,null,false]
[null,"Kellogg Foundation","FEDERAL or NATIONAL","NGO",4,2,1294,null,null,null,null,null,false]
[null,"Kenai Fjords Tours","STATE","INDUSTRY AND BUSINESS",2,3,1295,null,null,null,null,null,false]
[null,"Kenai Peninsula College","STATE","ACADEMIC INSTITUTION",2,4,1296,null,null,null,null,null,false]
[null,"Kennedy Alternative High School","LOCAL","ACADEMIC INSTITUTION",1,4,6345,null,null,null,null,null,false]
[null,"Ken's Aquarium Pet Shop","LOCAL","INDUSTRY AND BUSINESS",1,3,14824,null,null,null,null,null,false]
[null,"Kerr Environmental Services Corp.","LOCAL","INDUSTRY AND BUSINESS",1,3,19245,null,null,null,null,null,false]
[null,"Kewaunee City Parks","LOCAL","GOVERNMENT",1,1,1304,null,null,null,null,null,false]
[null,"Kiawah Island Recreation Department","LOCAL","INDUSTRY AND BUSINESS",1,3,13351,null,null,null,null,null,false]
[null,"Killer Whale Tales","LOCAL","NGO",1,2,4388,null,null,null,null,null,false]
[null,"King County, WA","LOCAL","GOVERNMENT",1,1,7348,null,null,null,null,null,false]
[null,"Kings Bay Naval Base, Georgia","FEDERAL or NATIONAL","OTHER PARTNERS",4,6,10300,null,null,null,null,null,false]
[null,"Kings Valley Charter School","LOCAL","ACADEMIC INSTITUTION",1,4,16582,null,null,null,null,null,false]
[null,"Kirby Kids Fossil Museum","LOCAL","OTHER PARTNERS",1,6,1311,null,null,null,null,null,false]
[null,"Kitsap County Department of Community Development","LOCAL","GOVERNMENT",1,1,4258,null,null,null,null,null,false]
[null,"Kitsap Fairgrounds","LOCAL","INDUSTRY AND BUSINESS",1,3,7733,null,null,null,null,null,false]
[null,"Kittery Sewer Department","LOCAL","GOVERNMENT",1,1,8564,null,null,null,null,null,false]
[null,"KKA Chamber of Commerce","LOCAL","INDUSTRY AND BUSINESS",1,3,19363,null,null,null,null,null,false]
[null,"Kobe University","INTERNATIONAL","ACADEMIC INSTITUTION",5,4,8671,null,null,null,null,null,false]
[null,"Kodiak Filipino Women’s Council","LOCAL","OTHER PARTNERS",1,6,5395,null,null,null,null,null,false]
[null,"Kodiak Island Borough School District","LOCAL","GOVERNMENT",1,1,13976,null,null,null,null,null,false]
[null,"Kona Reef Divers Club","LOCAL","OTHER PARTNERS",1,6,1323,null,null,null,null,null,false]
[null,"Korea Maritime Institute","INTERNATIONAL","NGO",5,2,8248,null,null,null,null,null,false]
[null,"Kroger Stores (Southwest Seafood Division)","REGIONAL","INDUSTRY AND BUSINESS",3,3,12275,null,null,null,null,null,false]
[null,"Kubecka Aquaculture","LOCAL","INDUSTRY AND BUSINESS",1,3,14132,null,null,null,null,null,false]
[null,"Kure Beach, NC","LOCAL","GOVERNMENT",1,1,7694,null,null,null,null,null,false]
[null,"Kwajalein Atoll Joint Utilities Resources Inc.","REGIONAL","INDUSTRY AND BUSINESS",3,3,11723,null,null,null,null,null,false]
[null,"L.D. Amory & Company","LOCAL","INDUSTRY AND BUSINESS",1,3,5461,null,null,null,null,null,false]
[null,"LA County Public Health","LOCAL","GOVERNMENT",1,1,10725,null,null,null,null,null,false]
[null,"LA Dept. of Env. Quality Water Division","STATE","Unknown",2,0,9759,null,null,null,null,null,false]
[null,"LA Rod and Reel Club","LOCAL","NGO",1,2,8004,null,null,null,null,null,false]
[null,"Lack's Beach Lifeguards","LOCAL","INDUSTRY AND BUSINESS",1,3,5691,null,null,null,null,null,false]
[null,"LaFourche Parish Sheriff Office","LOCAL","GOVERNMENT",1,1,17650,null,null,null,null,null,false]
[null,"Lagassi Marine Ways","LOCAL","INDUSTRY AND BUSINESS",1,3,12276,null,null,null,null,null,false]
[null,"Lake Cabin Tackle","LOCAL","INDUSTRY AND BUSINESS",1,3,8790,null,null,null,null,null,false]
[null,"Lake Champlain Basin Program (LCBP)","REGIONAL","NGO",3,2,5294,null,null,null,null,null,false]
[null,"Lake Charles Power Squadron","LOCAL","Unknown",1,0,9767,null,null,null,null,null,false]
[null,"Lake County Health Department","LOCAL","GOVERNMENT",1,1,1342,null,null,null,null,null,false]
[null,"Lake Erie Center","LOCAL","ACADEMIC INSTITUTION",1,4,17345,null,null,null,null,null,false]
[null,"Lake Erie Institute Of Marine Science","Unknown","Unknown",0,0,3549,null,null,null,null,null,false]
[null,"Lake Erie Marine Trades Association","STATE","INDUSTRY AND BUSINESS",2,3,1347,null,null,null,null,null,false]
[null,"Lake George Association","LOCAL","NGO",1,2,15968,null,null,null,null,null,false]
[null,"Lake Mattamuskeet National Wildlife Refuge","FEDERAL or NATIONAL","GOVERNMENT",4,1,14482,null,null,null,null,null,false]
[null,"Lake Michigan Monitoring Coordinating Council","REGIONAL","NGO",3,2,1356,null,null,null,null,null,false]
[null,"Lake Michigan Water Trail Chicago(Openlands)","REGIONAL","NGO",3,2,14752,null,null,null,null,null,false]
[null,"Lake Point Property Management","Unknown","INDUSTRY AND BUSINESS",0,3,18104,null,null,null,null,null,false]
[null,"Lake Superior Aquatic Invasive Species Prevention Task Force","REGIONAL","OTHER PARTNERS",3,6,6329,null,null,null,null,null,false]
[null,"Lake Superior Magazine","LOCAL","INDUSTRY AND BUSINESS",1,3,6268,null,null,null,null,null,false]
[null,"Lake Superior State University (LSSU)","STATE","ACADEMIC INSTITUTION",2,4,1367,null,null,null,null,null,false]
[null,"Lakefront Brewery","LOCAL","INDUSTRY AND BUSINESS",1,3,9608,null,null,null,null,null,false]
[null,"Lakeside Intermediate School","LOCAL","ACADEMIC INSTITUTION",1,4,7772,null,null,null,null,null,false]
[null,"Lamoille Board of Realtors","LOCAL","INDUSTRY AND BUSINESS",1,3,19592,null,null,null,null,null,false]
[null,"LaMonica Fine Foods","STATE","INDUSTRY AND BUSINESS",2,3,15603,null,null,null,null,null,false]
[null,"Lane Community College","LOCAL","ACADEMIC INSTITUTION",1,4,6346,null,null,null,null,null,false]
[null,"Langan Engineering","Unknown","INDUSTRY AND BUSINESS",0,3,10564,null,null,null,null,null,false]
[null,"Large Lakes Observatory","STATE","ACADEMIC INSTITUTION",2,4,9223,null,null,null,null,null,false]
[null,"Lark Restaurant","LOCAL","INDUSTRY AND BUSINESS",1,3,7749,null,null,null,null,null,false]
[null,"Laurel Public Library","LOCAL","GOVERNMENT",1,1,17801,null,null,null,null,null,false]
[null,"Lawnside Public School District","LOCAL","ACADEMIC INSTITUTION",1,4,7551,null,null,null,null,null,false]
[null,"Lawrence Berkeley National Laboratory (US DOE)","FEDERAL or NATIONAL","GOVERNMENT",4,1,1376,null,null,null,null,null,false]
[null,"LDEQ","STATE","Unknown",2,0,9770,null,null,null,null,null,{"$f":"AND(  NOT(ISERROR(FIND(UPPER($B$7),UPPER($B6926),1))),  OR($D$7=\"\",NOT(ISERROR(FIND(UPPER($D$7),UPPER($B6926),1)))),    OR($D$8=\"\",(ISERROR(FIND(UPPER($D$8),UPPER($B6926),1))))           )","v":false}]
[null,"League City Garden Club","LOCAL","OTHER PARTNERS",1,6,12279,null,null,null,null,null,false]
[null,"Ledge Light Health District","LOCAL","GOVERNMENT",1,1,9341,null,null,null,null,null,false]
[null,"Legacy Partners in Environmental Education","STATE","OTHER PARTNERS",2,6,8951,null,null,null,null,null,false]
[null,"Leiden University","INTERNATIONAL","ACADEMIC INSTITUTION",5,4,8959,null,null,null,null,null,false]
[null,"Levelock Village","LOCAL","GOVERNMENT",1,1,17188,null,null,null,null,null,false]
[null,"Lewis Creek Association","LOCAL","NGO",1,2,8320,null,null,null,null,null,false]
[null,"LFS","LOCAL","INDUSTRY AND BUSINESS",1,3,8426,null,null,null,null,null,false]
[null,"Liberty State Park","LOCAL","NGO",1,2,13230,null,null,null,null,null,false]
[null,"Lighthouse Marine","LOCAL","INDUSTRY AND BUSINESS",1,3,5824,null,null,null,null,null,{"$f":"AND(  NOT(ISERROR(FIND(UPPER($B$7),UPPER($B6990),1))),  OR($D$7=\"\",NOT(ISERROR(FIND(UPPER($D$7),UPPER($B6990),1)))),    OR($D$8=\"\",(ISERROR(FIND(UPPER($D$8),UPPER($B6990),1))))           )","v":false}]
[null,"LiMPETS Program  (US DOC, NOAA, NOS, ONMS)","FEDERAL or NATIONAL","GOVERNMENT",4,1,1393,null,null,null,null,null,false]
[null,"Lincoln Park Advisory Council","LOCAL","NGO",1,2,10881,null,null,null,null,null,false]
[null,"Linden Public Schools","STATE","ACADEMIC INSTITUTION",2,4,4878,null,null,null,null,null,false]
[null,"Linn County, OR","LOCAL","GOVERNMENT",1,1,10135,null,null,null,null,null,false]
[null,"Little Lagoon Preservation Society","LOCAL","NGO",1,2,6592,null,null,null,null,null,false]
[null,"Little River Band","FEDERAL or NATIONAL","OTHER PARTNERS",4,6,1395,null,null,null,null,null,false]
[null,"Litton Industries/Ingalls Shipbuilding","Unknown2","INDUSTRY AND BUSINESS",6,3,1399,null,null,null,null,null,false]
[null,"Living Shorelines Community of Practice","FEDERAL or NATIONAL","OTHER PARTNERS",4,6,19073,null,null,null,null,null,false]
[null,"Local Catch","FEDERAL or NATIONAL","INDUSTRY AND BUSINESS",4,3,16813,null,null,null,null,null,false]
[null,"Locals Seafood","STATE","INDUSTRY AND BUSINESS",2,3,3933,null,null,null,null,null,false]
[null,"Lofoten Fish Company","LOCAL","INDUSTRY AND BUSINESS",1,3,5438,null,null,null,null,null,false]
[null,"Long Beach Island Historical Association Museum","LOCAL","NGO",1,2,13142,null,null,null,null,null,false]
[null,"Long County","LOCAL","GOVERNMENT",1,1,10348,null,null,null,null,null,false]
[null,"Long Cove Oyster Company","LOCAL","INDUSTRY AND BUSINESS",1,3,8545,null,null,null,null,null,false]
[null,"Long Island Power Authority","REGIONAL","INDUSTRY AND BUSINESS",3,3,7602,null,null,null,null,null,false]
[null,"Longline Environment, Ltd","INTERNATIONAL","INDUSTRY AND BUSINESS",5,3,8427,null,null,null,null,null,false]
[null,"Lorain Sailing & Yacht Club","LOCAL","INDUSTRY AND BUSINESS",1,3,5138,null,null,null,null,null,false]
[null,"Los Angeles County Fire Department, Lifeguard Division","LOCAL","GOVERNMENT",1,1,1412,null,null,null,null,null,false]
[null,"Los Angeles County, Museum of Natural History","LOCAL","NGO",1,2,1421,null,null,null,null,null,false]
[null,"Los Angeles County, Sheriff’s Department","LOCAL","GOVERNMENT",1,1,1423,null,null,null,null,null,false]
[null,"Los Angeles Waterkeeper","REGIONAL","OTHER PARTNERS",3,6,17481,null,null,null,null,null,false]
[null,"Los Peñasquitos Lagoon","LOCAL","NGO",1,2,17302,null,null,null,null,null,false]
[null,"Louisiana Catfish Grower’s Association","STATE","INDUSTRY AND BUSINESS",2,3,5059,null,null,null,null,null,false]
[null,"Louisiana Department of Economic Development (LA DED)","STATE","GOVERNMENT",2,1,1430,null,null,null,null,null,false]
[null,"Louisiana Foods","INTERNATIONAL","INDUSTRY AND BUSINESS",5,3,8219,null,null,null,null,null,false]
[null,"Louisiana Landowners Association","STATE","OTHER PARTNERS",2,6,19102,null,null,null,null,null,false]
[null,"Louisiana Oil Spill Coordinators Office","STATE","GOVERNMENT",2,1,15484,null,null,null,null,null,false]
[null,"Louisiana Sea Grant","STATE","SEA GRANT PROGRAMS",2,5,3278,null,null,null,null,null,false]
[null,"Louisiana Service and Leadership","STATE","OTHER PARTNERS",2,6,15527,null,null,null,null,null,false]
[null,"Louisiana State Museum","STATE","Unknown",2,0,9782,null,null,null,null,null,false]
[null,"Louisiana State University (LSU) Coastal Roots Program (CRP) - university","STATE","NGO",2,2,17652,null,null,null,null,null,false]
[null,"Louisiana University Marine Consortium","STATE","Unknown",2,0,9947,null,null,null,null,null,false]
[null,"Lowcountry Council of Governments","LOCAL","GOVERNMENT",1,1,1455,null,null,null,null,null,false]
[null,"Lowcountry Regional Science and Engineering Fair","LOCAL","NGO",1,2,1457,null,null,null,null,null,false]
[null,"Lower Columbia Solutions Group","REGIONAL","NGO",3,2,1460,null,null,null,null,null,false]
[null,"Lower Kuskokwin Econimic Development Center","Unknown","Unknown",0,0,3553,null,null,null,null,null,false]
[null,"Lower Rogue Watershed Council","LOCAL","NGO",1,2,1463,null,null,null,null,null,false]
[null,"Loyola University Chicago (LUC)","STATE","ACADEMIC INSTITUTION",2,4,1464,null,null,null,null,null,false]
[null,"LSU AgCenter Coastal Research Station","STATE","Unknown",2,0,9784,null,null,null,null,null,false]
[null,"LSU Coast and Environment Graduate Student Organization","STATE","ACADEMIC INSTITUTION",2,4,15530,null,null,null,null,null,false]
[null,"LSU Engineering Diversity Ambassadors","STATE","ACADEMIC INSTITUTION",2,4,17617,null,null,null,null,null,false]
[null,"LSU School of Renewable Nat. Resources","STATE","Unknown",2,0,9794,null,null,null,null,null,false]
[null,"Luckiamute Watershed Council","LOCAL","NGO",1,2,1467,null,null,null,null,null,false]
[null,"Lummi Island Wild Salmon","REGIONAL","INDUSTRY AND BUSINESS",3,3,4333,null,null,null,null,null,false]
[null,"Luna Development","REGIONAL","INDUSTRY AND BUSINESS",3,3,13650,null,null,null,null,null,false]
[null,"Lusk Creek Bait and Feed","LOCAL","INDUSTRY AND BUSINESS",1,3,16114,null,null,null,null,null,false]
[null,"mAbDx, Inc","LOCAL","INDUSTRY AND BUSINESS",1,3,17896,null,null,null,null,null,false]
[null,"Macomb County","LOCAL","OTHER PARTNERS",1,6,12471,null,null,null,null,null,false]
[null,"Macon County Sherriff's Office","LOCAL","GOVERNMENT",1,1,13880,null,null,null,null,null,false]
[null,"Madison Area Chefs Network","LOCAL","INDUSTRY AND BUSINESS",1,3,18966,null,null,null,null,null,false]
[null,"Madrona Venture Group","LOCAL","INDUSTRY AND BUSINESS",1,3,8428,null,null,null,null,null,false]
[null,"Magnolia Greens Country Club","LOCAL","INDUSTRY AND BUSINESS",1,3,7030,null,null,null,null,null,false]
[null,"Maine Aquaculture Innovation Center (MAIC)","STATE","NGO",2,2,1481,null,null,null,null,null,false]
[null,"Maine Audubon","STATE","NGO",2,2,7273,null,null,null,null,null,false]
[null,"Maine Center for Coastal Fisheries","STATE","NGO",2,2,17260,null,null,null,null,null,false]
[null,"Maine Community Foundation","LOCAL","OTHER PARTNERS",1,6,5202,null,null,null,null,null,false]
[null,"Maine Department of Health (ME DOH)","STATE","GOVERNMENT",2,1,1491,null,null,null,null,null,false]
[null,"Maine Fishermen’s Forum Board","STATE","NGO",2,2,1493,null,null,null,null,null,false]
[null,"Maine Healthy Beaches Program","STATE","NGO",2,2,19369,null,null,null,null,null,false]
[null,"Maine Maritime Academy","STATE","ACADEMIC INSTITUTION",2,4,1498,null,null,null,null,null,false]
[null,"Maine Nonpoint Education for Municipal Officials (ME NEMO)","REGIONAL","GOVERNMENT",3,1,3778,null,null,null,null,null,false]
[null,"Maine Sea Grant","STATE","SEA GRANT PROGRAMS",2,5,3279,null,null,null,null,null,false]
[null,"Maine State Legislature","STATE","GOVERNMENT",2,1,5235,null,null,null,null,null,false]
[null,"Makah Fisheries Management, Makah Tribal Council","Tribal","GOVERNMENT",13,1,1501,null,null,null,null,null,false]
[null,"Manatee County","LOCAL","GOVERNMENT",1,1,13014,null,null,null,null,null,false]
[null,"Manitowoc County, Wis.","LOCAL","GOVERNMENT",1,1,11456,null,null,null,null,null,false]
[null,"Manitowoc Marina","LOCAL","INDUSTRY AND BUSINESS",1,3,11487,null,null,null,null,null,false]
[null,"Maple Street Magnet School (Rochester, NH)","LOCAL","ACADEMIC INSTITUTION",1,4,19466,null,null,null,null,null,false]
[null,"Mariah Jade Shrimp Company, LA","REGIONAL","INDUSTRY AND BUSINESS",3,3,12284,null,null,null,null,null,false]
[null,"Marian Center, Kodiak","LOCAL","Unknown",1,0,5410,null,null,null,null,null,false]
[null,"MARINe (Multi-Agency Rocky Intertidal Network)","REGIONAL","GOVERNMENT",3,1,11605,null,null,null,null,null,false]
[null,"Marine and Environmental Research Institute of Pohnpei","INTERNATIONAL","ACADEMIC INSTITUTION",5,4,1514,null,null,null,null,null,false]
[null,"Marine Biological Laboratory (MBL, WHOI)","STATE","ACADEMIC INSTITUTION",2,4,1515,null,null,null,null,null,false]
[null,"Marine Ecosystems & Management (MEAM)","FEDERAL or NATIONAL","OTHER PARTNERS",4,6,9563,null,null,null,null,null,false]
[null,"Marine Fisheries Initiative Program (US DOC, NOAA, NMFS, MARFIN)","FEDERAL or NATIONAL","GOVERNMENT",4,1,1521,null,null,null,null,null,false]
[null,"Marine Mammal Commission (MMC)","FEDERAL or NATIONAL","Unknown",4,0,14660,null,null,null,null,null,false]
[null,"Marine Region, California Department of Fish and Game","STATE","GOVERNMENT",2,1,4509,null,null,null,null,null,{"$f":"AND(  NOT(ISERROR(FIND(UPPER($B$7),UPPER($B7566),1))),  OR($D$7=\"\",NOT(ISERROR(FIND(UPPER($D$7),UPPER($B7566),1)))),    OR($D$8=\"\",(ISERROR(FIND(UPPER($D$8),UPPER($B7566),1))))           )","v":false}]
[null,"Marine Science Educational Partnership","REGIONAL","NGO",3,2,16814,null,null,null,null,null,false]
[null,"Marine Service and Supply","LOCAL","INDUSTRY AND BUSINESS",1,3,8430,null,null,null,null,null,false]
[null,"Marine Technology Society--Oregon Section","STATE","NGO",2,2,10136,null,null,null,null,null,false]
[null,"Mariner's Museum and Park","REGIONAL","OTHER PARTNERS",3,6,19250,null,null,null,null,null,false]
[null,"Maritime Archaeological Survey Team, Inc (MAST)","STATE","INDUSTRY AND BUSINESS",2,3,13292,null,null,null,null,null,false]
[null,"Market Umbrella","LOCAL","INDUSTRY AND BUSINESS",1,3,5061,null,null,null,null,null,false]
[null,"Marquette City Police Department, Ishpeming Police Department","LOCAL","GOVERNMENT",1,1,8636,null,null,null,null,null,false]
[null,"Marshallberg Farm","LOCAL","INDUSTRY AND BUSINESS",1,3,14450,null,null,null,null,null,false]
[null,"Martin County","LOCAL","GOVERNMENT",1,1,16943,null,null,null,null,null,false]
[null,"Maruhide Marine Products","INTERNATIONAL","INDUSTRY AND BUSINESS",5,3,8188,null,null,null,null,null,false]
[null,"Maryland Coastal Zone Management Program (MD CZMP)","STATE","GOVERNMENT",2,1,1541,null,null,null,null,null,false]
[null,"Maryland Department of Health and Mental Hygene","STATE","GOVERNMENT",2,1,14567,null,null,null,null,null,false]
[null,"Maryland Environmental Services","STATE","GOVERNMENT",2,1,1544,null,null,null,null,null,false]
[null,"Maryland Public Television","STATE","OTHER PARTNERS",2,6,4662,null,null,null,null,null,false]
[null,"Maser Consulting","LOCAL","INDUSTRY AND BUSINESS",1,3,18432,null,null,null,null,null,false]
[null,"Mason County 4 H","LOCAL","NGO",1,2,1550,null,null,null,null,null,false]
[null,"Mason County Department of Community Development","LOCAL","GOVERNMENT",1,1,4268,null,null,null,null,null,false]
[null,"Mason County Safety Co-op","LOCAL","NGO",1,2,1554,null,null,null,null,null,false]
[null,"Mass Department of Energy and Environmental Affairs and the Massachusetts Clean Energy Center (MassCEC)","STATE","GOVERNMENT",2,1,6716,null,null,null,null,null,false]
[null,"Massachusetts Bays National Estuary Program","FEDERAL or NATIONAL","GOVERNMENT",4,1,11529,null,null,null,null,null,false]
[null,"Massachusetts Department of Public Health","STATE","GOVERNMENT",2,1,11530,null,null,null,null,null,false]
[null,"Massachusetts Institute of Technology (MIT)","STATE","ACADEMIC INSTITUTION",2,4,1559,null,null,null,null,null,false]
[null,"Massachusetts Institute of Technology, Energy Initiative (MIT)","LOCAL","ACADEMIC INSTITUTION",1,4,6432,null,null,null,null,null,false]
[null,"Massachusetts Ocean Partnership","REGIONAL","NGO",3,2,6410,null,null,null,null,null,false]
[null,"Massachusetts Science And Technology Foundation","Unknown","Unknown",0,0,3559,null,null,null,null,null,false]
[null,"Matagorda County Chamber of Commerce and Agriculture","LOCAL","INDUSTRY AND BUSINESS",1,3,6177,null,null,null,null,null,false]
[null,"Material Service Corp., Chicago","STATE","INDUSTRY AND BUSINESS",2,3,3723,null,null,null,null,null,false]
[null,"Matson Fisheries","FEDERAL or NATIONAL","INDUSTRY AND BUSINESS",4,3,1562,null,null,null,null,null,false]
[null,"Mattie Kelly Environmental Institution","LOCAL","ACADEMIC INSTITUTION",1,4,6598,null,null,null,null,null,false]
[null,"Maui County Planning Department","LOCAL","GOVERNMENT",1,1,1571,null,null,null,null,null,false]
[null,"Maui Huliau Foundation","LOCAL","NGO",1,2,15989,null,null,null,null,null,false]
[null,"Mayaguezanos Por la Salud y el Ambiente","LOCAL","NGO",1,2,8886,null,null,null,null,null,false]
[null,"McCaleb-Metzler, A Bankers Insurance Company","LOCAL","INDUSTRY AND BUSINESS",1,3,19252,null,null,null,null,null,false]
[null,"McClellanville, SC","LOCAL","GOVERNMENT",1,1,15258,null,null,null,null,null,false]
[null,"McDowell Group","FEDERAL or NATIONAL","INDUSTRY AND BUSINESS",4,3,1576,null,null,null,null,null,false]
[null,"McKinley Marina","LOCAL","INDUSTRY AND BUSINESS",1,3,7334,null,null,null,null,null,false]
[null,"McWilliams Seafood","STATE","INDUSTRY AND BUSINESS",2,3,18433,null,null,null,null,null,false]
[null,"Meadowlands Environment Center","STATE","NGO",2,2,7523,null,null,null,null,null,false]
[null,"Mellon Foundation","FEDERAL or NATIONAL","ACADEMIC INSTITUTION",4,4,1585,null,null,null,null,null,false]
[null,"Memorial Park Conservancy-Houston","LOCAL","NGO",1,2,12285,null,null,null,null,null,false]
[null,"Meraux Foundation","LOCAL","OTHER PARTNERS",1,6,19077,null,null,null,null,null,false]
[null,"Merck Pharmaceutical Company","INTERNATIONAL","INDUSTRY AND BUSINESS",5,3,14214,null,null,null,null,null,false]
[null,"Meridian Academy","LOCAL","ACADEMIC INSTITUTION",1,4,6441,null,null,null,null,null,false]
[null,"Metroparks","LOCAL","OTHER PARTNERS",1,6,9103,null,null,null,null,null,false]
[null,"Metropolitan Waterfront Alliance","STATE","NGO",2,2,4862,null,null,null,null,null,false]
[null,"Mexico State Secretary of Agriculture","INTERNATIONAL","GOVERNMENT",5,1,1597,null,null,null,null,null,false]
[null,"Michael Singer Studio","REGIONAL","INDUSTRY AND BUSINESS",3,3,13930,null,null,null,null,null,false]
[null,"Michigan Audubon Society","STATE","NGO",2,2,18400,null,null,null,null,null,false]
[null,"Michigan Bait Dealers Association","STATE","INDUSTRY AND BUSINESS",2,3,1602,null,null,null,null,null,false]
[null,"Michigan Department of Community Health","STATE","GOVERNMENT",2,1,5988,null,null,null,null,null,false]
[null,"Michigan Department of Environmental Quality","STATE","GOVERNMENT",2,1,9481,null,null,null,null,null,false]
[null,"Michigan Department of Natural Resources (MI DNR)","STATE","GOVERNMENT",2,1,1608,null,null,null,null,null,false]
[null,"Michigan Department of Transportation (MDOT)","STATE","GOVERNMENT",2,1,6879,null,null,null,null,null,false]
[null,"Michigan Extension Horticulture Department","STATE","ACADEMIC INSTITUTION",2,4,15549,null,null,null,null,null,false]
[null,"Michigan Lake and Stream Associations","STATE","NGO",2,2,1613,null,null,null,null,null,false]
[null,"Michigan Pharmacists Association","STATE","INDUSTRY AND BUSINESS",2,3,4666,null,null,null,null,null,false]
[null,"Michigan Science Teachers Association","STATE","ACADEMIC INSTITUTION",2,4,1616,null,null,null,null,null,false]
[null,"Michigan State University","STATE","NULL",2,"NULL",14689,null,null,null,null,null,false]
[null,"Michigan State University Extension 4-H Youth Programs","STATE","ACADEMIC INSTITUTION",2,4,12475,null,null,null,null,null,false]
[null,"Michigan Steelhead and Salmon Fishermen’s Association","STATE","NGO",2,2,1621,null,null,null,null,null,false]
[null,"Microbac Labs","FEDERAL or NATIONAL","INDUSTRY AND BUSINESS",4,3,7781,null,null,null,null,null,false]
[null,"Mid-Atlantic Aquaculture Technologies","LOCAL","INDUSTRY AND BUSINESS",1,3,7232,null,null,null,null,null,false]
[null,"Mid-Atlantic Marine Education Association","REGIONAL","NGO",3,2,1625,null,null,null,null,null,false]
[null,"Mid-Continent Ecology Division (US EPA)","FEDERAL or NATIONAL","GOVERNMENT",4,1,6250,null,null,null,null,null,false]
[null,"Middle Cape Fear River Basin Association","LOCAL","OTHER PARTNERS",1,6,16816,null,null,null,null,null,false]
[null,"Middlesex Community College","Unknown","ACADEMIC INSTITUTION",0,4,8933,null,null,null,null,null,false]
[null,"Midway Fire Department, SC","LOCAL","GOVERNMENT",1,1,4667,null,null,null,null,null,false]
[null,"Midwest Koi and Pond Society","REGIONAL","Unknown",3,0,9426,null,null,null,null,null,false]
[null,"Mike McCorkle, Commercial Fisherman & Southern California Trawlers Association","Unknown2","Unknown",6,0,17958,null,null,null,null,null,false]
[null,"Mikunda, Cottrell and Co.","LOCAL","INDUSTRY AND BUSINESS",1,3,1630,null,null,null,null,null,false]
[null,"Millersville University Ocean Science Club","LOCAL","ACADEMIC INSTITUTION",1,4,7684,null,null,null,null,null,false]
[null,"Milwaukee Area Technical College","LOCAL","ACADEMIC INSTITUTION",1,4,10876,null,null,null,null,null,false]
[null,"Milwaukee County Zoo","LOCAL","GOVERNMENT",1,1,14740,null,null,null,null,null,false]
[null,"Milwaukee Yacht Club","LOCAL","INDUSTRY AND BUSINESS",1,3,11489,null,null,null,null,null,false]
[null,"Ministry of Fisheries, Ghana","INTERNATIONAL","GOVERNMENT",5,1,5031,null,null,null,null,null,false]
[null,"Minnesota Association of Extension Educators","STATE","ACADEMIC INSTITUTION",2,4,1643,null,null,null,null,null,false]
[null,"Minnesota Conservation Corps","STATE","NGO",2,2,6325,null,null,null,null,null,false]
[null,"Minnesota Department of Transportation (MN DOT)","STATE","GOVERNMENT",2,1,1653,null,null,null,null,null,{"$f":"AND(  NOT(ISERROR(FIND(UPPER($B$7),UPPER($B8142),1))),  OR($D$7=\"\",NOT(ISERROR(FIND(UPPER($D$7),UPPER($B8142),1)))),    OR($D$8=\"\",(ISERROR(FIND(UPPER($D$8),UPPER($B8142),1))))           )","v":false}]
[null,"Minnesota Environmental Partnership (MN EPA)","STATE","NGO",2,2,1654,null,null,null,null,null,false]
[null,"Minnesota Legislature Environment Committee","STATE","GOVERNMENT",2,1,13415,null,null,null,null,null,false]
[null,"Minnesota Logger Education Program","STATE","NGO",2,2,1663,null,null,null,null,null,false]
[null,"Minnesota Sea Grant","STATE","SEA GRANT PROGRAMS",2,5,3283,null,null,null,null,null,false]
[null,"Minnesota Water Garden Society","STATE","NGO",2,2,1673,null,null,null,null,null,false]
[null,"Mission-Aransas National Estuarine Research Reserve (US DOC, NOAA, NOS, NERRS)","FEDERAL or NATIONAL","GOVERNMENT",4,1,5071,null,null,null,null,null,false]
[null,"Mississippi Cooperative Extension Program (USDA MSState)","STATE","GOVERNMENT",2,1,1677,null,null,null,null,null,false]
[null,"Mississippi Gulf Coast Community College","STATE","ACADEMIC INSTITUTION",2,4,1685,null,null,null,null,null,false]
[null,"Mississippi Gulf Coast Community Design Studio","STATE","NGO",2,2,9952,null,null,null,null,null,false]
[null,"Mississippi Sandhill Crane National Wildlife Refuge","FEDERAL or NATIONAL","GOVERNMENT",4,1,9954,null,null,null,null,null,false]
[null,"Mississippi State University Coastal Research and Extension Center","STATE","ACADEMIC INSTITUTION",2,4,6604,null,null,null,null,null,false]
[null,"Mississippi Water Resources Research Institute","STATE","ACADEMIC INSTITUTION",2,4,19795,null,null,null,null,null,false]
[null,"MIT Climate CooLab","REGIONAL","ACADEMIC INSTITUTION",3,4,18629,null,null,null,null,null,false]
[null,"MIT Sea Grant Program","NULL","NULL","NULL","NULL",18333,null,null,null,null,null,false]
[null,"MIT-WHOI","NULL","NULL","NULL","NULL",14684,null,null,null,null,null,false]
[null,"MN Lake Superior Coastal Program","STATE","Unknown",2,0,9883,null,null,null,null,null,false]
[null,"Mobile Area Education Foundation","LOCAL","NGO",1,2,9957,null,null,null,null,null,false]
[null,"Mobile Bay Convention & Visitors Bureau","LOCAL","INDUSTRY AND BUSINESS",1,3,9522,null,null,null,null,null,false]
[null,"Mobile County Board of Education","LOCAL","ACADEMIC INSTITUTION",1,4,9961,null,null,null,null,null,false]
[null,"Mobile County Planning Commission","LOCAL","GOVERNMENT",1,1,1703,null,null,null,null,null,false]
[null,"Mobjack Seafood","LOCAL","INDUSTRY AND BUSINESS",1,3,9005,null,null,null,null,null,false]
[null,"Moffatt & Nichol, Inc.","INTERNATIONAL","INDUSTRY AND BUSINESS",5,3,10663,null,null,null,null,null,false]
[null,"Monash University","STATE","ACADEMIC INSTITUTION",2,4,3757,null,null,null,null,null,false]
[null,"Monmouth County CRS Users Group","LOCAL","OTHER PARTNERS",1,6,15005,null,null,null,null,null,false]
[null,"Monmouth County Planning Department","REGIONAL","GOVERNMENT",3,1,15331,null,null,null,null,null,false]
[null,"Monmouth University","STATE","ACADEMIC INSTITUTION",2,4,4883,null,null,null,null,null,false]
[null,"Monroe County Department of Planning and Development","LOCAL","GOVERNMENT",1,1,5837,null,null,null,null,null,false]
[null,"Monterey Abalone Company","FEDERAL or NATIONAL","INDUSTRY AND BUSINESS",4,3,1716,null,null,null,null,null,false]
[null,"Monterey Bay National Marine Sanctuary (US DOC, NOAA, NOS, ONMS)","FEDERAL or NATIONAL","GOVERNMENT",4,1,1719,null,null,null,null,null,false]
[null,"Montessori School of Mt. Pleasant","LOCAL","ACADEMIC INSTITUTION",1,4,7142,null,null,null,null,null,false]
[null,"Montlake Elementary School","LOCAL","ACADEMIC INSTITUTION",1,4,4196,null,null,null,null,null,false]
[null,"Morehead City, NC","LOCAL","GOVERNMENT",1,1,15263,null,null,null,null,null,false]
[null,"Morgan State University SCUBA Club","STATE","ACADEMIC INSTITUTION",2,4,11578,null,null,null,null,null,false]
[null,"Morro Bay National Estuary Program","LOCAL","NGO",1,2,13254,null,null,null,null,null,false]
[null,"Moscow State University (Russia)","INTERNATIONAL","ACADEMIC INSTITUTION",5,4,4127,null,null,null,null,null,false]
[null,"Moss Point School District","LOCAL","ACADEMIC INSTITUTION",1,4,9964,null,null,null,null,null,false]
[null,"Mount Clemens","LOCAL","GOVERNMENT",1,1,18406,null,null,null,null,null,false]
[null,"MPA Monitoring Enterprise","LOCAL","NGO",1,2,6775,null,null,null,null,null,false]
[null,"MSU Department of Entomology","LOCAL","ACADEMIC INSTITUTION",1,4,18408,null,null,null,null,null,false]
[null,"MSU Museum","STATE","ACADEMIC INSTITUTION",2,4,9183,null,null,null,null,null,false]
[null,"Muncie Sanitary District","LOCAL","GOVERNMENT",1,1,15057,null,null,null,null,null,false]
[null,"Municipal River Herring Wardens and Natural Resource Officers","LOCAL","GOVERNMENT",1,1,19003,null,null,null,null,null,false]
[null,"Murray L. Nixon Fisheries","STATE","INDUSTRY AND BUSINESS",2,3,3938,null,null,null,null,null,false]
[null,"MUSC Student Government Association","STATE","OTHER PARTNERS",2,6,13336,null,null,null,null,null,false]
[null,"Muskegon Area Chamber of Commerce","LOCAL","GOVERNMENT",1,1,6009,null,null,null,null,null,false]
[null,"MYMIC Training Technologies","FEDERAL or NATIONAL","INDUSTRY AND BUSINESS",4,3,19256,null,null,null,null,null,false]
[null,"Myrtle Beach, SC","LOCAL","GOVERNMENT",1,1,4668,null,null,null,null,null,false]
[null,"N.C. Marine Patrol","STATE","GOVERNMENT",2,1,19583,null,null,null,null,null,false]
[null,"Najarian Associates","LOCAL","INDUSTRY AND BUSINESS",1,3,4910,null,null,null,null,null,false]
[null,"NanoICE","LOCAL","INDUSTRY AND BUSINESS",1,3,19069,null,null,null,null,null,false]
[null,"Narragansett Bay Commission","LOCAL","INDUSTRY AND BUSINESS",1,3,5181,null,null,null,null,null,false]
[null,"Nat. Centers for Ocean & Coastal Science","FEDERAL or NATIONAL","Unknown",4,0,9801,null,null,null,null,null,false]
[null,"Natchitoches National Fish Hatchery (US FWS)","STATE","GOVERNMENT",2,1,8360,null,null,null,null,null,false]
[null,"National Aquaculture Association","FEDERAL or NATIONAL","NGO",4,2,5661,null,null,null,null,null,false]
[null,"National Association of Counties (NACO)","FEDERAL or NATIONAL","NGO",4,2,1746,null,null,null,null,null,false]
[null,"National Association of Science Writers","FEDERAL or NATIONAL","NGO",4,2,4041,null,null,null,null,null,false]
[null,"National Capital Region, National Park Service (US DOI, NPS)","FEDERAL or NATIONAL","GOVERNMENT",4,1,1750,null,null,null,null,null,false]
[null,"National Center for Supercomputing Applications","REGIONAL","ACADEMIC INSTITUTION",3,4,13797,null,null,null,null,null,false]
[null,"National Center for Supercomputing Applications (NCSA)","FEDERAL or NATIONAL","ACADEMIC INSTITUTION",4,4,7753,null,null,null,null,null,false]
[null,"National Disaster Preparedness Training Center (FEMA)","FEDERAL or NATIONAL","GOVERNMENT",4,1,10953,null,null,null,null,null,false]
[null,"National Education Association Foundation","FEDERAL or NATIONAL","NGO",4,2,9615,null,null,null,null,null,false]
[null,"National Federation of Regional Associations for Coastal Ocean Observing (NFRA)","FEDERAL or NATIONAL","GOVERNMENT",4,1,1755,null,null,null,null,null,false]
[null,"National Fishermen Magazine","FEDERAL or NATIONAL","INDUSTRY AND BUSINESS",4,3,15608,null,null,null,null,null,false]
[null,"National Institute of Environmental Health Sciences, National Institutes of Health, US Department of Health and Human Services (US HHS)","FEDERAL or NATIONAL","GOVERNMENT",4,1,5891,null,null,null,null,null,false]
[null,"National Institute of Standards and Technology (US DOC, NIST)","FEDERAL or NATIONAL","GOVERNMENT",4,1,7098,null,null,null,null,null,false]
[null,"National Marine Fisheries Service","FEDERAL or NATIONAL","NULL",4,"NULL",14335,null,null,null,null,null,false]
[null,"National Marine Fisheries Service, Milford (US DOC, NOAA, NMFS)","FEDERAL or NATIONAL","NULL",4,"NULL",14114,null,null,null,null,null,false]
[null,"National Marine Fisheries Service, Texas (US DOC, NOAA, NMFS)","FEDERAL or NATIONAL","GOVERNMENT",4,1,3576,null,null,null,null,null,false]
[null,"National Network for Ocean and Climate Change Interpretation","REGIONAL","NGO",3,2,19332,null,null,null,null,null,{"$f":"AND(  NOT(ISERROR(FIND(UPPER($B$7),UPPER($B8654),1))),  OR($D$7=\"\",NOT(ISERROR(FIND(UPPER($D$7),UPPER($B8654),1)))),    OR($D$8=\"\",(ISERROR(FIND(UPPER($D$8),UPPER($B8654),1))))           )","v":false}]
[null,"National Ocean Industries Association","FEDERAL or NATIONAL","INDUSTRY AND BUSINESS",4,3,6104,null,null,null,null,null,false]
[null,"National Oceanographic Data Center (US DOC, NOAA, NESDIS, NODC)","FEDERAL or NATIONAL","GOVERNMENT",4,1,5643,null,null,null,null,null,false]
[null,"National Park Service of American Samoa","FEDERAL or NATIONAL","GOVERNMENT",4,1,8331,null,null,null,null,null,false]
[null,"National Prescription Pill and Drug Disposal (P2D2) Program","REGIONAL","NGO",3,2,8643,null,null,null,null,null,false]
[null,"National Research Council, Canada","INTERNATIONAL","GOVERNMENT",5,1,1780,null,null,null,null,null,false]
[null,"National Science Foundation STC on Energy Efficient Electronic Systems (NSF)","FEDERAL or NATIONAL","GOVERNMENT",4,1,7654,null,null,null,null,null,false]
[null,"National Science Teachers Association","FEDERAL or NATIONAL","NGO",4,2,1784,null,null,null,null,null,false]
[null,"National Security Council","FEDERAL or NATIONAL","GOVERNMENT",4,1,14470,null,null,null,null,null,false]
[null,"National States Geographic Information Council","REGIONAL","NGO",3,2,11491,null,null,null,null,null,{"$f":"AND(  NOT(ISERROR(FIND(UPPER($B$7),UPPER($B8718),1))),  OR($D$7=\"\",NOT(ISERROR(FIND(UPPER($D$7),UPPER($B8718),1)))),    OR($D$8=\"\",(ISERROR(FIND(UPPER($D$8),UPPER($B8718),1))))           )","v":false}]
[null,"National Water Resources Association","FEDERAL or NATIONAL","NGO",4,2,7796,null,null,null,null,null,false]
[null,"National Weather Service Northern Indiana Office","REGIONAL","GOVERNMENT",3,1,17068,null,null,null,null,null,false]
[null,"National Weather Service, Gray, Maine","Unknown","Unknown",0,0,10059,null,null,null,null,null,false]
[null,"National Weather Service, Wilmington, NC (US DOC, NOAA, NWS)","FEDERAL or NATIONAL","GOVERNMENT",4,1,3883,null,null,null,null,null,false]
[null,"National Wildlife Federation","FEDERAL or NATIONAL","NGO",4,2,6155,null,null,null,null,null,false]
[null,"Native Habitat Restoration","LOCAL","INDUSTRY AND BUSINESS",1,3,8433,null,null,null,null,null,false]
[null,"Native Village of Kotzebue","LOCAL","GOVERNMENT",1,1,19779,null,null,null,null,null,false]
[null,"Natural Capital Project (NCP)","STATE","GOVERNMENT",2,1,3390,null,null,null,null,null,false]
[null,"Natural Resources Conservation Service (USDA, NRCS)","FEDERAL or NATIONAL","GOVERNMENT",4,1,1800,null,null,null,null,null,false]
[null,"Nature Adventure Outfitters","LOCAL","INDUSTRY AND BUSINESS",1,3,15141,null,null,null,null,null,false]
[null,"Nature Conservancy of Texas","STATE","NGO",2,2,6100,null,null,null,null,null,false]
[null,"Naval Air Station Corpus Christi (US DOD, NAVY)","FEDERAL or NATIONAL","GOVERNMENT",4,1,14133,null,null,null,null,null,false]
[null,"Naval Facilities Engineering Command JEBLCFS","FEDERAL or NATIONAL","GOVERNMENT",4,1,13678,null,null,null,null,null,false]
[null,"Naval Station Whidbey Island Marina (US DOD, NAVY)","FEDERAL or NATIONAL","GOVERNMENT",4,1,4337,null,null,null,null,null,false]
[null,"NBC Television","Unknown2","INDUSTRY AND BUSINESS",6,3,1802,null,null,null,null,null,false]
[null,"NC Office of the Governor","STATE","GOVERNMENT",2,1,10196,null,null,null,null,null,false]
[null,"Nebraska Space Grant (NASA)","FEDERAL or NATIONAL","GOVERNMENT",4,1,1804,null,null,null,null,null,false]
[null,"Neighborhood Art House","LOCAL","ACADEMIC INSTITUTION",1,4,10698,null,null,null,null,null,false]
[null,"Neogen Company","INTERNATIONAL","INDUSTRY AND BUSINESS",5,3,11322,null,null,null,null,null,false]
[null,"Neptune Environmental Commission","LOCAL","GOVERNMENT",1,1,4837,null,null,null,null,null,false]
[null,"Network of Oregon Watersheds","LOCAL","OTHER PARTNERS",1,6,10478,null,null,null,null,null,false]
[null,"Neutron Group","Unknown","INDUSTRY AND BUSINESS",0,3,7752,null,null,null,null,null,false]
[null,"New Bedford Fishing Heritage Center","LOCAL","NGO",1,2,18769,null,null,null,null,null,false]
[null,"New College of Florida","STATE","ACADEMIC INSTITUTION",2,4,1811,null,null,null,null,null,false]
[null,"New England Fisheries Management Council (NEFMC)","REGIONAL","GOVERNMENT",3,1,1814,null,null,null,null,null,false]
[null,"New England Region Water Quality Team (USDA)","REGIONAL","GOVERNMENT",3,1,1817,null,null,null,null,null,false]
[null,"New Hampshire Community Seafood","LOCAL","INDUSTRY AND BUSINESS",1,3,10090,null,null,null,null,null,false]
[null,"New Hampshire Department of Fish and Game (NH DFG)","STATE","GOVERNMENT",2,1,1821,null,null,null,null,null,false]
[null,"New Hampshire Geologic Survey","STATE","GOVERNMENT",2,1,19470,null,null,null,null,null,false]
[null,"New Hampshire Science Teachers Association","STATE","NGO",2,2,3805,null,null,null,null,null,false]
[null,"New Hampshire Sea Grant","STATE","SEA GRANT PROGRAMS",2,5,3285,null,null,null,null,null,false]
[null,"New Hanover High School","LOCAL","ACADEMIC INSTITUTION",1,4,16820,null,null,null,null,null,false]
[null,"New Jersey Audubon Cape May Bird Observatory","LOCAL","NGO",1,2,14290,null,null,null,null,null,false]
[null,"New Jersey Coastal Management Program","STATE","NGO",2,2,13127,null,null,null,null,null,false]
[null,"New Jersey Department of Environmental Protection, Division of Parks and Forestry","STATE","Unknown",2,0,9996,null,null,null,null,null,false]
[null,"New Jersey Historical Society","Unknown","NGO",0,2,4866,null,null,null,null,null,false]
[null,"New Jersey Maritime Museum","LOCAL","NGO",1,2,13144,null,null,null,null,null,false]
[null,"New Jersey Organizing Project","STATE","NGO",2,2,13148,null,null,null,null,null,false]
[null,"New Jersey Sea Grant Consortium Member Institutions","STATE","ACADEMIC INSTITUTION",2,4,7564,null,null,null,null,null,false]
[null,"New Orleans BioDiesel Initiative","LOCAL","Unknown",1,0,9805,null,null,null,null,null,false]
[null,"New York Academy of Sciences","INTERNATIONAL","NGO",5,2,1843,null,null,null,null,null,false]
[null,"New York City Economic Development Corporation","REGIONAL","INDUSTRY AND BUSINESS",3,3,13130,null,null,null,null,null,false]
[null,"New York Fishing Tackle Trade Association","STATE","INDUSTRY AND BUSINESS",2,3,5840,null,null,null,null,null,{"$f":"AND(  NOT(ISERROR(FIND(UPPER($B$7),UPPER($B9038),1))),  OR($D$7=\"\",NOT(ISERROR(FIND(UPPER($D$7),UPPER($B9038),1)))),    OR($D$8=\"\",(ISERROR(FIND(UPPER($D$8),UPPER($B9038),1))))           )","v":false}]
[null,"New York State Canal Corporation","STATE","GOVERNMENT",2,1,5317,null,null,null,null,null,false]
[null,"New York State Department of Education (NY ED)","STATE","GOVERNMENT",2,1,1853,null,null,null,null,null,false]
[null,"New York State Department of State","STATE","GOVERNMENT",2,1,1857,null,null,null,null,null,false]
[null,"New York State Invasive Species Advisory Committee","STATE","GOVERNMENT",2,1,5843,null,null,null,null,null,false]
[null,"New York University, Medical Center (NYU)","STATE","ACADEMIC INSTITUTION",2,4,3582,null,null,null,null,null,false]
[null,"New Zealand Japan Tuna Company Ltd","INTERNATIONAL","INDUSTRY AND BUSINESS",5,3,4160,null,null,null,null,null,false]
[null,"NewCap Partners, Inc.","Unknown","INDUSTRY AND BUSINESS",0,3,10744,null,null,null,null,null,false]
[null,"Newport Restoration Foundation","LOCAL","NGO",1,2,19434,null,null,null,null,null,false]
[null,"Newton South High School","LOCAL","ACADEMIC INSTITUTION",1,4,7650,null,null,null,null,null,false]
[null,"NH Department of Natural and Cultural Resources","STATE","GOVERNMENT",2,1,19467,null,null,null,null,null,false]
[null,"Niles and Associates","LOCAL","INDUSTRY AND BUSINESS",1,3,18637,null,null,null,null,null,false]
[null,"Nine Mile Creek Watershed District","REGIONAL","GOVERNMENT",3,1,13401,null,null,null,null,null,false]
[null,"NJ 101.5","LOCAL","INDUSTRY AND BUSINESS",1,3,19315,null,null,null,null,null,false]
[null,"NJ Division of Travel and Tourism","STATE","Unknown",2,0,9998,null,null,null,null,null,false]
[null,"NJ School-aged Child Care Coalition","STATE","Unknown",2,0,10001,null,null,null,null,null,false]
[null,"NJSGC's member institutions","STATE","Unknown",2,0,10003,null,null,null,null,null,false]
[null,"NOAA - NWFSC","NULL","NULL","NULL","NULL",14111,null,null,null,null,null,false]
[null,"NOAA Center for Operational Oceanographic Products and Services","FEDERAL or NATIONAL","GOVERNMENT",4,1,10670,null,null,null,null,null,false]
[null,"NOAA CoastWatch Great Lakes Regional Node","FEDERAL or NATIONAL","GOVERNMENT",4,1,10934,null,null,null,null,null,false]
[null,"NOAA Engagement Pilot Program (DOC, NOAA)","FEDERAL or NATIONAL","Unknown",4,0,6619,null,null,null,null,null,false]
[null,"NOAA Fisheries Office of International Affairs and Seafood Inspection (DOC, NOAA, NMFS, IA)","FEDERAL or NATIONAL","Unknown",4,0,14652,null,null,null,null,null,false]
[null,"NOAA Fishieres West Coast Region","FEDERAL or NATIONAL","Unknown",4,0,15228,null,null,null,null,null,false]
[null,"NOAA Little Port Walter","FEDERAL or NATIONAL","GOVERNMENT",4,1,17196,null,null,null,null,null,false]
[null,"NOAA National Marine Fisheries Service","FEDERAL or NATIONAL","GOVERNMENT",4,1,11098,null,null,null,null,null,false]
[null,"NOAA Ocean Acidiification Program","FEDERAL or NATIONAL","GOVERNMENT",4,1,12581,null,null,null,null,null,false]
[null,"NOAA Ocean Service National Centers for Coastal Ocean Science (DOC, NOAA, NOS, NCCOS)","FEDERAL or NATIONAL","Unknown",4,0,14661,null,null,null,null,null,false]
[null,"NOAA Office of Education (DOC, NOAA, OED)","FEDERAL or NATIONAL","Unknown",4,0,14656,null,null,null,null,null,false]
[null,"NOAA Research National Sea Grant Office (DOC, NOAA, OAR, NSGO)","FEDERAL or NATIONAL","Unknown",4,0,14651,null,null,null,null,null,false]
[null,"NOAA Research Ocean Acidification Program Office (DOC, NOAA, OAR, OAP)","FEDERAL or NATIONAL","Unknown",4,0,14655,null,null,null,null,null,false]
[null,"NOAA Sector Applications Research Program (US DOC, NOAA, OAR, CPO, SARP)","FEDERAL or NATIONAL","GOVERNMENT",4,1,6889,null,null,null,null,null,false]
[null,"NOAA Working Group for Marine Mammal Unusual Mortality Events","FEDERAL or NATIONAL","GOVERNMENT",4,1,17229,null,null,null,null,null,false]
[null,"NOAA's National Centers for Environmental Information (NCEI)","FEDERAL or NATIONAL","GOVERNMENT",4,1,15261,null,null,null,null,null,false]
[null,"Nooksack Salmon Enhahncement Association","LOCAL","NGO",1,2,8435,null,null,null,null,null,false]
[null,"Norfolk Yacht and Country Club","LOCAL","INDUSTRY AND BUSINESS",1,3,7234,null,null,null,null,null,false]
[null,"Norman Seafood","STATE","INDUSTRY AND BUSINESS",2,3,3940,null,null,null,null,null,{"$f":"AND(  NOT(ISERROR(FIND(UPPER($B$7),UPPER($B9294),1))),  OR($D$7=\"\",NOT(ISERROR(FIND(UPPER($D$7),UPPER($B9294),1)))),    OR($D$8=\"\",(ISERROR(FIND(UPPER($D$8),UPPER($B9294),1))))           )","v":false}]
[null,"North and South Rivers Watershed Association","REGIONAL","NGO",3,2,10859,null,null,null,null,null,false]
[null,"North Bay Environmental Education","STATE","ACADEMIC INSTITUTION",2,4,5150,null,null,null,null,null,false]
[null,"North Carolina Aquarium at Pine Knoll Shores","STATE","OTHER PARTNERS",2,6,1888,null,null,null,null,null,false]
[null,"North Carolina Building Codes Council","STATE","GOVERNMENT",2,1,13965,null,null,null,null,null,false]
[null,"North Carolina Climate Office","STATE","GOVERNMENT",2,1,7147,null,null,null,null,null,false]
[null,"North Carolina Commercial Fishing Industry","STATE","INDUSTRY AND BUSINESS",2,3,15319,null,null,null,null,null,false]
[null,"North Carolina Cooperative Fish & Wildlife Research Unit, NC State University","STATE","ACADEMIC INSTITUTION",2,4,18942,null,null,null,null,null,false]
[null,"North Carolina Department of Insurance","STATE","GOVERNMENT",2,1,4002,null,null,null,null,null,false]
[null,"North Carolina Department of Natural and Cultural Heritage","STATE","GOVERNMENT",2,1,18943,null,null,null,null,null,false]
[null,"North Carolina Estuarium","LOCAL","INDUSTRY AND BUSINESS",1,3,18944,null,null,null,null,null,false]
[null,"North Carolina Geospatial & Technology Management Office","STATE","GOVERNMENT",2,1,10201,null,null,null,null,null,false]
[null,"North Carolina Maritime Museum","STATE","GOVERNMENT",2,1,12712,null,null,null,null,null,false]
[null,"North Carolina Paddle Trails Association","STATE","NGO",2,2,4044,null,null,null,null,null,false]
[null,"North Carolina Seafood Festival","STATE","NGO",2,2,4046,null,null,null,null,null,false]
[null,"North Carolina Shellfish Sanitation Section of the Division of Environmental Health","STATE","GOVERNMENT",2,1,1912,null,null,null,null,null,false]
[null,"North Carolina State Seafood Laboratory","STATE","ACADEMIC INSTITUTION",2,4,3843,null,null,null,null,null,false]
[null,"North Carolina State University College of Design","STATE","ACADEMIC INSTITUTION",2,4,14440,null,null,null,null,null,false]
[null,"North Carolina State University, College of Natural Resources","STATE","ACADEMIC INSTITUTION",2,4,14460,null,null,null,null,null,false]
[null,"North Carolina Waterfront Access Study Committee","STATE","INDUSTRY AND BUSINESS",2,3,4018,null,null,null,null,null,false]
[null,"North Central Ohio Sea Grant Extension Advisory Committee","STATE","SEA GRANT PROGRAMS",2,5,13297,null,null,null,null,null,false]
[null,"North Coast Marine Mammal Center","REGIONAL","NGO",3,2,1917,null,null,null,null,null,false]
[null,"North Fork Captains Association","LOCAL","INDUSTRY AND BUSINESS",1,3,14886,null,null,null,null,null,false]
[null,"North Hero School","LOCAL","ACADEMIC INSTITUTION",1,4,5311,null,null,null,null,null,false]
[null,"North Kingstown Free Library","LOCAL","GOVERNMENT",1,1,1922,null,null,null,null,null,false]
[null,"North Myrtle Beach Chamber of Commerce","LOCAL","GOVERNMENT",1,1,8829,null,null,null,null,null,false]
[null,"North Pacific Fisheries Observer Training Center","FEDERAL or NATIONAL","GOVERNMENT",4,1,1927,null,null,null,null,null,false]
[null,"North Pacific Marine Science Organization (PICES)","INTERNATIONAL","NGO",5,2,1930,null,null,null,null,null,false]
[null,"North Salem High School","LOCAL","ACADEMIC INSTITUTION",1,4,16584,null,null,null,null,null,false]
[null,"North Wildwood Beach Patrol","LOCAL","OTHER PARTNERS",1,6,9086,null,null,null,null,null,false]
[null,"Northbrook Public Library","LOCAL","GOVERNMENT",1,1,9431,null,null,null,null,null,false]
[null,"Northeast Aquatic Nuisance Species Panel (NEANS)","REGIONAL","Unknown",3,0,5312,null,null,null,null,null,false]
[null,"Northeast Consortium","INTERNATIONAL","ACADEMIC INSTITUTION",5,4,5195,null,null,null,null,null,false]
[null,"Northeast Marine Institute","LOCAL","ACADEMIC INSTITUTION",1,4,6425,null,null,null,null,null,false]
[null,"Northeast Recycling Council Inc.","REGIONAL","INDUSTRY AND BUSINESS",3,3,7680,null,null,null,null,null,false]
[null,"Northeast Regional Association of Coastal Ocean Observing Systems (NERACOOS)","REGIONAL","GOVERNMENT",3,1,3779,null,null,null,null,null,false]
[null,"Northeast Underwater Research Technology and Education Center (NURTEC)","REGIONAL","ACADEMIC INSTITUTION",3,4,5117,null,null,null,null,null,false]
[null,"Northeastern Illinois Planning Commission","REGIONAL","GOVERNMENT",3,1,1947,null,null,null,null,null,false]
[null,"Northeastern States Research Cooperative","REGIONAL","NGO",3,2,11176,null,null,null,null,null,false]
[null,"Northern Forest Canoe Trail","REGIONAL","NGO",3,2,8322,null,null,null,null,null,false]
[null,"Northern Neck Master Naturalists","LOCAL","NGO",1,2,15610,null,null,null,null,null,false]
[null,"Northern Neck VISIONS","LOCAL","NGO",1,2,10793,null,null,null,null,null,false]
[null,"Northland College","REGIONAL","ACADEMIC INSTITUTION",3,4,1958,null,null,null,null,null,false]
[null,"Northside Enterprises","LOCAL","INDUSTRY AND BUSINESS",1,3,11494,null,null,null,null,null,false]
[null,"Northwest Arctic Borough","LOCAL","GOVERNMENT",1,1,14034,null,null,null,null,null,false]
[null,"Northwest Florida State College","Unknown","Unknown",0,0,6622,null,null,null,null,null,false]
[null,"Northwest Indiana Regional Planning Commission","REGIONAL","GOVERNMENT",3,1,9434,null,null,null,null,null,false]
[null,"Northwest Indiana Steelheeders","LOCAL","NGO",1,2,18226,null,null,null,null,null,false]
[null,"Northwest Pennsylvania Green Economy Taskforce","LOCAL","OTHER PARTNERS",1,6,14617,null,null,null,null,null,false]
[null,"Northwest Urban Indian Community","REGIONAL","NGO",3,2,1973,null,null,null,null,null,false]
[null,"Northwest Weed Management Partnership","REGIONAL","NGO",3,2,7607,null,null,null,null,null,false]
[null,"Northwestern University","STATE","ACADEMIC INSTITUTION",2,4,1979,null,null,null,null,null,false]
[null,"NOS Coral Reef Conservation Program","FEDERAL or NATIONAL","Unknown",4,0,17858,null,null,null,null,null,false]
[null,"Nova Scotia Department of Fisheries and Aquaculture","INTERNATIONAL","GOVERNMENT",5,1,8572,null,null,null,null,null,false]
[null,"NS Harbors Program","REGIONAL","NGO",3,2,8765,null,null,null,null,null,false]
[null,"Nurture Nature Center","REGIONAL","NGO",3,2,13126,null,null,null,null,null,false]
[null,"Nutria Control Program","Unknown","Unknown",0,0,9815,null,null,null,null,null,false]
[null,"NYC Greenmarket","LOCAL","OTHER PARTNERS",1,6,8518,null,null,null,null,null,false]
[null,"O.H. Hinsdale Research Lab, OSU","STATE","ACADEMIC INSTITUTION",2,4,7489,null,null,null,null,null,false]
[null,"Oak Ridge National Laboratory","FEDERAL or NATIONAL","GOVERNMENT",4,1,19749,null,null,null,null,null,false]
[null,"Occidental Arts and Ecology Center","LOCAL","NGO",1,2,15128,null,null,null,null,null,false]
[null,"Ocean Advocates","INTERNATIONAL","NGO",5,2,1986,null,null,null,null,null,false]
[null,"Ocean Catch Seafood","LOCAL","INDUSTRY AND BUSINESS",1,3,19447,null,null,null,null,null,false]
[null,"Ocean City Green Fair - Sustainable New Jersey","LOCAL","OTHER PARTNERS",1,6,18657,null,null,null,null,null,false]
[null,"Ocean County Library","LOCAL","GOVERNMENT",1,1,15013,null,null,null,null,null,false]
[null,"Ocean Discovery Institute, San Diego State University (SDSU)","STATE","ACADEMIC INSTITUTION",2,4,3483,null,null,null,null,null,false]
[null,"Ocean Grove Beach Patrol","LOCAL","OTHER PARTNERS",1,6,9087,null,null,null,null,null,false]
[null,"Ocean Observatories Initiative","FEDERAL or NATIONAL","GOVERNMENT",4,1,8672,null,null,null,null,null,false]
[null,"Ocean Research College Academy, Everett Community College","LOCAL","ACADEMIC INSTITUTION",1,4,4203,null,null,null,null,null,false]
[null,"Ocean Sciences Bowl, South Carolina/Georgia Region","REGIONAL","NGO",3,2,5685,null,null,null,null,null,false]
[null,"Oceana","INTERNATIONAL","NGO",5,2,1994,null,null,null,null,null,false]
[null,"Oceanic Institute","INTERNATIONAL","NGO",5,2,1995,null,null,null,null,null,false]
[null,"Oceans 17","LOCAL","ACADEMIC INSTITUTION",1,4,12717,null,null,null,null,null,false]
[null,"OceansAlaska","LOCAL","NGO",1,2,5412,null,null,null,null,null,false]
[null,"Ocracoke Civic and Business Association","LOCAL","NGO",1,2,18949,null,null,null,null,null,false]
[null,"Oddessy Shellfish Limited","INTERNATIONAL","INDUSTRY AND BUSINESS",5,3,7409,null,null,null,null,null,false]
[null,"Office of Assistant Administrator (US DOC, NOAA, OAR)","FEDERAL or NATIONAL","Unknown",4,0,11051,null,null,null,null,null,false]
[null,"Office of Experimental Program to Stimulate Competitive Research (NSF, EPSCoR)","FEDERAL or NATIONAL","GOVERNMENT",4,1,2001,null,null,null,null,null,{"$f":"AND(  NOT(ISERROR(FIND(UPPER($B$7),UPPER($B9870),1))),  OR($D$7=\"\",NOT(ISERROR(FIND(UPPER($D$7),UPPER($B9870),1)))),    OR($D$8=\"\",(ISERROR(FIND(UPPER($D$8),UPPER($B9870),1))))           )","v":false}]
[null,"Office of Habitat Conservation, Habitat Protection Division (DOC, NOAA, NMFS)","FEDERAL or NATIONAL","GOVERNMENT",4,1,8053,null,null,null,null,null,false]
[null,"Office of Insular Affairs (DOI)","FEDERAL or NATIONAL","GOVERNMENT",4,1,14118,null,null,null,null,null,false]
[null,"Office of Management & Budget (US DOC, NOAA, NMFS)","FEDERAL or NATIONAL","GOVERNMENT",4,1,5619,null,null,null,null,null,false]
[null,"Office of Planning (DE DNREC )","STATE","GOVERNMENT",2,1,5725,null,null,null,null,null,false]
[null,"Office of Policy, Planning, and Evaluation (US DOC, NOAA, OAR, PPE)","FEDERAL or NATIONAL","GOVERNMENT",4,1,5626,null,null,null,null,null,false]
[null,"Office of Regulatory Affairs (US HHS, FDA)","FEDERAL or NATIONAL","GOVERNMENT",4,1,2010,null,null,null,null,null,false]
[null,"Office of Science and Technology Policy, White House National Security Council","FEDERAL or NATIONAL","GOVERNMENT",4,1,13050,null,null,null,null,null,false]
[null,"Office of the Assistant Administrator (US DOC, NOAA, NWS)","FEDERAL or NATIONAL","GOVERNMENT",4,1,5631,null,null,null,null,null,false]
[null,"Office of the Governor – State of Alaska","STATE","GOVERNMENT",2,1,19761,null,null,null,null,null,false]
[null,"Office of the US Trade Representative (USTR)","FEDERAL or NATIONAL","GOVERNMENT",4,1,2013,null,null,null,null,null,false]
[null,"Oglsybe Police Dept. (MCP) ,IL","LOCAL","INDUSTRY AND BUSINESS",1,3,4689,null,null,null,null,null,false]
[null,"Ohio AIS Committee","STATE","ACADEMIC INSTITUTION",2,4,15543,null,null,null,null,null,false]
[null,"Ohio Department of Development (OH DEV)","STATE","GOVERNMENT",2,1,2020,null,null,null,null,null,false]
[null,"Ohio Department of Natural Resources Division of Wildlife () ()","STATE","Unknown",2,0,11019,null,null,null,null,null,false]
[null,"Ohio Foundation For The Arts","Unknown","Unknown",0,0,3590,null,null,null,null,null,false]
[null,"Ohio State University (OSU)","STATE","ACADEMIC INSTITUTION",2,4,2033,null,null,null,null,null,false]
[null,"Ohr-O’Keefe Museum of Art","LOCAL","NGO",1,2,9975,null,null,null,null,null,false]
[null,"Okaloosa County, FL","LOCAL","GOVERNMENT",1,1,16335,null,null,null,null,null,false]
[null,"Old Dominion University (ODU), Engineering Technology","STATE","ACADEMIC INSTITUTION",2,4,17398,null,null,null,null,null,false]
[null,"Old Dominion University, Dept of Civil and Environmental Engineering","STATE","ACADEMIC INSTITUTION",2,4,19262,null,null,null,null,null,false]
[null,"Old Woman Creek National Estuarine Research Reserve","LOCAL","GOVERNMENT",1,1,10870,null,null,null,null,null,false]
[null,"Oligos, Inc.","FEDERAL or NATIONAL","INDUSTRY AND BUSINESS",4,3,8832,null,null,null,null,null,false]
[null,"Olympic College","LOCAL","ACADEMIC INSTITUTION",1,4,2042,null,null,null,null,null,false]
[null,"OMNR","Unknown","Unknown",0,0,9222,null,null,null,null,null,false]
[null,"Oneida Nation of Indians","LOCAL","OTHER PARTNERS",1,6,2046,null,null,null,null,null,false]
[null,"Onset","STATE","INDUSTRY AND BUSINESS",2,3,13831,null,null,null,null,null,false]
[null,"Ontario Ministry of Natural Resources","INTERNATIONAL","GOVERNMENT",5,1,2048,null,null,null,null,null,false]
[null,"Orange County Coastkeeper","REGIONAL","NGO",3,2,8010,null,null,null,null,null,false]
[null,"Orange County School District","LOCAL","ACADEMIC INSTITUTION",1,4,2055,null,null,null,null,null,false]
[null,"OrcaBay Seafoods","INTERNATIONAL","INDUSTRY AND BUSINESS",5,3,8183,null,null,null,null,null,false]
[null,"Oregon Cascades West Council of Governments","STATE","GOVERNMENT",2,1,15998,null,null,null,null,null,false]
[null,"Oregon Coastal Caucus","STATE","Unknown",2,0,18258,null,null,null,null,null,false]
[null,"Oregon Department of Administrative Services","STATE","GOVERNMENT",2,1,10145,null,null,null,null,null,false]
[null,"Oregon Department of Community Colleges and Workforce Development","STATE","GOVERNMENT",2,1,2064,null,null,null,null,null,false]
[null,"Oregon Economic Development Alliance","STATE","OTHER PARTNERS",2,6,8668,null,null,null,null,null,false]
[null,"Oregon Forest Resources Institute","STATE","GOVERNMENT",2,1,10147,null,null,null,null,null,false]
[null,"Oregon Institute Of Marine Biology, University Of Oregon","STATE","ACADEMIC INSTITUTION",2,4,2074,null,null,null,null,null,false]
[null,"Oregon Office of the Governor","STATE","GOVERNMENT",2,1,4511,null,null,null,null,null,false]
[null,"Oregon RFID","INTERNATIONAL","INDUSTRY AND BUSINESS",5,3,18786,null,null,null,null,null,false]
[null,"Oregon Space Grant Consortium (OSGC, NASA)","STATE","ACADEMIC INSTITUTION",2,4,17326,null,null,null,null,null,false]
[null,"Oregon State University (OSU) Computer Science and Mathematics Department","STATE","ACADEMIC INSTITUTION",2,4,17333,null,null,null,null,null,false]
[null,"Oregon State University (OSU), Graduate School","STATE","ACADEMIC INSTITUTION",2,4,19744,null,null,null,null,null,false]
[null,"Oregon State University, Biological & Ecological Engineering","STATE","ACADEMIC INSTITUTION",2,4,14243,null,null,null,null,null,false]
[null,"Oregon State University, College of Education","STATE","ACADEMIC INSTITUTION",2,4,8712,null,null,null,null,null,false]
[null,"Oregon State University, Extension (OSU)","STATE","ACADEMIC INSTITUTION",2,4,6352,null,null,null,null,null,false]
[null,"Oregon State University, PROMISE Program","STATE","ACADEMIC INSTITUTION",2,4,10152,null,null,null,null,null,false]
[null,"Oregon Trawl Commission","STATE","NGO",2,2,2085,null,null,null,null,null,false]
[null,"Oregon Zoo","STATE","GOVERNMENT",2,1,7487,null,null,null,null,null,false]
[null,"Originz, LLC","LOCAL","INDUSTRY AND BUSINESS",1,3,9497,null,null,null,null,null,false]
[null,"Orleans County Marine Park","LOCAL","GOVERNMENT",1,1,5851,null,null,null,null,null,false]
[null,"OSCO Drug","INTERNATIONAL","INDUSTRY AND BUSINESS",5,3,19960,null,null,null,null,null,false]
[null,"Oshkosh Public Museum","LOCAL","GOVERNMENT",1,1,3731,null,null,null,null,null,false]
[null,"OSU Marine Resource Management Program","STATE","ACADEMIC INSTITUTION",2,4,10154,null,null,null,null,null,false]
[null,"Oswego Maritime Foundation","LOCAL","NGO",1,2,7826,null,null,null,null,null,false]
[null,"Ottawa County Improvement Corporation","STATE","GOVERNMENT",2,1,13306,null,null,null,null,null,false]
[null,"Our Lady of the Gulf Catholic School and Church","LOCAL","ACADEMIC INSTITUTION",1,4,6181,null,null,null,null,null,false]
[null,"Outer Banks Center for Wildlife Education","LOCAL","GOVERNMENT",1,1,12722,null,null,null,null,null,false]
[null,"Outer Banks Chamber of Commerce","LOCAL","INDUSTRY AND BUSINESS",1,3,12723,null,null,null,null,null,false]
[null,"Outlaw Gourmet Products","STATE","INDUSTRY AND BUSINESS",2,3,3946,null,null,null,null,null,false]
[null,"Oyster Reef Keepers of Virginia","STATE","NGO",2,2,2100,null,null,null,null,null,false]
[null,"Oyster Seed Holdings","LOCAL","INDUSTRY AND BUSINESS",1,3,17893,null,null,null,null,null,false]
[null,"Oystermama's Bay-bies","LOCAL","INDUSTRY AND BUSINESS",1,3,19264,null,null,null,null,null,false]
[null,"Pace Analytical Services","LOCAL","INDUSTRY AND BUSINESS",1,3,19495,null,null,null,null,null,false]
[null,"Pacific Choice Seafoods","REGIONAL","INDUSTRY AND BUSINESS",3,3,4341,null,null,null,null,null,false]
[null,"Pacific Coast Shellfish Growers Association","REGIONAL","INDUSTRY AND BUSINESS",3,3,2105,null,null,null,null,null,false]
[null,"Pacific Coral Seafood","LOCAL","INDUSTRY AND BUSINESS",1,3,7922,null,null,null,null,null,false]
[null,"Pacific County, WA","LOCAL","GOVERNMENT",1,1,7349,null,null,null,null,null,false]
[null,"Pacific Fishery Management Council (PFMC)","FEDERAL or NATIONAL","GOVERNMENT",4,1,2114,null,null,null,null,null,false]
[null,"Pacific Hydrographic Branch, Hydrographic Surveys Division, Office of Coast Survey (US DOC, NOAA, NOS)","FEDERAL or NATIONAL","GOVERNMENT",4,1,4103,null,null,null,null,null,false]
[null,"Pacific Islands Regional Collaboration Team (US DOC, NOAA)","FEDERAL or NATIONAL","GOVERNMENT",4,1,7859,null,null,null,null,null,false]
[null,"Pacific Merchant Shipping Association","REGIONAL","NGO",3,2,2119,null,null,null,null,null,false]
[null,"Pacific Ocean Producers","REGIONAL","INDUSTRY AND BUSINESS",3,3,2121,null,null,null,null,null,false]
[null,"Pacific Rim Shellfish Sanitation Association","REGIONAL","INDUSTRY AND BUSINESS",3,3,4444,null,null,null,null,null,false]
[null,"Pacific Seafood","STATE","INDUSTRY AND BUSINESS",2,3,8158,null,null,null,null,null,false]
[null,"Pacific States Marine Fisheries Commission","REGIONAL","GOVERNMENT",3,1,16457,null,null,null,null,null,false]
[null,"Pacific Tsunami Museum","LOCAL","NGO",1,2,10667,null,null,null,null,null,false]
[null,"Paepae o He'eia","LOCAL","NGO",1,2,12927,null,null,null,null,null,false]
[null,"Palau Conservation Society (PCS)","INTERNATIONAL","NGO",5,2,6757,null,null,null,null,null,{"$f":"AND(  NOT(ISERROR(FIND(UPPER($B$7),UPPER($B10446),1))),  OR($D$7=\"\",NOT(ISERROR(FIND(UPPER($D$7),UPPER($B10446),1)))),    OR($D$8=\"\",(ISERROR(FIND(UPPER($D$8),UPPER($B10446),1))))           )","v":false}]
[null,"Palmetto Islands County Park","LOCAL","GOVERNMENT",1,1,8821,null,null,null,null,null,false]
[null,"Pana Bait Company","LOCAL","INDUSTRY AND BUSINESS",1,3,16105,null,null,null,null,null,false]
[null,"Paradise Dive Club (PDC)","STATE","NGO",2,2,3401,null,null,null,null,null,false]
[null,"Park Pet Shop","LOCAL","INDUSTRY AND BUSINESS",1,3,9437,null,null,null,null,null,false]
[null,"Parkers Creek Farm, Inc","LOCAL","INDUSTRY AND BUSINESS",1,3,17402,null,null,null,null,null,false]
[null,"Partner1  (TEST)","Unknown2","OTHER PARTNERS",6,6,2141,null,null,null,null,null,false]
[null,"Partnership for the Delaware Estuary","REGIONAL","ACADEMIC INSTITUTION",3,4,2143,null,null,null,null,null,false]
[null,"Pascagoula River Audubon Center","LOCAL","Unknown",1,0,6629,null,null,null,null,null,false]
[null,"Patapsco State Park","STATE","Unknown",2,0,18164,null,null,null,null,null,false]
[null,"Paul Smiths College","STATE","ACADEMIC INSTITUTION",2,4,14882,null,null,null,null,null,false]
[null,"Pawley's Island, SC","LOCAL","GOVERNMENT",1,1,4943,null,null,null,null,null,false]
[null,"Pearl of Alaska Shellfish Farm, Kake, Alaska","LOCAL","INDUSTRY AND BUSINESS",1,3,8037,null,null,null,null,null,false]
[null,"Pelagic Data Systems","INTERNATIONAL","INDUSTRY AND BUSINESS",5,3,14477,null,null,null,null,null,false]
[null,"Pender County Chamber of Commerce","LOCAL","GOVERNMENT",1,1,5003,null,null,null,null,null,false]
[null,"Penn Cove Shellfish LLC","INTERNATIONAL","INDUSTRY AND BUSINESS",5,3,7411,null,null,null,null,null,false]
[null,"Penn State Extension","STATE","ACADEMIC INSTITUTION",2,4,15554,null,null,null,null,null,false]
[null,"Pennsylvania Department of Agriculture","STATE","GOVERNMENT",2,1,10686,null,null,null,null,null,false]
[null,"Pennsylvania Dept. Conservation and Natural Resources","STATE","GOVERNMENT",2,1,15553,null,null,null,null,null,false]
[null,"Pennsylvania Greenways","STATE","GOVERNMENT",2,1,10673,null,null,null,null,null,false]
[null,"Pennsylvania Natural Heritage Program","STATE","ACADEMIC INSTITUTION",2,4,2167,null,null,null,null,null,false]
[null,"Pennsylvania-Lake Erie Watershed Association","STATE","ACADEMIC INSTITUTION",2,4,2169,null,null,null,null,null,false]
[null,"Pentair Water Treatment, Pentair, Inc.","FEDERAL or NATIONAL","INDUSTRY AND BUSINESS",4,3,2171,null,null,null,null,null,false]
[null,"Permasteelisa North America Corporation","NULL","NULL","NULL","NULL",18297,null,null,null,null,null,false]
[null,"Perry’s International Peace Memorial (US DOI, NPS)","FEDERAL or NATIONAL","GOVERNMENT",4,1,2174,null,null,null,null,null,false]
[null,"Petersburg High School","LOCAL","GOVERNMENT",1,1,17209,null,null,null,null,null,false]
[null,"Petrich Marine Dock","LOCAL","INDUSTRY AND BUSINESS",1,3,8443,null,null,null,null,null,false]
[null,"Philadelphia Horticultureal Society","REGIONAL","NGO",3,2,20065,null,null,null,null,null,false]
[null,"Philadelphia School District","LOCAL","ACADEMIC INSTITUTION",1,4,10693,null,null,null,null,null,false]
[null,"Phillips & Associates","Unknown","Unknown",0,0,8899,null,null,null,null,null,false]
[null,"Philly Seafood","LOCAL","INDUSTRY AND BUSINESS",1,3,13051,null,null,null,null,null,false]
[null,"Pier 39 - Astoria","LOCAL","INDUSTRY AND BUSINESS",1,3,10157,null,null,null,null,null,false]
[null,"Pine County Land Commission","LOCAL","GOVERNMENT",1,1,2191,null,null,null,null,null,false]
[null,"Pine Point Oysters","LOCAL","INDUSTRY AND BUSINESS",1,3,10645,null,null,null,null,null,false]
[null,"Pitt County Soil; Water Conservation District","LOCAL","GOVERNMENT",1,1,18953,null,null,null,null,null,false]
[null,"Plantation Community, SC","LOCAL","OTHER PARTNERS",1,6,4700,null,null,null,null,null,false]
[null,"Plantscapes","LOCAL","INDUSTRY AND BUSINESS",1,3,16157,null,null,null,null,null,false]
[null,"Plauche & Carr LLP","LOCAL","INDUSTRY AND BUSINESS",1,3,13189,null,null,null,null,null,false]
[null,"Pohnpei Environmental Protection Agency","STATE","GOVERNMENT",2,1,12578,null,null,null,null,null,false]
[null,"Point Bay Marina","Unknown","INDUSTRY AND BUSINESS",0,3,18112,null,null,null,null,null,false]
[null,"Point Retreat Lighthouse","LOCAL","NGO",1,2,19756,null,null,null,null,null,false]
[null,"Pollution Risk Services","FEDERAL or NATIONAL","INDUSTRY AND BUSINESS",4,3,7767,null,null,null,null,null,false]
[null,"Pontificia Universidad Católica de Chile","INTERNATIONAL","ACADEMIC INSTITUTION",5,4,13244,null,null,null,null,null,true]
[null,"Port Authority of NY/NJ","REGIONAL","GOVERNMENT",3,1,2203,null,null,null,null,null,{"$f":"AND(  NOT(ISERROR(FIND(UPPER($B$7),UPPER($B10766),1))),  OR($D$7=\"\",NOT(ISERROR(FIND(UPPER($D$7),UPPER($B10766),1)))),    OR($D$8=\"\",(ISERROR(FIND(UPPER($D$8),UPPER($B10766),1))))           )","v":false}]
[null,"Port Bay Improvement Association","LOCAL","Unknown",1,0,14970,null,null,null,null,null,false]
[null,"Port Norris Baptist Church","LOCAL","NGO",1,2,18674,null,null,null,null,null,false]
[null,"Port of Astoria, OR","LOCAL","GOVERNMENT",1,1,7369,null,null,null,null,null,false]
[null,"Port of Coos Bay, OR","LOCAL","GOVERNMENT",1,1,2209,null,null,null,null,null,false]
[null,"Port of Everett Marina","LOCAL","INDUSTRY AND BUSINESS",1,3,4349,null,null,null,null,null,false]
[null,"Port of Hueneme, CA","STATE","GOVERNMENT",2,1,3406,null,null,null,null,null,false]
[null,"Port of Lake Charles","LOCAL","GOVERNMENT",1,1,15497,null,null,null,null,null,false]
[null,"Port of Pascagoula, MS","LOCAL","GOVERNMENT",1,1,2220,null,null,null,null,null,false]
[null,"Port of Sacramento, CA","LOCAL","GOVERNMENT",1,1,2224,null,null,null,null,null,false]
[null,"Port of Seattle, WA - Fishermens Terminal","LOCAL","GOVERNMENT",1,1,2227,null,null,null,null,null,false]
[null,"Port of Superior","REGIONAL","INDUSTRY AND BUSINESS",3,3,8584,null,null,null,null,null,false]
[null,"Port of Wilmington","STATE","INDUSTRY AND BUSINESS",2,3,5769,null,null,null,null,null,false]
[null,"Port Stanley Ontario Beach Patrol","INTERNATIONAL","GOVERNMENT",5,1,17070,null,null,null,null,null,false]
[null,"Portage Public Marina","LOCAL","GOVERNMENT",1,1,14804,null,null,null,null,null,false]
[null,"Porter County Tourism","LOCAL","NGO",1,2,5522,null,null,null,null,null,false]
[null,"Portsmouth Brewery","REGIONAL","INDUSTRY AND BUSINESS",3,3,19458,null,null,null,null,null,false]
[null,"Poteet Seafood","Unknown","INDUSTRY AND BUSINESS",0,3,6989,null,null,null,null,null,false]
[null,"Potomac River Fisheries Commission (PRFC)","REGIONAL","NGO",3,2,2237,null,null,null,null,null,false]
[null,"Prairie Crossing","LOCAL","GOVERNMENT",1,1,8651,null,null,null,null,null,false]
[null,"Pratt Museum","LOCAL","OTHER PARTNERS",1,6,5404,null,null,null,null,null,false]
[null,"Prentice High School","LOCAL","ACADEMIC INSTITUTION",1,4,19963,null,null,null,null,null,false]
[null,"Presque Isle County Board of Commissioners","LOCAL","GOVERNMENT",1,1,9192,null,null,null,null,null,false]
[null,"Price Clam Farm","LOCAL","INDUSTRY AND BUSINESS",1,3,2245,null,null,null,null,null,false]
[null,"Prime Meats","Unknown","INDUSTRY AND BUSINESS",0,3,6951,null,null,null,null,null,false]
[null,"Prince George HOA","LOCAL","INDUSTRY AND BUSINESS",1,3,16204,null,null,null,null,null,false]
[null,"Prince William Sound Community College","LOCAL","ACADEMIC INSTITUTION",1,4,2250,null,null,null,null,null,false]
[null,"Pristine Products Oyster Farm","STATE","INDUSTRY AND BUSINESS",2,3,11001,null,null,null,null,null,false]
[null,"Professional Lake Management, Inc.","LOCAL","INDUSTRY AND BUSINESS",1,3,2254,null,null,null,null,null,false]
[null,"Project Learning Tree","FEDERAL or NATIONAL","NGO",4,2,4121,null,null,null,null,null,false]
[null,"ProPeninsula","LOCAL","INDUSTRY AND BUSINESS",1,3,2258,null,null,null,null,null,false]
[null,"Protectores de Cuencas","STATE","NGO",2,2,15732,null,null,null,null,null,false]
[null,"Prowler Charters","LOCAL","INDUSTRY AND BUSINESS",1,3,2260,null,null,null,null,null,false]
[null,"Public Radio East","STATE","INDUSTRY AND BUSINESS",2,3,3951,null,null,null,null,null,false]
[null,"Puerto Rico Coastal Zone Management","STATE","GOVERNMENT",2,1,14049,null,null,null,null,null,false]
[null,"Puerto Rico Legislature","STATE","GOVERNMENT",2,1,16897,null,null,null,null,null,{"$f":"AND(  NOT(ISERROR(FIND(UPPER($B$7),UPPER($B11022),1))),  OR($D$7=\"\",NOT(ISERROR(FIND(UPPER($D$7),UPPER($B11022),1)))),    OR($D$8=\"\",(ISERROR(FIND(UPPER($D$8),UPPER($B11022),1))))           )","v":false}]
[null,"Puget Sound Naval Shipyard","FEDERAL or NATIONAL","GOVERNMENT",4,1,2268,null,null,null,null,null,false]
[null,"Puget Sound Restoration Fund","REGIONAL","NGO",3,2,2270,null,null,null,null,null,false]
[null,"Pugete Sound Restoration Fund","REGIONAL","OTHER PARTNERS",3,6,19552,null,null,null,null,null,false]
[null,"Purdue University Department of Civil Engineering","STATE","ACADEMIC INSTITUTION",2,4,14748,null,null,null,null,null,false]
[null,"PureMolecular, LLC.","LOCAL","INDUSTRY AND BUSINESS",1,3,16944,null,null,null,null,null,false]
[null,"Putting Green, New Ulm","LOCAL","INDUSTRY AND BUSINESS",1,3,2278,null,null,null,null,null,false]
[null,"Pyzik Shellfish Farm","REGIONAL","INDUSTRY AND BUSINESS",3,3,2280,null,null,null,null,null,false]
[null,"Quality Food Center, Belfair","LOCAL","INDUSTRY AND BUSINESS",1,3,15569,null,null,null,null,null,false]
[null,"Queen’s University","STATE","ACADEMIC INSTITUTION",2,4,2285,null,null,null,null,null,false]
[null,"Quiet Water Clams","STATE","INDUSTRY AND BUSINESS",2,3,2287,null,null,null,null,null,false]
[null,"Quinhagak Village Corporation","LOCAL","NGO",1,2,5405,null,null,null,null,null,false]
[null,"R/V Gulf Challenger","LOCAL","OTHER PARTNERS",1,6,9535,null,null,null,null,null,false]
[null,"Racine Public Health Department","REGIONAL","GOVERNMENT",3,1,10364,null,null,null,null,null,false]
[null,"Radio station KMUN","LOCAL","INDUSTRY AND BUSINESS",1,3,14532,null,null,null,null,null,false]
[null,"Raincoast GeoResearch","LOCAL","INDUSTRY AND BUSINESS",1,3,13196,null,null,null,null,null,false]
[null,"Randal's","FEDERAL or NATIONAL","INDUSTRY AND BUSINESS",4,3,19071,null,null,null,null,null,false]
[null,"Rantoul Police Department","LOCAL","GOVERNMENT",1,1,10907,null,null,null,null,null,false]
[null,"Rasmuson Foundation","LOCAL","OTHER PARTNERS",1,6,5414,null,null,null,null,null,false]
[null,"RCE of Camden County","LOCAL","GOVERNMENT",1,1,7542,null,null,null,null,null,false]
[null,"Rebuild Hawaii Consortium","STATE","OTHER PARTNERS",2,6,2300,null,null,null,null,null,false]
[null,"Recreational Fisheries Information Program (RecFIN)","REGIONAL","NGO",3,2,3408,null,null,null,null,null,false]
[null,"Recreational Fishing Alliance (RFA)","STATE","NGO",2,2,3409,null,null,null,null,null,false]
[null,"Redden Marine","REGIONAL","INDUSTRY AND BUSINESS",3,3,14035,null,null,null,null,null,false]
[null,"Redwood Community Action Agency","LOCAL","NGO",1,2,2304,null,null,null,null,null,false]
[null,"Reef Watch Hawaii","STATE","Unknown",2,0,9381,null,null,null,null,null,false]
[null,"Region 1 (US EPA)","FEDERAL or NATIONAL","GOVERNMENT",4,1,2306,null,null,null,null,null,false]
[null,"Regional Mark Processing Center","LOCAL","GOVERNMENT",1,1,3486,null,null,null,null,null,false]
[null,"Regional Stormwater Protection Team","REGIONAL","GOVERNMENT",3,1,2315,null,null,null,null,null,false]
[null,"RENA International","INTERNATIONAL","INDUSTRY AND BUSINESS",5,3,4161,null,null,null,null,null,false]
[null,"Renaissance Computing Institute Engagement Center, East Carolina University (ECU)","STATE","ACADEMIC INSTITUTION",2,4,4970,null,null,null,null,null,false]
[null,"Repubic of the Marshall Islands Ministry of Resources and Development - Agriculture and Quarantine","REGIONAL","GOVERNMENT",3,1,14932,null,null,null,null,null,false]
[null,"Republic of the Marshall Islands Djarrot Reimaanlok","REGIONAL","NGO",3,2,10656,null,null,null,null,null,false]
[null,"Republic of the Marshall Islands Ministry of Internal Affairs - Community Development","REGIONAL","GOVERNMENT",3,1,10654,null,null,null,null,null,false]
[null,"Republic of the Marshall Islands, Economic, Policy, Planning and Statistics Office","FEDERAL or NATIONAL","GOVERNMENT",4,1,12934,null,null,null,null,null,false]
[null,"Republic of the Marshall Islands, Wotho Atoll Local Government","LOCAL","GOVERNMENT",1,1,16292,null,null,null,null,null,false]
[null,"Resource Media Inc.","STATE","INDUSTRY AND BUSINESS",2,3,4118,null,null,null,null,null,false]
[null,"Restore America’s Estuaries","FEDERAL or NATIONAL","NGO",4,2,2324,null,null,null,null,null,false]
[null,"Restricted Access Management, Alaska Region (US DOC, NOAA, NMFS, RAM)","FEDERAL or NATIONAL","GOVERNMENT",4,1,2325,null,null,null,null,null,false]
[null,"RG Forestry Consultant","LOCAL","INDUSTRY AND BUSINESS",1,3,2327,null,null,null,null,null,false]
[null,"Rhode Island  Emergency Management Agency","STATE","GOVERNMENT",2,1,2332,null,null,null,null,null,false]
[null,"Rhode Island Commercial Fisheries Center","STATE","NGO",2,2,14587,null,null,null,null,null,false]
[null,"Rhode Island Division of Planning","STATE","GOVERNMENT",2,1,2340,null,null,null,null,null,false]
[null,"Rhode Island Foundation (RI)","STATE","OTHER PARTNERS",2,6,5186,null,null,null,null,null,false]
[null,"Rhode Island Resource Recovery Corp.","STATE","GOVERNMENT",2,1,19428,null,null,null,null,null,false]
[null,"Rhode Island Whelk Fishermen's Association","STATE","INDUSTRY AND BUSINESS",2,3,9572,null,null,null,null,null,false]
[null,"Rhode Island Department of Environmental Management","REGIONAL","GOVERNMENT",3,1,19313,null,null,null,null,null,false]
[null,"Richard Stockton College Coastal Resource Center","STATE","ACADEMIC INSTITUTION",2,4,4888,null,null,null,null,null,false]
[null,"Rider University","STATE","ACADEMIC INSTITUTION",2,4,4889,null,null,null,null,null,false]
[null,"Riley Purgatory Bluff Creek Watershed District","REGIONAL","GOVERNMENT",3,1,13400,null,null,null,null,null,false]
[null,"Rite Aid Pharmacy","STATE","INDUSTRY AND BUSINESS",2,3,3956,null,null,null,null,null,false]
[null,"Riveredge Nature Center","LOCAL","NGO",1,2,7049,null,null,null,null,null,false]
[null,"River's Rest Marina","LOCAL","INDUSTRY AND BUSINESS",1,3,9018,null,null,null,null,null,{"$f":"AND(  NOT(ISERROR(FIND(UPPER($B$7),UPPER($B11406),1))),  OR($D$7=\"\",NOT(ISERROR(FIND(UPPER($D$7),UPPER($B11406),1)))),    OR($D$8=\"\",(ISERROR(FIND(UPPER($D$8),UPPER($B11406),1))))           )","v":false}]
[null,"Robert and Kathleen Byrd Student Grant","FEDERAL or NATIONAL","NGO",4,2,17192,null,null,null,null,null,false]
[null,"Roche Harbor Marina","LOCAL","INDUSTRY AND BUSINESS",1,3,4355,null,null,null,null,null,false]
[null,"Rochester Institute Of Technology","STATE","Unknown",2,0,3600,null,null,null,null,null,false]
[null,"Rockefeller Brothers Fund","INTERNATIONAL","NGO",5,2,8122,null,null,null,null,null,false]
[null,"Rockport-Fulton Area Chamber of Commerce","LOCAL","INDUSTRY AND BUSINESS",1,3,6185,null,null,null,null,null,false]
[null,"Roger Williams School of Law","STATE","ACADEMIC INSTITUTION",2,4,2356,null,null,null,null,null,false]
[null,"Rogers High School","LOCAL","ACADEMIC INSTITUTION",1,4,6446,null,null,null,null,null,false]
[null,"Ron Hyatt Environmental Center","STATE","NGO",2,2,9978,null,null,null,null,null,false]
[null,"Roseann Dunham Bookkeeping","FEDERAL or NATIONAL","INDUSTRY AND BUSINESS",4,3,2362,null,null,null,null,null,false]
[null,"Ross Industries","FEDERAL or NATIONAL","INDUSTRY AND BUSINESS",4,3,2363,null,null,null,null,null,false]
[null,"Roundhouse Marine Lab","LOCAL","NGO",1,2,8014,null,null,null,null,null,false]
[null,"Rubenstein Ecosystem Science Laboratory","LOCAL","ACADEMIC INSTITUTION",1,4,5332,null,null,null,null,null,false]
[null,"Rural Community Assistance Program","REGIONAL","NGO",3,2,7789,null,null,null,null,null,false]
[null,"Rush County Sheriff’s Department","LOCAL","GOVERNMENT",1,1,16165,null,null,null,null,null,false]
[null,"Rutgers Cooperative Extension 4-H Expressive Arts Program","REGIONAL","ACADEMIC INSTITUTION",3,4,7871,null,null,null,null,null,false]
[null,"Rutgers University, Department of Earth and Planetary Sciences","STATE","ACADEMIC INSTITUTION",2,4,10010,null,null,null,null,null,false]
[null,"Rutgers Urban Planning Studio teaching program","STATE","ACADEMIC INSTITUTION",2,4,18619,null,null,null,null,null,false]
[null,"Ryerson University","STATE","ACADEMIC INSTITUTION",2,4,2371,null,null,null,null,null,false]
[null,"Saddleback College","LOCAL","ACADEMIC INSTITUTION",1,4,10709,null,null,null,null,null,false]
[null,"SafeOysters.Org","INTERNATIONAL","NGO",5,2,2372,null,null,null,null,null,false]
[null,"Sage Hills School","LOCAL","ACADEMIC INSTITUTION",1,4,10710,null,null,null,null,null,false]
[null,"Sail Sand Point","LOCAL","NGO",1,2,10521,null,null,null,null,null,false]
[null,"Saipan Public Schools U.S. Navy (USN)","Unknown","Unknown",0,0,8909,null,null,null,null,null,false]
[null,"Salisbury University","STATE","NULL",2,"NULL",15683,null,null,null,null,null,false]
[null,"Salmon Bay Barge Lines","REGIONAL","INDUSTRY AND BUSINESS",3,3,7465,null,null,null,null,null,false]
[null,"Salmon Recovery Funding Board","STATE","GOVERNMENT",2,1,7352,null,null,null,null,null,{"$f":"AND(  NOT(ISERROR(FIND(UPPER($B$7),UPPER($B11598),1))),  OR($D$7=\"\",NOT(ISERROR(FIND(UPPER($D$7),UPPER($B11598),1)))),    OR($D$8=\"\",(ISERROR(FIND(UPPER($D$8),UPPER($B11598),1))))           )","v":false}]
[null,"Saltonstall-Kennedy Grant Program","FEDERAL or NATIONAL","NGO",4,2,7328,null,null,null,null,null,false]
[null,"Samish Indian Nation*","STATE","OTHER PARTNERS",2,6,15062,null,null,null,null,null,false]
[null,"San Bernard National Wildlife Refuge","FEDERAL or NATIONAL","GOVERNMENT",4,1,12296,null,null,null,null,null,false]
[null,"San Diego Coastkeeper","REGIONAL","NGO",3,2,8015,null,null,null,null,null,false]
[null,"San Diego State University (SDSU)","STATE","ACADEMIC INSTITUTION",2,4,2389,null,null,null,null,null,false]
[null,"San Diego Zoo","LOCAL","GOVERNMENT",1,1,8071,null,null,null,null,null,false]
[null,"San Francisco Estuary Project","LOCAL","NGO",1,2,2393,null,null,null,null,null,false]
[null,"San Francisco State University, Romberg Tiburon Center (SFSU)","STATE","ACADEMIC INSTITUTION",2,4,2395,null,null,null,null,null,false]
[null,"San Juan ECO Network","LOCAL","OTHER PARTNERS",1,6,4423,null,null,null,null,null,false]
[null,"Sanborn Elementary (Alpena Public Schools)","LOCAL","ACADEMIC INSTITUTION",1,4,9204,null,null,null,null,null,false]
[null,"Sandusky/Erie County Visitors and Convention Bureau","STATE","INDUSTRY AND BUSINESS",2,3,13313,null,null,null,null,null,false]
[null,"Sangamon County Department of Public Health","LOCAL","GOVERNMENT",1,1,19966,null,null,null,null,null,false]
[null,"Santa Barbara Coastal Long Term Ecological Research Program","STATE","ACADEMIC INSTITUTION",2,4,3490,null,null,null,null,null,false]
[null,"Santa Barbara Sustainable Seafood Program","LOCAL","NGO",1,2,7587,null,null,null,null,null,false]
[null,"Santa Cruz Fishermen’s Marketing Association (SCFMA)","STATE","GOVERNMENT",2,1,3420,null,null,null,null,null,false]
[null,"Santa Monica Seafoods","FEDERAL or NATIONAL","INDUSTRY AND BUSINESS",4,3,5379,null,null,null,null,null,false]
[null,"Santee Cooper","LOCAL","INDUSTRY AND BUSINESS",1,3,2408,null,null,null,null,null,false]
[null,"Sapidus Farms","LOCAL","INDUSTRY AND BUSINESS",1,3,17409,null,null,null,null,null,false]
[null,"Sassafra River Foundation","LOCAL","NGO",1,2,5160,null,null,null,null,null,false]
[null,"Sauk River Watershed District","REGIONAL","GOVERNMENT",3,1,7290,null,null,null,null,null,false]
[null,"Sault Area Sportsmen’s Club","LOCAL","NGO",1,2,2414,null,null,null,null,null,false]
[null,"Save Our Native Species (SONS)","FEDERAL or NATIONAL","ACADEMIC INSTITUTION",4,4,2417,null,null,null,null,null,false]
[null,"Save our Summer Flounder Fishery recreational fishing stakeholder group","LOCAL","NGO",1,2,16609,null,null,null,null,null,false]
[null,"Save that Stuff","REGIONAL","INDUSTRY AND BUSINESS",3,3,6834,null,null,null,null,null,false]
[null,"SC Department of Natural Resources","STATE","NULL",2,"NULL",18313,null,null,null,null,null,false]
[null,"SC Fishing Tournament","LOCAL","INDUSTRY AND BUSINESS",1,3,10210,null,null,null,null,null,false]
[null,"Scallop Advisory Council (ME)","STATE","GOVERNMENT",2,1,5236,null,null,null,null,null,false]
[null,"Schoodic Education and Research Center","LOCAL","ACADEMIC INSTITUTION",1,4,5213,null,null,null,null,null,false]
[null,"School of Nat. Resources","Unknown","Unknown",0,0,9827,null,null,null,null,null,false]
[null,"Science & Resilience Institute at Jamaica Bay","REGIONAL","OTHER PARTNERS",3,6,16603,null,null,null,null,null,false]
[null,"Science Teachers Association of New York State","STATE","GOVERNMENT",2,1,15562,null,null,null,null,null,false]
[null,"Scientific Associates, LLC","INTERNATIONAL","INDUSTRY AND BUSINESS",5,3,4721,null,null,null,null,null,false]
[null,"Scottish Assn. for Marine Science","INTERNATIONAL","GOVERNMENT",5,1,2430,null,null,null,null,null,false]
[null,"Scripts University","LOCAL","ACADEMIC INSTITUTION",1,4,7413,null,null,null,null,null,false]
[null,"Sea Bird Electronics","LOCAL","NGO",1,2,17295,null,null,null,null,null,false]
[null,"Sea Education Association","INTERNATIONAL","SEA GRANT PROGRAMS",5,5,4724,null,null,null,null,null,false]
[null,"Sea Grant Climate Network","FEDERAL or NATIONAL","SEA GRANT PROGRAMS",4,5,4899,null,null,null,null,null,false]
[null,"Sea Grant Extension Advisory Committee","FEDERAL or NATIONAL","SEA GRANT PROGRAMS",4,5,2436,null,null,null,null,null,false]
[null,"Sea Island Company","FEDERAL or NATIONAL","NGO",4,2,2438,null,null,null,null,null,false]
[null,"Sea Link Marine Services","REGIONAL","INDUSTRY AND BUSINESS",3,3,7467,null,null,null,null,null,false]
[null,"Sea Partnership Program (Indonesia)","INTERNATIONAL","GOVERNMENT",5,1,2439,null,null,null,null,null,false]
[null,"Sea Watch International","INTERNATIONAL","NGO",5,2,6959,null,null,null,null,null,false]
[null,"Seabrook Hull Associates","Unknown","Unknown",0,0,3602,null,null,null,null,null,false]
[null,"Seacoast Science Center","FEDERAL or NATIONAL","NGO",4,2,2440,null,null,null,null,null,false]
[null,"Seafood Commerial Industry","LOCAL","OTHER PARTNERS",1,6,15462,null,null,null,null,null,false]
[null,"Seafood Marketing Division, North Carolina Department of Agriculture and Consumer Services (NC AGR)","STATE","GOVERNMENT",2,1,2446,null,null,null,null,null,false]
[null,"Seafood Science and Technology Society of Americas","INTERNATIONAL","NGO",5,2,2449,null,null,null,null,null,false]
[null,"Seaford Yacht Club","LOCAL","INDUSTRY AND BUSINESS",1,3,13736,null,null,null,null,null,false]
[null,"SeaPerch Program","FEDERAL or NATIONAL","GOVERNMENT",4,1,6429,null,null,null,null,null,false]
[null,"Seaside School District","LOCAL","GOVERNMENT",1,1,11672,null,null,null,null,null,false]
[null,"Seattle Community College","STATE","ACADEMIC INSTITUTION",2,4,2453,null,null,null,null,null,false]
[null,"Seattle King County Health Department","LOCAL","GOVERNMENT",1,1,7414,null,null,null,null,null,false]
[null,"Seattle University","LOCAL","ACADEMIC INSTITUTION",1,4,2457,null,null,null,null,null,false]
[null,"Seatuck Environmental Association","LOCAL","NGO",1,2,14894,null,null,null,null,null,false]
[null,"Secure Commonwealth Panel","STATE","GOVERNMENT",2,1,10797,null,null,null,null,null,false]
[null,"Seger Fisheries","FEDERAL or NATIONAL","INDUSTRY AND BUSINESS",4,3,2462,null,null,null,null,null,false]
[null,"Senator Christopher Murphy, D-CONN","FEDERAL or NATIONAL","GOVERNMENT",4,1,12816,null,null,null,null,null,false]
[null,"SePro","FEDERAL or NATIONAL","INDUSTRY AND BUSINESS",4,3,2464,null,null,null,null,null,false]
[null,"Seton Hall University School of Law","STATE","ACADEMIC INSTITUTION",2,4,10952,null,null,null,null,null,false]
[null,"Shady Creek","LOCAL","INDUSTRY AND BUSINESS",1,3,16158,null,null,null,null,null,false]
[null,"Shaughnessy Printing Co.","FEDERAL or NATIONAL","INDUSTRY AND BUSINESS",4,3,2467,null,null,null,null,null,false]
[null,"Shaw Environmental and Infrastructure Group","STATE","INDUSTRY AND BUSINESS",2,3,8338,null,null,null,null,null,false]
[null,"Shelbyville Police Department","LOCAL","GOVERNMENT",1,1,19968,null,null,null,null,null,false]
[null,"Shell Robert Training and Conference facilities","STATE","OTHER PARTNERS",2,6,15490,null,null,null,null,null,false]
[null,"Shellfish Gardeners of North Carolina","STATE","NGO",2,2,1910,null,null,null,null,null,false]
[null,"Shelton Fish Descenders","FEDERAL or NATIONAL","INDUSTRY AND BUSINESS",4,3,2474,null,null,null,null,null,false]
[null,"Shinnecock Tribe","Tribal","OTHER PARTNERS",13,6,11090,null,null,null,null,null,false]
[null,"Ship Point Oyster Company","LOCAL","INDUSTRY AND BUSINESS",1,3,17413,null,null,null,null,null,false]
[null,"Shoalwater Tribe","Tribal","GOVERNMENT",13,1,2480,null,null,null,null,null,false]
[null,"Shoreline Education for Awareness","LOCAL","NGO",1,2,16484,null,null,null,null,null,false]
[null,"ShorePoint Insurance Services","STATE","INDUSTRY AND BUSINESS",2,3,8189,null,null,null,null,null,false]
[null,"Siegle Bait & Tackle","LOCAL","INDUSTRY AND BUSINESS",1,3,9443,null,null,null,null,null,false]
[null,"Sierra Club","INTERNATIONAL","NGO",5,2,2483,null,null,null,null,null,false]
[null,"Silliker Laboratory","INTERNATIONAL","INDUSTRY AND BUSINESS",5,3,8157,null,null,null,null,null,false]
[null,"Simmons Oyster Company","REGIONAL","INDUSTRY AND BUSINESS",3,3,2489,null,null,null,null,null,false]
[null,"Sister Bay, Village of","LOCAL","GOVERNMENT",1,1,8276,null,null,null,null,null,false]
[null,"Sitka Tribe of Alaska","LOCAL","GOVERNMENT",1,1,17207,null,null,null,null,null,false]
[null,"Sixteenth Street Community Health Center","Unknown","Unknown",0,0,7051,null,null,null,null,null,false]
[null,"Skipanon Brand Oregon Ocean Seafoods-Warrenton","LOCAL","INDUSTRY AND BUSINESS",1,3,6357,null,null,null,null,null,false]
[null,"Skipjack Heritage Foundation","REGIONAL","INDUSTRY AND BUSINESS",3,3,8111,null,null,null,null,null,false]
[null,"Sloan School Of Management","Unknown","Unknown",0,0,3605,null,null,null,null,null,false]
[null,"Slow Food Urban San Diego","LOCAL","NGO",1,2,13257,null,null,null,null,null,false]
[null,"Smart Home America","REGIONAL","INDUSTRY AND BUSINESS",3,3,11315,null,null,null,null,null,false]
[null,"Smith Partners","LOCAL","INDUSTRY AND BUSINESS",1,3,8778,null,null,null,null,null,false]
[null,"Smith-Root, Inc.","FEDERAL or NATIONAL","INDUSTRY AND BUSINESS",4,3,2500,null,null,null,null,null,false]
[null,"Sneed Collyard","FEDERAL or NATIONAL","INDUSTRY AND BUSINESS",4,3,2502,null,null,null,null,null,false]
[null,"Snohomish Tribe","LOCAL","GOVERNMENT",1,1,19550,null,null,null,null,null,false]
[null,"Soap Lake High School","LOCAL","ACADEMIC INSTITUTION",1,4,4215,null,null,null,null,null,false]
[null,"Society of Emergency Medicine Physician Assistants","FEDERAL or NATIONAL","NGO",4,2,2503,null,null,null,null,null,false]
[null,"Society of Wetland Scientists","FEDERAL or NATIONAL","NGO",4,2,2506,null,null,null,null,null,false]
[null,"SolarCity","FEDERAL or NATIONAL","INDUSTRY AND BUSINESS",4,3,12387,null,null,null,null,null,false]
[null,"Somerset County Planning and Zoning","LOCAL","GOVERNMENT",1,1,18435,null,null,null,null,null,false]
[null,"Sonoma State University (SSU)","STATE","ACADEMIC INSTITUTION",2,4,2512,null,null,null,null,null,false]
[null,"Sound Metrics Corp.","FEDERAL or NATIONAL","INDUSTRY AND BUSINESS",4,3,2516,null,null,null,null,null,false]
[null,"South Aiken High School","LOCAL","ACADEMIC INSTITUTION",1,4,8822,null,null,null,null,null,false]
[null,"South Atlantic Fishery Management Council","REGIONAL","NGO",3,2,12937,null,null,null,null,null,false]
[null,"South Bay Advanced Educational Technology Consortium (ADTECH/GOALS 2000)","LOCAL","ACADEMIC INSTITUTION",1,4,2523,null,null,null,null,null,false]
[null,"South Carolina African-American Heritage Council","STATE","NGO",2,2,2524,null,null,null,null,null,false]
[null,"South Carolina Coastal Conservation League","STATE","NGO",2,2,2533,null,null,null,null,null,false]
[null,"South Carolina Department of Education (SC ED)","STATE","GOVERNMENT",2,1,2537,null,null,null,null,null,false]
[null,"South Carolina Department of Natural Resources (SC DNR)","STATE","GOVERNMENT",2,1,2539,null,null,null,null,null,false]
[null,"South Carolina Legislature","STATE","GOVERNMENT",2,1,14056,null,null,null,null,null,false]
[null,"South Carolina Municipal Association","STATE","NGO",2,2,2550,null,null,null,null,null,false]
[null,"South Carolina Public Schools","STATE","ACADEMIC INSTITUTION",2,4,2552,null,null,null,null,null,false]
[null,"South Carolina Shrimp Association","STATE","NGO",2,2,10325,null,null,null,null,null,false]
[null,"South Carolina State Parks","STATE","GOVERNMENT",2,1,14004,null,null,null,null,null,false]
[null,"South Central Regional Water Authority","REGIONAL","INDUSTRY AND BUSINESS",3,3,2567,null,null,null,null,null,false]
[null,"South County Tourism Council","STATE","INDUSTRY AND BUSINESS",2,3,19433,null,null,null,null,null,false]
[null,"South Kingstown High School","LOCAL","ACADEMIC INSTITUTION",1,4,7867,null,null,null,null,null,false]
[null,"South Kohala Coastal Partnership","REGIONAL","NGO",3,2,12383,null,null,null,null,null,false]
[null,"South River High School, Edgewater, MD","LOCAL","ACADEMIC INSTITUTION",1,4,7661,null,null,null,null,null,false]
[null,"South Santiam Watershed Council","LOCAL","NGO",1,2,10162,null,null,null,null,null,false]
[null,"South Sound Estuary Association","LOCAL","NGO",1,2,4407,null,null,null,null,null,false]
[null,"South Whidbey School District","LOCAL","ACADEMIC INSTITUTION",1,4,4218,null,null,null,null,null,false]
[null,"Southeast Alaska Regional Dive Fisheries Association","REGIONAL","INDUSTRY AND BUSINESS",3,3,8049,null,null,null,null,null,false]
[null,"Southeast CARE Coalition","REGIONAL","NGO",3,2,13655,null,null,null,null,null,false]
[null,"Southeast Florida Regional Climate Compact","REGIONAL","NGO",3,2,14267,null,null,null,null,null,false]
[null,"Southeast Georgia Health Center","REGIONAL","NGO",3,2,8693,null,null,null,null,null,false]
[null,"Southeast Universities Research Association","REGIONAL","ACADEMIC INSTITUTION",3,4,2586,null,null,null,null,null,true]
[null,"Southeastern New England Marine Educators","REGIONAL","OTHER PARTNERS",3,6,2587,null,null,null,null,null,{"$f":"AND(  NOT(ISERROR(FIND(UPPER($B$7),UPPER($B12494),1))),  OR($D$7=\"\",NOT(ISERROR(FIND(UPPER($D$7),UPPER($B12494),1)))),    OR($D$8=\"\",(ISERROR(FIND(UPPER($D$8),UPPER($B12494),1))))           )","v":false}]
[null,"Southeastern Wisconsin Regional Planning Commission","STATE","GOVERNMENT",2,1,2588,null,null,null,null,null,false]
[null,"Southern California CWRPA","Unknown","Unknown",0,0,6935,null,null,null,null,null,false]
[null,"Southern California Wetlands Recovery Project","STATE","NGO",2,2,2595,null,null,null,null,null,false]
[null,"Southern Div. American Fisheries Society (AFS)","FEDERAL or NATIONAL","Unknown",4,0,9836,null,null,null,null,null,false]
[null,"Southern Lake Michigan Task Force","LOCAL","NGO",1,2,16724,null,null,null,null,null,false]
[null,"Southern Methodist University","STATE","ACADEMIC INSTITUTION",2,4,19721,null,null,null,null,null,false]
[null,"Southern Ocean County Chamber of Commerce","LOCAL","NGO",1,2,13146,null,null,null,null,null,false]
[null,"Southern Shrimp Alliance","REGIONAL","NGO",3,2,2599,null,null,null,null,null,false]
[null,"Southern University","STATE","SEA GRANT PROGRAMS",2,5,4738,null,null,null,null,null,false]
[null,"Southtowns Walleye Association","LOCAL","NGO",1,2,8487,null,null,null,null,null,false]
[null,"Southwest Florida Shellfish Growers Association","REGIONAL","NGO",3,2,16935,null,null,null,null,null,false]
[null,"Southwest Yacht Club (SYC)","STATE","GOVERNMENT",2,1,3430,null,null,null,null,null,false]
[null,"Spartina Marine Education Charters","LOCAL","INDUSTRY AND BUSINESS",1,3,19483,null,null,null,null,null,false]
[null,"Spitzer Harbor Walk  and Rack Storage Marina","LOCAL","INDUSTRY AND BUSINESS",1,3,2608,null,null,null,null,null,false]
[null,"Sport Fishing Alliance, LTD","LOCAL","INDUSTRY AND BUSINESS",1,3,7836,null,null,null,null,null,false]
[null,"Sportsman's Club of Lake Vermillion","LOCAL","NGO",1,2,2610,null,null,null,null,null,false]
[null,"Spurgeon Stowe, Captain Stowe Head Boats","LOCAL","INDUSTRY AND BUSINESS",1,3,11085,null,null,null,null,null,false]
[null,"Squaxin Island Tribe","Tribal","GOVERNMENT",13,1,2615,null,null,null,null,null,false]
[null,"St. Anthony Falls Laboratory","LOCAL","ACADEMIC INSTITUTION",1,4,6210,null,null,null,null,null,false]
[null,"St. Bernard Coastal Zone Management Advisory Committee (CZMA)","LOCAL","GOVERNMENT",1,1,2618,null,null,null,null,null,false]
[null,"St. Clair Shores","LOCAL","GOVERNMENT",1,1,18418,null,null,null,null,null,false]
[null,"St. Francis Community Center","LOCAL","NGO",1,2,13145,null,null,null,null,null,false]
[null,"St. Johns University","STATE","ACADEMIC INSTITUTION",2,4,3611,null,null,null,null,null,false]
[null,"St. Joseph Catholic School, Bryan, TX","LOCAL","ACADEMIC INSTITUTION",1,4,12301,null,null,null,null,null,false]
[null,"St. Lawrence Seaway Development Corporation","INTERNATIONAL","INDUSTRY AND BUSINESS",5,3,6272,null,null,null,null,null,false]
[null,"St. Louis Zoo","LOCAL","GOVERNMENT",1,1,7488,null,null,null,null,null,false]
[null,"St. Marys Earthkeepers","LOCAL","NGO",1,2,10363,null,null,null,null,null,false]
[null,"St. Petersburg Underwater Club (SPUC)","LOCAL","OTHER PARTNERS",1,6,18505,null,null,null,null,null,false]
[null,"St. Tammany Parish Public Schools","LOCAL","GOVERNMENT",1,1,19078,null,null,null,null,null,false]
[null,"Stanford University, Hopkins Marine Station","STATE","ACADEMIC INSTITUTION",2,4,2625,null,null,null,null,null,false]
[null,"Stantec","INTERNATIONAL","INDUSTRY AND BUSINESS",5,3,11158,null,null,null,null,null,false]
[null,"State Farm","FEDERAL or NATIONAL","INDUSTRY AND BUSINESS",4,3,6371,null,null,null,null,null,false]
[null,"State of Delaware office of Governor","STATE","GOVERNMENT",2,1,5773,null,null,null,null,null,false]
[null,"State Quality of Life Departments - MDARD, DEQ, DNR : various staff","STATE","GOVERNMENT",2,1,9242,null,null,null,null,null,false]
[null,"State University of New York, Brockport (SUNY)","STATE","ACADEMIC INSTITUTION",2,4,2629,null,null,null,null,null,{"$f":"AND(  NOT(ISERROR(FIND(UPPER($B$7),UPPER($B12750),1))),  OR($D$7=\"\",NOT(ISERROR(FIND(UPPER($D$7),UPPER($B12750),1)))),    OR($D$8=\"\",(ISERROR(FIND(UPPER($D$8),UPPER($B12750),1))))           )","v":false}]
[null,"State University of New York, Oswego (SUNY)","STATE","ACADEMIC INSTITUTION",2,4,2631,null,null,null,null,null,false]
[null,"Stavis Seafoods","LOCAL","INDUSTRY AND BUSINESS",1,3,12536,null,null,null,null,null,false]
[null,"Stephenson Strategic Communications","FEDERAL or NATIONAL","INDUSTRY AND BUSINESS",4,3,9538,null,null,null,null,null,false]
[null,"Sterling Caviar, LLC","INTERNATIONAL","INDUSTRY AND BUSINESS",5,3,3492,null,null,null,null,null,false]
[null,"Stevenson University","STATE","ACADEMIC INSTITUTION",2,4,18437,null,null,null,null,null,false]
[null,"Stolt Sea Farm California, LLC (SSC-LLC)","REGIONAL","GOVERNMENT",3,1,3432,null,null,null,null,null,false]
[null,"Stone County","Unknown","Unknown",0,0,6659,null,null,null,null,null,false]
[null,"Storm Safe Fish Cages","INTERNATIONAL","INDUSTRY AND BUSINESS",5,3,19478,null,null,null,null,null,false]
[null,"Strategic Environmental Assessments Division, Office of Ocean Resources Conservation and Assessment (US DOC, NOAA, NOS, OCRA)","FEDERAL or NATIONAL","GOVERNMENT",4,1,2642,null,null,null,null,null,false]
[null,"Streator Police Department (MCP) --IL","LOCAL","GOVERNMENT",1,1,5925,null,null,null,null,null,false]
[null,"Stronghold Camp and Retreat Center","LOCAL","INDUSTRY AND BUSINESS",1,3,14798,null,null,null,null,null,false]
[null,"Subsistence Division, National Park Service (US DOI, NPS)","FEDERAL or NATIONAL","GOVERNMENT",4,1,2649,null,null,null,null,null,false]
[null,"Sudden Valley Community Association","LOCAL","NGO",1,2,4408,null,null,null,null,null,false]
[null,"Summerall Oaks HOA","LOCAL","NGO",1,2,14394,null,null,null,null,null,false]
[null,"Summit City","LOCAL","GOVERNMENT",1,1,7723,null,null,null,null,null,false]
[null,"Suncorp Insurance","FEDERAL or NATIONAL","INDUSTRY AND BUSINESS",4,3,17722,null,null,null,null,null,false]
[null,"Superior Citizen Science Collaborative","LOCAL","NGO",1,2,19489,null,null,null,null,null,false]
[null,"Surf City Borough","LOCAL","GOVERNMENT",1,1,15010,null,null,null,null,null,false]
[null,"Surfrider Foudnation Charleston Chapter","LOCAL","NGO",1,2,7160,null,null,null,null,null,false]
[null,"Surry County, VA","LOCAL","GOVERNMENT",1,1,10802,null,null,null,null,null,false]
[null,"Sussex Avenue School of the Arts and Sciences","LOCAL","ACADEMIC INSTITUTION",1,4,9051,null,null,null,null,null,false]
[null,"Sussex County Association of Towns","LOCAL","OTHER PARTNERS",1,6,9369,null,null,null,null,null,false]
[null,"Sustainability Solutions Initiative","STATE","OTHER PARTNERS",2,6,8531,null,null,null,null,null,false]
[null,"Sustainable Fisheries Partnership","INTERNATIONAL","NGO",5,2,7243,null,null,null,null,null,false]
[null,"Swampscott Middle School","LOCAL","ACADEMIC INSTITUTION",1,4,6451,null,null,null,null,null,false]
[null,"Sweet Savannah Shrimp Co.","Unknown","INDUSTRY AND BUSINESS",0,3,6998,null,null,null,null,null,false]
[null,"Switlik Parachute Co.","FEDERAL or NATIONAL","INDUSTRY AND BUSINESS",4,3,2671,null,null,null,null,null,false]
[null,"Symplicity Corporation","LOCAL","INDUSTRY AND BUSINESS",1,3,5966,null,null,null,null,null,false]
[null,"Syracuse University (SU)","STATE","ACADEMIC INSTITUTION",2,4,2673,null,null,null,null,null,false]
[null,"Tacoma Art Museum","LOCAL","NGO",1,2,8455,null,null,null,null,null,false]
[null,"Talaris Conference Center","LOCAL","INDUSTRY AND BUSINESS",1,3,4364,null,null,null,null,null,false]
[null,"Talbot Watermens Association Inc.","LOCAL","INDUSTRY AND BUSINESS",1,3,19272,null,null,null,null,null,false]
[null,"Tampa Bay Climate Science Advisory Panel","LOCAL","GOVERNMENT",1,1,13015,null,null,null,null,null,false]
[null,"Tarkill Oyster Company","LOCAL","INDUSTRY AND BUSINESS",1,3,8973,null,null,null,null,null,false]
[null,"Taylor County School District","LOCAL","OTHER PARTNERS",1,6,18522,null,null,null,null,null,false]
[null,"Taylor Shellfish Resources Research and Design","FEDERAL or NATIONAL","INDUSTRY AND BUSINESS",4,3,4365,null,null,null,null,null,false]
[null,"T-Bar Aquaculture","LOCAL","INDUSTRY AND BUSINESS",1,3,8879,null,null,null,null,null,false]
[null,"Technical University Braunschweig","INTERNATIONAL","ACADEMIC INSTITUTION",5,4,5870,null,null,null,null,null,false]
[null,"Temple University","STATE","ACADEMIC INSTITUTION",2,4,2686,null,null,null,null,null,false]
[null,"Terns LLC","REGIONAL","OTHER PARTNERS",3,6,12528,null,null,null,null,null,false]
[null,"Terrebonne Levee & Conservation District","LOCAL","GOVERNMENT",1,1,17624,null,null,null,null,null,false]
[null,"Tetra University","INTERNATIONAL","ACADEMIC INSTITUTION",5,4,8682,null,null,null,null,null,false]
[null,"Texas A&M Corpus Christi, Conrad Blucher Institute","STATE","ACADEMIC INSTITUTION",2,4,13058,null,null,null,null,null,false]
[null,"Texas A&M University LAUNCH: Undergraduate Research Scholars ","STATE","ACADEMIC INSTITUTION",2,4,20005,null,null,null,null,null,false]
[null,"Texas A&M University System, Institute for Renewable Natural Resources (TAMU)","STATE","ACADEMIC INSTITUTION",2,4,6041,null,null,null,null,null,false]
[null,"Texas A&M University, Department of Civil Engineering","STATE","ACADEMIC INSTITUTION",2,4,18315,null,null,null,null,null,false]
[null,"Texas A&M University, Institute for Science, Technology, & Public Policy, The Bush School of Government and Public Service (TAMU)","STATE","ACADEMIC INSTITUTION",2,4,8334,null,null,null,null,null,false]
[null,"Texas A&M University-Corpus Christi, Center for Coastal Excellence (TAMUCC)","STATE","ACADEMIC INSTITUTION",2,4,15387,null,null,null,null,null,false]
[null,"Texas Association for Food Protection","STATE","NGO",2,2,10310,null,null,null,null,null,false]
[null,"Texas Coastal Aububon TERN Project","STATE","NGO",2,2,12313,null,null,null,null,null,false]
[null,"Texas Engineering Experiment Station","STATE","ACADEMIC INSTITUTION",2,4,2696,null,null,null,null,null,false]
[null,"Texas General Land Office Oil Spill Division","STATE","GOVERNMENT",2,1,20016,null,null,null,null,null,{"$f":"AND(  NOT(ISERROR(FIND(UPPER($B$7),UPPER($B13134),1))),  OR($D$7=\"\",NOT(ISERROR(FIND(UPPER($D$7),UPPER($B13134),1)))),    OR($D$8=\"\",(ISERROR(FIND(UPPER($D$8),UPPER($B13134),1))))           )","v":false}]
[null,"Texas Master Naturalist Program","STATE","ACADEMIC INSTITUTION",2,4,6082,null,null,null,null,null,false]
[null,"Texas Pack Seafood Processing","LOCAL","INDUSTRY AND BUSINESS",1,3,12317,null,null,null,null,null,false]
[null,"Texas Southmost College","Unknown","Unknown",0,0,3622,null,null,null,null,null,false]
[null,"Texas Well Owner Network","STATE","ACADEMIC INSTITUTION",2,4,20014,null,null,null,null,null,false]
[null,"Thai Food Processors Association, Thailand","INTERNATIONAL","INDUSTRY AND BUSINESS",5,3,2702,null,null,null,null,null,false]
[null,"The Bass Federation","FEDERAL or NATIONAL","INDUSTRY AND BUSINESS",4,3,6275,null,null,null,null,null,false]
[null,"The Bonefish and Tarpon Trust","INTERNATIONAL","NGO",5,2,16946,null,null,null,null,null,false]
[null,"The Butler Foundation","FEDERAL or NATIONAL","OTHER PARTNERS",4,6,14944,null,null,null,null,null,false]
[null,"The Citadel","STATE","ACADEMIC INSTITUTION",2,4,2708,null,null,null,null,null,false]
[null,"The Consortium for Plant Biotechnology Research, Inc.","FEDERAL or NATIONAL","NGO",4,2,2713,null,null,null,null,null,false]
[null,"The Countryside Garden Club of Livonia","LOCAL","NGO",1,2,20036,null,null,null,null,null,false]
[null,"The Edge of Kauai Investigations","LOCAL","OTHER PARTNERS",1,6,10659,null,null,null,null,null,false]
[null,"The Eugene Register Guard newspaper","LOCAL","INDUSTRY AND BUSINESS",1,3,14536,null,null,null,null,null,false]
[null,"The Fish Guys","LOCAL","INDUSTRY AND BUSINESS",1,3,7296,null,null,null,null,null,false]
[null,"The Freshwater Institute","Unknown","Unknown",0,0,18286,null,null,null,null,null,false]
[null,"The Grounds","LOCAL","INDUSTRY AND BUSINESS",1,3,13904,null,null,null,null,null,false]
[null,"The Home Depot, Inc.","FEDERAL or NATIONAL","Unknown",4,0,6662,null,null,null,null,null,false]
[null,"The Kohala Center","FEDERAL or NATIONAL","NGO",4,2,2723,null,null,null,null,null,false]
[null,"The Lakes HOA, SC","LOCAL","OTHER PARTNERS",1,6,4745,null,null,null,null,null,false]
[null,"The Maritime Alliance","LOCAL","NGO",1,2,13246,null,null,null,null,null,false]
[null,"The Mississippi River Gulf of Mexico Watershed Nutrient and Hypoxia Task Force","Unknown","Unknown",0,0,6663,null,null,null,null,null,false]
[null,"The National Hurricane Center (NHC), the National Weather Service (NWS), the Risk Predication Initiative (RPI), Swiss Re and Risk Management Services (RMS)","Unknown","Unknown",0,0,18183,null,null,null,null,null,false]
[null,"The Nature Conservancy of Connecticut (TNC)","STATE","Unknown",2,0,9634,null,null,null,null,null,false]
[null,"The Nature Conservency of Hawaii","LOCAL","NGO",1,2,9383,null,null,null,null,null,false]
[null,"The NH Commercial Fishermen’s Association","STATE","Unknown",2,0,15239,null,null,null,null,null,false]
[null,"The Ocean Project","Unknown","NGO",0,2,7087,null,null,null,null,null,{"$f":"AND(  NOT(ISERROR(FIND(UPPER($B$7),UPPER($B13326),1))),  OR($D$7=\"\",NOT(ISERROR(FIND(UPPER($D$7),UPPER($B13326),1)))),    OR($D$8=\"\",(ISERROR(FIND(UPPER($D$8),UPPER($B13326),1))))           )","v":false}]
[null,"The Outdoorsman Sport Shop","LOCAL","INDUSTRY AND BUSINESS",1,3,9447,null,null,null,null,null,false]
[null,"The Rainbow Project","LOCAL","OTHER PARTNERS",1,6,15233,null,null,null,null,null,false]
[null,"The San Diego Climate Collaborative","LOCAL","NGO",1,2,13633,null,null,null,null,null,false]
[null,"The Seafood Center","STATE","INDUSTRY AND BUSINESS",2,3,3958,null,null,null,null,null,false]
[null,"The Trinity Center, Pine Knoll Shores, NC","LOCAL","NGO",1,2,14444,null,null,null,null,null,false]
[null,"The Washed Ashore Project","INTERNATIONAL","NGO",5,2,17484,null,null,null,null,null,false]
[null,"The Watershed Center","FEDERAL or NATIONAL","NGO",4,2,2743,null,null,null,null,null,false]
[null,"ThedaCare","STATE","INDUSTRY AND BUSINESS",2,3,14731,null,null,null,null,null,false]
[null,"ThinkWater","FEDERAL or NATIONAL","GOVERNMENT",4,1,19502,null,null,null,null,null,false]
[null,"Three Little Spats Oyster Company","LOCAL","INDUSTRY AND BUSINESS",1,3,19701,null,null,null,null,null,false]
[null,"Thunder Bay National Marine Sanctuary and Underwater Preserve (US DOC, NOAA, NOS, ONMS)","FEDERAL or NATIONAL","GOVERNMENT",4,1,2747,null,null,null,null,null,false]
[null,"Tianjin University of Science and Technology","INTERNATIONAL","ACADEMIC INSTITUTION",5,4,2749,null,null,null,null,null,false]
[null,"Tide Right LLC","LOCAL","INDUSTRY AND BUSINESS",1,3,8978,null,null,null,null,null,false]
[null,"Tidewater Marine Trade Association","LOCAL","NGO",1,2,5484,null,null,null,null,null,false]
[null,"Tierra Data","LOCAL","INDUSTRY AND BUSINESS",1,3,13210,null,null,null,null,null,false]
[null,"Tillamook County","LOCAL","GOVERNMENT",1,1,2757,null,null,null,null,null,false]
[null,"Timber Ridge Middle School","LOCAL","ACADEMIC INSTITUTION",1,4,16579,null,null,null,null,null,false]
[null,"Tippecanoe County Parks","LOCAL","GOVERNMENT",1,1,9448,null,null,null,null,null,false]
[null,"Toby Island Bay Oysters","REGIONAL","INDUSTRY AND BUSINESS",3,3,5781,null,null,null,null,null,false]
[null,"Toke Point Oysters","STATE","INDUSTRY AND BUSINESS",2,3,2762,null,null,null,null,null,false]
[null,"Toledo-Lucas County Convention and Visitors Bureau","STATE","INDUSTRY AND BUSINESS",2,3,13316,null,null,null,null,null,false]
[null,"Tonsmeire Properties","Unknown","Unknown",0,0,6666,null,null,null,null,null,false]
[null,"Tony’s Seafood","LOCAL","Unknown",1,0,9848,null,null,null,null,null,false]
[null,"Torch Lake Public Advisory Council","LOCAL","NGO",1,2,10937,null,null,null,null,null,false]
[null,"Town of Bar Harbor","LOCAL","GOVERNMENT",1,1,19347,null,null,null,null,null,false]
[null,"Town of Barrington","LOCAL","GOVERNMENT",1,1,10482,null,null,null,null,null,{"$f":"AND(  NOT(ISERROR(FIND(UPPER($B$7),UPPER($B13518),1))),  OR($D$7=\"\",NOT(ISERROR(FIND(UPPER($D$7),UPPER($B13518),1)))),    OR($D$8=\"\",(ISERROR(FIND(UPPER($D$8),UPPER($B13518),1))))           )","v":false}]
[null,"Town of Camden, ME","LOCAL","GOVERNMENT",1,1,5240,null,null,null,null,null,false]
[null,"Town of Damariscotta, ME","LOCAL","GOVERNMENT",1,1,13867,null,null,null,null,null,false]
[null,"Town of Durham, NH","LOCAL","GOVERNMENT",1,1,3784,null,null,null,null,null,false]
[null,"Town of Emerald Isle, NC","LOCAL","GOVERNMENT",1,1,12783,null,null,null,null,null,false]
[null,"Town of Gouldsboro, ME","LOCAL","GOVERNMENT",1,1,7265,null,null,null,null,null,false]
[null,"Town of Grand Isle CZM Committee","LOCAL","Unknown",1,0,9849,null,null,null,null,null,false]
[null,"Town of Huron, NY","LOCAL","GOVERNMENT",1,1,14971,null,null,null,null,null,false]
[null,"Town of Kennebunk, ME","LOCAL","GOVERNMENT",1,1,5203,null,null,null,null,null,false]
[null,"Town of Laurel, DE","LOCAL","OTHER PARTNERS",1,6,9373,null,null,null,null,null,false]
[null,"Town of Little Creek, DE","LOCAL","GOVERNMENT",1,1,17805,null,null,null,null,null,false]
[null,"Town of Middleton, RI","LOCAL","GOVERNMENT",1,1,2780,null,null,null,null,null,false]
[null,"Town of Naples","LOCAL","GOVERNMENT",1,1,20033,null,null,null,null,null,false]
[null,"Town of Newbury, MA","LOCAL","GOVERNMENT",1,1,19468,null,null,null,null,null,false]
[null,"Town of Old Orchard Beach, ME","LOCAL","GOVERNMENT",1,1,7260,null,null,null,null,null,false]
[null,"Town of Orrington, ME","LOCAL","GOVERNMENT",1,1,5216,null,null,null,null,null,false]
[null,"Town of Richland","LOCAL","GOVERNMENT",1,1,8508,null,null,null,null,null,false]
[null,"Town of Salem, CT","LOCAL","GOVERNMENT",1,1,5902,null,null,null,null,null,false]
[null,"Town of Smithtown, NY","LOCAL","GOVERNMENT",1,1,2782,null,null,null,null,null,false]
[null,"Town of St. Albans","LOCAL","GOVERNMENT",1,1,5339,null,null,null,null,null,false]
[null,"Town of Tisbury, MA","LOCAL","GOVERNMENT",1,1,6855,null,null,null,null,null,false]
[null,"Town of Waterford, CT","LOCAL","GOVERNMENT",1,1,5900,null,null,null,null,null,false]
[null,"Town of Winter Harbor","LOCAL","GOVERNMENT",1,1,19356,null,null,null,null,null,false]
[null,"Town of Wrightsville Beach, NC","LOCAL","GOVERNMENT",1,1,12793,null,null,null,null,null,false]
[null,"Toyota H2O Water Quality Initiative","LOCAL","INDUSTRY AND BUSINESS",1,3,5968,null,null,null,null,null,false]
[null,"Traditional Marine Mammal Hunters of Chukotka","INTERNATIONAL","NGO",5,2,19791,null,null,null,null,null,false]
[null,"Trap Pond State Park","STATE","GOVERNMENT",2,1,17795,null,null,null,null,null,false]
[null,"Trek Trail","Unknown","INDUSTRY AND BUSINESS",0,3,7056,null,null,null,null,null,false]
[null,"Trident Seafood","STATE","INDUSTRY AND BUSINESS",2,3,3972,null,null,null,null,null,false]
[null,"Trinidad Fishermen’s Marketing Association (TFMA)","REGIONAL","GOVERNMENT",3,1,3440,null,null,null,null,null,false]
[null,"Trophia Ltd – New Zealand","Unknown","Unknown",0,0,5113,null,null,null,null,null,false]
[null,"TruDesign, Inc.","LOCAL","INDUSTRY AND BUSINESS",1,3,14390,null,null,null,null,null,false]
[null,"Tuckerton Seaport","LOCAL","INDUSTRY AND BUSINESS",1,3,13888,null,null,null,null,null,false]
[null,"Tulane University","STATE","ACADEMIC INSTITUTION",2,4,3625,null,null,null,null,null,false]
[null,"Turner's Seafood","LOCAL","INDUSTRY AND BUSINESS",1,3,6455,null,null,null,null,null,false]
[null,"Two Harbors Rotary","LOCAL","NGO",1,2,6308,null,null,null,null,null,false]
[null,"Ty Warner Sea Center","LOCAL","NGO",1,2,8847,null,null,null,null,null,false]
[null,"U.N. Food & Agriculture Organization (UNFAO)","INTERNATIONAL","NGO",5,2,3464,null,null,null,null,null,false]
[null,"U.S. Botanical Garden","FEDERAL or NATIONAL","GOVERNMENT",4,1,10338,null,null,null,null,null,false]
[null,"U.S. Department of Justice (US DOJ)","FEDERAL or NATIONAL","GOVERNMENT",4,1,13084,null,null,null,null,null,false]
[null,"U.S. Great Lakes Maritime Task Force and Its Member Groups","REGIONAL","NGO",3,2,6309,null,null,null,null,null,false]
[null,"U.S. House Committee on Natural Resources, Democratic Staff","FEDERAL or NATIONAL","Unknown",4,0,14677,null,null,null,null,null,false]
[null,"U.S. Representative Carol Shea-Porter - New Hampshire","FEDERAL or NATIONAL","GOVERNMENT",4,1,9293,null,null,null,null,null,false]
[null,"U.S. Representative Derek Kilmer - Washington","FEDERAL or NATIONAL","GOVERNMENT",4,1,14117,null,null,null,null,null,false]
[null,"U.S. Representative Jared Huffman - California","FEDERAL or NATIONAL","GOVERNMENT",4,1,8096,null,null,null,null,null,false]
[null,"U.S. Representative Rush Holt - New Jersey","FEDERAL or NATIONAL","GOVERNMENT",4,1,5557,null,null,null,null,null,false]
[null,"U.S. Senate Commerce Committee, Subcommittee on Oceans, Atmosphere, Fisheries and Coast Guard, Democratic Staff","FEDERAL or NATIONAL","GOVERNMENT",4,1,5558,null,null,null,null,null,false]
[null,"U.S. Senator Benjamin Cardin - Maryland","FEDERAL or NATIONAL","GOVERNMENT",4,1,5567,null,null,null,null,null,false]
[null,"U.S. Senator Frank Lautenberg - New Jersey","FEDERAL or NATIONAL","GOVERNMENT",4,1,5554,null,null,null,null,null,false]
[null,"U.S. Senator Russ Feingold - Wisconsin","FEDERAL or NATIONAL","GOVERNMENT",4,1,2015,null,null,null,null,null,false]
[null,"U.S. Steel","FEDERAL or NATIONAL","INDUSTRY AND BUSINESS",4,3,7768,null,null,null,null,null,false]
[null,"UConn Alumni Association","STATE","NGO",2,2,14952,null,null,null,null,null,false]
[null,"UGA College of Environment and Design","STATE","ACADEMIC INSTITUTION",2,4,10358,null,null,null,null,null,false]
[null,"UGA Cooperative Extension Service","STATE","ACADEMIC INSTITUTION",2,4,10359,null,null,null,null,null,false]
[null,"Ukpeagvik Inupiat Corporation","STATE","INDUSTRY AND BUSINESS",2,3,19775,null,null,null,null,null,false]
[null,"UNC Press","LOCAL","INDUSTRY AND BUSINESS",1,3,2808,null,null,null,null,null,false]
[null,"UNC Richard Bland Professional Pathways Fellowship Program","STATE","NGO",2,2,15318,null,null,null,null,null,false]
[null,"Unicorn Studios","LOCAL","INDUSTRY AND BUSINESS",1,3,7340,null,null,null,null,null,false]
[null,"United Boatmen of New York","STATE","INDUSTRY AND BUSINESS",2,3,8521,null,null,null,null,null,false]
[null,"United Houma Nation","LOCAL","OTHER PARTNERS",1,6,17629,null,null,null,null,null,false]
[null,"United Seafood","STATE","INDUSTRY AND BUSINESS",2,3,12322,null,null,null,null,null,false]
[null,"United States Embassy, Majuro","FEDERAL or NATIONAL","GOVERNMENT",4,1,11724,null,null,null,null,null,false]
[null,"United States Fish and Wildlife Service, Daphne Field Office","FEDERAL or NATIONAL","GOVERNMENT",4,1,9986,null,null,null,null,null,false]
[null,"United Way of Acadiana","LOCAL","OTHER PARTNERS",1,6,19086,null,null,null,null,null,false]
[null,"Univerisy of Minnesota, Duluth","STATE","Unknown",2,0,10029,null,null,null,null,null,true]
[null,"Universidad Federal Do Rio de Janeiro","INTERNATIONAL","ACADEMIC INSTITUTION",5,4,6831,null,null,null,null,null,true]
[null,"Universidade Federal Fluminense","INTERNATIONAL","ACADEMIC INSTITUTION",5,4,2818,null,null,null,null,null,true]
[null,"Universite Laval, Quebec City, Canada","INTERNATIONAL","ACADEMIC INSTITUTION",5,4,4131,null,null,null,null,null,true]
[null,"University National Oceanographic Laboratory System (UNOLS)","FEDERAL or NATIONAL","NGO",4,2,19425,null,null,null,null,null,false]
[null,"University of Akron (UAkron)","STATE","ACADEMIC INSTITUTION",2,4,2823,null,null,null,null,null,false]
[null,"University of Alaska Anchorage, Kodiak College (UAA)","STATE","ACADEMIC INSTITUTION",2,4,5450,null,null,null,null,null,false]
[null,"University of Alaska Fairbanks Summer Sessions (UAF)","STATE","ACADEMIC INSTITUTION",2,4,5451,null,null,null,null,null,false]
[null,"University of Alaska Fairbanks, School of Mangement","STATE","ACADEMIC INSTITUTION",2,4,14107,null,null,null,null,null,false]
[null,"University of Alaska Southeast, Research Experiences for Undergraduate Students","STATE","ACADEMIC INSTITUTION",2,4,5457,null,null,null,null,null,false]
[null,"University of Auckland","STATE","SEA GRANT PROGRAMS",2,5,4749,null,null,null,null,null,false]
[null,"University of British Columbia Marine Mammal Research Unit (Canada UBC)","INTERNATIONAL","ACADEMIC INSTITUTION",5,4,2834,null,null,null,null,null,false]
[null,"University of California San Diego","NULL","NULL","NULL","NULL",14108,null,null,null,null,null,false]
[null,"University of California, Berkeley (UCB)","STATE","ACADEMIC INSTITUTION",2,4,2837,null,null,null,null,null,false]
[null,"University of California, Davis, Agriculture and Natural Resources (UC Davis)","STATE","ACADEMIC INSTITUTION",2,4,5115,null,null,null,null,null,false]
[null,"University of California, Office of the President, California Policy Research Center (UC)","STATE","ACADEMIC INSTITUTION",2,4,2842,null,null,null,null,null,false]
[null,"University of California, Santa Barbara - Bren","NULL","NULL","NULL","NULL",17875,null,null,null,null,null,false]
[null,"University of Central Florida (UCF)","STATE","ACADEMIC INSTITUTION",2,4,2849,null,null,null,null,null,false]
[null,"University of Connecticut","STATE","ACADEMIC INSTITUTION",2,4,11056,null,null,null,null,null,false]
[null,"University of Connecticut Law School","STATE","ACADEMIC INSTITUTION",2,4,7610,null,null,null,null,null,false]
[null,"University of Connecticut Nonpoint Education for Municipal Officials Program","STATE","ACADEMIC INSTITUTION",2,4,16716,null,null,null,null,null,false]
[null,"University of Connecticut, Cooperative Extension (UCONN)","STATE","ACADEMIC INSTITUTION",2,4,2855,null,null,null,null,null,false]
[null,"University of Connecticut, Department of Pathobiology and Veterinary Sciences (UCONN)","STATE","ACADEMIC INSTITUTION",2,4,2861,null,null,null,null,null,false]
[null,"University of Connecticut, University Communications (UCONN)","STATE","ACADEMIC INSTITUTION",2,4,2865,null,null,null,null,null,false]
[null,"University of Delaware Citizen Monitoring Program","STATE","ACADEMIC INSTITUTION",2,4,8947,null,null,null,null,null,false]
[null,"University of Delaware Office of Communications and Marketing","LOCAL","ACADEMIC INSTITUTION",1,4,7683,null,null,null,null,null,false]
[null,"University of Findlay","STATE","ACADEMIC INSTITUTION",2,4,6863,null,null,null,null,null,false]
[null,"University of Georgia Carl Vinson Institute of Government","STATE","GOVERNMENT",2,1,13942,null,null,null,null,null,false]
[null,"University of Georgia Public Affairs","STATE","ACADEMIC INSTITUTION",2,4,10362,null,null,null,null,null,false]
[null,"University of Georgia, Marine Extension Service","STATE","ACADEMIC INSTITUTION",2,4,2874,null,null,null,null,null,false]
[null,"University of Guam Land Grant","LOCAL","ACADEMIC INSTITUTION",1,4,6763,null,null,null,null,null,false]
[null,"University of Hawaii","STATE","ACADEMIC INSTITUTION",2,4,11060,null,null,null,null,null,false]
[null,"University of Hawaii at Hilo, Pacific Aquaculture and Coastal Resources Center (UHH)","STATE","ACADEMIC INSTITUTION",2,4,2880,null,null,null,null,null,false]
[null,"University of Hawaii at Manoa , John A. Burns School of Medicine (UHM)","STATE","ACADEMIC INSTITUTION",2,4,2883,null,null,null,null,null,false]
[null,"University of Hawaii at Manoa, College of Social Sciences","STATE","ACADEMIC INSTITUTION",2,4,8309,null,null,null,null,null,false]
[null,"University of Hawaii at Manoa, Department of Molecular Biosciences and Biosystems Engineering (UHM)","STATE","ACADEMIC INSTITUTION",2,4,2888,null,null,null,null,null,false]
[null,"University of Hawaii at Manoa, Economic Research Organization (UHERO)","STATE","ACADEMIC INSTITUTION",2,4,10616,null,null,null,null,null,false]
[null,"University of Hawaii at Manoa, Hawaii Natural Energy Institute (UHM)","STATE","ACADEMIC INSTITUTION",2,4,7953,null,null,null,null,null,false]
[null,"University of Hawaii at Manoa, Office of the Chancellor (UHM)","STATE","ACADEMIC INSTITUTION",2,4,2896,null,null,null,null,null,false]
[null,"University of Hawaii at Manoa, Office of the Vice Chancellor of Budget and Facilities","REGIONAL","ACADEMIC INSTITUTION",3,4,10828,null,null,null,null,null,false]
[null,"University of Hawaii Coastal Geology Group","STATE","ACADEMIC INSTITUTION",2,4,10664,null,null,null,null,null,false]
[null,"University of Hawaii Joint Institute of Marine and Atmospheric Research (JIMAR)","STATE","ACADEMIC INSTITUTION",2,4,5018,null,null,null,null,null,false]
[null,"University of Hawaii System, Office of Capital Improvements (UH)","STATE","ACADEMIC INSTITUTION",2,4,2905,null,null,null,null,null,false]
[null,"University of Houston Coastal Center","STATE","ACADEMIC INSTITUTION",2,4,17697,null,null,null,null,null,false]
[null,"University of Illinois at Chicago","STATE","ACADEMIC INSTITUTION",2,4,14529,null,null,null,null,null,false]
[null,"University of Illinois Department of Civil and Environmental Engineering","STATE","ACADEMIC INSTITUTION",2,4,13817,null,null,null,null,null,false]
[null,"University of Illinois Urbana-Champagne (UI)","NULL","NULL","NULL","NULL",14682,null,null,null,null,null,false]
[null,"University of Maine","STATE","NULL",2,"NULL",14721,null,null,null,null,null,false]
[null,"University of Maine Advanced Structures & Composites Center","STATE","ACADEMIC INSTITUTION",2,4,10650,null,null,null,null,null,false]
[null,"University of Maine Department of English","STATE","ACADEMIC INSTITUTION",2,4,8569,null,null,null,null,null,false]
[null,"University of Maine, Orono (UMO)","STATE","ACADEMIC INSTITUTION",2,4,2917,null,null,null,null,null,false]
[null,"University of Maryland Biotechnology Institute (UMD)","STATE","ACADEMIC INSTITUTION",2,4,2919,null,null,null,null,null,false]
[null,"University of Maryland Center for Environmental Science, Chesapeake Biological Laboratory","STATE","ACADEMIC INSTITUTION",2,4,10070,null,null,null,null,null,false]
[null,"University of Maryland Center for Environmental Science, Horn Point Laboratory (UMD)","STATE","ACADEMIC INSTITUTION",2,4,10043,null,null,null,null,null,false]
[null,"University of Maryland Extension (UMD)","STATE","SEA GRANT PROGRAMS",2,5,4756,null,null,null,null,null,false]
[null,"University of Maryland, Center for Environmental Science (UMD)","STATE","ACADEMIC INSTITUTION",2,4,2920,null,null,null,null,null,false]
[null,"University of Maryland, Earth System Science Interdisciplinary Center (ESSIC)","STATE","ACADEMIC INSTITUTION",2,4,15905,null,null,null,null,null,false]
[null,"University of Massachusetts Extension Aquaculture Program (Umass)","REGIONAL","ACADEMIC INSTITUTION",3,4,5792,null,null,null,null,null,false]
[null,"University of Miami (UM)","STATE","ACADEMIC INSTITUTION",2,4,2931,null,null,null,null,null,false]
[null,"University of Michigan - School of Urban & Regional Planning","STATE","ACADEMIC INSTITUTION",2,4,9249,null,null,null,null,null,false]
[null,"University of Michigan (UM), Water Center","STATE","ACADEMIC INSTITUTION",2,4,9506,null,null,null,null,null,false]
[null,"University of Michigan School of Natural Resources and Environment (Great Lakes Fishery Laboratory)","STATE","ACADEMIC INSTITUTION",2,4,9215,null,null,null,null,null,false]
[null,"University of Minnesota Duluth Department of Applied Human Sciences","LOCAL","ACADEMIC INSTITUTION",1,4,19508,null,null,null,null,null,false]
[null,"University of Minnesota Extension Pesticide Safety and Environmental Education Program (UMN)","REGIONAL","ACADEMIC INSTITUTION",3,4,6229,null,null,null,null,null,false]
[null,"University of Minnesota, Clean Energy Resource Team (UMN)","REGIONAL","ACADEMIC INSTITUTION",3,4,6218,null,null,null,null,null,false]
[null,"University Of Minnesota, Duluth (UMD)","STATE","ACADEMIC INSTITUTION",2,4,3640,null,null,null,null,null,false]
[null,"University of Minnesota, Duluth, KUMD radio program (UMD)","LOCAL","ACADEMIC INSTITUTION",1,4,6214,null,null,null,null,null,false]
[null,"University of Minnesota, Duluth, Stormwater Pollution and Prevention Plan Steering Committee (UMD)","LOCAL","ACADEMIC INSTITUTION",1,4,6216,null,null,null,null,null,false]
[null,"University Of Minnesota, St. Paul (UMN)","STATE","ACADEMIC INSTITUTION",2,4,3642,null,null,null,null,null,false]
[null,"University of Minnesota, Water Resources Center (UMN)","STATE","ACADEMIC INSTITUTION",2,4,2944,null,null,null,null,null,false]
[null,"University of MN Alumni Association","STATE","ACADEMIC INSTITUTION",2,4,10025,null,null,null,null,null,false]
[null,"University Of Nebraska At Kearney (UN)","STATE","ACADEMIC INSTITUTION",2,4,3645,null,null,null,null,null,false]
[null,"University of New Hampshire","STATE","NULL",2,"NULL",14691,null,null,null,null,null,false]
[null,"University of New Hampshire, Cooperative Extension (UNH)","STATE","ACADEMIC INSTITUTION",2,4,3819,null,null,null,null,null,false]
[null,"University of New Hampshire, Hubbard Center for Genome Studies","STATE","ACADEMIC INSTITUTION",2,4,11312,null,null,null,null,null,false]
[null,"University of New Orleans, Center for Hazards Asessment Response and Technology","STATE","ACADEMIC INSTITUTION",2,4,15486,null,null,null,null,null,false]
[null,"University of North Carolina at Chapel Hill, Institute of Marine Sciences (UNC-CH) () ()","Unknown","Unknown",0,0,14359,null,null,null,null,null,false]
[null,"University of North Carolina at Wilmington","STATE","ACADEMIC INSTITUTION",2,4,14362,null,null,null,null,null,false]
[null,"University of North Carolina Press","STATE","ACADEMIC INSTITUTION",2,4,3851,null,null,null,null,null,false]
[null,"University of North Carolina, Wilmington (UNCW)","STATE","ACADEMIC INSTITUTION",2,4,2960,null,null,null,null,null,false]
[null,"University of North Florida (UNF)","STATE","ACADEMIC INSTITUTION",2,4,2961,null,null,null,null,null,false]
[null,"University of Oklahoma (OU)","STATE","ACADEMIC INSTITUTION",2,4,2963,null,null,null,null,null,false]
[null,"University of Piedmont, Italy","INTERNATIONAL","ACADEMIC INSTITUTION",5,4,7667,null,null,null,null,null,{"$f":"AND(  NOT(ISERROR(FIND(UPPER($B$7),UPPER($B14606),1))),  OR($D$7=\"\",NOT(ISERROR(FIND(UPPER($D$7),UPPER($B14606),1)))),    OR($D$8=\"\",(ISERROR(FIND(UPPER($D$8),UPPER($B14606),1))))           )","v":false}]
[null,"University of Puerto Rico (UPR)","STATE","ACADEMIC INSTITUTION",2,4,3823,null,null,null,null,null,false]
[null,"University of Puerto Rico, Rio Piedras","LOCAL","ACADEMIC INSTITUTION",1,4,15761,null,null,null,null,null,false]
[null,"University of Puget Sound, Slater Museum of Natural History","STATE","ACADEMIC INSTITUTION",2,4,2969,null,null,null,null,null,false]
[null,"University of Rhode Island NEMO Program","REGIONAL","ACADEMIC INSTITUTION",3,4,7880,null,null,null,null,null,false]
[null,"University of Rhode Island, Cooperative Extension Water Quality Program (URI)","STATE","ACADEMIC INSTITUTION",2,4,2975,null,null,null,null,null,false]
[null,"University of Rhode Island, Providence (URI)","STATE","ACADEMIC INSTITUTION",2,4,2976,null,null,null,null,null,false]
[null,"University of San Diego","STATE","ACADEMIC INSTITUTION",2,4,15692,null,null,null,null,null,false]
[null,"University of South Carolina (USC)","STATE","ACADEMIC INSTITUTION",2,4,2980,null,null,null,null,null,false]
[null,"University of Southern California Neighborhood Outreach (USC)","STATE","ACADEMIC INSTITUTION",2,4,7851,null,null,null,null,null,false]
[null,"University of Southern California, School of Engineering (USC)","STATE","ACADEMIC INSTITUTION",2,4,2984,null,null,null,null,null,false]
[null,"University of Southern Mississippi (USM)","STATE","ACADEMIC INSTITUTION",2,4,2989,null,null,null,null,null,false]
[null,"University of Tennessee (UT)","STATE","ACADEMIC INSTITUTION",2,4,2991,null,null,null,null,null,false]
[null,"University of Texas - Brownsville (UTB)","STATE","ACADEMIC INSTITUTION",2,4,7605,null,null,null,null,null,false]
[null,"University of Texas at Austin, Jackson School of Geosciences (UT)","STATE","ACADEMIC INSTITUTION",2,4,6030,null,null,null,null,null,false]
[null,"University of Texas Medical Branch","STATE","ACADEMIC INSTITUTION",2,4,17700,null,null,null,null,null,false]
[null,"University of the Basque Country, Bilbao, Spain","INTERNATIONAL","ACADEMIC INSTITUTION",5,4,8388,null,null,null,null,null,false]
[null,"University of Tokyo, Japan","INTERNATIONAL","ACADEMIC INSTITUTION",5,4,4133,null,null,null,null,null,false]
[null,"University of Vermont Department of Plant and Soil Sciences (UVM PSS)","STATE","ACADEMIC INSTITUTION",2,4,10078,null,null,null,null,null,false]
[null,"University of Vienna (Austria)","INTERNATIONAL","ACADEMIC INSTITUTION",5,4,3001,null,null,null,null,null,false]
[null,"University of Virginia (UVA), Batten School of Leadership and Public Policy","STATE","ACADEMIC INSTITUTION",2,4,17433,null,null,null,null,null,false]
[null,"University of Washington Botanic Gardens, School of Forest Resources, College of the Environment (UW)","STATE","ACADEMIC INSTITUTION",2,4,4468,null,null,null,null,null,false]
[null,"University of Washington, Bothell Career Center (UW)","STATE","ACADEMIC INSTITUTION",2,4,4470,null,null,null,null,null,false]
[null,"University of Washington, College of Arts and Sciences (UW)","STATE","ACADEMIC INSTITUTION",2,4,4473,null,null,null,null,null,false]
[null,"University of Washington, Department of Civil and Environmental Engineering, College of Engineering (UW)","STATE","ACADEMIC INSTITUTION",2,4,4479,null,null,null,null,null,false]
[null,"University of Washington, Evans School of Public Affairs (UW)","STATE","ACADEMIC INSTITUTION",2,4,4482,null,null,null,null,null,false]
[null,"University of Washington, Joint Institute for the Study of the Atmosphere and Ocean (JISAO), College of the Environment (UW)","REGIONAL","ACADEMIC INSTITUTION",3,4,4435,null,null,null,null,null,false]
[null,"University of Washington, Olympic Natural Resources Center, School of Forest Resources, College of the Environment (UW)","STATE","ACADEMIC INSTITUTION",2,4,2044,null,null,null,null,null,false]
[null,"University of Washington, Rural Technology Initiative, School of Forest Resources, College of the Environment (UW)","STATE","ACADEMIC INSTITUTION",2,4,4465,null,null,null,null,null,false]
[null,"University of Washington, Seaglider Fabrication Center,  School of Oceanography, College of the Environment (UW)","STATE","ACADEMIC INSTITUTION",2,4,8463,null,null,null,null,null,false]
[null,"University of Washington, Wetland Ecosystem Team, School of Aquatic and Fishery Sciences, College of the Environment (UW)","STATE","ACADEMIC INSTITUTION",2,4,4493,null,null,null,null,null,false]
[null,"University of Western Ontario","STATE","SEA GRANT PROGRAMS",2,5,4759,null,null,null,null,null,false]
[null,"University Of Wisconsin, Extension  (UW)","STATE","ACADEMIC INSTITUTION",2,4,3659,null,null,null,null,null,false]
[null,"University of Wisconsin, Madison","STATE","ACADEMIC INSTITUTION",2,4,11077,null,null,null,null,null,false]
[null,"University of Wisconsin, Madison Dept. Civil and Environmental Engineering","NULL","NULL","NULL","NULL",15708,null,null,null,null,null,false]
[null,"University Of Wisconsin, Marinette  (UW)","STATE","ACADEMIC INSTITUTION",2,4,3660,null,null,null,null,null,false]
[null,"University Of Wisconsin, Parkside  (UW)","STATE","ACADEMIC INSTITUTION",2,4,3661,null,null,null,null,null,false]
[null,"University of Wisconsin-Extension","STATE","NULL",2,"NULL",11103,null,null,null,null,null,false]
[null,"University of Zadar, Croatia","INTERNATIONAL","SEA GRANT PROGRAMS",5,5,4760,null,null,null,null,null,false]
[null,"UOG Professional and International Programs","Unknown","Unknown",0,0,8921,null,null,null,null,null,false]
[null,"Upper Mississippi River Restoration (Army Corps of Engineergs)","REGIONAL","GOVERNMENT",3,1,13819,null,null,null,null,null,false]
[null,"Urban Harbors Institute","REGIONAL","NGO",3,2,5228,null,null,null,null,null,false]
[null,"Urban Waters Federation","REGIONAL","NGO",3,2,5509,null,null,null,null,null,false]
[null,"Urbana Free Library","LOCAL","GOVERNMENT",1,1,5940,null,null,null,null,null,false]
[null,"Urbanna Town Marina","LOCAL","INDUSTRY AND BUSINESS",1,3,7249,null,null,null,null,null,false]
[null,"US Army Corps of Engineers","FEDERAL or NATIONAL","GOVERNMENT",4,1,9677,null,null,null,null,null,false]
[null,"US Army Corps of Engineers, Waterways Experiment Station (DOD, Army, USACE, WES)","FEDERAL or NATIONAL","GOVERNMENT",4,1,6704,null,null,null,null,null,false]
[null,"US Coast Guard Auxiliary Flotilla 5-6 (US DHS, USCG)","FEDERAL or NATIONAL","GOVERNMENT",4,1,3045,null,null,null,null,null,false]
[null,"US Coast Guard Homeland Security Port, New London  (US DHS, USCG)","FEDERAL or NATIONAL","GOVERNMENT",4,1,3047,null,null,null,null,null,false]
[null,"US Commission on Ocean Policy","FEDERAL or NATIONAL","GOVERNMENT",4,1,3051,null,null,null,null,null,false]
[null,"US Department of Health and Human Services (US HHS)","FEDERAL or NATIONAL","GOVERNMENT",4,1,3057,null,null,null,null,null,false]
[null,"US Department of Homeland Security (US DHS)","FEDERAL or NATIONAL","GOVERNMENT",4,1,3058,null,null,null,null,null,false]
[null,"US Department of the Navy (US DOD, NAVY)","FEDERAL or NATIONAL","GOVERNMENT",4,1,3063,null,null,null,null,null,false]
[null,"US Fish and Wildlife Service Marine Mammals Management Office – Alaska Region","FEDERAL or NATIONAL","GOVERNMENT",4,1,19770,null,null,null,null,null,false]
[null,"US Foreign Agriculture Service (USDA, FAS)","FEDERAL or NATIONAL","GOVERNMENT",4,1,3771,null,null,null,null,null,false]
[null,"US Green Building Council, South Carolina Chapter","STATE","NGO",2,2,4960,null,null,null,null,null,false]
[null,"US Marine Corps (US DoD, Marines)","FEDERAL or NATIONAL","GOVERNMENT",4,1,6838,null,null,null,null,null,false]
[null,"US Naval Submarine Base, Groton","FEDERAL or NATIONAL","GOVERNMENT",4,1,13931,null,null,null,null,null,false]
[null,"USACE-New York District","FEDERAL or NATIONAL","GOVERNMENT",4,1,10601,null,null,null,null,null,false]
[null,"USC Dornsife College of Arts, Letters and Sciences,","REGIONAL","ACADEMIC INSTITUTION",3,4,10738,null,null,null,null,null,false]
[null,"USDA Plant Materials Center","REGIONAL","GOVERNMENT",3,1,10561,null,null,null,null,null,false]
[null,"User Fees","Unknown","Unknown",0,0,12425,null,null,null,null,null,{"$f":"AND(  NOT(ISERROR(FIND(UPPER($B$7),UPPER($B15054),1))),  OR($D$7=\"\",NOT(ISERROR(FIND(UPPER($D$7),UPPER($B15054),1)))),    OR($D$8=\"\",(ISERROR(FIND(UPPER($D$8),UPPER($B15054),1))))           )","v":false}]
[null,"USGS Western Fisheries Research Center","FEDERAL or NATIONAL","GOVERNMENT",4,1,13215,null,null,null,null,null,false]
[null,"UVM School of Engineering (SEED Program)","STATE","ACADEMIC INSTITUTION",2,4,18126,null,null,null,null,null,false]
[null,"Vadnais Lakes Area Water Management Organization","REGIONAL","NGO",3,2,8761,null,null,null,null,null,false]
[null,"Valparaiso University","STATE","ACADEMIC INSTITUTION",2,4,5529,null,null,null,null,null,false]
[null,"Vashon Beach Naturalists","LOCAL","NGO",1,2,4410,null,null,null,null,null,false]
[null,"Vent Covers Inc.","REGIONAL","INDUSTRY AND BUSINESS",3,3,7940,null,null,null,null,null,false]
[null,"Ventura County Office of Education (VCOE)","REGIONAL","GOVERNMENT",3,1,3333,null,null,null,null,null,false]
[null,"Verizon","INTERNATIONAL","INDUSTRY AND BUSINESS",5,3,3088,null,null,null,null,null,false]
[null,"Vermillion Corp.","LOCAL","INDUSTRY AND BUSINESS",1,3,19105,null,null,null,null,null,false]
[null,"Vermont Cooperative Fish and Wildlife Research Unit (US DOI, USGS)","FEDERAL or NATIONAL","GOVERNMENT",4,1,5344,null,null,null,null,null,false]
[null,"Vermont League of Cities and Towns","STATE","NGO",2,2,5356,null,null,null,null,null,false]
[null,"Vermont Youth Conservation Corps (VYCC)","STATE","NGO",2,2,5359,null,null,null,null,null,false]
[null,"Veterans Memorial School","LOCAL","ACADEMIC INSTITUTION",1,4,18668,null,null,null,null,null,false]
[null,"Vieques Refuge Service","FEDERAL or NATIONAL","GOVERNMENT",4,1,5649,null,null,null,null,null,false]
[null,"Vietnamese Association of Seafood Exporters & Producers (VASEP)","Unknown2","SEA GRANT PROGRAMS",6,5,3465,null,null,null,null,null,false]
[null,"Village of Burr Ridge","LOCAL","GOVERNMENT",1,1,7790,null,null,null,null,null,false]
[null,"Village of Mount Pleasant","LOCAL","GOVERNMENT",1,1,16245,null,null,null,null,null,false]
[null,"Village of Ouzinkie","LOCAL","GOVERNMENT",1,1,10023,null,null,null,null,null,false]
[null,"Village of Spring Lake, MI","LOCAL","GOVERNMENT",1,1,5985,null,null,null,null,null,false]
[null,"Vincent High School, Milwaukee","LOCAL","ACADEMIC INSTITUTION",1,4,8579,null,null,null,null,null,false]
[null,"Virgin Islands Community Foundation","LOCAL","NGO",1,2,11171,null,null,null,null,null,false]
[null,"Virginia Agricultural Experiment Station (VAES)","STATE","ACADEMIC INSTITUTION",2,4,17452,null,null,null,null,null,false]
[null,"Virginia Association of Zoning Officials","STATE","NGO",2,2,9032,null,null,null,null,null,false]
[null,"Virginia Coast Reserve Long-Term Ecological Research","FEDERAL or NATIONAL","GOVERNMENT",4,1,19294,null,null,null,null,null,false]
[null,"Virginia Commercial Electroshock fishermen","LOCAL","INDUSTRY AND BUSINESS",1,3,19295,null,null,null,null,null,false]
[null,"Virginia Commonwealth, University School of Medicine","STATE","ACADEMIC INSTITUTION",2,4,19296,null,null,null,null,null,{"$f":"AND(  NOT(ISERROR(FIND(UPPER($B$7),UPPER($B15246),1))),  OR($D$7=\"\",NOT(ISERROR(FIND(UPPER($D$7),UPPER($B15246),1)))),    OR($D$8=\"\",(ISERROR(FIND(UPPER($D$8),UPPER($B15246),1))))           )","v":false}]
[null,"Virginia Department of Health (VA DOH)","STATE","GOVERNMENT",2,1,3107,null,null,null,null,null,false]
[null,"Virginia Department of Historic Resources","STATE","GOVERNMENT",2,1,5498,null,null,null,null,null,false]
[null,"Virginia Estuarine and Coastal Observing System (VECOS)","STATE","ACADEMIC INSTITUTION",2,4,6821,null,null,null,null,null,false]
[null,"Virginia Green","STATE","GOVERNMENT",2,1,13741,null,null,null,null,null,false]
[null,"Virginia Institute of Marine Science (VIMS), Director of Research and Advisory Services","STATE","ACADEMIC INSTITUTION",2,4,17450,null,null,null,null,null,false]
[null,"Virginia Institute of Marine Science, Aquaculture Program Group","STATE","ACADEMIC INSTITUTION",2,4,19300,null,null,null,null,null,false]
[null,"Virginia Organizing","STATE","NGO",2,2,15631,null,null,null,null,null,false]
[null,"Virginia Polytechnic Institute and State University (VT), Business Information Technology","STATE","ACADEMIC INSTITUTION",2,4,17462,null,null,null,null,null,false]
[null,"Virginia Sea Grant Marine Extension Program","STATE","NULL",2,"NULL",11089,null,null,null,null,null,false]
[null,"Virginia Tech School of Public and International Affairs","STATE","ACADEMIC INSTITUTION",2,4,19307,null,null,null,null,null,false]
[null,"Virginia Wind and Energy Consortium","STATE","OTHER PARTNERS",2,6,17465,null,null,null,null,null,false]
[null,"Vitsab International AB","INTERNATIONAL","INDUSTRY AND BUSINESS",5,3,19309,null,null,null,null,null,false]
[null,"Voices of the Bay: Monterey Bay National Marine Sanctuary (US DOC, NOAA, ONMS)","FEDERAL or NATIONAL","GOVERNMENT",4,1,6787,null,null,null,null,null,false]
[null,"Vortex Spring Owners","LOCAL","INDUSTRY AND BUSINESS",1,3,15437,null,null,null,null,null,false]
[null,"Waccamaw Middle School","LOCAL","ACADEMIC INSTITUTION",1,4,7134,null,null,null,null,null,false]
[null,"Wageningen University","INTERNATIONAL","ACADEMIC INSTITUTION",5,4,15011,null,null,null,null,null,false]
[null,"Waimea Hawaiian Civic Club","REGIONAL","NGO",3,2,16297,null,null,null,null,null,false]
[null,"Wako Chemicals","FEDERAL or NATIONAL","INDUSTRY AND BUSINESS",4,3,3122,null,null,null,null,null,false]
[null,"Wallace Energy Systems Renewable Facility (WESRF)","REGIONAL","ACADEMIC INSTITUTION",3,4,7490,null,null,null,null,null,false]
[null,"Walmart Market #34","STATE","INDUSTRY AND BUSINESS",2,3,4954,null,null,null,null,null,false]
[null,"Walter Anderson Museum of Art","LOCAL","NGO",1,2,9988,null,null,null,null,null,false]
[null,"Waquoit Bay National Estuarine Research Reserve, Cape Cod Commission","LOCAL","Unknown",1,0,15672,null,null,null,null,null,false]
[null,"Ward Oyster Company","STATE","INDUSTRY AND BUSINESS",2,3,15634,null,null,null,null,null,false]
[null,"Warrenton School District","LOCAL","ACADEMIC INSTITUTION",1,4,8735,null,null,null,null,null,false]
[null,"Washington Biodiversity Council","STATE","GOVERNMENT",2,1,4515,null,null,null,null,null,false]
[null,"Washington Conservation District","REGIONAL","GOVERNMENT",3,1,7300,null,null,null,null,null,false]
[null,"Washington Crab Company","STATE","INDUSTRY AND BUSINESS",2,3,3976,null,null,null,null,null,false]
[null,"Washington Department of Ecology","STATE","GOVERNMENT",2,1,14594,null,null,null,null,null,false]
[null,"Washington NASA Space Grant Consortium, Department of Earth and Space Sciences, College of the Environment (UW)","STATE","ACADEMIC INSTITUTION",2,4,4496,null,null,null,null,null,false]
[null,"Washington Police Department","LOCAL","GOVERNMENT",1,1,8661,null,null,null,null,null,false]
[null,"Washington State Department of Ecology, Manchester Environmental Laboratories","STATE","GOVERNMENT",2,1,15076,null,null,null,null,null,false]
[null,"Washington State Department of Parks and Recreation","STATE","GOVERNMENT",2,1,4796,null,null,null,null,null,false]
[null,"Washington State Parks and Recreation Commission","STATE","GOVERNMENT",2,1,3141,null,null,null,null,null,false]
[null,"Washington State University Extension Clallam County (WSU)","STATE","ACADEMIC INSTITUTION",2,4,4811,null,null,null,null,null,false]
[null,"Washington State University Extension, Clallam County Beach Watchers (WSU)","LOCAL","ACADEMIC INSTITUTION",1,4,7440,null,null,null,null,null,false]
[null,"Washington State University Extension, Jefferson County (WSU)","LOCAL","ACADEMIC INSTITUTION",1,4,4226,null,null,null,null,null,false]
[null,"Washington State University Extension, Skagit County (WSU)","LOCAL","ACADEMIC INSTITUTION",1,4,4230,null,null,null,null,null,false]
[null,"Washington State University, Beachwatchers","STATE","ACADEMIC INSTITUTION",2,4,13217,null,null,null,null,null,false]
[null,"Washington Trollers Association","STATE","INDUSTRY AND BUSINESS",2,3,3150,null,null,null,null,null,false]
[null,"Water Education Collaborative","LOCAL","NGO",1,2,20038,null,null,null,null,null,false]
[null,"Water Resources (USGS)","FEDERAL or NATIONAL","GOVERNMENT",4,1,15555,null,null,null,null,null,false]
[null,"Waterford High School, Waterford CT","LOCAL","ACADEMIC INSTITUTION",1,4,16900,null,null,null,null,null,false]
[null,"Waterkeepers Carolinas","STATE","NGO",2,2,11160,null,null,null,null,null,false]
[null,"Watershed Council","REGIONAL","Unknown",3,0,3154,null,null,null,null,null,false]
[null,"Waukegan Port Authority","LOCAL","GOVERNMENT",1,1,14807,null,null,null,null,null,false]
[null,"Wayne County, MI","LOCAL","GOVERNMENT",1,1,5972,null,null,null,null,null,false]
[null,"Weather Predict Consulting Inc.","INTERNATIONAL","INDUSTRY AND BUSINESS",5,3,7937,null,null,null,null,null,false]
[null,"Weeks Bay National Estuarine Research Reserve (US DOC, NOAA, NOS, NERRS)","FEDERAL or NATIONAL","GOVERNMENT",4,1,3157,null,null,null,null,null,false]
[null,"Welder Training Services","FEDERAL or NATIONAL","INDUSTRY AND BUSINESS",4,3,3159,null,null,null,null,null,false]
[null,"Wesleyville Borough","LOCAL","OTHER PARTNERS",1,6,3165,null,null,null,null,null,false]
[null,"West Bay Seafood Pier 45","LOCAL","INDUSTRY AND BUSINESS",1,3,8144,null,null,null,null,null,false]
[null,"West Cary Middle School","LOCAL","ACADEMIC INSTITUTION",1,4,16833,null,null,null,null,null,{"$f":"AND(  NOT(ISERROR(FIND(UPPER($B$7),UPPER($B15630),1))),  OR($D$7=\"\",NOT(ISERROR(FIND(UPPER($D$7),UPPER($B15630),1)))),    OR($D$8=\"\",(ISERROR(FIND(UPPER($D$8),UPPER($B15630),1))))           )","v":false}]
[null,"West Coast Groundfish Observer Program","REGIONAL","GOVERNMENT",3,1,16458,null,null,null,null,null,false]
[null,"West Lake, LA","LOCAL","GOVERNMENT",1,1,15468,null,null,null,null,null,false]
[null,"West Michigan Environmental Action Council","LOCAL","NGO",1,2,6006,null,null,null,null,null,false]
[null,"West Sound Conservation Council","LOCAL","NGO",1,2,13221,null,null,null,null,null,false]
[null,"West Virginia Native Plant Society (WNPS)","STATE","NGO",2,2,15916,null,null,null,null,null,false]
[null,"West Virginia University (WVU)","STATE","ACADEMIC INSTITUTION",2,4,5149,null,null,null,null,null,false]
[null,"Westerly Public Library","LOCAL","GOVERNMENT",1,1,3175,null,null,null,null,null,false]
[null,"Western District Policy Community Relations Council (CRC)","LOCAL","GOVERNMENT",1,1,17496,null,null,null,null,null,false]
[null,"Western Ecology Division (US EPA)","FEDERAL or NATIONAL","GOVERNMENT",4,1,3177,null,null,null,null,null,false]
[null,"Western Massachusetts Center for Sustainable Aquaculture (WMCSA)","REGIONAL","OTHER PARTNERS",3,6,11538,null,null,null,null,null,false]
[null,"Western Regional Aquaculture Center (USDA, NIFA, RAC)","FEDERAL or NATIONAL","GOVERNMENT",4,1,3185,null,null,null,null,null,false]
[null,"Western States Petroleum Association","REGIONAL","INDUSTRY AND BUSINESS",3,3,7961,null,null,null,null,null,false]
[null,"Westhampton Beach Middle School","LOCAL","ACADEMIC INSTITUTION",1,4,3191,null,null,null,null,null,false]
[null,"Westrec Marinas (Chicago Harbors)","LOCAL","Unknown",1,0,9456,null,null,null,null,null,false]
[null,"Wetlands and Wildlife Care Center of Huntington Beach","LOCAL","NGO",1,2,8025,null,null,null,null,null,false]
[null,"WGCU Public Media","LOCAL","OTHER PARTNERS",1,6,16916,null,null,null,null,null,false]
[null,"Whale Fest Kodiak","LOCAL","NGO",1,2,14042,null,null,null,null,null,false]
[null,"Whatcom County Shore Stewards","LOCAL","NGO",1,2,4411,null,null,null,null,null,false]
[null,"Whiskey Creek Oyster Hatchery","LOCAL","Unknown",1,0,9681,null,null,null,null,null,false]
[null,"White Iron Chain of Lakes Association","LOCAL","NGO",1,2,6312,null,null,null,null,null,false]
[null,"Whitestown Police Department","LOCAL","GOVERNMENT",1,1,14764,null,null,null,null,null,false]
[null,"Widener University","STATE","ACADEMIC INSTITUTION",2,4,3198,null,null,null,null,null,false]
[null,"Wilcox Savage Law","LOCAL","INDUSTRY AND BUSINESS",1,3,19311,null,null,null,null,null,false]
[null,"Wild Ocean Aquaculture LLC","LOCAL","INDUSTRY AND BUSINESS",1,3,9545,null,null,null,null,null,false]
[null,"Wildlife Care and Rescue Center, Inc.","FEDERAL or NATIONAL","NGO",4,2,3205,null,null,null,null,null,false]
[null,"Wildlife Forever","FEDERAL or NATIONAL","NGO",4,2,3207,null,null,null,null,null,false]
[null,"Will Allen Farms LLC","LOCAL","INDUSTRY AND BUSINESS",1,3,8587,null,null,null,null,null,false]
[null,"Willapa Gillnetters Association","LOCAL","INDUSTRY AND BUSINESS",1,3,3212,null,null,null,null,null,false]
[null,"William Penn Foundation","STATE","INDUSTRY AND BUSINESS",2,3,17774,null,null,null,null,null,false]
[null,"Williams Inc.","Unknown","INDUSTRY AND BUSINESS",0,3,19106,null,null,null,null,null,false]
[null,"Willsboro Bay Marina","LOCAL","INDUSTRY AND BUSINESS",1,3,18120,null,null,null,null,null,false]
[null,"Wilson Elementary (Alpena Public Schools)","LOCAL","ACADEMIC INSTITUTION",1,4,9218,null,null,null,null,null,false]
[null,"Windmill Point Oyster, Co.","LOCAL","INDUSTRY AND BUSINESS",1,3,17478,null,null,null,null,null,false]
[null,"Winnicut River Watershed Coalition","LOCAL","NGO",1,2,6914,null,null,null,null,null,false]
[null,"Winthrop Harbor Yacht Club","LOCAL","INDUSTRY AND BUSINESS",1,3,4808,null,null,null,null,null,false]
[null,"Wisconsin Academy of Sciences, Arts and Letters","STATE","OTHER PARTNERS",2,6,3220,null,null,null,null,null,false]
[null,"Wisconsin Department of Natural Resoruces, Milwaukee County Parks","Unknown","Unknown",0,0,18271,null,null,null,null,null,false]
[null,"Wisconsin Department of Transportation (WI DOT)","STATE","GOVERNMENT",2,1,3753,null,null,null,null,null,false]
[null,"Wisconsin Libraries Delivery Network","STATE","GOVERNMENT",2,1,3233,null,null,null,null,null,false]
[null,"Wisconsin P2D2 Program","REGIONAL","NGO",3,2,8663,null,null,null,null,null,false]
[null,"Wisconsin Sea Grant","STATE","Unknown",2,0,9868,null,null,null,null,null,false]
[null,"Wise Preservation Planning LLC","LOCAL","INDUSTRY AND BUSINESS",1,3,14627,null,null,null,null,null,false]
[null,"Witt Seafood","STATE","INDUSTRY AND BUSINESS",2,3,18445,null,null,null,null,null,false]
[null,"Wolf Lake Initiative","FEDERAL or NATIONAL","NGO",4,2,3241,null,null,null,null,null,false]
[null,"Women Divers Hall of Fame","LOCAL","INDUSTRY AND BUSINESS",1,3,17726,null,null,null,null,null,false]
[null,"Woods Hole Marine Policy Center","STATE","Unknown",2,0,9863,null,null,null,null,null,false]
[null,"Woods Hole Oceanographic Institute","STATE","NULL",2,"NULL",11076,null,null,null,null,null,false]
[null,"Woodside Juvenile Rehabilitation Center","STATE","Unknown",2,0,5365,null,null,null,null,null,false]
[null,"Word Craft","LOCAL","INDUSTRY AND BUSINESS",1,3,8994,null,null,null,null,null,false]
[null,"World Association of Scuba Instructors","INTERNATIONAL","NGO",5,2,3247,null,null,null,null,null,false]
[null,"World Pet Association","INTERNATIONAL","NGO",5,2,16159,null,null,null,null,null,false]
[null,"Wright State University","STATE","ACADEMIC INSTITUTION",2,4,3255,null,null,null,null,null,false]
[null,"Wright, Constable & Skeen, LLP","LOCAL","INDUSTRY AND BUSINESS",1,3,8989,null,null,null,null,null,false]
[null,"Xerces Society for Invertebrate Conservation","LOCAL","NGO",1,2,10339,null,null,null,null,null,false]
[null,"Yale Center for Coastal Watershed Systems","STATE","Unknown",2,0,9865,null,null,null,null,null,false]
[null,"Yale School of Forestry and Environmental Science","NULL","NULL","NULL","NULL",14719,null,null,null,null,null,false]
[null,"YESS – Youth Engaged in Sea Level Rise Science","LOCAL","NGO",1,2,17291,null,null,null,null,null,false]
[null,"York Conservation Commission","LOCAL","NGO",1,2,7279,null,null,null,null,null,false]
[null,"York High School","LOCAL","ACADEMIC INSTITUTION",1,4,5489,null,null,null,null,null,false]
[null,"YSI, Inc.","FEDERAL or NATIONAL","INDUSTRY AND BUSINESS",4,3,15869,null,null,null,null,null,false]
[null,"Zachary Elementary","LOCAL","ACADEMIC INSTITUTION",1,4,17603,null,null,null,null,null,false]
[null,"Zion-Benton Township High School","LOCAL","ACADEMIC INSTITUTION",1,4,9460,null,null,null,null,null,false]
[null,null,null,null,null,null,null,null,null,null,null,null,false]
[null,null,null,null,null,null,null,null,null,null,null,null,false]
[null,null,null,null,null,null,null,null,null,null,null,null,false]
[null,null,null,null,null,null,null,null,null,null,null,null,false]
[null,null,null,null,null,null,null,null,null,null,null,null,false]
[null,null,null,null,null,null,null,null,null,null,null,null,false]
[null,null,null,null,null,null,null,null,null,null,null,null,false]
[null,null,null,null,null,null,null,null,null,null,null,null,false]
[null,null,null,null,null,null,null,null,null,null,null,null,false]
[null,null,null,null,null,null,null,null,null,null,null,null,false]
[null,null,null,null,null,null,null,null,null,null,null,null,false]
[null,null,null,null,null,null,null,null,null,null,null,null,false]
[null,null,null,null,null,null,null,null,null,null,null,null,false]
[null,null,null,null,null,null,null,null,null,null,null,null,false]
[null,null,null,null,null,null,null,null,null,null,null,null,false]
[null,null,null,null,null,null,null,null,null,null,null,null,false]
[null,null,null,null,null,null,null,null,null,null,null,null,false]
[null,null,null,null,null,null,null,null,null,null,null,null,false]
[null,null,null,null,null,null,null,null,null,null,null,null,false]
[null,null,null,null,null,null,null,null,null,null,null,null,false]
[null,null,null,null,null,null,null,null,null,null,null,null,false]
[null,null,null,null,null,null,null,null,null,null,null,null,false]
[null,null,null,null,null,null,null,null,null,null,null,null,false]
[null,null,null,null,null,null,null,null,null,null,null,null,false]
[null,null,null,null,null,null,null,null,null,null,null,null,false]
[null,null,null,null,null,null,null,null,null,null,null,null,false]
[null,null,null,null,null,null,null,null,null,null,null,null,false]
[null,null,null,null,null,null,null,null,null,null,null,null,false]
[null,null,null,null,null,null,null,null,null,null,null,null,false]
[null,null,null,null,null,null,null,null,null,null,null,null,false]
[null,null,null,null,null,null,null,null,null,null,null,null,false]
[null,null,null,null,null,null,null,null,null,null,null,null,false]
[null,null,null,null,null,null,null,null,null,null,null,null,false]
[null,null,null,null,null,null,null,null,null,null,null,null,false]
[null,null,null,null,null,null,null,null,null,null,null,null,false]
[null,null,null,null,null,null,null,null,null,null,null,null,false]
[null,null,null,null,null,null,null,null,null,null,null,null,false]
[null,null,null,null,null,null,null,null,null,null,null,null,false]
[null,null,null,null,null,null,null,null,null,null,null,null,false]
[null,null,null,null,null,null,null,null,null,null,null,null,false]
[null,null,null,null,null,null,null,null,null,null,null,null,false]
[null,null,null,null,null,null,null,null,null,null,null,null,false]
[null,null,null,null,null,null,null,null,null,null,null,null,false]
[null,null,null,null,null,null,null,null,null,null,null,null,false]
[null,null,null,null,null,null,null,null,null,null,null,null,false]
[null,null,null,null,null,null,null,null,null,null,null,null,false]
[null,null,null,null,null,null,null,null,null,null,null,null,false]
[null,null,null,null,null,null,null,null,null,null,null,null,false]
[null,null,null,null,null,null,null,null,null,null,null,null,false]
[null,null,null,null,null,null,null,null,null,null,null,null,false]
[null,null,null,null,null,null,null,null,null,null,null,null,false]
[null,null,null,null,null,null,null,null,null,null,null,null,false]
[null,null,null,null,null,null,null,null,null,null,null,null,false]
[null,null,null,null,null,null,null,null,null,null,null,null,false]
[null,null,null,null,null,null,null,null,null,null,null,null,false]
[null,null,null,null,null,null,null,null,null,null,null,null,false]
[null,null,null,null,null,null,null,null,null,null,null,null,false]
[null,null,null,null,null,null,null,null,null,null,null,null,false]
[null,null,null,null,null,null,null,null,null,null,null,null,false]
[null,null,null,null,null,null,null,null,null,null,null,null,false]
[null,null,null,null,null,null,null,null,null,null,null,null,false]
[null,null,null,null,null,null,null,null,null,null,null,null,false]
[null,null,null,null,null,null,null,null,null,null,null,null,false]
[null,null,null,null,null,null,null,null,null,null,null,null,false]
[null,null,null,null,null,null,null,null,null,null,null,null,false]
[null,null,null,null,null,null,null,null,null,null,null,null,false]
[null,null,null,null,null,null,null,null,null,null,null,null,false]
[null,null,null,null,null,null,null,null,null,null,null,null,false]
[null,null,null,null,null,null,null,null,null,null,null,null,false]
[null,null,null,null,null,null,null,null,null,null,null,null,false]
[null,null,null,null,null,null,null,null,null,null,null,null,false]
[null,null,null,null,null,null,null,null,null,null,null,null,false]
[null,null,null,null,null,null,null,null,null,null,null,null,false]
[null,null,null,null,null,null,null,null,null,null,null,null,false]
[null,null,null,null,null,null,null,null,null,null,null,null,false]
[null,null,null,null,null,null,null,null,null,null,null,null,false]
[null,null,null,null,null,null,null,null,null,null,null,null,false]
[null,null,null,null,null,null,null,null,null,null,null,null,false]
[null,null,null,null,null,null,null,null,null,null,null,null,false]
[null,null,null,null,null,null,null,null,null,null,null,null,false]
[null,null,null,null,null,null,null,null,null,null,null,null,false]
[null,null,null,null,null,null,null,null,null,null,null,null,false]
[null,null,null,null,null,null,null,null,null,null,null,null,false]
[null,null,null,null,null,null,null,null,null,null,null,null,false]
[null,null,null,null,null,null,null,null,null,null,null,null,false]
[null,null,null,null,null,null,null,null,null,null,null,null,false]
[null,null,null,null,null,null,null,null,null,null,null,null,false]
[null,null,null,null,null,null,null,null,null,null,null,null,false]
[null,null,null,null,null,null,null,null,null,null,null,null,false]
[null,null,null,null,null,null,null,null,null,null,null,null,false]
[null,null,null,null,null,null,null,null,null,null,null,null,false]
[null,null,null,null,null,null,null,null,null,null,null,null,false]
[null,null,null,null,null,null,null,null,null,null,null,null,false]
[null,null,null,null,null,null,null,null,null,null,null,null,false]
[null,null,null,null,null,null,null,null,null,null,null,null,false]
[null,null,null,null,null,null,null,null,null,null,null,null,false]
[null,null,null,null,null,null,null,null,null,null,null,null,false]
[null,null,null,null,null,null,null,null,null,null,null,null,false]
[null,null,null,null,null,null,null,null,null,null,null,null,false]
[null,null,null,null,null,null,null,null,null,null,null,null,false]
[null,null,null,null,null,null,null,null,null,null,null,null,false]
[null,null,null,null,null,null,null,null,null,null,null,null,false]
[null,null,null,null,null,null,null,null,null,null,null,null,false]
[null,null,null,null,null,null,null,null,null,null,null,null,false]
[null,null,null,null,null,null,null,null,null,null,null,null,false]
[null,null,null,null,null,null,null,null,null,null,null,null,false]
[null,null,null,null,null,null,null,null,null,null,null,null,false]
[null,null,null,null,null,null,null,null,null,null,null,null,false]
[null,null,null,null,null,null,null,null,null,null,null,null,false]
[null,null,null,null,null,null,null,null,null,null,null,null,false]
[null,null,null,null,null,null,null,null,null,null,null,null,false]
[null,null,null,null,null,null,null,null,null,null,null,null,false]
[null,null,null,null,null,null,null,null,null,null,null,null,false]
[null,null,null,null,null,null,null,null,null,null,null,null,false]
[null,null,null,null,null,null,null,null,null,null,null,null,false]
[null,null,null,null,null,null,null,null,null,null,null,null,false]
[null,null,null,null,null,null,null,null,null,null,null,null,false]
[null,null,null,null,null,null,null,null,null,null,null,null,false]
[null,null,null,null,null,null,null,null,null,null,null,null,false]
[null,null,null,null,null,null,null,null,null,null,null,null,false]
[null,null,null,null,null,null,null,null,null,null,null,null,{"$f":"AND(  NOT(ISERROR(FIND(UPPER($B$7),UPPER($B16846),1))),  OR($D$7=\"\",NOT(ISERROR(FIND(UPPER($D$7),UPPER($B16846),1)))),    OR($D$8=\"\",(ISERROR(FIND(UPPER($D$8),UPPER($B16846),1))))           )","v":false}]
[null,null,null,null,null,null,null,null,null,null,null,null,false]
[null,null,null,null,null,null,null,null,null,null,null,null,false]
[null,null,null,null,null,null,null,null,null,null,null,null,false]
[null,null,null,null,null,null,null,null,null,null,null,null,false]
[null,null,null,null,null,null,null,null,null,null,null,null,false]
[null,null,null,null,null,null,null,null,null,null,null,null,false]
[null,null,null,null,null,null,null,null,null,null,null,null,false]
[null,null,null,null,null,null,null,null,null,null,null,null,false]
[null,null,null,null,null,null,null,null,null,null,null,null,false]
[null,null,null,null,null,null,null,null,null,null,null,null,false]
[null,null,null,null,null,null,null,null,null,null,null,null,false]
[null,null,null,null,null,null,null,null,null,null,null,null,false]
[null,null,null,null,null,null,null,null,null,null,null,null,false]
[null,null,null,null,null,null,null,null,null,null,null,null,false]
[null,null,null,null,null,null,null,null,null,null,null,null,false]
[null,null,null,null,null,null,null,null,null,null,null,null,false]
[null,null,null,null,null,null,null,null,null,null,null,null,false]
[null,null,null,null,null,null,null,null,null,null,null,null,false]
[null,null,null,null,null,null,null,null,null,null,null,null,false]
[null,null,null,null,null,null,null,null,null,null,null,null,false]
[null,null,null,null,null,null,null,null,null,null,null,null,false]
[null,null,null,null,null,null,null,null,null,null,null,null,false]
[null,null,null,null,null,null,null,null,null,null,null,null,false]
[null,null,null,null,null,null,null,null,null,null,null,null,false]
[null,null,null,null,null,null,null,null,null,null,null,null,false]
[null,null,null,null,null,null,null,null,null,null,null,null,false]
[null,null,null,null,null,null,null,null,null,null,null,null,false]
[null,null,null,null,null,null,null,null,null,null,null,null,false]
[null,null,null,null,null,null,null,null,null,null,null,null,false]
[null,null,null,null,null,null,null,null,null,null,null,null,false]
[null,null,null,null,null,null,null,null,null,null,null,null,false]
[null,null,null,null,null,null,null,null,null,null,null,null,false]
[null,null,null,null,null,null,null,null,null,null,null,null,false]
[null,null,null,null,null,null,null,null,null,null,null,null,false]
[null,null,null,null,null,null,null,null,null,null,null,null,false]
[null,null,null,null,null,null,null,null,null,null,null,null,false]
[null,null,null,null,null,null,null,null,null,null,null,null,false]
[null,null,null,null,null,null,null,null,null,null,null,null,false]
[null,null,null,null,null,null,null,null,null,null,null,null,false]
[null,null,null,null,null,null,null,null,null,null,null,null,false]
[null,null,null,null,null,null,null,null,null,null,null,null,false]
[null,null,null,null,null,null,null,null,null,null,null,null,false]
[null,null,null,null,null,null,null,null,null,null,null,null,false]
[null,null,null,null,null,null,null,null,null,null,null,null,false]
[null,null,null,null,null,null,null,null,null,null,null,null,false]
[null,null,null,null,null,null,null,null,null,null,null,null,false]
[null,null,null,null,null,null,null,null,null,null,null,null,false]
[null,null,null,null,null,null,null,null,null,null,null,null,false]
[null,null,null,null,null,null,null,null,null,null,null,null,false]
[null,null,null,null,null,null,null,null,null,null,null,null,false]
[null,null,null,null,null,null,null,null,null,null,null,null,false]
[null,null,null,null,null,null,null,null,null,null,null,null,false]
[null,null,null,null,null,null,null,null,null,null,null,null,false]
[null,null,null,null,null,null,null,null,null,null,null,null,false]
[null,null,null,null,null,null,null,null,null,null,null,null,false]
[null,null,null,null,null,null,null,null,null,null,null,null,false]
[null,null,null,null,null,null,null,null,null,null,null,null,false]
[null,null,null,null,null,null,null,null,null,null,null,null,false]
[null,null,null,null,null,null,null,null,null,null,null,null,false]
[null,null,null,null,null,null,null,null,null,null,null,null,false]
[null,null,null,null,null,null,null,null,null,null,null,null,false]
[null,null,null,null,null,null,null,null,null,null,null,null,false]
[null,null,null,null,null,null,null,null,null,null,null,null,false]
[null,null,null,null,null,null,null,null,null,null,null,null,{"$f":"AND(  NOT(ISERROR(FIND(UPPER($B$7),UPPER($B16910),1))),  OR($D$7=\"\",NOT(ISERROR(FIND(UPPER($D$7),UPPER($B16910),1)))),    OR($D$8=\"\",(ISERROR(FIND(UPPER($D$8),UPPER($B16910),1))))           )","v":false}]
[null,null,null,null,null,null,null,null,null,null,null,null,false]
[null,null,null,null,null,null,null,null,null,null,null,null,false]
[null,null,null,null,null,null,null,null,null,null,null,null,false]
[null,null,null,null,null,null,null,null,null,null,null,null,false]
[null,null,null,null,null,null,null,null,null,null,null,null,false]
[null,null,null,null,null,null,null,null,null,null,null,null,false]
[null,null,null,null,null,null,null,null,null,null,null,null,false]
[null,null,null,null,null,null,null,null,null,null,null,null,false]
[null,null,null,null,null,null,null,null,null,null,null,null,false]
[null,null,null,null,null,null,null,null,null,null,null,null,false]
[null,null,null,null,null,null,null,null,null,null,null,null,false]
[null,null,null,null,null,null,null,null,null,null,null,null,false]
[null,null,null,null,null,null,null,null,null,null,null,null,false]
[null,null,null,null,null,null,null,null,null,null,null,null,false]
[null,null,null,null,null,null,null,null,null,null,null,null,false]
[null,null,null,null,null,null,null,null,null,null,null,null,false]
[null,null,null,null,null,null,null,null,null,null,null,null,false]
[null,null,null,null,null,null,null,null,null,null,null,null,false]
[null,null,null,null,null,null,null,null,null,null,null,null,false]
[null,null,null,null,null,null,null,null,null,null,null,null,false]
[null,null,null,null,null,null,null,null,null,null,null,null,false]
[null,null,null,null,null,null,null,null,null,null,null,null,false]
[null,null,null,null,null,null,null,null,null,null,null,null,false]
[null,null,null,null,null,null,null,null,null,null,null,null,false]
[null,null,null,null,null,null,null,null,null,null,null,null,false]
[null,null,null,null,null,null,null,null,null,null,null,null,false]
[null,null,null,null,null,null,null,null,null,null,null,null,false]
[null,null,null,null,null,null,null,null,null,null,null,null,false]
[null,null,null,null,null,null,null,null,null,null,null,null,false]
[null,null,null,null,null,null,null,null,null,null,null,null,false]
[null,null,null,null,null,null,null,null,null,null,null,null,false]
[null,null,null,null,null,null,null,null,null,null,null,null,false]
[null,null,null,null,null,null,null,null,null,null,null,null,false]
[null,null,null,null,null,null,null,null,null,null,null,null,false]
[null,null,null,null,null,null,null,null,null,null,null,null,false]
[null,null,null,null,null,null,null,null,null,null,null,null,false]
[null,null,null,null,null,null,null,null,null,null,null,null,false]
[null,null,null,null,null,null,null,null,null,null,null,null,false]
[null,null,null,null,null,null,null,null,null,null,null,null,false]
[null,null,null,null,null,null,null,null,null,null,null,null,false]
[null,null,null,null,null,null,null,null,null,null,null,null,false]
[null,null,null,null,null,null,null,null,null,null,null,null,false]
[null,null,null,null,null,null,null,null,null,null,null,null,false]
[null,null,null,null,null,null,null,null,null,null,null,null,false]
[null,null,null,null,null,null,null,null,null,null,null,null,false]
[null,null,null,null,null,null,null,null,null,null,null,null,false]
[null,null,null,null,null,null,null,null,null,null,null,null,false]
[null,null,null,null,null,null,null,null,null,null,null,null,false]
[null,null,null,null,null,null,null,null,null,null,null,null,false]
[null,null,null,null,null,null,null,null,null,null,null,null,false]
[null,null,null,null,null,null,null,null,null,null,null,null,false]
[null,null,null,null,null,null,null,null,null,null,null,null,false]
[null,null,null,null,null,null,null,null,null,null,null,null,false]
[null,null,null,null,null,null,null,null,null,null,null,null,false]
[null,null,null,null,null,null,null,null,null,null,null,null,false]
[null,null,null,null,null,null,null,null,null,null,null,null,false]
[null,null,null,null,null,null,null,null,null,null,null,null,false]
[null,null,null,null,null,null,null,null,null,null,null,null,false]
[null,null,null,null,null,null,null,null,null,null,null,null,false]
[null,null,null,null,null,null,null,null,null,null,null,null,false]
[null,null,null,null,null,null,null,null,null,null,null,null,false]
[null,null,null,null,null,null,null,null,null,null,null,null,false]
[null,null,null,null,null,null,null,null,null,null,null,null,false]
[null,null,null,null,null,null,null,null,null,null,null,null,{"$f":"AND(  NOT(ISERROR(FIND(UPPER($B$7),UPPER($B16974),1))),  OR($D$7=\"\",NOT(ISERROR(FIND(UPPER($D$7),UPPER($B16974),1)))),    OR($D$8=\"\",(ISERROR(FIND(UPPER($D$8),UPPER($B16974),1))))           )","v":false}]
[null,null,null,null,null,null,null,null,null,null,null,null,false]
[null,null,null,null,null,null,null,null,null,null,null,null,false]
[null,null,null,null,null,null,null,null,null,null,null,null,false]
[null,null,null,null,null,null,null,null,null,null,null,null,false]
[null,null,null,null,null,null,null,null,null,null,null,null,false]
[null,null,null,null,null,null,null,null,null,null,null,null,false]
[null,null,null,null,null,null,null,null,null,null,null,null,false]
[null,null,null,null,null,null,null,null,null,null,null,null,false]
[null,null,null,null,null,null,null,null,null,null,null,null,false]
[null,null,null,null,null,null,null,null,null,null,null,null,false]
[null,null,null,null,null,null,null,null,null,null,null,null,false]
[null,null,null,null,null,null,null,null,null,null,null,null,false]
[null,null,null,null,null,null,null,null,null,null,null,null,false]
[null,null,null,null,null,null,null,null,null,null,null,null,false]
[null,null,null,null,null,null,null,null,null,null,null,null,false]
[null,null,null,null,null,null,null,null,null,null,null,null,false]
[null,null,null,null,null,null,null,null,null,null,null,null,false]
[null,null,null,null,null,null,null,null,null,null,null,null,false]
[null,null,null,null,null,null,null,null,null,null,null,null,false]
[null,null,null,null,null,null,null,null,null,null,null,null,false]
[null,null,null,null,null,null,null,null,null,null,null,null,false]
[null,null,null,null,null,null,null,null,null,null,null,null,false]
[null,null,null,null,null,null,null,null,null,null,null,null,false]
[null,null,null,null,null,null,null,null,null,null,null,null,false]
[null,null,null,null,null,null,null,null,null,null,null,null,false]
[null,null,null,null,null,null,null,null,null,null,null,null,false]
[null,null,null,null,null,null,null,null,null,null,null,null,false]
[null,null,null,null,null,null,null,null,null,null,null,null,false]
[null,null,null,null,null,null,null,null,null,null,null,null,false]
[null,null,null,null,null,null,null,null,null,null,null,null,false]
[null,null,null,null,null,null,null,null,null,null,null,null,false]
[null,null,null,null,null,null,null,null,null,null,null,null,false]
[null,null,null,null,null,null,null,null,null,null,null,null,false]
[null,null,null,null,null,null,null,null,null,null,null,null,false]
[null,null,null,null,null,null,null,null,null,null,null,null,false]
[null,null,null,null,null,null,null,null,null,null,null,null,false]
[null,null,null,null,null,null,null,null,null,null,null,null,false]
[null,null,null,null,null,null,null,null,null,null,null,null,false]
[null,null,null,null,null,null,null,null,null,null,null,null,false]
[null,null,null,null,null,null,null,null,null,null,null,null,false]
[null,null,null,null,null,null,null,null,null,null,null,null,false]
[null,null,null,null,null,null,null,null,null,null,null,null,false]
[null,null,null,null,null,null,null,null,null,null,null,null,false]
[null,null,null,null,null,null,null,null,null,null,null,null,false]
[null,null,null,null,null,null,null,null,null,null,null,null,false]
[null,null,null,null,null,null,null,null,null,null,null,null,false]
[null,null,null,null,null,null,null,null,null,null,null,null,false]
[null,null,null,null,null,null,null,null,null,null,null,null,false]
[null,null,null,null,null,null,null,null,null,null,null,null,false]
[null,null,null,null,null,null,null,null,null,null,null,null,false]
[null,null,null,null,null,null,null,null,null,null,null,null,false]
[null,null,null,null,null,null,null,null,null,null,null,null,false]
[null,null,null,null,null,null,null,null,null,null,null,null,false]
[null,null,null,null,null,null,null,null,null,null,null,null,false]
[null,null,null,null,null,null,null,null,null,null,null,null,false]
[null,null,null,null,null,null,null,null,null,null,null,null,false]
[null,null,null,null,null,null,null,null,null,null,null,null,false]
[null,null,null,null,null,null,null,null,null,null,null,null,false]
[null,null,null,null,null,null,null,null,null,null,null,null,false]
[null,null,null,null,null,null,null,null,null,null,null,null,false]
[null,null,null,null,null,null,null,null,null,null,null,null,false]
[null,null,null,null,null,null,null,null,null,null,null,null,false]
[null,null,null,null,null,null,null,null,null,null,null,null,false]
[null,null,null,null,null,null,null,null,null,null,null,null,{"$f":"AND(  NOT(ISERROR(FIND(UPPER($B$7),UPPER($B17038),1))),  OR($D$7=\"\",NOT(ISERROR(FIND(UPPER($D$7),UPPER($B17038),1)))),    OR($D$8=\"\",(ISERROR(FIND(UPPER($D$8),UPPER($B17038),1))))           )","v":false}]
[null,null,null,null,null,null,null,null,null,null,null,null,false]
[null,null,null,null,null,null,null,null,null,null,null,null,false]
[null,null,null,null,null,null,null,null,null,null,null,null,false]
[null,null,null,null,null,null,null,null,null,null,null,null,false]
[null,null,null,null,null,null,null,null,null,null,null,null,false]
[null,null,null,null,null,null,null,null,null,null,null,null,false]
[null,null,null,null,null,null,null,null,null,null,null,null,false]
[null,null,null,null,null,null,null,null,null,null,null,null,false]
[null,null,null,null,null,null,null,null,null,null,null,null,false]
[null,null,null,null,null,null,null,null,null,null,null,null,false]
[null,null,null,null,null,null,null,null,null,null,null,null,false]
[null,null,null,null,null,null,null,null,null,null,null,null,false]
[null,null,null,null,null,null,null,null,null,null,null,null,false]
[null,null,null,null,null,null,null,null,null,null,null,null,false]
[null,null,null,null,null,null,null,null,null,null,null,null,false]
[null,null,null,null,null,null,null,null,null,null,null,null,false]
[null,null,null,null,null,null,null,null,null,null,null,null,false]
[null,null,null,null,null,null,null,null,null,null,null,null,false]
[null,null,null,null,null,null,null,null,null,null,null,null,false]
[null,null,null,null,null,null,null,null,null,null,null,null,false]
[null,null,null,null,null,null,null,null,null,null,null,null,false]
[null,null,null,null,null,null,null,null,null,null,null,null,false]
[null,null,null,null,null,null,null,null,null,null,null,null,false]
[null,null,null,null,null,null,null,null,null,null,null,null,false]
[null,null,null,null,null,null,null,null,null,null,null,null,false]
[null,null,null,null,null,null,null,null,null,null,null,null,false]
[null,null,null,null,null,null,null,null,null,null,null,null,false]
[null,null,null,null,null,null,null,null,null,null,null,null,false]
[null,null,null,null,null,null,null,null,null,null,null,null,false]
[null,null,null,null,null,null,null,null,null,null,null,null,false]
[null,null,null,null,null,null,null,null,null,null,null,null,false]
[null,null,null,null,null,null,null,null,null,null,null,null,false]
[null,null,null,null,null,null,null,null,null,null,null,null,false]
[null,null,null,null,null,null,null,null,null,null,null,null,false]
[null,null,null,null,null,null,null,null,null,null,null,null,false]
[null,null,null,null,null,null,null,null,null,null,null,null,false]
[null,null,null,null,null,null,null,null,null,null,null,null,false]
[null,null,null,null,null,null,null,null,null,null,null,null,false]
[null,null,null,null,null,null,null,null,null,null,null,null,false]
[null,null,null,null,null,null,null,null,null,null,null,null,false]
[null,null,null,null,null,null,null,null,null,null,null,null,false]
[null,null,null,null,null,null,null,null,null,null,null,null,false]
[null,null,null,null,null,null,null,null,null,null,null,null,false]
[null,null,null,null,null,null,null,null,null,null,null,null,false]
[null,null,null,null,null,null,null,null,null,null,null,null,false]
[null,null,null,null,null,null,null,null,null,null,null,null,false]
[null,null,null,null,null,null,null,null,null,null,null,null,false]
[null,null,null,null,null,null,null,null,null,null,null,null,false]
[null,null,null,null,null,null,null,null,null,null,null,null,false]
[null,null,null,null,null,null,null,null,null,null,null,null,false]
[null,null,null,null,null,null,null,null,null,null,null,null,false]
[null,null,null,null,null,null,null,null,null,null,null,null,false]
[null,null,null,null,null,null,null,null,null,null,null,null,false]
[null,null,null,null,null,null,null,null,null,null,null,null,false]
[null,null,null,null,null,null,null,null,null,null,null,null,false]
[null,null,null,null,null,null,null,null,null,null,null,null,false]
[null,null,null,null,null,null,null,null,null,null,null,null,false]
[null,null,null,null,null,null,null,null,null,null,null,null,false]
[null,null,null,null,null,null,null,null,null,null,null,null,false]
[null,null,null,null,null,null,null,null,null,null,null,null,false]
[null,null,null,null,null,null,null,null,null,null,null,null,false]
[null,null,null,null,null,null,null,null,null,null,null,null,false]
[null,null,null,null,null,null,null,null,null,null,null,null,false]
[null,null,null,null,null,null,null,null,null,null,null,null,{"$f":"AND(  NOT(ISERROR(FIND(UPPER($B$7),UPPER($B17102),1))),  OR($D$7=\"\",NOT(ISERROR(FIND(UPPER($D$7),UPPER($B17102),1)))),    OR($D$8=\"\",(ISERROR(FIND(UPPER($D$8),UPPER($B17102),1))))           )","v":false}]
[null,null,null,null,null,null,null,null,null,null,null,null,false]
[null,null,null,null,null,null,null,null,null,null,null,null,false]
[null,null,null,null,null,null,null,null,null,null,null,null,false]
[null,null,null,null,null,null,null,null,null,null,null,null,false]
[null,null,null,null,null,null,null,null,null,null,null,null,false]
[null,null,null,null,null,null,null,null,null,null,null,null,false]
[null,null,null,null,null,null,null,null,null,null,null,null,false]
[null,null,null,null,null,null,null,null,null,null,null,null,false]
[null,null,null,null,null,null,null,null,null,null,null,null,false]
[null,null,null,null,null,null,null,null,null,null,null,null,false]
[null,null,null,null,null,null,null,null,null,null,null,null,false]
[null,null,null,null,null,null,null,null,null,null,null,null,false]
[null,null,null,null,null,null,null,null,null,null,null,null,false]
[null,null,null,null,null,null,null,null,null,null,null,null,false]
[null,null,null,null,null,null,null,null,null,null,null,null,false]
[null,null,null,null,null,null,null,null,null,null,null,null,false]
[null,null,null,null,null,null,null,null,null,null,null,null,false]
[null,null,null,null,null,null,null,null,null,null,null,null,false]
[null,null,null,null,null,null,null,null,null,null,null,null,false]
[null,null,null,null,null,null,null,null,null,null,null,null,false]
[null,null,null,null,null,null,null,null,null,null,null,null,false]
[null,null,null,null,null,null,null,null,null,null,null,null,false]
[null,null,null,null,null,null,null,null,null,null,null,null,false]
[null,null,null,null,null,null,null,null,null,null,null,null,false]
[null,null,null,null,null,null,null,null,null,null,null,null,false]
[null,null,null,null,null,null,null,null,null,null,null,null,false]
[null,null,null,null,null,null,null,null,null,null,null,null,false]
[null,null,null,null,null,null,null,null,null,null,null,null,false]
[null,null,null,null,null,null,null,null,null,null,null,null,false]
[null,null,null,null,null,null,null,null,null,null,null,null,false]
[null,null,null,null,null,null,null,null,null,null,null,null,false]
[null,null,null,null,null,null,null,null,null,null,null,null,false]
[null,null,null,null,null,null,null,null,null,null,null,null,false]
[null,null,null,null,null,null,null,null,null,null,null,null,false]
[null,null,null,null,null,null,null,null,null,null,null,null,false]
[null,null,null,null,null,null,null,null,null,null,null,null,false]
[null,null,null,null,null,null,null,null,null,null,null,null,false]
[null,null,null,null,null,null,null,null,null,null,null,null,false]
[null,null,null,null,null,null,null,null,null,null,null,null,false]
[null,null,null,null,null,null,null,null,null,null,null,null,false]
[null,null,null,null,null,null,null,null,null,null,null,null,false]
[null,null,null,null,null,null,null,null,null,null,null,null,false]
[null,null,null,null,null,null,null,null,null,null,null,null,false]
[null,null,null,null,null,null,null,null,null,null,null,null,false]
[null,null,null,null,null,null,null,null,null,null,null,null,false]
[null,null,null,null,null,null,null,null,null,null,null,null,false]
[null,null,null,null,null,null,null,null,null,null,null,null,false]
[null,null,null,null,null,null,null,null,null,null,null,null,false]
[null,null,null,null,null,null,null,null,null,null,null,null,false]
[null,null,null,null,null,null,null,null,null,null,null,null,false]
[null,null,null,null,null,null,null,null,null,null,null,null,false]
[null,null,null,null,null,null,null,null,null,null,null,null,false]
[null,null,null,null,null,null,null,null,null,null,null,null,false]
[null,null,null,null,null,null,null,null,null,null,null,null,false]
[null,null,null,null,null,null,null,null,null,null,null,null,false]
[null,null,null,null,null,null,null,null,null,null,null,null,false]
[null,null,null,null,null,null,null,null,null,null,null,null,false]
[null,null,null,null,null,null,null,null,null,null,null,null,false]
[null,null,null,null,null,null,null,null,null,null,null,null,false]
[null,null,null,null,null,null,null,null,null,null,null,null,false]
[null,null,null,null,null,null,null,null,null,null,null,null,false]
[null,null,null,null,null,null,null,null,null,null,null,null,false]
[null,null,null,null,null,null,null,null,null,null,null,null,false]
[null,null,null,null,null,null,null,null,null,null,null,null,{"$f":"AND(  NOT(ISERROR(FIND(UPPER($B$7),UPPER($B17166),1))),  OR($D$7=\"\",NOT(ISERROR(FIND(UPPER($D$7),UPPER($B17166),1)))),    OR($D$8=\"\",(ISERROR(FIND(UPPER($D$8),UPPER($B17166),1))))           )","v":false}]
[null,null,null,null,null,null,null,null,null,null,null,null,false]
[null,null,null,null,null,null,null,null,null,null,null,null,false]
[null,null,null,null,null,null,null,null,null,null,null,null,false]
[null,null,null,null,null,null,null,null,null,null,null,null,false]
[null,null,null,null,null,null,null,null,null,null,null,null,false]
[null,null,null,null,null,null,null,null,null,null,null,null,false]
[null,null,null,null,null,null,null,null,null,null,null,null,false]
[null,null,null,null,null,null,null,null,null,null,null,null,false]
[null,null,null,null,null,null,null,null,null,null,null,null,false]
[null,null,null,null,null,null,null,null,null,null,null,null,false]
[null,null,null,null,null,null,null,null,null,null,null,null,false]
[null,null,null,null,null,null,null,null,null,null,null,null,false]
[null,null,null,null,null,null,null,null,null,null,null,null,false]
[null,null,null,null,null,null,null,null,null,null,null,null,false]
[null,null,null,null,null,null,null,null,null,null,null,null,false]
[null,null,null,null,null,null,null,null,null,null,null,null,false]
[null,null,null,null,null,null,null,null,null,null,null,null,false]
[null,null,null,null,null,null,null,null,null,null,null,null,false]
[null,null,null,null,null,null,null,null,null,null,null,null,false]
[null,null,null,null,null,null,null,null,null,null,null,null,false]
[null,null,null,null,null,null,null,null,null,null,null,null,false]
[null,null,null,null,null,null,null,null,null,null,null,null,false]
[null,null,null,null,null,null,null,null,null,null,null,null,false]
[null,null,null,null,null,null,null,null,null,null,null,null,false]
[null,null,null,null,null,null,null,null,null,null,null,null,false]
[null,null,null,null,null,null,null,null,null,null,null,null,false]
[null,null,null,null,null,null,null,null,null,null,null,null,false]
[null,null,null,null,null,null,null,null,null,null,null,null,false]
[null,null,null,null,null,null,null,null,null,null,null,null,false]
[null,null,null,null,null,null,null,null,null,null,null,null,false]
[null,null,null,null,null,null,null,null,null,null,null,null,false]
[null,null,null,null,null,null,null,null,null,null,null,null,false]
[null,null,null,null,null,null,null,null,null,null,null,null,false]
[null,null,null,null,null,null,null,null,null,null,null,null,false]
[null,null,null,null,null,null,null,null,null,null,null,null,false]
[null,null,null,null,null,null,null,null,null,null,null,null,false]
[null,null,null,null,null,null,null,null,null,null,null,null,false]
[null,null,null,null,null,null,null,null,null,null,null,null,false]
[null,null,null,null,null,null,null,null,null,null,null,null,false]
[null,null,null,null,null,null,null,null,null,null,null,null,false]
[null,null,null,null,null,null,null,null,null,null,null,null,false]
[null,null,null,null,null,null,null,null,null,null,null,null,false]
[null,null,null,null,null,null,null,null,null,null,null,null,false]
[null,null,null,null,null,null,null,null,null,null,null,null,false]
[null,null,null,null,null,null,null,null,null,null,null,null,false]
[null,null,null,null,null,null,null,null,null,null,null,null,false]
[null,null,null,null,null,null,null,null,null,null,null,null,false]
[null,null,null,null,null,null,null,null,null,null,null,null,false]
[null,null,null,null,null,null,null,null,null,null,null,null,false]
[null,null,null,null,null,null,null,null,null,null,null,null,false]
[null,null,null,null,null,null,null,null,null,null,null,null,false]
[null,null,null,null,null,null,null,null,null,null,null,null,false]
[null,null,null,null,null,null,null,null,null,null,null,null,false]
[null,null,null,null,null,null,null,null,null,null,null,null,false]
[null,null,null,null,null,null,null,null,null,null,null,null,false]
[null,null,null,null,null,null,null,null,null,null,null,null,false]
[null,null,null,null,null,null,null,null,null,null,null,null,false]
[null,null,null,null,null,null,null,null,null,null,null,null,false]
[null,null,null,null,null,null,null,null,null,null,null,null,false]
[null,null,null,null,null,null,null,null,null,null,null,null,false]
[null,null,null,null,null,null,null,null,null,null,null,null,false]
[null,null,null,null,null,null,null,null,null,null,null,null,false]
[null,null,null,null,null,null,null,null,null,null,null,null,false]
[null,null,null,null,null,null,null,null,null,null,null,null,{"$f":"AND(  NOT(ISERROR(FIND(UPPER($B$7),UPPER($B17230),1))),  OR($D$7=\"\",NOT(ISERROR(FIND(UPPER($D$7),UPPER($B17230),1)))),    OR($D$8=\"\",(ISERROR(FIND(UPPER($D$8),UPPER($B17230),1))))           )","v":false}]
[null,null,null,null,null,null,null,null,null,null,null,null,false]
[null,null,null,null,null,null,null,null,null,null,null,null,false]
[null,null,null,null,null,null,null,null,null,null,null,null,false]
[null,null,null,null,null,null,null,null,null,null,null,null,false]
[null,null,null,null,null,null,null,null,null,null,null,null,false]
[null,null,null,null,null,null,null,null,null,null,null,null,false]
[null,null,null,null,null,null,null,null,null,null,null,null,false]
[null,null,null,null,null,null,null,null,null,null,null,null,false]
[null,null,null,null,null,null,null,null,null,null,null,null,false]
[null,null,null,null,null,null,null,null,null,null,null,null,false]
[null,null,null,null,null,null,null,null,null,null,null,null,false]
[null,null,null,null,null,null,null,null,null,null,null,null,false]
[null,null,null,null,null,null,null,null,null,null,null,null,false]
[null,null,null,null,null,null,null,null,null,null,null,null,false]
[null,null,null,null,null,null,null,null,null,null,null,null,false]
[null,null,null,null,null,null,null,null,null,null,null,null,false]
[null,null,null,null,null,null,null,null,null,null,null,null,false]
[null,null,null,null,null,null,null,null,null,null,null,null,false]
[null,null,null,null,null,null,null,null,null,null,null,null,false]
[null,null,null,null,null,null,null,null,null,null,null,null,false]
[null,null,null,null,null,null,null,null,null,null,null,null,false]
[null,null,null,null,null,null,null,null,null,null,null,null,false]
[null,null,null,null,null,null,null,null,null,null,null,null,false]
[null,null,null,null,null,null,null,null,null,null,null,null,false]
[null,null,null,null,null,null,null,null,null,null,null,null,false]
[null,null,null,null,null,null,null,null,null,null,null,null,false]
[null,null,null,null,null,null,null,null,null,null,null,null,false]
[null,null,null,null,null,null,null,null,null,null,null,null,false]
[null,null,null,null,null,null,null,null,null,null,null,null,false]
[null,null,null,null,null,null,null,null,null,null,null,null,false]
[null,null,null,null,null,null,null,null,null,null,null,null,false]
[null,null,null,null,null,null,null,null,null,null,null,null,false]
[null,null,null,null,null,null,null,null,null,null,null,null,false]
[null,null,null,null,null,null,null,null,null,null,null,null,false]
[null,null,null,null,null,null,null,null,null,null,null,null,false]
[null,null,null,null,null,null,null,null,null,null,null,null,false]
[null,null,null,null,null,null,null,null,null,null,null,null,false]
[null,null,null,null,null,null,null,null,null,null,null,null,false]
[null,null,null,null,null,null,null,null,null,null,null,null,false]
[null,null,null,null,null,null,null,null,null,null,null,null,false]
[null,null,null,null,null,null,null,null,null,null,null,null,false]
[null,null,null,null,null,null,null,null,null,null,null,null,false]
[null,null,null,null,null,null,null,null,null,null,null,null,false]
[null,null,null,null,null,null,null,null,null,null,null,null,false]
[null,null,null,null,null,null,null,null,null,null,null,null,false]
[null,null,null,null,null,null,null,null,null,null,null,null,false]
[null,null,null,null,null,null,null,null,null,null,null,null,false]
[null,null,null,null,null,null,null,null,null,null,null,null,false]
[null,null,null,null,null,null,null,null,null,null,null,null,false]
[null,null,null,null,null,null,null,null,null,null,null,null,false]
[null,null,null,null,null,null,null,null,null,null,null,null,false]
[null,null,null,null,null,null,null,null,null,null,null,null,false]
[null,null,null,null,null,null,null,null,null,null,null,null,false]
[null,null,null,null,null,null,null,null,null,null,null,null,false]
[null,null,null,null,null,null,null,null,null,null,null,null,false]
[null,null,null,null,null,null,null,null,null,null,null,null,false]
[null,null,null,null,null,null,null,null,null,null,null,null,false]
[null,null,null,null,null,null,null,null,null,null,null,null,false]
[null,null,null,null,null,null,null,null,null,null,null,null,false]
[null,null,null,null,null,null,null,null,null,null,null,null,false]
[null,null,null,null,null,null,null,null,null,null,null,null,false]
[null,null,null,null,null,null,null,null,null,null,null,null,false]
[null,null,null,null,null,null,null,null,null,null,null,null,false]
[null,null,null,null,null,null,null,null,null,null,null,null,{"$f":"AND(  NOT(ISERROR(FIND(UPPER($B$7),UPPER($B17294),1))),  OR($D$7=\"\",NOT(ISERROR(FIND(UPPER($D$7),UPPER($B17294),1)))),    OR($D$8=\"\",(ISERROR(FIND(UPPER($D$8),UPPER($B17294),1))))           )","v":false}]
[null,null,null,null,null,null,null,null,null,null,null,null,false]
[null,null,null,null,null,null,null,null,null,null,null,null,false]
[null,null,null,null,null,null,null,null,null,null,null,null,false]
[null,null,null,null,null,null,null,null,null,null,null,null,false]
[null,null,null,null,null,null,null,null,null,null,null,null,false]
[null,null,null,null,null,null,null,null,null,null,null,null,false]
[null,null,null,null,null,null,null,null,null,null,null,null,false]
[null,null,null,null,null,null,null,null,null,null,null,null,false]
[null,null,null,null,null,null,null,null,null,null,null,null,false]
[null,null,null,null,null,null,null,null,null,null,null,null,false]
[null,null,null,null,null,null,null,null,null,null,null,null,false]
[null,null,null,null,null,null,null,null,null,null,null,null,false]
[null,null,null,null,null,null,null,null,null,null,null,null,false]
[null,null,null,null,null,null,null,null,null,null,null,null,false]
[null,null,null,null,null,null,null,null,null,null,null,null,false]
[null,null,null,null,null,null,null,null,null,null,null,null,false]
[null,null,null,null,null,null,null,null,null,null,null,null,false]
[null,null,null,null,null,null,null,null,null,null,null,null,false]
[null,null,null,null,null,null,null,null,null,null,null,null,false]
[null,null,null,null,null,null,null,null,null,null,null,null,false]
[null,null,null,null,null,null,null,null,null,null,null,null,false]
[null,null,null,null,null,null,null,null,null,null,null,null,false]
[null,null,null,null,null,null,null,null,null,null,null,null,false]
[null,null,null,null,null,null,null,null,null,null,null,null,false]
[null,null,null,null,null,null,null,null,null,null,null,null,false]
[null,null,null,null,null,null,null,null,null,null,null,null,false]
[null,null,null,null,null,null,null,null,null,null,null,null,false]
[null,null,null,null,null,null,null,null,null,null,null,null,false]
[null,null,null,null,null,null,null,null,null,null,null,null,false]

{"sheet":"FocusAreas","index":54,"n_rows":936,"n_cols":16,"rows_kept":936,"cut":false,"hidden":false,"merged":[]}
[null,null,null,null,null,null,null,null,null,null,null,null,null,"worksheet:","S1-Start Here"]
[null,null,"Select one Focus Area (single-click on that cell). Hit \"Add\".",null,null,null,null,null,null,null,null,null,null,"row:",30]
[]
[null,null,null,null,null,null,null,null,null,null,null,null,null,null,"SEA GRANT PROJECT SUMMARY FORM 90-2"]
[null,null,{"$f":"IF(O6<>\"\",\"\",\"(Did you fill out the 'Institution' field on the 90-2 form?)\")","v":"(Did you fill out the 'Institution' field on the 90-2 form?)"}]
[null,null,null,null,null,null,null,null,null,null,null,null,null,"program:"]
[null,"Plan ",{"$f":"O7","v":2018},null,null,null,null,null,null,null,null,null,null,"year:",2018,"<-- change to 2014 to see earlier focus areas"]
[null,"Program",{"$f":"O6","v":0}]
[null,null,null,null,null,null,null,null,null,null,null,null,null,2378,"Sustainable Fisheries and Aquaculture"]
[null,"FA ID","Focus Area","Plan","Program","Plan Start Year","Plan End Year","find?  ",null,null,null,null,null,{"$f":"CONCATENATE(TEXT(N9,\"0000\"),\" \",O9)","v":"2378 Sustainable Fisheries and Aquaculture"}]
[null,2369,"Healthy Coastal Ecosystems","Alaska Sea Grant Strategic Plan 2018-2021","AK",2018,2021,{"$f":"AND(O$6=E11,O$7>=F11,O$7<=G11,C$7=F11)","v":false}]
[null,2370,"Sustainable Fisheries and Aquaculture","Alaska Sea Grant Strategic Plan 2018-2021","AK",2018,2021,{"$f":"AND(O$6=E12,O$7>=F12,O$7<=G12,C$7=F12)","v":false}]
[null,2371,"Resilient Communities and Economies","Alaska Sea Grant Strategic Plan 2018-2021","AK",2018,2021,false]
[null,2372,"Environmental Literacy and Workforce Development","Alaska Sea Grant Strategic Plan 2018-2021","AK",2018,2021,false]
[null,2385,"Healthy Coastal Ecosystems","California Sea Grant Strategic Plan 2018-2021","CA",2018,2021,false]
[null,2386,"Sustainable Fisheries and Aquaculture","California Sea Grant Strategic Plan 2018-2021","CA",2018,2021,false]
[null,2387,"Resilient Coastal Communities and Economies","California Sea Grant Strategic Plan 2018-2021","CA",2018,2021,false]
[null,2388,"Education, Training and Public Information","California Sea Grant Strategic Plan 2018-2021","CA",2018,2021,false]
[null,2320,"Coastal Ecosystems and Watersheds","Connecticut Sea Grant Strategic Plan 2018-2021","CT",2018,2021,false]
[null,2321,"Fisheries and Aquaculture","Connecticut Sea Grant Strategic Plan 2018-2021","CT",2018,2021,false]
[null,2322,"Resilient Communities","Connecticut Sea Grant Strategic Plan 2018-2021","CT",2018,2021,false]
[null,2323,"Environmental Literacy and Workforce Development","Connecticut Sea Grant Strategic Plan 2018-2021","CT",2018,2021,false]
[null,2408,"Healthy Coastal Ecosystem (HCE)","Delaware Sea Grant: Strategic Plan (2018-2021)","DE",2018,2021,false]
[null,2409,"Resilient Communities & Economies (RCE)","Delaware Sea Grant: Strategic Plan (2018-2021)","DE",2018,2021,false]
[null,2410,"Sustainable Fisheries and Aquaculture (SFA)","Delaware Sea Grant: Strategic Plan (2018-2021)","DE",2018,2021,false]
[null,2411,"Environmental Literacy and Workforce Development (ELWD)","Delaware Sea Grant: Strategic Plan (2018-2021)","DE",2018,2021,false]
[null,2429,"Healthy Coastal Environments","Florida Sea Grant College Program: Strategic Plan 2018-2021","FL",2018,2021,false]
[null,2430,"Sustainable Fisheries and Aquaculture","Florida Sea Grant College Program: Strategic Plan 2018-2021","FL",2018,2021,false]
[null,2431,"Resilient Communities and Economies","Florida Sea Grant College Program: Strategic Plan 2018-2021","FL",2018,2021,false]
[null,2432,"Environmental Literacy and Workforce Development","Florida Sea Grant College Program: Strategic Plan 2018-2021","FL",2018,2021,false]
[null,2284,"Environment Literacy and Workforce Development","The Georgia Sea Grant College Program Strategic Plan 2018-2021","GA",2018,2021,false]
[null,2285,"Healthy Coastal Ecosystems","The Georgia Sea Grant College Program Strategic Plan 2018-2021","GA",2018,2021,false]
[null,2286,"Sustainable Fisheries and Aquaculture","The Georgia Sea Grant College Program Strategic Plan 2018-2021","GA",2018,2021,false]
[null,2287,"Resilient Communities and Economies","The Georgia Sea Grant College Program Strategic Plan 2018-2021","GA",2018,2021,false]
[null,2397,"Healthy Coastal Ecosystems","University of Guam Sea Grant Strategic Plan 2018-2021","GU",2018,2021,false]
[null,2398,"Environmental Literacy and Workforce Development","University of Guam Sea Grant Strategic Plan 2018-2021","GU",2018,2021,false]
[null,2389,"Healthy Coastal Ecosystems","University of Hawaii Sea Grant College Program 2018-2021 Strategic Plan","HI",2018,2021,false]
[null,2390,"Sustainable Fisheries and Aquaculture","University of Hawaii Sea Grant College Program 2018-2021 Strategic Plan","HI",2018,2021,false]
[null,2391,"Resilient Communities and Economies","University of Hawaii Sea Grant College Program 2018-2021 Strategic Plan","HI",2018,2021,false]
[null,2392,"Environmental Literacy and Workforce Development","University of Hawaii Sea Grant College Program 2018-2021 Strategic Plan","HI",2018,2021,false]
[null,2332,"Resilient Communities and Economies","Illinois-Indiana Sea Grant Strategic Plan 2018-2021","IL-IN",2018,2021,false]
[null,2333,"Environmental Literacy and Workforce Development","Illinois-Indiana Sea Grant Strategic Plan 2018-2021","IL-IN",2018,2021,false]
[null,2334,"Healthy Coastal Ecosystems","Illinois-Indiana Sea Grant Strategic Plan 2018-2021","IL-IN",2018,2021,false]
[null,2316,"Healthy Coastal Ecosystems","Louisiana Sea Grant Strategic Plan 2018-2021","LA",2018,2021,false]
[null,2317,"Environmental Literacy and Workforce Development","Louisiana Sea Grant Strategic Plan 2018-2021","LA",2018,2021,false]
[null,2318,"Resilient Communities and Economies","Louisiana Sea Grant Strategic Plan 2018-2021","LA",2018,2021,false]
[null,2319,"Sustainable Fisheries and Aquaculture","Louisiana Sea Grant Strategic Plan 2018-2021","LA",2018,2021,false]
[null,2296,"Healthy Coastal Ecosystems","National Sea Grant Law Center: 2018-2021 Strategic Plan","NSGLC",2018,2021,false]
[null,2297,"Sustainable Fisheries and Aquaculture","National Sea Grant Law Center: 2018-2021 Strategic Plan","NSGLC",2018,2021,false]
[null,2298,"Resilient Communities and Economies","National Sea Grant Law Center: 2018-2021 Strategic Plan","NSGLC",2018,2021,false]
[null,2299,"Environmental Literacy and Workforce Development","National Sea Grant Law Center: 2018-2021 Strategic Plan","NSGLC",2018,2021,false]
[null,2300,"Cross-cutting Programming","National Sea Grant Law Center: 2018-2021 Strategic Plan","NSGLC",2018,2021,false]
[null,2342,"Resilient Communities and Economies","Lake Champlain Sea Grant 2018-2021","LC",2018,2021,false]
[null,2343,"Environmental Literacy and Workforce Development","Lake Champlain Sea Grant 2018-2021","LC",2018,2021,false]
[null,2373,"Healthy Coastal Ecosystems","Science Serving Maryland's Coasts, Maryland Sea Grant: Strategic Plan 2018-2021","MD",2018,2021,false]
[null,2374,"Sustainable Fisheries and Aquaculture","Science Serving Maryland's Coasts, Maryland Sea Grant: Strategic Plan 2018-2021","MD",2018,2021,false]
[null,2375,"Resilient Communities and Economies","Science Serving Maryland's Coasts, Maryland Sea Grant: Strategic Plan 2018-2021","MD",2018,2021,false]
[null,2376,"Effective Environmental Science Education","Science Serving Maryland's Coasts, Maryland Sea Grant: Strategic Plan 2018-2021","MD",2018,2021,false]
[null,2412,"Healthy Coastal Ecosystems","Maine Sea Grant Strategic Plan: Marine Science for Maine People in a Time of Rapid Change","ME",2018,2021,false]
[null,2413,"Resilient Communities","Maine Sea Grant Strategic Plan: Marine Science for Maine People in a Time of Rapid Change","ME",2018,2021,false]
[null,2414,"Safe and Sustainable Seafood","Maine Sea Grant Strategic Plan: Marine Science for Maine People in a Time of Rapid Change","ME",2018,2021,false]
[null,2415,"Communities Preparing for a Changing Climate","Maine Sea Grant Strategic Plan: Marine Science for Maine People in a Time of Rapid Change","ME",2018,2021,false]
[null,2416,"Environmental Literacy and Workforce Development","Maine Sea Grant Strategic Plan: Marine Science for Maine People in a Time of Rapid Change","ME",2018,2021,false]
[null,2277,"Healthy Coastal Ecosystems","Michigan Sea Grant Strategic Plan 2018-2021","MI",2018,2021,false]
[null,2278,"Resilient Communities and Economies","Michigan Sea Grant Strategic Plan 2018-2021","MI",2018,2021,false]
[null,2279,"Sustainable Fisheries and Aquaculture","Michigan Sea Grant Strategic Plan 2018-2021","MI",2018,2021,false]
[null,2290,"Environmental Literacy and Workforce Development","Michigan Sea Grant Strategic Plan 2018-2021","MI",2018,2021,false]
[null,2404,"Healthy Coastal Ecosystems","MIT Sea Grant Strategic Plan 2018-2021","MIT",2018,2021,false]
[null,2405,"Environmental Literacy and Workforce Development","MIT Sea Grant Strategic Plan 2018-2021","MIT",2018,2021,false]
[null,2406,"Sustainable Fisheries and Aquaculture","MIT Sea Grant Strategic Plan 2018-2021","MIT",2018,2021,false]
[null,2407,"Resilient Communities and Economies","MIT Sea Grant Strategic Plan 2018-2021","MIT",2018,2021,false]
[null,2353,"Healthy Coastal Ecosystems","MN Sea Grant Strategic Plan 2018-2021","MN",2018,2021,false]
[null,2354,"Sustainable Fisheries and Aquaculture","MN Sea Grant Strategic Plan 2018-2021","MN",2018,2021,false]
[null,2355,"Resilient Communities and Economies ","MN Sea Grant Strategic Plan 2018-2021","MN",2018,2021,false]
[null,2356,"Environmental Literacy and Workforce Development ","MN Sea Grant Strategic Plan 2018-2021","MN",2018,2021,false]
[null,2357,"Healthy Coastal Ecosystems","Mississippi-Alabama Sea Grant Consortium 2018-21 Strategic Plan","MS-AL",2018,2021,{"$f":"AND(O$6=E76,O$7>=F76,O$7<=G76,C$7=F76)","v":false}]
[null,2358,"Sustainable Fisheries and Aquaculture","Mississippi-Alabama Sea Grant Consortium 2018-21 Strategic Plan","MS-AL",2018,2021,false]
[null,2359,"Resilient Communities and Economies","Mississippi-Alabama Sea Grant Consortium 2018-21 Strategic Plan","MS-AL",2018,2021,false]
[null,2360,"Environmental Literacy and Workforce Development","Mississippi-Alabama Sea Grant Consortium 2018-21 Strategic Plan","MS-AL",2018,2021,false]
[null,2349,"Healthy Coastal Ecosystems","2018-2021 North Carolina Sea Grant College Program Strategic Plan","NC",2018,2021,false]
[null,2350,"Resilient Communities and Economies","2018-2021 North Carolina Sea Grant College Program Strategic Plan","NC",2018,2021,false]
[null,2351,"Sustainable Fisheries and Aquaculture","2018-2021 North Carolina Sea Grant College Program Strategic Plan","NC",2018,2021,false]
[null,2352,"Environmental Literacy and Workforce Development","2018-2021 North Carolina Sea Grant College Program Strategic Plan","NC",2018,2021,false]
[null,2399,"Resilient Communities and Economies","New Hampshire Sea Grant Strategic Plan 2018-2021","NH",2018,2021,false]
[null,2417,"Healthy Coastal Ecosystems","New Hampshire Sea Grant Strategic Plan 2018-2021","NH",2018,2021,false]
[null,2418,"Environmental Literacy and Workforce Development","New Hampshire Sea Grant Strategic Plan 2018-2021","NH",2018,2021,false]
[null,2419,"Sustainable Fisheries and Aquaculture","New Hampshire Sea Grant Strategic Plan 2018-2021","NH",2018,2021,false]
[null,2361,"Healthy Coastal Ecosystems (HCE)           ","NEW JERSEY SEA GRANT CONSORTIUM - STRATEGIC PLAN 2018-2021","NJ",2018,2021,false]
[null,2362,"Sustainable Fisheries and Aquaculture (SFA)","NEW JERSEY SEA GRANT CONSORTIUM - STRATEGIC PLAN 2018-2021","NJ",2018,2021,false]
[null,2363,"Resilient Communities and Economies (RCE)","NEW JERSEY SEA GRANT CONSORTIUM - STRATEGIC PLAN 2018-2021","NJ",2018,2021,false]
[null,2364,"Environmental Literacy and Workforce Development (ELWD)","NEW JERSEY SEA GRANT CONSORTIUM - STRATEGIC PLAN 2018-2021","NJ",2018,2021,false]
[null,2393,"Healthy New York Coastal Ecosystems","New York Sea Grant 2018-2021 Strategic Plan","NY",2018,2021,false]
[null,2394,"Sustainable New York Fisheries, Aquaculture and Seafood Businesses","New York Sea Grant 2018-2021 Strategic Plan","NY",2018,2021,false]
[null,2395,"Resilient New York Communities and Economies","New York Sea Grant 2018-2021 Strategic Plan","NY",2018,2021,false]
[null,2396,"Environmental Literacy & Workforce Development in New York","New York Sea Grant 2018-2021 Strategic Plan","NY",2018,2021,false]
[null,2381,"Healthy Coastal Ecosystems","Ohio Sea Grant College Program: Strategic Plan 2018-2021","OH",2018,2021,false]
[null,2382,"Sustainable Fisheries and Aquaculture","Ohio Sea Grant College Program: Strategic Plan 2018-2021","OH",2018,2021,false]
[null,2383,"Resilient Communities and Economies","Ohio Sea Grant College Program: Strategic Plan 2018-2021","OH",2018,2021,false]
[null,2384,"Environmental Literacy and Workforce Development","Ohio Sea Grant College Program: Strategic Plan 2018-2021","OH",2018,2021,false]
[null,2295,"Ecological, social, and economic aspects of coastal development","Oregon Sea Grant Strategic Plan:  2018-2021","OR",2018,2021,false]
[null,2307,"Ecological, social, and economic aspects of coastal development","Oregon Sea Grant Strategic Plan:  2018-2021","OR",2018,2021,false]
[null,2308,"Adaptation to acute or chronic hazards","Oregon Sea Grant Strategic Plan:  2018-2021","OR",2018,2021,false]
[null,2309,"Adaptation to acute and chronic hazards","Oregon Sea Grant Strategic Plan:  2018-2021","OR",2018,2021,false]
[null,2310,"Adaptation to acute and chronic hazards","Oregon Sea Grant Strategic Plan:  2018-2021","OR",2018,2021,false]
[null,2311,"Human and natural dimensions of coastal and marine fisheries","Oregon Sea Grant Strategic Plan:  2018-2021","OR",2018,2021,false]
[null,2312,"Human and natural dimensions of coastal and marine fisheries","Oregon Sea Grant Strategic Plan:  2018-2021","OR",2018,2021,false]
[null,2313,"Cultural beliefs, learning, and valuation of coastal and marine issues","Oregon Sea Grant Strategic Plan:  2018-2021","OR",2018,2021,false]
[null,2314,"Cultural beliefs, learning, and valuation of coastal and marine issues","Oregon Sea Grant Strategic Plan:  2018-2021","OR",2018,2021,false]
[null,2315,"Cultural beliefs, learning, and valuation of coastal and marine issues","Oregon Sea Grant Strategic Plan:  2018-2021","OR",2018,2021,false]
[null,2335,"Healthy Coastal Ecosystems","Pennsylvania Sea Grant 2018-21 Strategic Plan","PA",2018,2021,false]
[null,2336,"Resilient Communities and Economies","Pennsylvania Sea Grant 2018-21 Strategic Plan","PA",2018,2021,false]
[null,2337,"Environmental Literacy and Workforce Development","Pennsylvania Sea Grant 2018-21 Strategic Plan","PA",2018,2021,false]
[null,2345,"Healthy Ecosystems and Habitats","Puerto Rico Sea Grant Strategic Plan 2018-2021","PR",2018,2021,false]
[null,2346,"Environmental Literacy and Workforce Development","Puerto Rico Sea Grant Strategic Plan 2018-2021","PR",2018,2021,false]
[null,2347,"Resilient Communities and Economies","Puerto Rico Sea Grant Strategic Plan 2018-2021","PR",2018,2021,false]
[null,2348,"Sustainable Fisheries and Aquaculture","Puerto Rico Sea Grant Strategic Plan 2018-2021","PR",2018,2021,false]
[null,2377,"Healthy Coastal Ecosystems","Rhode Island Sea Grant Strategic Plan 2018 - 2021","RI",2018,2021,false]
[null,2378,"Sustainable Fisheries and Aquaculture","Rhode Island Sea Grant Strategic Plan 2018 - 2021","RI",2018,2021,false]
[null,2379,"Resilient Communities and Economies","Rhode Island Sea Grant Strategic Plan 2018 - 2021","RI",2018,2021,false]
[null,2380,"Environmental Literacy and Workforce Development","Rhode Island Sea Grant Strategic Plan 2018 - 2021","RI",2018,2021,false]
[null,2327,"Healthy Coastal Ecosystems","The Changing Face of Coastal South Carolina:  Building a Resilient Future","SC",2018,2021,false]
[null,2328,"Sustainable Coastal Development and Economy","The Changing Face of Coastal South Carolina:  Building a Resilient Future","SC",2018,2021,false]
[null,2329,"Weather and Climate Resilience","The Changing Face of Coastal South Carolina:  Building a Resilient Future","SC",2018,2021,false]
[null,2330,"Sustainable Fisheries and Aquaculture","The Changing Face of Coastal South Carolina:  Building a Resilient Future","SC",2018,2021,false]
[null,2331,"Scientific Literacy and Workforce Development","The Changing Face of Coastal South Carolina:  Building a Resilient Future","SC",2018,2021,false]
[null,2420,"Resilient Communities and Economies","Texas Sea Grant College Program Strategic Plan 2018-2021","TX",2018,2021,false]
[null,2421,"Sustainable Fisheries and Aquaculture","Texas Sea Grant College Program Strategic Plan 2018-2021","TX",2018,2021,false]
[null,2422,"Healthy Coastal Ecosystems","Texas Sea Grant College Program Strategic Plan 2018-2021","TX",2018,2021,false]
[null,2423,"STEM Education and Workforce Development","Texas Sea Grant College Program Strategic Plan 2018-2021","TX",2018,2021,false]
[null,2306,"Healthy Coastal Ecosystems","University of Southern California Sea Grant Strategic Plan 2018 - 2021","USC",2018,2021,false]
[null,2324,"Sustainable Fisheries and Aquaculture","University of Southern California Sea Grant Strategic Plan 2018 - 2021","USC",2018,2021,false]
[null,2325,"Resilient Communities and Economies","University of Southern California Sea Grant Strategic Plan 2018 - 2021","USC",2018,2021,false]
[null,2326,"Environmental Literacy and Workforce Development","University of Southern California Sea Grant Strategic Plan 2018 - 2021","USC",2018,2021,false]
[null,2425,"Environmental Literacy and Workforce Development","Virginia Sea Grant Strategic Plan: 2018-2021","VA",2018,2021,false]
[null,2426,"Healthy Coastal Ecosystems","Virginia Sea Grant Strategic Plan: 2018-2021","VA",2018,2021,false]
[null,2427,"Sustainable Fisheries and Aquaculture","Virginia Sea Grant Strategic Plan: 2018-2021","VA",2018,2021,false]
[null,2428,"Resilient Communities and Economies","Virginia Sea Grant Strategic Plan: 2018-2021","VA",2018,2021,false]
[null,2365,"Sustainable Fisheries and Aquaculture","Washington Sea Grant 2018-2022 Strategic Plan","WA",2018,2021,false]
[null,2366,"Healthy Coastal Ecosystems","Washington Sea Grant 2018-2022 Strategic Plan","WA",2018,2021,false]
[null,2367,"Resilient Communities and Economies","Washington Sea Grant 2018-2022 Strategic Plan","WA",2018,2021,{"$f":"AND(O$6=E140,O$7>=F140,O$7<=G140,C$7=F140)","v":false}]
[null,2368,"Ocean Literacy and Workforce Development","Washington Sea Grant 2018-2022 Strategic Plan","WA",2018,2021,false]
[null,2338,"Healthy Coastal Ecosystems","Woods Hole Sea Grant in the 21st Century: Issues, Opportunities and Action for Massachusetts 2018-2021","WHOI",2018,2021,false]
[null,2339,"Resilient Communities and Economies","Woods Hole Sea Grant in the 21st Century: Issues, Opportunities and Action for Massachusetts 2018-2021","WHOI",2018,2021,false]
[null,2340,"Environmental Literacy and Workforce Development","Woods Hole Sea Grant in the 21st Century: Issues, Opportunities and Action for Massachusetts 2018-2021","WHOI",2018,2021,false]
[null,2341,"Sustainable Fisheries and Aquaculture","Woods Hole Sea Grant in the 21st Century: Issues, Opportunities and Action for Massachusetts 2018-2021","WHOI",2018,2021,false]
[null,2400,"Healthy Coastal Ecosystems ","2018-21 Strategic Plan University of Wisconsin Sea Grant College Program","WI",2018,2021,false]
[null,2401,"Resilient Communities and Economies","2018-21 Strategic Plan University of Wisconsin Sea Grant College Program","WI",2018,2021,false]
[null,2402,"Sustainable Fisheries and Aquaculture ","2018-21 Strategic Plan University of Wisconsin Sea Grant College Program","WI",2018,2021,false]
[null,2403,"Environmental Literacy and Workforce Development ","2018-21 Strategic Plan University of Wisconsin Sea Grant College Program","WI",2018,2021,false]
[null,2169,"Healthy Coastal Ecosystems","Alaska Sea Grant College Program Strategic Plan 2014-2017","AK",2014,2017,false]
[null,2170,"Sustainable Fisheries and Aquaculture","Alaska Sea Grant College Program Strategic Plan 2014-2017","AK",2014,2017,false]
[null,2171,"Resilient Communities and Economies","Alaska Sea Grant College Program Strategic Plan 2014-2017","AK",2014,2017,false]
[null,2172,"Environmental Literacy and Workforce Development","Alaska Sea Grant College Program Strategic Plan 2014-2017","AK",2014,2017,false]
[null,2089,"Healthy Coastal and Marine Ecosystems (HCME)","California Sea Grant Strategic Plan 2014–2017","CA",2014,2017,false]
[null,2106,"Resilient Coastal Communities (RCC)","California Sea Grant Strategic Plan 2014–2017","CA",2014,2017,false]
[null,2107,"Safe and Sustainable Fisheries & Seafood Supply (SSFS)","California Sea Grant Strategic Plan 2014–2017","CA",2014,2017,false]
[null,2109,"Education, Training and Public Information","California Sea Grant Strategic Plan 2014–2017","CA",2014,2017,false]
[null,2180,"Healthy Coastal Ecosystems and Economy","CONNECTICUT SEA GRANT STRATEGIC PLAN 2014-2017","CT",2014,2017,false]
[null,2181,"Seafood Production and Consumption","CONNECTICUT SEA GRANT STRATEGIC PLAN 2014-2017","CT",2014,2017,false]
[null,2182,"Hazard Resilient Coastal Communities","CONNECTICUT SEA GRANT STRATEGIC PLAN 2014-2017","CT",2014,2017,false]
[null,2183,"Ocean and Coastal Literacy and Workforce Development","CONNECTICUT SEA GRANT STRATEGIC PLAN 2014-2017","CT",2014,2017,false]
[null,2184,"Healthy Coastal Ecosystems and Economy","CONNECTICUT SEA GRANT STRATEGIC PLAN 2014-2017","CT",2014,2017,false]
[null,2185,"Healthy Coastal Ecosystems","Delaware Sea Grant: Strategic Plan (2014-2017)","DE",2014,2018,false]
[null,2186,"Resilient Communities and Economies","Delaware Sea Grant: Strategic Plan (2014-2017)","DE",2014,2018,false]
[null,2187,"Environmental Literacy and Workforce Development","Delaware Sea Grant: Strategic Plan (2014-2017)","DE",2014,2018,false]
[null,2188,"Sustainable Fisheries and Aquaculture","Delaware Sea Grant: Strategic Plan (2014-2017)","DE",2014,2018,false]
[null,2151,"Healthy Oceans and Coasts","Florida Sea Grant College Program: Strategic Plan 2014-2017","FL",2014,2017,false]
[null,2152,"Sustainable Coastal Communities and Economies","Florida Sea Grant College Program: Strategic Plan 2014-2017","FL",2014,2017,false]
[null,2153,"Safe and Sustainable Seafood","Florida Sea Grant College Program: Strategic Plan 2014-2017","FL",2014,2017,false]
[null,2154,"Hazard-Resilient and Climate-Ready Coasts","Florida Sea Grant College Program: Strategic Plan 2014-2017","FL",2014,2017,false]
[null,2155,"Education and Workforce Development","Florida Sea Grant College Program: Strategic Plan 2014-2017","FL",2014,2017,false]
[null,2088,"Healthy Coastal Ecosystems","Georgia Sea Grant Strategic Plan 2014-2018","GA",2014,2018,false]
[null,2204,"Sustainable Coastal Development","Georgia Sea Grant Strategic Plan 2014-2018","GA",2014,2018,false]
[null,2205,"Hazard Resiliency in Coastal Communities","Georgia Sea Grant Strategic Plan 2014-2018","GA",2014,2018,false]
[null,2206,"Sustainable Fisheries and Aquaculture","Georgia Sea Grant Strategic Plan 2014-2018","GA",2014,2018,false]
[null,2211,"Environmental Literacy and Workforce Development","Georgia Sea Grant Strategic Plan 2014-2018","GA",2014,2018,false]
[null,2237,"Environmental Literacy and Workforce Development","UOGSG Strategic Plan 2013-2017","GU",2013,2017,false]
[null,2259,"Resilient Communities and Economies","UOGSG Strategic Plan 2013-2017","GU",2013,2017,false]
[null,2260,"Healthy Coastal Ecosystems","UOGSG Strategic Plan 2013-2017","GU",2013,2017,false]
[null,2261,"Sustainable Fisheries and Aquaculture","UOGSG Strategic Plan 2013-2017","GU",2013,2017,false]
[null,2165,"Sustainable Coastal Development","University of Hawaii Sea Grant College Program 2014-2017 Strategic Plan","HI",2014,2017,false]
[null,2166,"Hazard Resilient Coastal Communities","University of Hawaii Sea Grant College Program 2014-2017 Strategic Plan","HI",2014,2017,false]
[null,2167,"Sustainable Coastal Tourism","University of Hawaii Sea Grant College Program 2014-2017 Strategic Plan","HI",2014,2017,false]
[null,2168,"Sustainable Aquaculture and Fisheries","University of Hawaii Sea Grant College Program 2014-2017 Strategic Plan","HI",2014,2017,false]
[null,2189,"Healthy Coastal Ecosystems","Illinois-Indiana Sea Grant Strategic Plan 2014-2017","IL-IN",2014,2017,false]
[null,2190,"Resilient Communities and Economies","Illinois-Indiana Sea Grant Strategic Plan 2014-2017","IL-IN",2014,2017,false]
[null,2191,"Environmental Literacy and Workforce Development","Illinois-Indiana Sea Grant Strategic Plan 2014-2017","IL-IN",2014,2017,false]
[null,2192,"Sustainable Aquaculture","Illinois-Indiana Sea Grant Strategic Plan 2014-2017","IL-IN",2014,2017,false]
[null,2142,"Education and Workforce Development","Louisiana Sea Grant Strategic Plan 2014 - 2018","LA",2014,2018,false]
[null,2143,"Healthy Coastal Ecosystems and Habitats","Louisiana Sea Grant Strategic Plan 2014 - 2018","LA",2014,2018,false]
[null,2144,"Resilient Communities and Economies","Louisiana Sea Grant Strategic Plan 2014 - 2018","LA",2014,2018,false]
[null,2145,"Sustainable Fisheries and Aquaculture","Louisiana Sea Grant Strategic Plan 2014 - 2018","LA",2014,2018,false]
[null,2233,"Healthy Coastal Ecosystems","National Sea Grant Law Center: 2014-2017 Strategic Plan","NSGLC",2014,2017,false]
[null,2234,"Sustainable Fisheries and Aquaculture ","National Sea Grant Law Center: 2014-2017 Strategic Plan","NSGLC",2014,2017,false]
[null,2235,"Resilient Communities and Economies ","National Sea Grant Law Center: 2014-2017 Strategic Plan","NSGLC",2014,2017,false]
[null,2236,"Environmental Literacy and Workforce Development ","National Sea Grant Law Center: 2014-2017 Strategic Plan","NSGLC",2014,2017,false]
[null,2200,"Healthy Coastal Ecosystems ","Lake Champlain Sea Grant","LC",2014,2017,false]
[null,2201,"Sustainable Sports Fisheries and Aquaculture ","Lake Champlain Sea Grant","LC",2014,2017,false]
[null,2202,"Resilient Basin Communities and Economies","Lake Champlain Sea Grant","LC",2014,2017,false]
[null,2203,"Environmental Literacy ","Lake Champlain Sea Grant","LC",2014,2017,false]
[null,2116,"Resilient Ecosystem Processes and Responses","Science Serving Maryland's Coasts, Maryland Sea Grant: Strategic Plan 2014-2017","MD",2014,2017,false]
[null,2117,"Sustainable Fisheries and Aquaculture","Science Serving Maryland's Coasts, Maryland Sea Grant: Strategic Plan 2014-2017","MD",2014,2017,false]
[null,2118,"Robust Communities and Economies","Science Serving Maryland's Coasts, Maryland Sea Grant: Strategic Plan 2014-2017","MD",2014,2017,false]
[null,2164,"Effective Environmental Science Education","Science Serving Maryland's Coasts, Maryland Sea Grant: Strategic Plan 2014-2017","MD",2014,2017,{"$f":"AND(O$6=E204,O$7>=F204,O$7<=G204,C$7=F204)","v":false}]
[null,2216,"Healthy Coastal Ecosystems","Maine Sea Grant College Program Strategic Plan","ME",2014,2017,false]
[null,2217,"Safe and Sustainable Seafood","Maine Sea Grant College Program Strategic Plan","ME",2014,2017,false]
[null,2218,"Resilient Communities","Maine Sea Grant College Program Strategic Plan","ME",2014,2017,false]
[null,2219,"Communities Preparing for a Changing Climate","Maine Sea Grant College Program Strategic Plan","ME",2014,2017,false]
[null,2220,"Environmental Literacy and Workforce Development","Maine Sea Grant College Program Strategic Plan","ME",2014,2017,false]
[null,2160,"Healthy Coastal Ecosystems","Michigan Sea Grant Strategic Plan","MI",2014,2017,false]
[null,2161,"Sustainable Fisheries and Aquaculture","Michigan Sea Grant Strategic Plan","MI",2014,2017,false]
[null,2162,"Resilient Communities and Economies ","Michigan Sea Grant Strategic Plan","MI",2014,2017,false]
[null,2163,"Environmental Literacy and Workforce Development","Michigan Sea Grant Strategic Plan","MI",2014,2017,false]
[null,2120,"Healthy Coastal Ecosystems","MIT Sea Grant Strategic Plan, 2014-2017","MIT",2014,2017,false]
[null,2126,"Sustainable Fisheries and Aquaculture","MIT Sea Grant Strategic Plan, 2014-2017","MIT",2014,2017,false]
[null,2127,"Resilient Communities and Economies","MIT Sea Grant Strategic Plan, 2014-2017","MIT",2014,2017,false]
[null,2128,"Environmental Literacy and Workforce Development","MIT Sea Grant Strategic Plan, 2014-2017","MIT",2014,2017,false]
[null,2207,"Healthy Coastal Ecosystems","2014-2017 Mississippi-Alabama Sea Grant Consortium Strategic Plan","MS-AL",2014,2017,false]
[null,2208,"Sustainable Fisheries and Aquaculture","2014-2017 Mississippi-Alabama Sea Grant Consortium Strategic Plan","MS-AL",2014,2017,false]
[null,2209,"Resilient Communities and Economies","2014-2017 Mississippi-Alabama Sea Grant Consortium Strategic Plan","MS-AL",2014,2017,false]
[null,2210,"Environmental Literacy and Workforce Development","2014-2017 Mississippi-Alabama Sea Grant Consortium Strategic Plan","MS-AL",2014,2017,false]
[null,2090,"ENVIRONMENTAL LITERACY AND CAREER INITIATION","North Carolina Sea Grant Strategic Plan 2014-2017","NC",2014,2017,false]
[null,2091,"HEALTHY COASTAL ECOSYSTEMS ","North Carolina Sea Grant Strategic Plan 2014-2017","NC",2014,2017,false]
[null,2092,"SUSTAINABLE COASTAL DEVELOPMENT","North Carolina Sea Grant Strategic Plan 2014-2017","NC",2014,2017,false]
[null,2093,"SAFE AND SUSTAINABLE SEAFOOD SUPPLY","North Carolina Sea Grant Strategic Plan 2014-2017","NC",2014,2017,false]
[null,2094,"HAZARD RESILIENCE IN COASTAL COMMUNITIES","North Carolina Sea Grant Strategic Plan 2014-2017","NC",2014,2017,false]
[null,2146,"Environmental Literacy and Workforce Development","New Hampshire Sea Grant Strategic Plan 2014-2017","NH",2014,2017,false]
[null,2147,"Healthy Coastal Ecosystems","New Hampshire Sea Grant Strategic Plan 2014-2017","NH",2014,2017,false]
[null,2148,"Resilient Communities and Economies","New Hampshire Sea Grant Strategic Plan 2014-2017","NH",2014,2017,false]
[null,2149,"Sustainable Fisheries and Aquaculture","New Hampshire Sea Grant Strategic Plan 2014-2017","NH",2014,2017,false]
[null,2095,"Healthy Coastal Ecosystems","New Jersey Sea Grant Consortium Strategic Plan","NJ",2014,2017,false]
[null,2096,"Sustainable Fisheries and Aquaculture","New Jersey Sea Grant Consortium Strategic Plan","NJ",2014,2017,false]
[null,2097,"Resilient Communities and Economies","New Jersey Sea Grant Consortium Strategic Plan","NJ",2014,2017,false]
[null,2098,"Enviormental Literacy and Workforce Development","New Jersey Sea Grant Consortium Strategic Plan","NJ",2014,2017,false]
[null,2086,"Healthy New York Coastal Ecosystems and Habitats","New York Sea Grant 2014-2017 Strategic Plan","NY",2014,2018,false]
[null,2227,"Sustainable New York Fisheries and New York Seafood Businesses, including Aquaculture ","New York Sea Grant 2014-2017 Strategic Plan","NY",2014,2018,false]
[null,2228,"Resilient New York Communities and Economies","New York Sea Grant 2014-2017 Strategic Plan","NY",2014,2018,false]
[null,2229,"Environmental Literacy and Workforce Development in New York ","New York Sea Grant 2014-2017 Strategic Plan","NY",2014,2018,false]
[null,2221,"Healthy Coastal Ecosystems","Ohio Sea Grant College Program: Strategic Plan 2014 - 2017","OH",2014,2017,false]
[null,2222,"Sustainable Fisheries and Aquaculture","Ohio Sea Grant College Program: Strategic Plan 2014 - 2017","OH",2014,2017,false]
[null,2223,"Resilient Communities and Economies","Ohio Sea Grant College Program: Strategic Plan 2014 - 2017","OH",2014,2017,false]
[null,2224,"Environmental Literacy and Workforce Development","Ohio Sea Grant College Program: Strategic Plan 2014 - 2017","OH",2014,2017,false]
[null,2173,"Resilient Communities and Economies","Oregon Sea Grant Strategic Plan: 2014-2017","OR",2014,2017,false]
[null,2174,"Sustainable Fisheries and Aquaculture","Oregon Sea Grant Strategic Plan: 2014-2017","OR",2014,2017,false]
[null,2114,"Environmental Literacy and Workforce","Oregon Sea Grant Strategic Plan: 2014-2017","OR",2014,2017,false]
[null,2115,"Healthy Coastal Ecosystems","Oregon Sea Grant Strategic Plan: 2014-2017","OR",2014,2017,false]
[null,2175,"Healthy Coastal Ecosystems","PENNSYLVANIA SEA GRANT 2014-2017 Strategic Plan","PA",2014,2017,false]
[null,2176,"Resilient Communities and Economies","PENNSYLVANIA SEA GRANT 2014-2017 Strategic Plan","PA",2014,2017,false]
[null,2177,"Sustainable Fisheries and Aquaculture","PENNSYLVANIA SEA GRANT 2014-2017 Strategic Plan","PA",2014,2017,false]
[null,2178,"Environmental Literacy and Workforce Development","PENNSYLVANIA SEA GRANT 2014-2017 Strategic Plan","PA",2014,2017,false]
[null,2179,"Healthy Ecosystems and Habitats ","PR Sea Grant Strategic Plan 2014-2017","PR",2014,2017,false]
[null,2197,"Resilient Communities and Economies ","PR Sea Grant Strategic Plan 2014-2017","PR",2014,2017,false]
[null,2198,"Education and Workforce Development ","PR Sea Grant Strategic Plan 2014-2017","PR",2014,2017,false]
[null,2110,"Healthy Coastal Ecosystem","Rhode Island Sea Grant Strategic Plan 2014 - 2017","RI",2014,2018,false]
[null,2111,"Sustainable Fisheries and Aquaculture","Rhode Island Sea Grant Strategic Plan 2014 - 2017","RI",2014,2018,false]
[null,2112,"Resilient Communities and Economies","Rhode Island Sea Grant Strategic Plan 2014 - 2017","RI",2014,2018,false]
[null,2113,"Environmental Literacy and Workforce Development","Rhode Island Sea Grant Strategic Plan 2014 - 2017","RI",2014,2018,false]
[null,2081,"The Coastal and Ocean Landscape","The Changing Face of Coastal South Carolina:  Enhancing Understanding - Informing Decision-making","SC",2014,2018,false]
[null,2082,"Sustainable Coastal Development and Economy","The Changing Face of Coastal South Carolina:  Enhancing Understanding - Informing Decision-making","SC",2014,2018,false]
[null,2083,"Sustainable Fisheries and Aquaculture","The Changing Face of Coastal South Carolina:  Enhancing Understanding - Informing Decision-making","SC",2014,2018,false]
[null,2084,"Hazard Resilience in Coastal Communities","The Changing Face of Coastal South Carolina:  Enhancing Understanding - Informing Decision-making","SC",2014,2018,false]
[null,2085,"Scientific Literacy and Workforce Development","The Changing Face of Coastal South Carolina:  Enhancing Understanding - Informing Decision-making","SC",2014,2018,false]
[null,2122,"Healthy Coastal Ecosystems","Texas Sea Grant College Program: 2014-2017 Strategic Plan","TX",2014,2017,false]
[null,2123,"Sustainable Fisheries and Aquaculture","Texas Sea Grant College Program: 2014-2017 Strategic Plan","TX",2014,2017,false]
[null,2124,"Resilient Communities and Economies","Texas Sea Grant College Program: 2014-2017 Strategic Plan","TX",2014,2017,false]
[null,2125,"Environmental Literacy and Workforce Development","Texas Sea Grant College Program: 2014-2017 Strategic Plan","TX",2014,2017,false]
[null,2136,"Healthy Coastal Ecosystems","USC SG STRATEGIC PLAN 2014-2017","USC",2014,2017,false]
[null,2137,"Sustainable Fisheries and Aquaculture","USC SG STRATEGIC PLAN 2014-2017","USC",2014,2017,{"$f":"AND(O$6=E268,O$7>=F268,O$7<=G268,C$7=F268)","v":false}]
[null,2139,"Resilient Communities and Economies","USC SG STRATEGIC PLAN 2014-2017","USC",2014,2017,false]
[null,2140,"Environmental Literacy and Workforce Development","USC SG STRATEGIC PLAN 2014-2017","USC",2014,2017,false]
[null,2121,"Healthy Coastal Ecosystems","Virginia Sea Grant Strategic Plan: Update 2014-2017","VA",2013,2014,false]
[null,2129,"Environmental Literacy and Workforce Development ","Virginia Sea Grant Strategic Plan: Update 2014-2017","VA",2013,2014,false]
[null,2130,"Resilient Communities and Economies","Virginia Sea Grant Strategic Plan: Update 2014-2017","VA",2013,2014,false]
[null,2131,"Sustainable Fisheries and Aquaculture","Virginia Sea Grant Strategic Plan: Update 2014-2017","VA",2013,2014,false]
[null,2132,"Healthy Coastal Ecosystems","Washington Sea Grant 2014-2018 Strategic Plan","WA",2014,2018,false]
[null,2133,"Sustainable Fisheries and Aquaculture","Washington Sea Grant 2014-2018 Strategic Plan","WA",2014,2018,false]
[null,2134,"Resilient Communities and Economies","Washington Sea Grant 2014-2018 Strategic Plan","WA",2014,2018,false]
[null,2135,"Ocean Literacy and Workforce Development","Washington Sea Grant 2014-2018 Strategic Plan","WA",2014,2018,false]
[null,2156,"Healthy Coastal Ecosystems","Woods Hole Sea Grant in the 21st Century: Issues, Opportunities, and Action for Massachusetts","WHOI",2014,2017,false]
[null,2157,"Sustainable Fisheries and Aquaculture","Woods Hole Sea Grant in the 21st Century: Issues, Opportunities, and Action for Massachusetts","WHOI",2014,2017,false]
[null,2158,"Resilient Communities and Economies","Woods Hole Sea Grant in the 21st Century: Issues, Opportunities, and Action for Massachusetts","WHOI",2014,2017,false]
[null,2159,"Environmental Literacy and Workforce Development","Woods Hole Sea Grant in the 21st Century: Issues, Opportunities, and Action for Massachusetts","WHOI",2014,2017,false]
[null,2212,"Healthy Great Lakes Coastal Ecosystems","2014-17 Strategic Plan University of Wisconsin Sea Grant College Program","WI",2014,2017,false]
[null,2213,"Sustainable Fisheries and Aquaculture in the Great Lakes Region","2014-17 Strategic Plan University of Wisconsin Sea Grant College Program","WI",2014,2017,false]
[null,2214,"Resilient Great Lakes Communities and Economies","2014-17 Strategic Plan University of Wisconsin Sea Grant College Program","WI",2014,2017,false]
[null,2215,"Environmental Literacy and Workforce Development in the Great Lakes Region","2014-17 Strategic Plan University of Wisconsin Sea Grant College Program","WI",2014,2017,false]
[null,2233,"Healthy Coastal Ecosystems","National Sea Grant Law Center: 2014-2017 Strategic Plan","NSGLC",2014,2017,false]
[null,2234,"Sustainable Fisheries and Aquaculture ","National Sea Grant Law Center: 2014-2017 Strategic Plan","NSGLC",2014,2017,false]
[null,2235,"Resilient Communities and Economies ","National Sea Grant Law Center: 2014-2017 Strategic Plan","NSGLC",2014,2017,false]
[null,2236,"Environmental Literacy and Workforce Development ","National Sea Grant Law Center: 2014-2017 Strategic Plan","NSGLC",2014,2017,false]
[null,2231,"Water Resource Sustainability","University of Hawaii Sea Grant College Program 2014-2017 Strategic Plan","HI",2014,2017,false]
[null,2274,"Indigenous Cultural Heritage","University of Hawaii Sea Grant College Program 2014-2017 Strategic Plan","HI",2014,2017,false]
[null,2193,"Healthy Coastal Ecosystems","MN Sea Grant Strategic Plan 2014 - 2017","MN",2014,2017,false]
[null,2194,"Sustainable Fisheries and Aquaculture","MN Sea Grant Strategic Plan 2014 - 2017","MN",2014,2017,false]
[null,2195,"Resilient Communities and Economies","MN Sea Grant Strategic Plan 2014 - 2017","MN",2014,2017,false]
[null,2196,"Environmental Literacy and Workforce Development","MN Sea Grant Strategic Plan 2014 - 2017","MN",2014,2017,false]
[null,null,null,null,null,null,null,false]
[null,null,null,null,null,null,null,false]
[null,null,null,null,null,null,null,false]
[null,null,null,null,null,null,null,false]
[null,null,null,null,null,null,null,false]
[null,null,null,null,null,null,null,false]
[null,null,null,null,null,null,null,false]
[null,null,null,null,null,null,null,false]
[null,null,null,null,null,null,null,false]
[null,null,null,null,null,null,null,false]
[null,null,null,null,null,null,null,false]
[null,null,null,null,null,null,null,false]
[null,null,null,null,null,null,null,false]
[null,null,null,null,null,null,null,false]
[null,null,null,null,null,null,null,false]
[null,null,null,null,null,null,null,false]
[null,null,null,null,null,null,null,false]
[null,null,null,null,null,null,null,false]
[null,null,null,null,null,null,null,false]
[null,null,null,null,null,null,null,false]
[null,null,null,null,null,null,null,false]
[null,null,null,null,null,null,null,false]
[null,null,null,null,null,null,null,false]
[null,null,null,null,null,null,null,false]
[null,null,null,null,null,null,null,false]
[null,null,null,null,null,null,null,false]
[null,null,null,null,null,null,null,false]
[null,null,null,null,null,null,null,false]
[null,null,null,null,null,null,null,false]
[null,null,null,null,null,null,null,false]
[null,null,null,null,null,null,null,false]
[null,null,null,null,null,null,null,false]
[null,null,null,null,null,null,null,false]
[null,null,null,null,null,null,null,false]
[null,null,null,null,null,null,null,false]
[null,null,null,null,null,null,null,{"$f":"AND(O$6=E332,O$7>=F332,O$7<=G332,C$7=F332)","v":false}]
[null,null,null,null,null,null,null,false]
[null,null,null,null,null,null,null,false]
[null,null,null,null,null,null,null,false]
[null,null,null,null,null,null,null,false]
[null,null,null,null,null,null,null,false]
[null,null,null,null,null,null,null,false]
[null,null,null,null,null,null,null,false]
[null,null,null,null,null,null,null,false]
[null,null,null,null,null,null,null,false]
[null,null,null,null,null,null,null,false]
[null,null,null,null,null,null,null,false]
[null,null,null,null,null,null,null,false]
[null,null,null,null,null,null,null,false]
[null,null,null,null,null,null,null,false]
[null,null,null,null,null,null,null,false]
[null,null,null,null,null,null,null,false]
[null,null,null,null,null,null,null,false]
[null,null,null,null,null,null,null,false]
[null,null,null,null,null,null,null,false]
[null,null,null,null,null,null,null,false]
[null,null,null,null,null,null,null,false]
[null,null,null,null,null,null,null,false]
[null,null,null,null,null,null,null,false]
[null,null,null,null,null,null,null,false]
[null,null,null,null,null,null,null,false]
[null,null,null,null,null,null,null,false]
[null,null,null,null,null,null,null,false]
[null,null,null,null,null,null,null,false]
[null,null,null,null,null,null,null,false]
[null,null,null,null,null,null,null,false]
[null,null,null,null,null,null,null,false]
[null,null,null,null,null,null,null,false]
[null,null,null,null,null,null,null,false]
[null,null,null,null,null,null,null,false]
[null,null,null,null,null,null,null,false]
[null,null,null,null,null,null,null,false]
[null,null,null,null,null,null,null,false]
[null,null,null,null,null,null,null,false]
[null,null,null,null,null,null,null,false]
[null,null,null,null,null,null,null,false]
[null,null,null,null,null,null,null,false]
[null,null,null,null,null,null,null,false]
[null,null,null,null,null,null,null,false]
[null,null,null,null,null,null,null,false]
[null,null,null,null,null,null,null,false]
[null,null,null,null,null,null,null,false]
[null,null,null,null,null,null,null,false]
[null,null,null,null,null,null,null,false]
[null,null,null,null,null,null,null,false]
[null,null,null,null,null,null,null,false]
[null,null,null,null,null,null,null,false]
[null,null,null,null,null,null,null,false]
[null,null,null,null,null,null,null,false]
[null,null,null,null,null,null,null,false]
[null,null,null,null,null,null,null,false]
[null,null,null,null,null,null,null,false]
[null,null,null,null,null,null,null,false]
[null,null,null,null,null,null,null,false]
[null,null,null,null,null,null,null,false]
[null,null,null,null,null,null,null,false]
[null,null,null,null,null,null,null,false]
[null,null,null,null,null,null,null,false]
[null,null,null,null,null,null,null,false]
[null,null,null,null,null,null,null,{"$f":"AND(O$6=E396,O$7>=F396,O$7<=G396,C$7=F396)","v":false}]
[null,null,null,null,null,null,null,false]
[null,null,null,null,null,null,null,false]
[null,null,null,null,null,null,null,false]
[null,null,null,null,null,null,null,false]
[null,null,null,null,null,null,null,false]
[null,null,null,null,null,null,null,false]
[null,null,null,null,null,null,null,false]
[null,null,null,null,null,null,null,false]
[null,null,null,null,null,null,null,false]
[null,null,null,null,null,null,null,false]
[null,null,null,null,null,null,null,false]
[null,null,null,null,null,null,null,false]
[null,null,null,null,null,null,null,false]
[null,null,null,null,null,null,null,false]
[null,null,null,null,null,null,null,false]
[null,null,null,null,null,null,null,false]
[null,null,null,null,null,null,null,false]
[null,null,null,null,null,null,null,false]
[null,null,null,null,null,null,null,false]
[null,null,null,null,null,null,null,false]
[null,null,null,null,null,null,null,false]
[null,null,null,null,null,null,null,false]
[null,null,null,null,null,null,null,false]
[null,null,null,null,null,null,null,false]
[null,null,null,null,null,null,null,false]
[null,null,null,null,null,null,null,false]
[null,null,null,null,null,null,null,false]
[null,null,null,null,null,null,null,false]
[null,null,null,null,null,null,null,false]
[null,null,null,null,null,null,null,false]
[null,null,null,null,null,null,null,false]
[null,null,null,null,null,null,null,false]
[null,null,null,null,null,null,null,false]
[null,null,null,null,null,null,null,false]
[null,null,null,null,null,null,null,false]
[null,null,null,null,null,null,null,false]
[null,null,null,null,null,null,null,false]
[null,null,null,null,null,null,null,false]
[null,null,null,null,null,null,null,false]
[null,null,null,null,null,null,null,false]
[null,null,null,null,null,null,null,false]
[null,null,null,null,null,null,null,false]
[null,null,null,null,null,null,null,false]
[null,null,null,null,null,null,null,false]
[null,null,null,null,null,null,null,false]
[null,null,null,null,null,null,null,false]
[null,null,null,null,null,null,null,false]
[null,null,null,null,null,null,null,false]
[null,null,null,null,null,null,null,false]
[null,null,null,null,null,null,null,false]
[null,null,null,null,null,null,null,false]
[null,null,null,null,null,null,null,false]
[null,null,null,null,null,null,null,false]
[null,null,null,null,null,null,null,false]
[null,null,null,null,null,null,null,false]
[null,null,null,null,null,null,null,false]
[null,null,null,null,null,null,null,false]
[null,null,null,null,null,null,null,false]
[null,null,null,null,null,null,null,false]
[null,null,null,null,null,null,null,false]
[null,null,null,null,null,null,null,false]
[null,null,null,null,null,null,null,false]
[null,null,null,null,null,null,null,false]
[null,null,null,null,null,null,null,{"$f":"AND(O$6=E460,O$7>=F460,O$7<=G460,C$7=F460)","v":false}]
[null,null,null,null,null,null,null,false]
[null,null,null,null,null,null,null,false]
[null,null,null,null,null,null,null,false]
[null,null,null,null,null,null,null,false]
[null,null,null,null,null,null,null,false]
[null,null,null,null,null,null,null,false]
[null,null,null,null,null,null,null,false]
[null,null,null,null,null,null,null,false]
[null,null,null,null,null,null,null,false]
[null,null,null,null,null,null,null,false]
[null,null,null,null,null,null,null,false]
[null,null,null,null,null,null,null,false]
[null,null,null,null,null,null,null,false]
[null,null,null,null,null,null,null,false]
[null,null,null,null,null,null,null,false]
[null,null,null,null,null,null,null,false]
[null,null,null,null,null,null,null,false]
[null,null,null,null,null,null,null,false]
[null,null,null,null,null,null,null,false]
[null,null,null,null,null,null,null,false]
[null,null,null,null,null,null,null,false]
[null,null,null,null,null,null,null,false]
[null,null,null,null,null,null,null,false]
[null,null,null,null,null,null,null,false]
[null,null,null,null,null,null,null,false]
[null,null,null,null,null,null,null,false]
[null,null,null,null,null,null,null,false]
[null,null,null,null,null,null,null,false]
[null,null,null,null,null,null,null,false]
[null,null,null,null,null,null,null,false]
[null,null,null,null,null,null,null,false]
[null,null,null,null,null,null,null,false]
[null,null,null,null,null,null,null,false]
[null,null,null,null,null,null,null,false]
[null,null,null,null,null,null,null,false]
[null,null,null,null,null,null,null,false]
[null,null,null,null,null,null,null,false]
[null,null,null,null,null,null,null,false]
[null,null,null,null,null,null,null,false]
[null,null,null,null,null,null,null,false]
[null,null,null,null,null,null,null,false]
[null,null,null,null,null,null,null,false]
[null,null,null,null,null,null,null,false]
[null,null,null,null,null,null,null,false]
[null,null,null,null,null,null,null,false]
[null,null,null,null,null,null,null,false]
[null,null,null,null,null,null,null,false]
[null,null,null,null,null,null,null,false]
[null,null,null,null,null,null,null,false]
[null,null,null,null,null,null,null,false]
[null,null,null,null,null,null,null,false]
[null,null,null,null,null,null,null,false]
[null,null,null,null,null,null,null,false]
[null,null,null,null,null,null,null,false]
[null,null,null,null,null,null,null,false]
[null,null,null,null,null,null,null,false]
[null,null,null,null,null,null,null,false]
[null,null,null,null,null,null,null,false]
[null,null,null,null,null,null,null,false]
[null,null,null,null,null,null,null,false]
[null,null,null,null,null,null,null,false]
[null,null,null,null,null,null,null,false]
[null,null,null,null,null,null,null,false]
[null,null,null,null,null,null,null,{"$f":"AND(O$6=E524,O$7>=F524,O$7<=G524,C$7=F524)","v":false}]
[null,null,null,null,null,null,null,false]
[null,null,null,null,null,null,null,false]
[null,null,null,null,null,null,null,false]
[null,null,null,null,null,null,null,false]
[null,null,null,null,null,null,null,false]
[null,null,null,null,null,null,null,false]
[null,null,null,null,null,null,null,false]
[null,null,null,null,null,null,null,false]
[null,null,null,null,null,null,null,false]
[null,null,null,null,null,null,null,false]
[null,null,null,null,null,null,null,false]
[null,null,null,null,null,null,null,false]
[null,null,null,null,null,null,null,false]
[null,null,null,null,null,null,null,false]
[null,null,null,null,null,null,null,false]
[null,null,null,null,null,null,null,false]
[null,null,null,null,null,null,null,false]
[null,null,null,null,null,null,null,false]
[null,null,null,null,null,null,null,false]
[null,null,null,null,null,null,null,false]
[null,null,null,null,null,null,null,false]
[null,null,null,null,null,null,null,false]
[null,null,null,null,null,null,null,false]
[null,null,null,null,null,null,null,false]
[null,null,null,null,null,null,null,false]
[null,null,null,null,null,null,null,false]
[null,null,null,null,null,null,null,false]
[null,null,null,null,null,null,null,false]
[null,null,null,null,null,null,null,false]
[null,null,null,null,null,null,null,false]
[null,null,null,null,null,null,null,false]
[null,null,null,null,null,null,null,false]
[null,null,null,null,null,null,null,false]
[null,null,null,null,null,null,null,false]
[null,null,null,null,null,null,null,false]
[null,null,null,null,null,null,null,false]
[null,null,null,null,null,null,null,false]
[null,null,null,null,null,null,null,false]
[null,null,null,null,null,null,null,false]
[null,null,null,null,null,null,null,false]
[null,null,null,null,null,null,null,false]
[null,null,null,null,null,null,null,false]
[null,null,null,null,null,null,null,false]
[null,null,null,null,null,null,null,false]
[null,null,null,null,null,null,null,false]
[null,null,null,null,null,null,null,false]
[null,null,null,null,null,null,null,false]
[null,null,null,null,null,null,null,false]
[null,null,null,null,null,null,null,false]
[null,null,null,null,null,null,null,false]
[null,null,null,null,null,null,null,false]
[null,null,null,null,null,null,null,false]
[null,null,null,null,null,null,null,false]
[null,null,null,null,null,null,null,false]
[null,null,null,null,null,null,null,false]
[null,null,null,null,null,null,null,false]
[null,null,null,null,null,null,null,false]
[null,null,null,null,null,null,null,false]
[null,null,null,null,null,null,null,false]
[null,null,null,null,null,null,null,false]
[null,null,null,null,null,null,null,false]
[null,null,null,null,null,null,null,false]
[null,null,null,null,null,null,null,false]
[null,null,null,null,null,null,null,{"$f":"AND(O$6=E588,O$7>=F588,O$7<=G588,C$7=F588)","v":false}]
[null,null,null,null,null,null,null,false]
[null,null,null,null,null,null,null,false]
[null,null,null,null,null,null,null,false]
[null,null,null,null,null,null,null,false]
[null,null,null,null,null,null,null,false]
[null,null,null,null,null,null,null,false]
[null,null,null,null,null,null,null,false]
[null,null,null,null,null,null,null,false]
[null,null,null,null,null,null,null,false]
[null,null,null,null,null,null,null,false]
[null,null,null,null,null,null,null,false]
[null,null,null,null,null,null,null,false]
[null,null,null,null,null,null,null,false]
[null,null,null,null,null,null,null,false]
[null,null,null,null,null,null,null,false]
[null,null,null,null,null,null,null,false]
[null,null,null,null,null,null,null,false]
[null,null,null,null,null,null,null,false]
[null,null,null,null,null,null,null,false]
[null,null,null,null,null,null,null,false]
[null,null,null,null,null,null,null,false]
[null,null,null,null,null,null,null,false]
[null,null,null,null,null,null,null,false]
[null,null,null,null,null,null,null,false]
[null,null,null,null,null,null,null,false]
[null,null,null,null,null,null,null,false]
[null,null,null,null,null,null,null,false]
[null,null,null,null,null,null,null,false]
[null,null,null,null,null,null,null,false]
[null,null,null,null,null,null,null,false]
[null,null,null,null,null,null,null,false]
[null,null,null,null,null,null,null,false]
[null,null,null,null,null,null,null,false]
[null,null,null,null,null,null,null,false]
[null,null,null,null,null,null,null,false]
[null,null,null,null,null,null,null,false]
[null,null,null,null,null,null,null,false]
[null,null,null,null,null,null,null,false]
[null,null,null,null,null,null,null,false]
[null,null,null,null,null,null,null,false]
[null,null,null,null,null,null,null,false]
[null,null,null,null,null,null,null,false]
[null,null,null,null,null,null,null,false]
[null,null,null,null,null,null,null,false]
[null,null,null,null,null,null,null,false]
[null,null,null,null,null,null,null,false]
[null,null,null,null,null,null,null,false]
[null,null,null,null,null,null,null,false]
[null,null,null,null,null,null,null,false]
[null,null,null,null,null,null,null,false]
[null,null,null,null,null,null,null,false]
[null,null,null,null,null,null,null,false]
[null,null,null,null,null,null,null,false]
[null,null,null,null,null,null,null,false]
[null,null,null,null,null,null,null,false]
[null,null,null,null,null,null,null,false]
[null,null,null,null,null,null,null,false]
[null,null,null,null,null,null,null,false]
[null,null,null,null,null,null,null,false]
[null,null,null,null,null,null,null,false]
[null,null,null,null,null,null,null,false]
[null,null,null,null,null,null,null,false]
[null,null,null,null,null,null,null,false]
[null,null,null,null,null,null,null,{"$f":"AND(O$6=E652,O$7>=F652,O$7<=G652,C$7=F652)","v":false}]
[null,null,null,null,null,null,null,false]
[null,null,null,null,null,null,null,false]
[null,null,null,null,null,null,null,false]
[null,null,null,null,null,null,null,false]
[null,null,null,null,null,null,null,false]
[null,null,null,null,null,null,null,false]
[null,null,null,null,null,null,null,false]
[null,null,null,null,null,null,null,false]
[null,null,null,null,null,null,null,false]
[null,null,null,null,null,null,null,false]
[null,null,null,null,null,null,null,false]
[null,null,null,null,null,null,null,false]
[null,null,null,null,null,null,null,false]
[null,null,null,null,null,null,null,false]
[null,null,null,null,null,null,null,false]
[null,null,null,null,null,null,null,false]
[null,null,null,null,null,null,null,false]
[null,null,null,null,null,null,null,false]
[null,null,null,null,null,null,null,false]
[null,null,null,null,null,null,null,false]
[null,null,null,null,null,null,null,false]
[null,null,null,null,null,null,null,false]
[null,null,null,null,null,null,null,false]
[null,null,null,null,null,null,null,false]
[null,null,null,null,null,null,null,false]
[null,null,null,null,null,null,null,false]
[null,null,null,null,null,null,null,false]
[null,null,null,null,null,null,null,false]
[null,null,null,null,null,null,null,false]
[null,null,null,null,null,null,null,false]
[null,null,null,null,null,null,null,false]
[null,null,null,null,null,null,null,false]
[null,null,null,null,null,null,null,false]
[null,null,null,null,null,null,null,false]
[null,null,null,null,null,null,null,false]
[null,null,null,null,null,null,null,false]
[null,null,null,null,null,null,null,false]
[null,null,null,null,null,null,null,false]
[null,null,null,null,null,null,null,false]
[null,null,null,null,null,null,null,false]
[null,null,null,null,null,null,null,false]
[null,null,null,null,null,null,null,false]
[null,null,null,null,null,null,null,false]
[null,null,null,null,null,null,null,false]
[null,null,null,null,null,null,null,false]
[null,null,null,null,null,null,null,false]
[null,null,null,null,null,null,null,false]
[null,null,null,null,null,null,null,false]
[null,null,null,null,null,null,null,false]
[null,null,null,null,null,null,null,false]
[null,null,null,null,null,null,null,false]
[null,null,null,null,null,null,null,false]
[null,null,null,null,null,null,null,false]
[null,null,null,null,null,null,null,false]
[null,null,null,null,null,null,null,false]
[null,null,null,null,null,null,null,false]
[null,null,null,null,null,null,null,false]
[null,null,null,null,null,null,null,false]
[null,null,null,null,null,null,null,false]
[null,null,null,null,null,null,null,false]
[null,null,null,null,null,null,null,false]
[null,null,null,null,null,null,null,false]
[null,null,null,null,null,null,null,false]
[null,null,null,null,null,null,null,{"$f":"AND(O$6=E716,O$7>=F716,O$7<=G716,C$7=F716)","v":false}]
[null,null,null,null,null,null,null,false]
[null,null,null,null,null,null,null,false]
[null,null,null,null,null,null,null,false]
[null,null,null,null,null,null,null,false]
[null,null,null,null,null,null,null,false]
[null,null,null,null,null,null,null,false]
[null,null,null,null,null,null,null,false]
[null,null,null,null,null,null,null,false]
[null,null,null,null,null,null,null,false]
[null,null,null,null,null,null,null,false]
[null,null,null,null,null,null,null,false]
[null,null,null,null,null,null,null,false]
[null,null,null,null,null,null,null,false]
[null,null,null,null,null,null,null,false]
[null,null,null,null,null,null,null,false]
[null,null,null,null,null,null,null,false]
[null,null,null,null,null,null,null,false]
[null,null,null,null,null,null,null,false]
[null,null,null,null,null,null,null,false]
[null,null,null,null,null,null,null,false]
[null,null,null,null,null,null,null,false]
[null,null,null,null,null,null,null,false]
[null,null,null,null,null,null,null,false]
[null,null,null,null,null,null,null,false]
[null,null,null,null,null,null,null,false]
[null,null,null,null,null,null,null,false]
[null,null,null,null,null,null,null,false]
[null,null,null,null,null,null,null,false]
[null,null,null,null,null,null,null,false]
[null,null,null,null,null,null,null,false]
[null,null,null,null,null,null,null,false]
[null,null,null,null,null,null,null,false]
[null,null,null,null,null,null,null,false]
[null,null,null,null,null,null,null,false]
[null,null,null,null,null,null,null,false]
[null,null,null,null,null,null,null,false]
[null,null,null,null,null,null,null,false]
[null,null,null,null,null,null,null,false]
[null,null,null,null,null,null,null,false]
[null,null,null,null,null,null,null,false]
[null,null,null,null,null,null,null,false]
[null,null,null,null,null,null,null,false]
[null,null,null,null,null,null,null,false]
[null,null,null,null,null,null,null,false]
[null,null,null,null,null,null,null,false]
[null,null,null,null,null,null,null,false]
[null,null,null,null,null,null,null,false]
[null,null,null,null,null,null,null,false]
[null,null,null,null,null,null,null,false]
[null,null,null,null,null,null,null,false]
[null,null,null,null,null,null,null,false]
[null,null,null,null,null,null,null,false]
[null,null,null,null,null,null,null,false]
[null,null,null,null,null,null,null,false]
[null,null,null,null,null,null,null,false]
[null,null,null,null,null,null,null,false]
[null,null,null,null,null,null,null,false]
[null,null,null,null,null,null,null,false]
[null,null,null,null,null,null,null,false]
[null,null,null,null,null,null,null,false]
[null,null,null,null,null,null,null,false]
[null,null,null,null,null,null,null,false]
[null,null,null,null,null,null,null,false]
[null,null,null,null,null,null,null,{"$f":"AND(O$6=E780,O$7>=F780,O$7<=G780,C$7=F780)","v":false}]
[null,null,null,null,null,null,null,false]
[null,null,null,null,null,null,null,false]
[null,null,null,null,null,null,null,false]
[null,null,null,null,null,null,null,false]
[null,null,null,null,null,null,null,false]
[null,null,null,null,null,null,null,false]
[null,null,null,null,null,null,null,false]
[null,null,null,null,null,null,null,false]
[null,null,null,null,null,null,null,false]
[null,null,null,null,null,null,null,false]
[null,null,null,null,null,null,null,false]
[null,null,null,null,null,null,null,false]
[null,null,null,null,null,null,null,false]
[null,null,null,null,null,null,null,false]
[null,null,null,null,null,null,null,false]
[null,null,null,null,null,null,null,false]
[null,null,null,null,null,null,null,false]
[null,null,null,null,null,null,null,false]
[null,null,null,null,null,null,null,false]
[null,null,null,null,null,null,null,false]
[null,null,null,null,null,null,null,false]
[null,null,null,null,null,null,null,false]
[null,null,null,null,null,null,null,false]
[null,null,null,null,null,null,null,false]
[null,null,null,null,null,null,null,false]
[null,null,null,null,null,null,null,false]
[null,null,null,null,null,null,null,false]
[null,null,null,null,null,null,null,false]
[null,null,null,null,null,null,null,false]
[null,null,null,null,null,null,null,false]
[null,null,null,null,null,null,null,false]
[null,null,null,null,null,null,null,false]
[null,null,null,null,null,null,null,false]
[null,null,null,null,null,null,null,false]
[null,null,null,null,null,null,null,false]
[null,null,null,null,null,null,null,false]
[null,null,null,null,null,null,null,false]
[null,null,null,null,null,null,null,false]
[null,null,null,null,null,null,null,false]
[null,null,null,null,null,null,null,false]
[null,null,null,null,null,null,null,false]
[null,null,null,null,null,null,null,false]
[null,null,null,null,null,null,null,false]
[null,null,null,null,null,null,null,false]
[null,null,null,null,null,null,null,false]
[null,null,null,null,null,null,null,false]
[null,null,null,null,null,null,null,false]
[null,null,null,null,null,null,null,false]
[null,null,null,null,null,null,null,false]
[null,null,null,null,null,null,null,false]
[null,null,null,null,null,null,null,false]
[null,null,null,null,null,null,null,false]
[null,null,null,null,null,null,null,false]
[null,null,null,null,null,null,null,false]
[null,null,null,null,null,null,null,false]
[null,null,null,null,null,null,null,false]
[null,null,null,null,null,null,null,false]
[null,null,null,null,null,null,null,false]
[null,null,null,null,null,null,null,false]
[null,null,null,null,null,null,null,false]
[null,null,null,null,null,null,null,false]
[null,null,null,null,null,null,null,false]
[null,null,null,null,null,null,null,false]
[null,null,null,null,null,null,null,{"$f":"AND(O$6=E844,O$7>=F844,O$7<=G844,C$7=F844)","v":false}]
[null,null,null,null,null,null,null,false]
[null,null,null,null,null,null,null,false]
[null,null,null,null,null,null,null,false]
[null,null,null,null,null,null,null,false]
[null,null,null,null,null,null,null,false]
[null,null,null,null,null,null,null,false]
[null,null,null,null,null,null,null,false]
[null,null,null,null,null,null,null,false]
[null,null,null,null,null,null,null,false]
[null,null,null,null,null,null,null,false]
[null,null,null,null,null,null,null,false]
[null,null,null,null,null,null,null,false]
[null,null,null,null,null,null,null,false]
[null,null,null,null,null,null,null,false]
[null,null,null,null,null,null,null,false]
[null,null,null,null,null,null,null,false]
[null,null,null,null,null,null,null,false]
[null,null,null,null,null,null,null,false]
[null,null,null,null,null,null,null,false]
[null,null,null,null,null,null,null,false]
[null,null,null,null,null,null,null,false]
[null,null,null,null,null,null,null,false]
[null,null,null,null,null,null,null,false]
[null,null,null,null,null,null,null,false]
[null,null,null,null,null,null,null,false]
[null,null,null,null,null,null,null,false]
[null,null,null,null,null,null,null,false]
[null,null,null,null,null,null,null,false]
[null,null,null,null,null,null,null,false]
[null,null,null,null,null,null,null,false]
[null,null,null,null,null,null,null,false]
[null,null,null,null,null,null,null,false]
[null,null,null,null,null,null,null,false]
[null,null,null,null,null,null,null,false]
[null,null,null,null,null,null,null,false]
[null,null,null,null,null,null,null,false]
[null,null,null,null,null,null,null,false]
[null,null,null,null,null,null,null,false]
[null,null,null,null,null,null,null,false]
[null,null,null,null,null,null,null,false]
[null,null,null,null,null,null,null,false]
[null,null,null,null,null,null,null,false]
[null,null,null,null,null,null,null,false]
[null,null,null,null,null,null,null,false]
[null,null,null,null,null,null,null,false]
[null,null,null,null,null,null,null,false]
[null,null,null,null,null,null,null,false]
[null,null,null,null,null,null,null,false]
[null,null,null,null,null,null,null,false]
[null,null,null,null,null,null,null,false]
[null,null,null,null,null,null,null,false]
[null,null,null,null,null,null,null,false]
[null,null,null,null,null,null,null,false]
[null,null,null,null,null,null,null,false]
[null,null,null,null,null,null,null,false]
[null,null,null,null,null,null,null,false]
[null,null,null,null,null,null,null,false]
[null,null,null,null,null,null,null,false]
[null,null,null,null,null,null,null,false]
[null,null,null,null,null,null,null,false]
[null,null,null,null,null,null,null,false]
[null,null,null,null,null,null,null,false]
[null,null,null,null,null,null,null,false]
[null,null,null,null,null,null,null,{"$f":"AND(O$6=E908,O$7>=F908,O$7<=G908,C$7=F908)","v":false}]
[null,null,null,null,null,null,null,false]
[null,null,null,null,null,null,null,false]
[null,null,null,null,null,null,null,false]
[null,null,null,null,null,null,null,false]
[null,null,null,null,null,null,null,false]
[null,null,null,null,null,null,null,false]
[null,null,null,null,null,null,null,false]
[null,null,null,null,null,null,null,false]
[null,null,null,null,null,null,null,false]
[null,null,null,null,null,null,null,false]
[null,null,null,null,null,null,null,false]
[null,null,null,null,null,null,null,false]
[null,null,null,null,null,null,null,false]
[null,null,null,null,null,null,null,false]
[null,null,null,null,null,null,null,false]
[null,null,null,null,null,null,null,false]
[null,null,null,null,null,null,null,false]
[null,null,null,null,null,null,null,false]
[null,null,null,null,null,null,null,false]
[null,null,null,null,null,null,null,false]
[null,null,null,null,null,null,null,false]
[null,null,null,null,null,null,null,false]
[null,null,null,null,null,null,null,false]
[null,null,null,null,null,null,null,false]
[null,null,null,null,null,null,null,false]
[null,null,null,null,null,null,null,false]
[null,null,null,null,null,null,null,false]
[null,null,null,null,null,null,null,false]

{"sheet":"SPcodes","index":55,"n_rows":119,"n_cols":15,"rows_kept":119,"cut":false,"hidden":false,"merged":[]}
[null,"Find the appropriate classification code below. You may shorten the list",null,null,null,null,null,null,null,null,null,null,null,null,"S1-Start Here"]
[null,"by entering part or all of a word to search for, and clicking 'Search'.",null,null,null,null,null,null,null,null,null,null,null,null,28]
["search for:",null,null,null,null,null,null,null,null,null,null,null,null,"worksheet: ","S1-Start Here"]
[null,"Select one classification code (single-click on that cell)",null,null,null,null,null,null,null,null,null,null,null,"row:",28]
[null,"then hit 'Add'."]
["No","Classification Code"]
[10,"Commercial Biotechnology",null,{"$f":"OR(NOT(ISERROR(SEARCH(B$3,B7))),NOT(ISERROR(SEARCH(B$3,TEXT(A7,\"000\")))))","v":true}]
[11,"Molecular Genetics",null,true]
[12,"Natural Products: Chemistry and Biological Activity",null,true]
[13,"Bioprocessing, Bioreaction, Cell and Tissue Culture",null,true,null,null,null,null,null,null,null,null,null,{"$f":"CONCATENATE(TEXT(N9,\"000\"),\" \",O9)","v":"000 "}]
[20,"Environmental Technology",null,true]
[21,"Enhancement of Environmental Monitoring and Assessment",null,true]
[22,"Pollution Control and Prevention",null,true]
[23,"Remediation",null,true]
[30,"Revitalize the Nation's Commercial Fisheries",null,true]
[31,"Ecosystem-Based Fisheries Management",null,true]
[32,"Fisheries Social and Economic Impacts",null,true]
[33,"Minimizing Bycatch",null,true]
[34,"Enhancing Wild Stocks through Aquaculture",null,true]
[40,"Develop Sustainable U.S. Aquaculture",null,true]
[41,"Administration and Coordination",null,true]
[42,"Developing and Improving Grow-out Systems",null,true]
[43,"Improving Husbandry",null,true]
[44,"Enhancing Aquaculture through Biotechnology",null,true]
[50,"Enhance Competitiveness through Advances in Seafood Technology",null,true]
[51,"Product Quality and Safety",null,true]
[52,"Processing Technology and Practices",null,true]
[53,"Waste Management and Byproduct Recovery",null,true]
[54,"Product Development",null,true]
[60,"Coastal Business Development",null,true]
[61,"Fishing Industries",null,true]
[62,"Coastal Recreation Businesses",null,true]
[63,"Marine Trades Industry",null,true]
[70,"Coastal Community Development",null,true]
[71,"Sustainable Coastal Tourism ",null,true]
[72,"Communities in Transition",null,true]
[73,"Coastal and Waterfront Redevelopment/ Working Waterfronts",null,true]
[74,"Ports,Harbors and Clean Marinas",null,true]
[75,"Planning and Decision-Making Information",null,true]
[76,"Coastal & Waterway Access",null,true]
[77,"Green Infrastructure, Green Building and Community Design",null,true]
[80,"Revitalizing Marine Infrastructure",null,true]
[81,"Inspection and Condition Surveys",null,true]
[82,"Environmental and Operational Loadings",null,true]
[83,"Structure Performance Assessments",null,true]
[84,"Rehabilitation, Repair, and Recycling Procedures ",null,true]
[90,"Coastal and Great Lakes Water Quality",null,true]
[91,"Toxics",null,true]
[92,"Biological Contaminants",null,true]
[93,"Nutrients",null,true]
[94,"Sedimentation",null,true]
[95,"Biotoxins/Harmful Algal Blooms",null,true]
[96,"Nonpoint Source Pollution",null,true]
[97,"Chemical and Oil Spills",null,true]
[100,"Coastal and Great Lakes Habitats",null,true]
[101,"Habitat Structure and Function",null,true]
[102,"Habitat Restoration",null,true]
[103,"Aquatic Invasive Species",null,true]
[104,"Cumulative Impacts on Habitats",null,true]
[105,"Integrated Ecosystem Based Management",null,true]
[106,"Ecosystem Services",null,true]
[107,"Endangered Species",null,true]
[108,"Marine Debris",null,true]
[110,"Sustainable Development",null,true]
[111,"Socioeconomic Dimensions of Environmental Change",null,true]
[112,"Coastal Management Policy Tools",null,true]
[113,"Multiple Use Management and Conflict Resolution/ CMSP",null,true]
[114,"Water Availability",null,true]
[115,"Cumulative Impacts of Development",null,true]
[120,"Coastal and Natural Hazards",null,true]
[121,"Severe Storms",null,true]
[122,"Earthquakes and Tsunamis",null,{"$f":"OR(NOT(ISERROR(SEARCH(B$3,B72))),NOT(ISERROR(SEARCH(B$3,TEXT(A72,\"000\")))))","v":true}]
[123,"Coastal Planning and Building Construction Techniques",null,true]
[124,"Shoreline Processes and Erosion",null,true]
[125,"Floodplain Management",null,true]
[126,"Coastal Inundation",null,true]
[127,"Hazard Mitigation & Adaptation",null,true]
[130,"Safety at Sea",null,true]
[131,"Vessel Stability Research",null,true]
[132,"Equipment Design and Testing",null,true]
[133,"Survival and Safety ",null,true]
[134,"Recreational and Commercial Diving",null,true]
[140,"Education",null,true]
[141,"Education - Pre-college",null,true]
[142,"Education - University",null,true]
[143,"Education - Informal",null,true]
[144,"Education - Research Assistantships",null,true]
[145,"Education - Fellowships",null,true]
[150,"Marine Advisory Extension Service",null,true]
[151,"Marine Extension Service - Core",null,true]
[152,"Marine Extension Service - Special Projects",null,true]
[160,"Communications",null,true]
[161,"Communications - Core",null,true]
[162,"Communications - Special Projects",null,true]
[170,"Program Administration",null,true]
[170,"Program Administration",null,true]
[171,"Future Selected Projects",null,true]
[180,"Program Development",null,true]
[180,"Program Development",null,true]
[190,"OTHER",null,true]
[200,"Climate ",null,true]
[201,"Climate Modeling",null,true]
[202,"Climate Impacts",null,true]
[203,"Climate Literacy",null,true]
[204,"Climate Mitigation",null,true]
[205,"Climate Adaptation",null,true]
[206,"Ocean Acidification    ",null,true]
[210,"Energy ",null,true]
[211,"Alternative and Renewable Energy",null,true]
[212,"Energy Conservation",null,true]
[213,"Traditional Energy",null,true]
[220,"Social Science",null,true]
[220,"Social Science",null,true]
[221,"Information on socioeconomic context",null,true]
[222,"Impact evaluation",null,true]
[230,"Marine & Aquatic Literacy",null,true]
[231,"Pre-College GK-12 Literacy",null,true]
[232,"University Literacy",null,true]
[233,"Informal Literacy",null,true]

{"sheet":"NewPartner","index":56,"n_rows":14,"n_cols":16,"rows_kept":14,"cut":false,"hidden":false,"merged":[]}
[null,"ADD A NEW PARTNER",null,null,null,null,null,null,null,null,null,null,null,null,"S1-Start Here","(worksheet that called the macro)"]
[null,"Use this page after you have tried unsuccessfully to search for your Partner or Affiliation on",null,null,null,null,null,null,null,null,null,null,null,null,14,"(row to paste the result into)"]
[null,"the search page. If you haven't searched yet, hit \"Cancel\" and start over. ",null,null,null,null,null,null,null,null,null,null,null,null,{"$f":"IF(O2=-1,\"'\"&O1&\"'!F17\",\"'\"&O1&\"'!B\"&O2)","v":"'S1-Start Here'!B14"},"(full formula of where the result is pasted into)"]
[null,null,null,null,null,null,null,null,null,null,null,null,null,null,{"$f":"HYPERLINK(INDIRECT(O3),\"return\")","v":"return"}]
[null,null,null,"(2) Answer these questions:",null,null,null,null,null,null,null,null,null,null,{"$f":"\"00000 \"&B7&\" (\"&D7&\") (\"&E7&\")\"","v":"00000  () ()"}]
[null,"(1) Write the name of the new partner below:",null,"Scale?","Type?"]
[]
[null,"Standard Naming Convention:"]
[null,"o Governmental - Office Name or Organization Name Spelled Out (Department ",null,"(3) Hit \"Add\" to add your new Partner"]
[null,"Abbreviation, Agency Abbreviation, Line Abbreviation, Office Abbreviation)"]
[null,"Example: Coastal Services Center (DOC, NOAA, NOS, CSC)"]
[null,"o Academic – University, Office Name or Organization Name Spelled Out (University ",null,"or hit \"Cancel\" if you change your mind."]
[null,"Abbreviation)"]
[null,"Example: University of Hawaii at Manoa, Department of Zoology (UHM)"]

{"sheet":"90-2formulas","index":57,"n_rows":40,"n_cols":23,"rows_kept":40,"cut":false,"hidden":false,"merged":[]}
["Generated from row:",2,"OMB no. ","0648-0362",null,null,null,null,null,null,null,null,null,"S1","(default worksheet name)"]
[null,null,"Don't use after","2013-12-31",null,null,null,null,null,null,null,null,null,{"$f":"VALUE(MID(N1,2,99))+1","v":2},"default data row = (above numerical) plus one"]
[null,"(from ProjectRecord Data)",null,null,null,null,null,null,null,null,null,null,null,null,"(temp workspace for a current cell value)"]
[null,"SEA GRANT PROJECT SUMMARY FORM 90-2",null,null,"National Office does not track these fields:",null,"NSGO use only",null,null,null,null,null,null,null,"(temp workspace for a new selected value)"]
[null,null,null,null,null,null,null,null,null,null,null,null,null,{"$f":"IF(N3=\"\",IF(N4=\"\",\"\",N4),IF(N4=\"\",N3,N3&\"; \"&N4))","v":""},"(function to concatenate the above two cells)"]
["INSTITUTION (Program): ",{"$f":"INDIRECT(\"'ProjDataInput'!a\"&TEXT($N$2,\"###\"))&\"\"","v":""},null,"ICODE: ",null,null,null,null,null,null,null,null,null,null,null,null,null,null,null,"INSTITUTION (Program): ","DE",null,"ICODE: "]
["TITLE: ",{"$f":"MID(INDIRECT(\"'ProjDataInput'!C\"&TEXT($N$2,\"###\")),1,999)","v":""},null,"REV. DATE:",null,null,null,null,null,null,null,null,null,"","(Program listed on first 90-2)",null,null,null,null,"TITLE: ","Sea Grant Extension Program",null,"REV. DATE:"]
[null,null,null,"INIT. DATE:",null,null,null,null,null,null,null,null,null,null,null,null,null,null,null,null,null,null,"INIT. DATE:"]
[null," PROJECT NUMBER",null,"COMPL. DATE:",null,null,null,null,null,null,null,null,null,null,null,null,null,null,null,"PREFIX (A,C,E,M,P or R): "," PROJECT NUMBER",null,"COMPL. DATE:"]
[{"$f":"LEFT(INDIRECT(\"'ProjDataInput'!b\"&TEXT($N$2,\"###\")),2)","v":""},{"$f":"MID(INDIRECT(\"'ProjDataInput'!b\"&TEXT($N$2,\"###\")),3,999)","v":""},null,"PROJECT STATUS: ",null,null,null,null,null,null,null,null,null,null,null,null,null,null,null,null,"A/X-10",null,"PROJECT STATUS: "]
[null,{"$f":"IF(OR(LEFT(A10&\" \",1)=\"r\",AND(A10=\"\",LEFT(B10,1)=\"r\")),1,0)","v":0},null,"SUBPRROGRAM: ",null,null,null,null,null,null,null,null,null,null,null,null,null,null,null,null,null,null,"SUBPRROGRAM: "]
[]
["PI: ",{"$f":"MID(INDIRECT(\"'ProjDataInput'!j\"&TEXT($N$2,\"###\")),1,999)","v":""},null,"EFFORT: ",null,null,null,null,null,null,null,null,null,null,null,null,null,null,null,"PI: ","Kenneth La Valley",null,"EFFORT: "]
["AFFILIATION: ",{"$f":"MID(INDIRECT(\"'ProjDataInput'!k\"&TEXT($N$2,\"###\")),1,999)","v":""},null,"AFFIL. CODE: ",null,null,"Worksheet",null,null,null,null,null,null,null,null,null,null,null,null,"AFFILIATION: ","University of New Hampshire, Cooperative Extension (UNH)",null,"AFFIL. CODE: "]
[null,null,null,null,null,null,"tools:"]
["2nd PI: ",{"$f":"MID(INDIRECT(\"'ProjDataInput'!L\"&TEXT($N$2,\"###\")),1,999)","v":""},null,"EFFORT: ",null,null,null,null,null,null,null,null,null,null,null,null,null,null,null,"2nd PI: ","p2",null,"EFFORT: "]
["AFFILIATION: ",{"$f":"MID(INDIRECT(\"'ProjDataInput'!m\"&TEXT($N$2,\"###\")),1,999)","v":""},null,"AFFIL. CODE: ",null,null,null,null,null,null,null,null,null,null,null,null,null,null,null,"AFFILIATION: ","a2",null,"AFFIL. CODE: "]
[]
["3rd PI: ",{"$f":"MID(INDIRECT(\"'ProjDataInput'!n\"&TEXT($N$2,\"###\")),1,999)","v":""},null,"EFFORT: ",null,null,null,null,null,null,null,null,null,null,null,null,null,null,null,"3rd PI: ","p3",null,"EFFORT: "]
["AFFILIATION: ",{"$f":"MID(INDIRECT(\"'ProjDataInput'!o\"&TEXT($N$2,\"###\")),1,999)","v":""},null,"AFFIL. CODE: ",null,null,null,null,null,null,null,null,null,null,null,null,null,null,null,"AFFILIATION: ","a3",null,"AFFIL. CODE: "]
[]
["4th PI: ",{"$f":"MID(INDIRECT(\"'ProjDataInput'!p\"&TEXT($N$2,\"###\")),1,999)","v":""},null,"EFFORT: ",null,null,null,null,null,null,null,null,null,null,null,null,null,null,null,"4th PI: ","p4",null,"EFFORT: "]
["AFFILIATION: ",{"$f":"MID(INDIRECT(\"'ProjDataInput'!q\"&TEXT($N$2,\"###\")),1,999)","v":""},null,"AFFIL. CODE: ",null,null,null,null,null,null,null,null,null,null,null,null,null,null,null,"AFFILIATION: ","a4",null,"AFFIL. CODE: "]
[null,null,null,"LAST YR FEDERAL: ",null,null,null,null,null,null,null,null,null,null,null,null,null,null,null,null,null,null,"LAST YR FEDERAL: "]
["FEDERAL $ REQUEST: ",{"$f":"INDIRECT(\"'ProjDataInput'!h\"&TEXT($N$2,\"###\"))","v":0},null,"LAST YR MATCH: ",null,null,null,null,null,null,null,null,null,null,null,null,null,null,null,"FEDERAL $ REQUEST: ",332631,null,"LAST YR MATCH: "]
["MATCH $: ",{"$f":"INDIRECT(\"'ProjDataInput'!i\"&TEXT($N$2,\"###\"))","v":0},null,"RELATED PROJECTS: ",null,null,null,null,null,null,null,null,null,null,null,null,null,null,null,"MATCH $: ",127250,null,"RELATED PROJECTS: "]
[null,null,null,"PARENT PROJECTS: ",null,null,null,null,null,null,null,null,null,null,null,null,null,null,null,null,null,null,"PARENT PROJECTS: "]
["CLASSIFICATION CODES: ",{"$f":"MID(INDIRECT(\"'ProjDataInput'!f\"&TEXT($N$2,\"###\")),1,999)","v":""},null,"KEYWORDS: ",null,null,null,null,null,null,null,null,null,null,null,null,null,null,null,"CLASSIFICATION CODES: ","151 Marine Extension Service - Core",null,"KEYWORDS: "]
[null,"(Primary Code First)",null,"MULTIPROGRAM? ",null,null,null,null,null,null,null,null,null,null,null,null,null,null,null,null,"(Primary Code First)",null,"MULTIPROGRAM? "]
["FOCUS AREAS: ",{"$f":"MID(INDIRECT(\"'ProjDataInput'!d\"&TEXT($N$2,\"###\")),1,999)","v":""},null,"OTHER INFORMATION: ",null,null,null,null,null,null,null,null,null,null,null,null,null,null,null,"FOCUS AREAS: ","0954 Sustainable Fisheries and Aquaculture; 0951 Healthy Coastal Ecosystems",null,"OTHER INFORMATION: "]
[null,"(Primary Focus Area First)",null,null,null,null,null,null,null,null,null,null,null,null,null,null,null,null,null,null,"(Primary Focus Area First)"]
["PARTNERS: ",{"$f":"MID(INDIRECT(\"'ProjDataInput'!e\"&TEXT($N$2,\"###\")),1,999)","v":""},null,null,null,null,null,null,null,null,null,null,null,null,null,null,null,null,null,"PARTNERS: ","Alaska Sea Grant; American Fisheries Society (AFS); Aquaculture Industry; Atlantic States Marine Fisheries Commission (ASMFC); Blue Alaska Sea Grant; American Fisheries Society (AFS); Aquaculture Industry; Atlantic States Marine Fisheries Commission (ASMFC); Blue Ocean Society; Center for Coastal and Ocean Mapping, Joint Hydrographic Center (US DOC, NOAA, NOS, CCOM-JHC); City of Portsmouth, NH; Coastal and Estuarine Research Federation (ERF); Coastal Conservation Association; Commercial Fisheries News; Commercial Fishing Industry; Connecticut Sea Grant; Delaware Sea Grant; Eastman's Fresh Catch; Eastman’s Fishing Fleet; eXtension; Farm Service Agency (USDA); Fishermen's Voice; Granite State Fish; Granite State Whale Watch; Great Bay Aquaculture, LLCOcean Society; Center for Coastal and Ocean Mapping, Joint Hydrographic Center (US DOC, NOAA, NOS, CCOM-JHC); City of Portsmouth, NH; Coastal and Estuarine Research Federation (ERF); Coastal Conservation Association; Commercial Fisheries News; Commercial Fishing Industry; Connecticut Sea Grant; Delaware Sea Grant; Eastman's Fresh Catch; Eastman’s Fishing Fleet; eXtension; Farm Service Agency (USDA); Fishermen's Voice; Granite State Fish; Granite State Whale Watch; Great Bay Aquaculture, LLC"]
[]
["OBJECTIVES: ",{"$f":"MID(INDIRECT(\"'ProjDataInput'!g\"&TEXT($N$2,\"###\")),1,19999)","v":""},null,null,null,null,null,null,null,null,null,null,null,null,null,null,null,null,null,"OBJECTIVES: ","Objectives: Innovative collaborations between the fishing industry and research communities have continued since 1999. Two cooperative research funding organizations, the Northeast Consortium (NEC) and the Cooperative Research Partnership Program (CRPP), have supported these collaborations. The Northeast Consortium received limited funds from NOAA/NMFS and was able to offer a 2010 RFP ($1.2 million). The NMFS CRPP program initiated a collaborative approach to funding fisheries research in the Northeast. A broad agency announcement, or BAA, was released for regional partnerships to submit multi-year projects targeting conservation engineering and fisheries science. Two projects in particular were funded, GEARNET and REDNET. Both included the N.H. Sea Grant Fisheries Program to coordinate extension and outreach. \nMethodology: As in 2009, the NOAA S-K grant program was appropriated $5 million in 2010 to support fisheries, aquaculture and fisheries social science projects in the Northeast. A new investment in aquaculture research and extension occurred within the National Sea Grant program, which offered $4.8 million to fund research and $2.0 million for aquaculture extension. Although funding for broad topic collaborative research projects has suffered, organizations like the above have allowed for partnerships and cooperative projects to continue, and for aquaculture research, to grow. It has continued to be critical for the fisheries extension program to identify and support the development of outreach and technology transfer mechanisms that will encourage the incorporation of conservation minded fishing gear into the industry. \nRationale: With the transition from days-at-sea groundfish management to the current sector allocation system, the small vessel fishing fleet in Maine, N.H. and Mass. has suffered economically, making it even more important that the industry diversify and pursue innovative marketing strategies to sustain their operations. In addition to these challenges, groundfishermen are facing cuts in the allowable catch for their most marketable species (e.g. cod) upwards of 70%.  Although lobster catches have recently reached all-time highs, record low boat prices and increasing operational costs, such as fuel expenses, are presenting significant challenges to the sustainability of lobstering as well. The Fisheries Extension program continues to invest a significant portion of its resources and time to work with the industry, local organizations and seafood wholesalers and retailers to increase awareness of and demand and to facilitate development of alternative supply chains that deliver locally branded seafood that deliver higher profits to boats. \nData Sharing Plan: dsp"]
[]
["METHODOLOGY: ",null,null,null,null,null,null,null,null,null,null,null,null,null,null,null,null,null,null,"METHODOLOGY: "]
[null,"(The Data Sharing Plan may be included in the Methodology section)"]
["RATIONALE: ",null,null,null,null,null,null,null,null,null,null,null,null,null,null,null,null,null,null,"RATIONALE: "]
[]
["DATA SHARING PLAN: ",{"$f":"MID(INDIRECT(\"'ProjDataInput'!r\"&TEXT($N$2,\"###\")),1,19999)","v":""},null,null,null,null,null,null,null,null,null,null,null,null,null,null,null,null,null,"DATA SHARING PLAN: "]

{"sheet":"TRLs","index":58,"n_rows":14,"n_cols":15,"rows_kept":14,"cut":false,"hidden":false,"merged":[[10,2,10,6],[11,2,11,6],[12,2,12,6],[13,2,13,6],[3,1,3,6],[5,2,5,6],[6,2,6,6],[7,2,7,6],[8,2,8,6],[9,2,9,6]]}
["SELECT READINESS LEVELS",null,null,null,null,null,null,null,null,null,null,null,null,null,"S8"]
[null,null,"selected: ",{"$f":"IF(IF(H6,\"1;\",\"\")&IF(H7,\"2;\",\"\")&IF(H8,\"3;\",\"\")&IF(H9,\"4;\",\"\")&IF(H10,\"5;\",\"\")&IF(H11,\"6;\",\"\")&IF(H12,\"7;\",\"\")&IF(H13,\"8;\",\"\")&IF(H14,\"9;\",\"\")=\"\",\"\",LEFT(IF(H6,\"1;\",\"\")&IF(H7,\"2;\",\"\")&IF(H8,\"3;\",\"\")&IF(H9,\"4;\",\"\")&IF(H10,\"5;\",\"\")&IF(H11,\"6;\",\"\")&IF(H12,\"7;\",\"\")&IF(H13,\"8;\",\"\")&IF(H14,\"9;\",\"\"),LEN(IF(H6,\"1;\",\"\")&IF(H7,\"2;\",\"\")&IF(H8,\"3;\",\"\")&IF(H9,\"4;\",\"\")&IF(H10,\"5;\",\"\")&IF(H11,\"6;\",\"\")&IF(H12,\"7;\",\"\")&IF(H13,\"8;\",\"\")&IF(H14,\"9;\",\"\"))-1))","v":""},null,null,null,null,null,null,null,null,null,null,5]
[]
["Click\nthe\ncheckbox\nâ","RESEARCH PROJECTS: Please use the checkboxes to select all of the Readiness Levels that describe components of your project. \nAfter you have selected the appropriate Readiness Levels, click on \"Return\". Click on \"Cancel\" to return without assigning any levels,\n\nNON-RESEARCH PROJECTS: No action is needed. Click \"Cancel\""]
[]
[null,1,"RL 1: Basic research: experimental or theoretical work undertaken primarily to acquire new knowledge of the underlying foundations of phenomena and observable facts, without any particular application or use in view. Basic research can be oriented or directed towards some broad fields of general interest, with the explicit goal of a range of future applications (OECD, 2015);",null,null,null,null,false]
[null,2,"RL 2: Applied research: original investigation undertaken in order to acquire new knowledge. It is, however, directed primarily towards a specific, practical aim or objective. Applied research is undertaken either to determine possible uses for the findings of basic research or to determine new methods or ways of achieving specific and predetermined objectives (OECD, 2015).",null,null,null,null,false]
[null,3,"RL 3: Proof-of-concept for system, process, product, service or tool; this can be considered an early phase of experimental development; feasibility studies may be included;",null,null,null,null,false]
[null,4,"RL 4: Successful evaluation of system, subsystem, process, product, service or tool in laboratory or other experimental environment; this can be considered an intermediate phase of development;",null,null,null,null,false]
[null,5,"RL 5: Successful evaluation of system, subsystem process, product, service or tool in relevant environment through testing and prototyping; this can be considered the final stage of development before demonstration begins;",null,null,null,null,false]
[null,6,"RL 6: Demonstration of prototype system, subsystem, process, product, service or tool in relevant or test environment (potential demonstrated);",null,null,null,null,false]
[null,7,"RL 7: Prototype system, process, product, service or tool demonstrated in an operational or other relevant environment (functionality demonstrated in near-real world environment; subsystem components fully integrated into system).",null,null,null,null,false]
[null,8,"RL 8: Finalized system, process, product, service or tool tested, and shown to operate or function as expected within user's environment; user training and documentation completed; operator or user approval given;",null,null,null,null,false]
[null,9,"RL 9: System, process, product, service or tool deployed and used routinely.",null,null,null,null,false]

{"sheet":"ProgramIDs","index":59,"n_rows":38,"n_cols":4,"rows_kept":38,"cut":false,"hidden":false,"merged":[]}
["Abbrev","Names","Program ID","Abbrev"]
["AK","ALASKA SEA GRANT",1,"AK"]
["CA","CALIFORNIA SEA GRANT",2,"CA"]
["CT","CONNECTICUT SEA GRANT",3,"CT"]
["DE","DELAWARE SEA GRANT",4,"DE"]
["FL","FLORIDA SEA GRANT",6,"FL"]
["GA","GEORGIA SEA GRANT",7,"GA"]
["HI","HAWAII SEA GRANT",8,"HI"]
["IL-IN","Illinois-Indiana Sea Grant",9,"IL-IN"]
["LA","LOUISIANA SEA GRANT",11,"LA"]
["ME","MAINE SEA GRANT",12,"ME"]
["MD","MARYLAND SEA GRANT",13,"MD"]
["MIT","Massachusetts Institute of Technology SEA GRANT",14,"MIT"]
["MI","MICHIGAN SEA GRANT",15,"MI"]
["MN","MINNESOTA SEA GRANT",16,"MN"]
["MS-AL","MISSISSIPPI-ALABAMA SEA GRANT",17,"MS-AL"]
["NH","NEW HAMPSHIRE SEA GRANT",18,"NH"]
["NJ","NEW JERSEY SEA GRANT",19,"NJ"]
["NY","NEW YORK SEA GRANT",20,"NY"]
["NC","NORTH CAROLINA SEA GRANT",21,"NC"]
["OH","OHIO SEA GRANT",22,"OH"]
["OR","OREGON SEA GRANT",23,"OR"]
["PA","PENNSYLVANIA SEA GRANT",24,"PA"]
["PR","PUERTO RICO SEA GRANT",25,"PR"]
["RI","RHODE ISLAND SEA GRANT",26,"RI"]
["SC","SOUTH CAROLINA SEA GRANT",27,"SC"]
["USC","UNIVERSITY OF SOUTHERN CALIFORNIA SEA GRANT",28,"USC"]
["TX","TEXAS SEA GRANT",29,"TX"]
["LC","LAKE CHAMPLAIN SEA GRANT",30,"LC"]
["VA","VIRGINIA SEA GRANT",31,"VA"]
["WA","WASHINGTON SEA GRANT",32,"WA"]
["WI","WISCONSIN SEA GRANT",33,"WI"]
["WHOI","Woods Hole Oceanographic Institution Sea Grant",34,"WHOI"]
["NSGCP","NATIONAL SEA GRANT COLLEGE PROGRAM",47,"NSGCP"]
["LAW","SEA GRANT LAW CENTER",48,"LAW"]
["NSGO","National Sea Grant Office",49,"NSGO"]
["GU","GUAM SEA GRANT",50,"GU"]
["LIB","NATIONAL SEA GRANT LIBRARY",51,"LIB"]

{"sheet":"Partner validation detail","index":60,"n_rows":2650,"n_cols":21,"rows_kept":2650,"cut":false,"hidden":false,"merged":[]}
[null,"Back to main validation tab",null,"Project ID","Partner (unscrubbed)",null,null,null,null,null,null,null,"PARTNER (core name)","EXISTING PIER PARTNER ID",null,"Legitimate Existing Partner?","Legitimate new partner?","Well-formed Scale?","Well-formed Type?","total number of errors:",{"$f":"COUNTIF(P2:S2630,\"NO\")","v":0}]
[null,null,null,null,null,null,null,null,null,null,null,null,{"$f":"TRIM(SUBSTITUTE(SUBSTITUTE(SUBSTITUTE(SUBSTITUTE(SUBSTITUTE(SUBSTITUTE(SUBSTITUTE(SUBSTITUTE(SUBSTITUTE(SUBSTITUTE(SUBSTITUTE(SUBSTITUTE(SUBSTITUTE(SUBSTITUTE(E2,\"00000 \",\"\"),\" (Local)\",\"\"),\" (Tribal)\",\"\"),\" (State)\",\"\"),\" (Regional)\",\"\"),\" (Federal/National)\",\"\"),\" (International)\",\"\"),\" (Unknown)\",\"\"),\" (Academic Institution)\",\"\"),\" (Government)\",\"\"),\" (Industry/Business)\",\"\"),\" (NGO)\",\"\"),\" (Other)\",\"\"),\" (Sea Grant Program)\",\"\"))","v":""},{"$f":"IF($M2=\"\",\"\",IFERROR(VLOOKUP($M2,PartnerSearch!B$2:G$16000,6,0),\"--\"))","v":""},null,{"$f":"IF(E2=\"\",\"\",IF(LEFT(E2&\"x\",5)=\"00000\",\"\",IF(N2=\"--\",\"NO\",\"yes\")))","v":""},{"$f":"IF(LEFT(E2&\"x\",5)<>\"00000\",\"\",IF(N2=\"--\",\"yes\",\"NO\"))","v":""},{"$f":"IF(Q2=\"\",\"\",IF((ISERROR(SEARCH(\"(Federal/National)\",E2))*1+ISERROR(SEARCH(\"(International)\",E2))*1+ISERROR(SEARCH(\"(Local)\",E2))*1+ISERROR(SEARCH(\"(State)\",E2))*1+ISERROR(SEARCH(\"(Regional)\",E2))*1+ISERROR(SEARCH(\"(Tribal)\",E2))*1+ISERROR(SEARCH(\"(Unknown) (\",E2))*1)=6,\"yes\",\"NO\"))","v":""},{"$f":"IF(Q2=\"\",\"\",IF(OR(NOT(ISERROR(SEARCH(\"(Academic Institution)\",E2))),NOT(ISERROR(SEARCH(\"(Government)\",E2))),NOT(ISERROR(SEARCH(\"(Industry/Business)\",E2))),NOT(ISERROR(SEARCH(\"(NGO)\",E2))),NOT(ISERROR(SEARCH(\"(Sea Grant Program)\",E2))),NOT(ISERROR(SEARCH(\"(Other)\",E2))),NOT(AND(NOT(ISERROR(SEARCH(\"(Unknown)\",E2))),(ISERROR(SEARCH(\") (Unknown)\",E2)))))),\"yes\",\"NO\"))","v":""}]
[null,null,null,null,null,null,null,null,null,null,null,null,{"$f":"TRIM(SUBSTITUTE(SUBSTITUTE(SUBSTITUTE(SUBSTITUTE(SUBSTITUTE(SUBSTITUTE(SUBSTITUTE(SUBSTITUTE(SUBSTITUTE(SUBSTITUTE(SUBSTITUTE(SUBSTITUTE(SUBSTITUTE(SUBSTITUTE(E3,\"00000 \",\"\"),\" (Local)\",\"\"),\" (Tribal)\",\"\"),\" (State)\",\"\"),\" (Regional)\",\"\"),\" (Federal/National)\",\"\"),\" (International)\",\"\"),\" (Unknown)\",\"\"),\" (Academic Institution)\",\"\"),\" (Government)\",\"\"),\" (Industry/Business)\",\"\"),\" (NGO)\",\"\"),\" (Other)\",\"\"),\" (Sea Grant Program)\",\"\"))","v":""},{"$f":"IF($M3=\"\",\"\",IFERROR(VLOOKUP($M3,PartnerSearch!B$2:G$16000,6,0),\"--\"))","v":""},null,{"$f":"IF(E3=\"\",\"\",IF(LEFT(E3&\"x\",5)=\"00000\",\"\",IF(N3=\"--\",\"NO\",\"yes\")))","v":""},{"$f":"IF(LEFT(E3&\"x\",5)<>\"00000\",\"\",IF(N3=\"--\",\"yes\",\"NO\"))","v":""},{"$f":"IF(Q3=\"\",\"\",IF((ISERROR(SEARCH(\"(Federal/National)\",E3))*1+ISERROR(SEARCH(\"(International)\",E3))*1+ISERROR(SEARCH(\"(Local)\",E3))*1+ISERROR(SEARCH(\"(State)\",E3))*1+ISERROR(SEARCH(\"(Regional)\",E3))*1+ISERROR(SEARCH(\"(Tribal)\",E3))*1+ISERROR(SEARCH(\"(Unknown) (\",E3))*1)=6,\"yes\",\"NO\"))","v":""},{"$f":"IF(Q3=\"\",\"\",IF(OR(NOT(ISERROR(SEARCH(\"(Academic Institution)\",E3))),NOT(ISERROR(SEARCH(\"(Government)\",E3))),NOT(ISERROR(SEARCH(\"(Industry/Business)\",E3))),NOT(ISERROR(SEARCH(\"(NGO)\",E3))),NOT(ISERROR(SEARCH(\"(Sea Grant Program)\",E3))),NOT(ISERROR(SEARCH(\"(Other)\",E3))),NOT(AND(NOT(ISERROR(SEARCH(\"(Unknown)\",E3))),(ISERROR(SEARCH(\") (Unknown)\",E3)))))),\"yes\",\"NO\"))","v":""}]
[null,null,null,null,null,null,null,null,null,null,null,null,"",{"$f":"IF($M4=\"\",\"\",IFERROR(VLOOKUP($M4,PartnerSearch!B$2:G$16000,6,0),\"--\"))","v":""},null,"","","",""]
[null,null,null,null,null,null,null,null,null,null,null,null,"",{"$f":"IF($M5=\"\",\"\",IFERROR(VLOOKUP($M5,PartnerSearch!B$2:G$16000,6,0),\"--\"))","v":""},null,"","","",""]
[null,null,null,null,null,null,null,null,null,null,null,null,"",{"$f":"IF($M6=\"\",\"\",IFERROR(VLOOKUP($M6,PartnerSearch!B$2:G$16000,6,0),\"--\"))","v":""},null,"","","",""]
[null,null,null,null,null,null,null,null,null,null,null,null,"",{"$f":"IF($M7=\"\",\"\",IFERROR(VLOOKUP($M7,PartnerSearch!B$2:G$16000,6,0),\"--\"))","v":""},null,"","","",""]
[null,null,null,null,null,null,null,null,null,null,null,null,"",{"$f":"IF($M8=\"\",\"\",IFERROR(VLOOKUP($M8,PartnerSearch!B$2:G$16000,6,0),\"--\"))","v":""},null,"","","",""]
[null,null,null,null,null,null,null,null,null,null,null,null,"",{"$f":"IF($M9=\"\",\"\",IFERROR(VLOOKUP($M9,PartnerSearch!B$2:G$16000,6,0),\"--\"))","v":""},null,"","","",""]
[null,null,null,null,null,null,null,null,null,null,null,null,"",{"$f":"IF($M10=\"\",\"\",IFERROR(VLOOKUP($M10,PartnerSearch!B$2:G$16000,6,0),\"--\"))","v":""},null,"","","",""]
[null,null,null,null,null,null,null,null,null,null,null,null,"",{"$f":"IF($M11=\"\",\"\",IFERROR(VLOOKUP($M11,PartnerSearch!B$2:G$16000,6,0),\"--\"))","v":""},null,"","","",""]
[null,null,null,null,null,null,null,null,null,null,null,null,"",{"$f":"IF($M12=\"\",\"\",IFERROR(VLOOKUP($M12,PartnerSearch!B$2:G$16000,6,0),\"--\"))","v":""},null,"","","",""]
[null,null,null,null,null,null,null,null,null,null,null,null,"",{"$f":"IF($M13=\"\",\"\",IFERROR(VLOOKUP($M13,PartnerSearch!B$2:G$16000,6,0),\"--\"))","v":""},null,"","","",""]
[null,null,null,null,null,null,null,null,null,null,null,null,"",{"$f":"IF($M14=\"\",\"\",IFERROR(VLOOKUP($M14,PartnerSearch!B$2:G$16000,6,0),\"--\"))","v":""},null,"","","",""]
[null,null,null,null,null,null,null,null,null,null,null,null,"",{"$f":"IF($M15=\"\",\"\",IFERROR(VLOOKUP($M15,PartnerSearch!B$2:G$16000,6,0),\"--\"))","v":""},null,"","","",""]
[null,null,null,null,null,null,null,null,null,null,null,null,"",{"$f":"IF($M16=\"\",\"\",IFERROR(VLOOKUP($M16,PartnerSearch!B$2:G$16000,6,0),\"--\"))","v":""},null,"","","",""]
[null,null,null,null,null,null,null,null,null,null,null,null,"",{"$f":"IF($M17=\"\",\"\",IFERROR(VLOOKUP($M17,PartnerSearch!B$2:G$16000,6,0),\"--\"))","v":""},null,"","","",""]
[null,null,null,null,null,null,null,null,null,null,null,null,"",{"$f":"IF($M18=\"\",\"\",IFERROR(VLOOKUP($M18,PartnerSearch!B$2:G$16000,6,0),\"--\"))","v":""},null,"","","",""]
[null,null,null,null,null,null,null,null,null,null,null,null,"",{"$f":"IF($M19=\"\",\"\",IFERROR(VLOOKUP($M19,PartnerSearch!B$2:G$16000,6,0),\"--\"))","v":""},null,"","","",""]
[null,null,null,null,null,null,null,null,null,null,null,null,"",{"$f":"IF($M20=\"\",\"\",IFERROR(VLOOKUP($M20,PartnerSearch!B$2:G$16000,6,0),\"--\"))","v":""},null,"","","",""]
[null,null,null,null,null,null,null,null,null,null,null,null,"",{"$f":"IF($M21=\"\",\"\",IFERROR(VLOOKUP($M21,PartnerSearch!B$2:G$16000,6,0),\"--\"))","v":""},null,"","","",""]
[null,null,null,null,null,null,null,null,null,null,null,null,"",{"$f":"IF($M22=\"\",\"\",IFERROR(VLOOKUP($M22,PartnerSearch!B$2:G$16000,6,0),\"--\"))","v":""},null,"","","",""]
[null,null,null,null,null,null,null,null,null,null,null,null,"",{"$f":"IF($M23=\"\",\"\",IFERROR(VLOOKUP($M23,PartnerSearch!B$2:G$16000,6,0),\"--\"))","v":""},null,"","","",""]
[null,null,null,null,null,null,null,null,null,null,null,null,"",{"$f":"IF($M24=\"\",\"\",IFERROR(VLOOKUP($M24,PartnerSearch!B$2:G$16000,6,0),\"--\"))","v":""},null,"","","",""]
[null,null,null,null,null,null,null,null,null,null,null,null,"",{"$f":"IF($M25=\"\",\"\",IFERROR(VLOOKUP($M25,PartnerSearch!B$2:G$16000,6,0),\"--\"))","v":""},null,"","","",""]
[null,null,null,null,null,null,null,null,null,null,null,null,"",{"$f":"IF($M26=\"\",\"\",IFERROR(VLOOKUP($M26,PartnerSearch!B$2:G$16000,6,0),\"--\"))","v":""},null,"","","",""]
[null,null,null,null,null,null,null,null,null,null,null,null,"",{"$f":"IF($M27=\"\",\"\",IFERROR(VLOOKUP($M27,PartnerSearch!B$2:G$16000,6,0),\"--\"))","v":""},null,"","","",""]
[null,null,null,null,null,null,null,null,null,null,null,null,"",{"$f":"IF($M28=\"\",\"\",IFERROR(VLOOKUP($M28,PartnerSearch!B$2:G$16000,6,0),\"--\"))","v":""},null,"","","",""]
[null,null,null,null,null,null,null,null,null,null,null,null,"",{"$f":"IF($M29=\"\",\"\",IFERROR(VLOOKUP($M29,PartnerSearch!B$2:G$16000,6,0),\"--\"))","v":""},null,"","","",""]
[null,null,null,null,null,null,null,null,null,null,null,null,"",{"$f":"IF($M30=\"\",\"\",IFERROR(VLOOKUP($M30,PartnerSearch!B$2:G$16000,6,0),\"--\"))","v":""},null,"","","",""]
[null,null,null,null,null,null,null,null,null,null,null,null,"",{"$f":"IF($M31=\"\",\"\",IFERROR(VLOOKUP($M31,PartnerSearch!B$2:G$16000,6,0),\"--\"))","v":""},null,"","","",""]
[null,null,null,null,null,null,null,null,null,null,null,null,"",{"$f":"IF($M32=\"\",\"\",IFERROR(VLOOKUP($M32,PartnerSearch!B$2:G$16000,6,0),\"--\"))","v":""},null,"","","",""]
[null,null,null,null,null,null,null,null,null,null,null,null,"",{"$f":"IF($M33=\"\",\"\",IFERROR(VLOOKUP($M33,PartnerSearch!B$2:G$16000,6,0),\"--\"))","v":""},null,"","","",""]
[null,null,null,null,null,null,null,null,null,null,null,null,"",{"$f":"IF($M34=\"\",\"\",IFERROR(VLOOKUP($M34,PartnerSearch!B$2:G$16000,6,0),\"--\"))","v":""},null,"","","",""]
[null,null,null,null,null,null,null,null,null,null,null,null,"",{"$f":"IF($M35=\"\",\"\",IFERROR(VLOOKUP($M35,PartnerSearch!B$2:G$16000,6,0),\"--\"))","v":""},null,"","","",""]
[null,null,null,null,null,null,null,null,null,null,null,null,"",{"$f":"IF($M36=\"\",\"\",IFERROR(VLOOKUP($M36,PartnerSearch!B$2:G$16000,6,0),\"--\"))","v":""},null,"","","",""]
[null,null,null,null,null,null,null,null,null,null,null,null,"",{"$f":"IF($M37=\"\",\"\",IFERROR(VLOOKUP($M37,PartnerSearch!B$2:G$16000,6,0),\"--\"))","v":""},null,"","","",""]
[null,null,null,null,null,null,null,null,null,null,null,null,"",{"$f":"IF($M38=\"\",\"\",IFERROR(VLOOKUP($M38,PartnerSearch!B$2:G$16000,6,0),\"--\"))","v":""},null,"","","",""]
[null,null,null,null,null,null,null,null,null,null,null,null,"",{"$f":"IF($M39=\"\",\"\",IFERROR(VLOOKUP($M39,PartnerSearch!B$2:G$16000,6,0),\"--\"))","v":""},null,"","","",""]
[null,null,null,null,null,null,null,null,null,null,null,null,"",{"$f":"IF($M40=\"\",\"\",IFERROR(VLOOKUP($M40,PartnerSearch!B$2:G$16000,6,0),\"--\"))","v":""},null,"","","",""]
[null,null,null,null,null,null,null,null,null,null,null,null,"",{"$f":"IF($M41=\"\",\"\",IFERROR(VLOOKUP($M41,PartnerSearch!B$2:G$16000,6,0),\"--\"))","v":""},null,"","","",""]
[null,null,null,null,null,null,null,null,null,null,null,null,"",{"$f":"IF($M42=\"\",\"\",IFERROR(VLOOKUP($M42,PartnerSearch!B$2:G$16000,6,0),\"--\"))","v":""},null,"","","",""]
[null,null,null,null,null,null,null,null,null,null,null,null,"",{"$f":"IF($M43=\"\",\"\",IFERROR(VLOOKUP($M43,PartnerSearch!B$2:G$16000,6,0),\"--\"))","v":""},null,"","","",""]
[null,null,null,null,null,null,null,null,null,null,null,null,"",{"$f":"IF($M44=\"\",\"\",IFERROR(VLOOKUP($M44,PartnerSearch!B$2:G$16000,6,0),\"--\"))","v":""},null,"","","",""]
[null,null,null,null,null,null,null,null,null,null,null,null,"",{"$f":"IF($M45=\"\",\"\",IFERROR(VLOOKUP($M45,PartnerSearch!B$2:G$16000,6,0),\"--\"))","v":""},null,"","","",""]
[null,null,null,null,null,null,null,null,null,null,null,null,"",{"$f":"IF($M46=\"\",\"\",IFERROR(VLOOKUP($M46,PartnerSearch!B$2:G$16000,6,0),\"--\"))","v":""},null,"","","",""]
[null,null,null,null,null,null,null,null,null,null,null,null,"",{"$f":"IF($M47=\"\",\"\",IFERROR(VLOOKUP($M47,PartnerSearch!B$2:G$16000,6,0),\"--\"))","v":""},null,"","","",""]
[null,null,null,null,null,null,null,null,null,null,null,null,"",{"$f":"IF($M48=\"\",\"\",IFERROR(VLOOKUP($M48,PartnerSearch!B$2:G$16000,6,0),\"--\"))","v":""},null,"","","",""]
[null,null,null,null,null,null,null,null,null,null,null,null,"",{"$f":"IF($M49=\"\",\"\",IFERROR(VLOOKUP($M49,PartnerSearch!B$2:G$16000,6,0),\"--\"))","v":""},null,"","","",""]
[null,null,null,null,null,null,null,null,null,null,null,null,"",{"$f":"IF($M50=\"\",\"\",IFERROR(VLOOKUP($M50,PartnerSearch!B$2:G$16000,6,0),\"--\"))","v":""},null,"","","",""]
[null,null,null,null,null,null,null,null,null,null,null,null,"",{"$f":"IF($M51=\"\",\"\",IFERROR(VLOOKUP($M51,PartnerSearch!B$2:G$16000,6,0),\"--\"))","v":""},null,"","","",""]
[null,null,null,null,null,null,null,null,null,null,null,null,"",{"$f":"IF($M52=\"\",\"\",IFERROR(VLOOKUP($M52,PartnerSearch!B$2:G$16000,6,0),\"--\"))","v":""},null,"","","",""]
[null,null,null,null,null,null,null,null,null,null,null,null,"",{"$f":"IF($M53=\"\",\"\",IFERROR(VLOOKUP($M53,PartnerSearch!B$2:G$16000,6,0),\"--\"))","v":""},null,"","","",""]
[null,null,null,null,null,null,null,null,null,null,null,null,"",{"$f":"IF($M54=\"\",\"\",IFERROR(VLOOKUP($M54,PartnerSearch!B$2:G$16000,6,0),\"--\"))","v":""},null,"","","",""]
[null,null,null,null,null,null,null,null,null,null,null,null,"",{"$f":"IF($M55=\"\",\"\",IFERROR(VLOOKUP($M55,PartnerSearch!B$2:G$16000,6,0),\"--\"))","v":""},null,"","","",""]
[null,null,null,null,null,null,null,null,null,null,null,null,"",{"$f":"IF($M56=\"\",\"\",IFERROR(VLOOKUP($M56,PartnerSearch!B$2:G$16000,6,0),\"--\"))","v":""},null,"","","",""]
[null,null,null,null,null,null,null,null,null,null,null,null,"",{"$f":"IF($M57=\"\",\"\",IFERROR(VLOOKUP($M57,PartnerSearch!B$2:G$16000,6,0),\"--\"))","v":""},null,"","","",""]
[null,null,null,null,null,null,null,null,null,null,null,null,"",{"$f":"IF($M58=\"\",\"\",IFERROR(VLOOKUP($M58,PartnerSearch!B$2:G$16000,6,0),\"--\"))","v":""},null,"","","",""]
[null,null,null,null,null,null,null,null,null,null,null,null,"",{"$f":"IF($M59=\"\",\"\",IFERROR(VLOOKUP($M59,PartnerSearch!B$2:G$16000,6,0),\"--\"))","v":""},null,"","","",""]
[null,null,null,null,null,null,null,null,null,null,null,null,"",{"$f":"IF($M60=\"\",\"\",IFERROR(VLOOKUP($M60,PartnerSearch!B$2:G$16000,6,0),\"--\"))","v":""},null,"","","",""]
[null,null,null,null,null,null,null,null,null,null,null,null,"",{"$f":"IF($M61=\"\",\"\",IFERROR(VLOOKUP($M61,PartnerSearch!B$2:G$16000,6,0),\"--\"))","v":""},null,"","","",""]
[null,null,null,null,null,null,null,null,null,null,null,null,"",{"$f":"IF($M62=\"\",\"\",IFERROR(VLOOKUP($M62,PartnerSearch!B$2:G$16000,6,0),\"--\"))","v":""},null,"","","",""]
[null,null,null,null,null,null,null,null,null,null,null,null,"",{"$f":"IF($M63=\"\",\"\",IFERROR(VLOOKUP($M63,PartnerSearch!B$2:G$16000,6,0),\"--\"))","v":""},null,"","","",""]
[null,null,null,null,null,null,null,null,null,null,null,null,"",{"$f":"IF($M64=\"\",\"\",IFERROR(VLOOKUP($M64,PartnerSearch!B$2:G$16000,6,0),\"--\"))","v":""},null,"","","",""]
[null,null,null,null,null,null,null,null,null,null,null,null,"",{"$f":"IF($M65=\"\",\"\",IFERROR(VLOOKUP($M65,PartnerSearch!B$2:G$16000,6,0),\"--\"))","v":""},null,"","","",""]
[null,null,null,null,null,null,null,null,null,null,null,null,"",{"$f":"IF($M66=\"\",\"\",IFERROR(VLOOKUP($M66,PartnerSearch!B$2:G$16000,6,0),\"--\"))","v":""},null,"","","",""]
[null,null,null,null,null,null,null,null,null,null,null,null,{"$f":"TRIM(SUBSTITUTE(SUBSTITUTE(SUBSTITUTE(SUBSTITUTE(SUBSTITUTE(SUBSTITUTE(SUBSTITUTE(SUBSTITUTE(SUBSTITUTE(SUBSTITUTE(SUBSTITUTE(SUBSTITUTE(SUBSTITUTE(SUBSTITUTE(E67,\"00000 \",\"\"),\" (Local)\",\"\"),\" (Tribal)\",\"\"),\" (State)\",\"\"),\" (Regional)\",\"\"),\" (Federal/National)\",\"\"),\" (International)\",\"\"),\" (Unknown)\",\"\"),\" (Academic Institution)\",\"\"),\" (Government)\",\"\"),\" (Industry/Business)\",\"\"),\" (NGO)\",\"\"),\" (Other)\",\"\"),\" (Sea Grant Program)\",\"\"))","v":""},{"$f":"IF($M67=\"\",\"\",IFERROR(VLOOKUP($M67,PartnerSearch!B$2:G$16000,6,0),\"--\"))","v":""},null,{"$f":"IF(E67=\"\",\"\",IF(LEFT(E67&\"x\",5)=\"00000\",\"\",IF(N67=\"--\",\"NO\",\"yes\")))","v":""},{"$f":"IF(LEFT(E67&\"x\",5)<>\"00000\",\"\",IF(N67=\"--\",\"yes\",\"NO\"))","v":""},{"$f":"IF(Q67=\"\",\"\",IF((ISERROR(SEARCH(\"(Federal/National)\",E67))*1+ISERROR(SEARCH(\"(International)\",E67))*1+ISERROR(SEARCH(\"(Local)\",E67))*1+ISERROR(SEARCH(\"(State)\",E67))*1+ISERROR(SEARCH(\"(Regional)\",E67))*1+ISERROR(SEARCH(\"(Tribal)\",E67))*1+ISERROR(SEARCH(\"(Unknown) (\",E67))*1)=6,\"yes\",\"NO\"))","v":""},{"$f":"IF(Q67=\"\",\"\",IF(OR(NOT(ISERROR(SEARCH(\"(Academic Institution)\",E67))),NOT(ISERROR(SEARCH(\"(Government)\",E67))),NOT(ISERROR(SEARCH(\"(Industry/Business)\",E67))),NOT(ISERROR(SEARCH(\"(NGO)\",E67))),NOT(ISERROR(SEARCH(\"(Sea Grant Program)\",E67))),NOT(ISERROR(SEARCH(\"(Other)\",E67))),NOT(AND(NOT(ISERROR(SEARCH(\"(Unknown)\",E67))),(ISERROR(SEARCH(\") (Unknown)\",E67)))))),\"yes\",\"NO\"))","v":""}]
[null,null,null,null,null,null,null,null,null,null,null,null,"",{"$f":"IF($M68=\"\",\"\",IFERROR(VLOOKUP($M68,PartnerSearch!B$2:G$16000,6,0),\"--\"))","v":""},null,"","","",""]
[null,null,null,null,null,null,null,null,null,null,null,null,"",{"$f":"IF($M69=\"\",\"\",IFERROR(VLOOKUP($M69,PartnerSearch!B$2:G$16000,6,0),\"--\"))","v":""},null,"","","",""]
[null,null,null,null,null,null,null,null,null,null,null,null,"",{"$f":"IF($M70=\"\",\"\",IFERROR(VLOOKUP($M70,PartnerSearch!B$2:G$16000,6,0),\"--\"))","v":""},null,"","","",""]
[null,null,null,null,null,null,null,null,null,null,null,null,"",{"$f":"IF($M71=\"\",\"\",IFERROR(VLOOKUP($M71,PartnerSearch!B$2:G$16000,6,0),\"--\"))","v":""},null,"","","",""]
[null,null,null,null,null,null,null,null,null,null,null,null,"",{"$f":"IF($M72=\"\",\"\",IFERROR(VLOOKUP($M72,PartnerSearch!B$2:G$16000,6,0),\"--\"))","v":""},null,"","","",""]
[null,null,null,null,null,null,null,null,null,null,null,null,"",{"$f":"IF($M73=\"\",\"\",IFERROR(VLOOKUP($M73,PartnerSearch!B$2:G$16000,6,0),\"--\"))","v":""},null,"","","",""]
[null,null,null,null,null,null,null,null,null,null,null,null,"",{"$f":"IF($M74=\"\",\"\",IFERROR(VLOOKUP($M74,PartnerSearch!B$2:G$16000,6,0),\"--\"))","v":""},null,"","","",""]
[null,null,null,null,null,null,null,null,null,null,null,null,"",{"$f":"IF($M75=\"\",\"\",IFERROR(VLOOKUP($M75,PartnerSearch!B$2:G$16000,6,0),\"--\"))","v":""},null,"","","",""]
[null,null,null,null,null,null,null,null,null,null,null,null,"",{"$f":"IF($M76=\"\",\"\",IFERROR(VLOOKUP($M76,PartnerSearch!B$2:G$16000,6,0),\"--\"))","v":""},null,"","","",""]
[null,null,null,null,null,null,null,null,null,null,null,null,"",{"$f":"IF($M77=\"\",\"\",IFERROR(VLOOKUP($M77,PartnerSearch!B$2:G$16000,6,0),\"--\"))","v":""},null,"","","",""]
[null,null,null,null,null,null,null,null,null,null,null,null,"",{"$f":"IF($M78=\"\",\"\",IFERROR(VLOOKUP($M78,PartnerSearch!B$2:G$16000,6,0),\"--\"))","v":""},null,"","","",""]
[null,null,null,null,null,null,null,null,null,null,null,null,"",{"$f":"IF($M79=\"\",\"\",IFERROR(VLOOKUP($M79,PartnerSearch!B$2:G$16000,6,0),\"--\"))","v":""},null,"","","",""]
[null,null,null,null,null,null,null,null,null,null,null,null,"",{"$f":"IF($M80=\"\",\"\",IFERROR(VLOOKUP($M80,PartnerSearch!B$2:G$16000,6,0),\"--\"))","v":""},null,"","","",""]
[null,null,null,null,null,null,null,null,null,null,null,null,"",{"$f":"IF($M81=\"\",\"\",IFERROR(VLOOKUP($M81,PartnerSearch!B$2:G$16000,6,0),\"--\"))","v":""},null,"","","",""]
[null,null,null,null,null,null,null,null,null,null,null,null,"",{"$f":"IF($M82=\"\",\"\",IFERROR(VLOOKUP($M82,PartnerSearch!B$2:G$16000,6,0),\"--\"))","v":""},null,"","","",""]
[null,null,null,null,null,null,null,null,null,null,null,null,"",{"$f":"IF($M83=\"\",\"\",IFERROR(VLOOKUP($M83,PartnerSearch!B$2:G$16000,6,0),\"--\"))","v":""},null,"","","",""]
[null,null,null,null,null,null,null,null,null,null,null,null,"",{"$f":"IF($M84=\"\",\"\",IFERROR(VLOOKUP($M84,PartnerSearch!B$2:G$16000,6,0),\"--\"))","v":""},null,"","","",""]
[null,null,null,null,null,null,null,null,null,null,null,null,"",{"$f":"IF($M85=\"\",\"\",IFERROR(VLOOKUP($M85,PartnerSearch!B$2:G$16000,6,0),\"--\"))","v":""},null,"","","",""]
[null,null,null,null,null,null,null,null,null,null,null,null,"",{"$f":"IF($M86=\"\",\"\",IFERROR(VLOOKUP($M86,PartnerSearch!B$2:G$16000,6,0),\"--\"))","v":""},null,"","","",""]
[null,null,null,null,null,null,null,null,null,null,null,null,"",{"$f":"IF($M87=\"\",\"\",IFERROR(VLOOKUP($M87,PartnerSearch!B$2:G$16000,6,0),\"--\"))","v":""},null,"","","",""]
[null,null,null,null,null,null,null,null,null,null,null,null,"",{"$f":"IF($M88=\"\",\"\",IFERROR(VLOOKUP($M88,PartnerSearch!B$2:G$16000,6,0),\"--\"))","v":""},null,"","","",""]
[null,null,null,null,null,null,null,null,null,null,null,null,"",{"$f":"IF($M89=\"\",\"\",IFERROR(VLOOKUP($M89,PartnerSearch!B$2:G$16000,6,0),\"--\"))","v":""},null,"","","",""]
[null,null,null,null,null,null,null,null,null,null,null,null,"",{"$f":"IF($M90=\"\",\"\",IFERROR(VLOOKUP($M90,PartnerSearch!B$2:G$16000,6,0),\"--\"))","v":""},null,"","","",""]
[null,null,null,null,null,null,null,null,null,null,null,null,"",{"$f":"IF($M91=\"\",\"\",IFERROR(VLOOKUP($M91,PartnerSearch!B$2:G$16000,6,0),\"--\"))","v":""},null,"","","",""]
[null,null,null,null,null,null,null,null,null,null,null,null,"",{"$f":"IF($M92=\"\",\"\",IFERROR(VLOOKUP($M92,PartnerSearch!B$2:G$16000,6,0),\"--\"))","v":""},null,"","","",""]
[null,null,null,null,null,null,null,null,null,null,null,null,"",{"$f":"IF($M93=\"\",\"\",IFERROR(VLOOKUP($M93,PartnerSearch!B$2:G$16000,6,0),\"--\"))","v":""},null,"","","",""]
[null,null,null,null,null,null,null,null,null,null,null,null,"",{"$f":"IF($M94=\"\",\"\",IFERROR(VLOOKUP($M94,PartnerSearch!B$2:G$16000,6,0),\"--\"))","v":""},null,"","","",""]
[null,null,null,null,null,null,null,null,null,null,null,null,"",{"$f":"IF($M95=\"\",\"\",IFERROR(VLOOKUP($M95,PartnerSearch!B$2:G$16000,6,0),\"--\"))","v":""},null,"","","",""]
[null,null,null,null,null,null,null,null,null,null,null,null,"",{"$f":"IF($M96=\"\",\"\",IFERROR(VLOOKUP($M96,PartnerSearch!B$2:G$16000,6,0),\"--\"))","v":""},null,"","","",""]
[null,null,null,null,null,null,null,null,null,null,null,null,"",{"$f":"IF($M97=\"\",\"\",IFERROR(VLOOKUP($M97,PartnerSearch!B$2:G$16000,6,0),\"--\"))","v":""},null,"","","",""]
[null,null,null,null,null,null,null,null,null,null,null,null,"",{"$f":"IF($M98=\"\",\"\",IFERROR(VLOOKUP($M98,PartnerSearch!B$2:G$16000,6,0),\"--\"))","v":""},null,"","","",""]
[null,null,null,null,null,null,null,null,null,null,null,null,"",{"$f":"IF($M99=\"\",\"\",IFERROR(VLOOKUP($M99,PartnerSearch!B$2:G$16000,6,0),\"--\"))","v":""},null,"","","",""]
[null,null,null,null,null,null,null,null,null,null,null,null,"",{"$f":"IF($M100=\"\",\"\",IFERROR(VLOOKUP($M100,PartnerSearch!B$2:G$16000,6,0),\"--\"))","v":""},null,"","","",""]
[null,null,null,null,null,null,null,null,null,null,null,null,"",{"$f":"IF($M101=\"\",\"\",IFERROR(VLOOKUP($M101,PartnerSearch!B$2:G$16000,6,0),\"--\"))","v":""},null,"","","",""]
[null,null,null,null,null,null,null,null,null,null,null,null,"",{"$f":"IF($M102=\"\",\"\",IFERROR(VLOOKUP($M102,PartnerSearch!B$2:G$16000,6,0),\"--\"))","v":""},null,"","","",""]
[null,null,null,null,null,null,null,null,null,null,null,null,"",{"$f":"IF($M103=\"\",\"\",IFERROR(VLOOKUP($M103,PartnerSearch!B$2:G$16000,6,0),\"--\"))","v":""},null,"","","",""]
[null,null,null,null,null,null,null,null,null,null,null,null,"",{"$f":"IF($M104=\"\",\"\",IFERROR(VLOOKUP($M104,PartnerSearch!B$2:G$16000,6,0),\"--\"))","v":""},null,"","","",""]
[null,null,null,null,null,null,null,null,null,null,null,null,"",{"$f":"IF($M105=\"\",\"\",IFERROR(VLOOKUP($M105,PartnerSearch!B$2:G$16000,6,0),\"--\"))","v":""},null,"","","",""]
[null,null,null,null,null,null,null,null,null,null,null,null,"",{"$f":"IF($M106=\"\",\"\",IFERROR(VLOOKUP($M106,PartnerSearch!B$2:G$16000,6,0),\"--\"))","v":""},null,"","","",""]
[null,null,null,null,null,null,null,null,null,null,null,null,"",{"$f":"IF($M107=\"\",\"\",IFERROR(VLOOKUP($M107,PartnerSearch!B$2:G$16000,6,0),\"--\"))","v":""},null,"","","",""]
[null,null,null,null,null,null,null,null,null,null,null,null,"",{"$f":"IF($M108=\"\",\"\",IFERROR(VLOOKUP($M108,PartnerSearch!B$2:G$16000,6,0),\"--\"))","v":""},null,"","","",""]
[null,null,null,null,null,null,null,null,null,null,null,null,"",{"$f":"IF($M109=\"\",\"\",IFERROR(VLOOKUP($M109,PartnerSearch!B$2:G$16000,6,0),\"--\"))","v":""},null,"","","",""]
[null,null,null,null,null,null,null,null,null,null,null,null,"",{"$f":"IF($M110=\"\",\"\",IFERROR(VLOOKUP($M110,PartnerSearch!B$2:G$16000,6,0),\"--\"))","v":""},null,"","","",""]
[null,null,null,null,null,null,null,null,null,null,null,null,"",{"$f":"IF($M111=\"\",\"\",IFERROR(VLOOKUP($M111,PartnerSearch!B$2:G$16000,6,0),\"--\"))","v":""},null,"","","",""]
[null,null,null,null,null,null,null,null,null,null,null,null,"",{"$f":"IF($M112=\"\",\"\",IFERROR(VLOOKUP($M112,PartnerSearch!B$2:G$16000,6,0),\"--\"))","v":""},null,"","","",""]
[null,null,null,null,null,null,null,null,null,null,null,null,"",{"$f":"IF($M113=\"\",\"\",IFERROR(VLOOKUP($M113,PartnerSearch!B$2:G$16000,6,0),\"--\"))","v":""},null,"","","",""]
[null,null,null,null,null,null,null,null,null,null,null,null,"",{"$f":"IF($M114=\"\",\"\",IFERROR(VLOOKUP($M114,PartnerSearch!B$2:G$16000,6,0),\"--\"))","v":""},null,"","","",""]
[null,null,null,null,null,null,null,null,null,null,null,null,"",{"$f":"IF($M115=\"\",\"\",IFERROR(VLOOKUP($M115,PartnerSearch!B$2:G$16000,6,0),\"--\"))","v":""},null,"","","",""]
[null,null,null,null,null,null,null,null,null,null,null,null,"",{"$f":"IF($M116=\"\",\"\",IFERROR(VLOOKUP($M116,PartnerSearch!B$2:G$16000,6,0),\"--\"))","v":""},null,"","","",""]
[null,null,null,null,null,null,null,null,null,null,null,null,"",{"$f":"IF($M117=\"\",\"\",IFERROR(VLOOKUP($M117,PartnerSearch!B$2:G$16000,6,0),\"--\"))","v":""},null,"","","",""]
[null,null,null,null,null,null,null,null,null,null,null,null,"",{"$f":"IF($M118=\"\",\"\",IFERROR(VLOOKUP($M118,PartnerSearch!B$2:G$16000,6,0),\"--\"))","v":""},null,"","","",""]
[null,null,null,null,null,null,null,null,null,null,null,null,"",{"$f":"IF($M119=\"\",\"\",IFERROR(VLOOKUP($M119,PartnerSearch!B$2:G$16000,6,0),\"--\"))","v":""},null,"","","",""]
[null,null,null,null,null,null,null,null,null,null,null,null,"",{"$f":"IF($M120=\"\",\"\",IFERROR(VLOOKUP($M120,PartnerSearch!B$2:G$16000,6,0),\"--\"))","v":""},null,"","","",""]
[null,null,null,null,null,null,null,null,null,null,null,null,"",{"$f":"IF($M121=\"\",\"\",IFERROR(VLOOKUP($M121,PartnerSearch!B$2:G$16000,6,0),\"--\"))","v":""},null,"","","",""]
[null,null,null,null,null,null,null,null,null,null,null,null,"",{"$f":"IF($M122=\"\",\"\",IFERROR(VLOOKUP($M122,PartnerSearch!B$2:G$16000,6,0),\"--\"))","v":""},null,"","","",""]
[null,null,null,null,null,null,null,null,null,null,null,null,"",{"$f":"IF($M123=\"\",\"\",IFERROR(VLOOKUP($M123,PartnerSearch!B$2:G$16000,6,0),\"--\"))","v":""},null,"","","",""]
[null,null,null,null,null,null,null,null,null,null,null,null,"",{"$f":"IF($M124=\"\",\"\",IFERROR(VLOOKUP($M124,PartnerSearch!B$2:G$16000,6,0),\"--\"))","v":""},null,"","","",""]
[null,null,null,null,null,null,null,null,null,null,null,null,"",{"$f":"IF($M125=\"\",\"\",IFERROR(VLOOKUP($M125,PartnerSearch!B$2:G$16000,6,0),\"--\"))","v":""},null,"","","",""]
[null,null,null,null,null,null,null,null,null,null,null,null,"",{"$f":"IF($M126=\"\",\"\",IFERROR(VLOOKUP($M126,PartnerSearch!B$2:G$16000,6,0),\"--\"))","v":""},null,"","","",""]
[null,null,null,null,null,null,null,null,null,null,null,null,"",{"$f":"IF($M127=\"\",\"\",IFERROR(VLOOKUP($M127,PartnerSearch!B$2:G$16000,6,0),\"--\"))","v":""},null,"","","",""]
[null,null,null,null,null,null,null,null,null,null,null,null,"",{"$f":"IF($M128=\"\",\"\",IFERROR(VLOOKUP($M128,PartnerSearch!B$2:G$16000,6,0),\"--\"))","v":""},null,"","","",""]
[null,null,null,null,null,null,null,null,null,null,null,null,"",{"$f":"IF($M129=\"\",\"\",IFERROR(VLOOKUP($M129,PartnerSearch!B$2:G$16000,6,0),\"--\"))","v":""},null,"","","",""]
[null,null,null,null,null,null,null,null,null,null,null,null,"",{"$f":"IF($M130=\"\",\"\",IFERROR(VLOOKUP($M130,PartnerSearch!B$2:G$16000,6,0),\"--\"))","v":""},null,"","","",""]
[null,null,null,null,null,null,null,null,null,null,null,null,{"$f":"TRIM(SUBSTITUTE(SUBSTITUTE(SUBSTITUTE(SUBSTITUTE(SUBSTITUTE(SUBSTITUTE(SUBSTITUTE(SUBSTITUTE(SUBSTITUTE(SUBSTITUTE(SUBSTITUTE(SUBSTITUTE(SUBSTITUTE(SUBSTITUTE(E131,\"00000 \",\"\"),\" (Local)\",\"\"),\" (Tribal)\",\"\"),\" (State)\",\"\"),\" (Regional)\",\"\"),\" (Federal/National)\",\"\"),\" (International)\",\"\"),\" (Unknown)\",\"\"),\" (Academic Institution)\",\"\"),\" (Government)\",\"\"),\" (Industry/Business)\",\"\"),\" (NGO)\",\"\"),\" (Other)\",\"\"),\" (Sea Grant Program)\",\"\"))","v":""},{"$f":"IF($M131=\"\",\"\",IFERROR(VLOOKUP($M131,PartnerSearch!B$2:G$16000,6,0),\"--\"))","v":""},null,{"$f":"IF(E131=\"\",\"\",IF(LEFT(E131&\"x\",5)=\"00000\",\"\",IF(N131=\"--\",\"NO\",\"yes\")))","v":""},{"$f":"IF(LEFT(E131&\"x\",5)<>\"00000\",\"\",IF(N131=\"--\",\"yes\",\"NO\"))","v":""},{"$f":"IF(Q131=\"\",\"\",IF((ISERROR(SEARCH(\"(Federal/National)\",E131))*1+ISERROR(SEARCH(\"(International)\",E131))*1+ISERROR(SEARCH(\"(Local)\",E131))*1+ISERROR(SEARCH(\"(State)\",E131))*1+ISERROR(SEARCH(\"(Regional)\",E131))*1+ISERROR(SEARCH(\"(Tribal)\",E131))*1+ISERROR(SEARCH(\"(Unknown) (\",E131))*1)=6,\"yes\",\"NO\"))","v":""},{"$f":"IF(Q131=\"\",\"\",IF(OR(NOT(ISERROR(SEARCH(\"(Academic Institution)\",E131))),NOT(ISERROR(SEARCH(\"(Government)\",E131))),NOT(ISERROR(SEARCH(\"(Industry/Business)\",E131))),NOT(ISERROR(SEARCH(\"(NGO)\",E131))),NOT(ISERROR(SEARCH(\"(Sea Grant Program)\",E131))),NOT(ISERROR(SEARCH(\"(Other)\",E131))),NOT(AND(NOT(ISERROR(SEARCH(\"(Unknown)\",E131))),(ISERROR(SEARCH(\") (Unknown)\",E131)))))),\"yes\",\"NO\"))","v":""}]
[null,null,null,null,null,null,null,null,null,null,null,null,"",{"$f":"IF($M132=\"\",\"\",IFERROR(VLOOKUP($M132,PartnerSearch!B$2:G$16000,6,0),\"--\"))","v":""},null,"","","",""]
[null,null,null,null,null,null,null,null,null,null,null,null,"",{"$f":"IF($M133=\"\",\"\",IFERROR(VLOOKUP($M133,PartnerSearch!B$2:G$16000,6,0),\"--\"))","v":""},null,"","","",""]
[null,null,null,null,null,null,null,null,null,null,null,null,"",{"$f":"IF($M134=\"\",\"\",IFERROR(VLOOKUP($M134,PartnerSearch!B$2:G$16000,6,0),\"--\"))","v":""},null,"","","",""]
[null,null,null,null,null,null,null,null,null,null,null,null,"",{"$f":"IF($M135=\"\",\"\",IFERROR(VLOOKUP($M135,PartnerSearch!B$2:G$16000,6,0),\"--\"))","v":""},null,"","","",""]
[null,null,null,null,null,null,null,null,null,null,null,null,"",{"$f":"IF($M136=\"\",\"\",IFERROR(VLOOKUP($M136,PartnerSearch!B$2:G$16000,6,0),\"--\"))","v":""},null,"","","",""]
[null,null,null,null,null,null,null,null,null,null,null,null,"",{"$f":"IF($M137=\"\",\"\",IFERROR(VLOOKUP($M137,PartnerSearch!B$2:G$16000,6,0),\"--\"))","v":""},null,"","","",""]
[null,null,null,null,null,null,null,null,null,null,null,null,"",{"$f":"IF($M138=\"\",\"\",IFERROR(VLOOKUP($M138,PartnerSearch!B$2:G$16000,6,0),\"--\"))","v":""},null,"","","",""]
[null,null,null,null,null,null,null,null,null,null,null,null,"",{"$f":"IF($M139=\"\",\"\",IFERROR(VLOOKUP($M139,PartnerSearch!B$2:G$16000,6,0),\"--\"))","v":""},null,"","","",""]
[null,null,null,null,null,null,null,null,null,null,null,null,"",{"$f":"IF($M140=\"\",\"\",IFERROR(VLOOKUP($M140,PartnerSearch!B$2:G$16000,6,0),\"--\"))","v":""},null,"","","",""]
[null,null,null,null,null,null,null,null,null,null,null,null,"",{"$f":"IF($M141=\"\",\"\",IFERROR(VLOOKUP($M141,PartnerSearch!B$2:G$16000,6,0),\"--\"))","v":""},null,"","","",""]
[null,null,null,null,null,null,null,null,null,null,null,null,"",{"$f":"IF($M142=\"\",\"\",IFERROR(VLOOKUP($M142,PartnerSearch!B$2:G$16000,6,0),\"--\"))","v":""},null,"","","",""]
[null,null,null,null,null,null,null,null,null,null,null,null,"",{"$f":"IF($M143=\"\",\"\",IFERROR(VLOOKUP($M143,PartnerSearch!B$2:G$16000,6,0),\"--\"))","v":""},null,"","","",""]
[null,null,null,null,null,null,null,null,null,null,null,null,"",{"$f":"IF($M144=\"\",\"\",IFERROR(VLOOKUP($M144,PartnerSearch!B$2:G$16000,6,0),\"--\"))","v":""},null,"","","",""]
[null,null,null,null,null,null,null,null,null,null,null,null,"",{"$f":"IF($M145=\"\",\"\",IFERROR(VLOOKUP($M145,PartnerSearch!B$2:G$16000,6,0),\"--\"))","v":""},null,"","","",""]
[null,null,null,null,null,null,null,null,null,null,null,null,"",{"$f":"IF($M146=\"\",\"\",IFERROR(VLOOKUP($M146,PartnerSearch!B$2:G$16000,6,0),\"--\"))","v":""},null,"","","",""]
[null,null,null,null,null,null,null,null,null,null,null,null,"",{"$f":"IF($M147=\"\",\"\",IFERROR(VLOOKUP($M147,PartnerSearch!B$2:G$16000,6,0),\"--\"))","v":""},null,"","","",""]
[null,null,null,null,null,null,null,null,null,null,null,null,"",{"$f":"IF($M148=\"\",\"\",IFERROR(VLOOKUP($M148,PartnerSearch!B$2:G$16000,6,0),\"--\"))","v":""},null,"","","",""]
[null,null,null,null,null,null,null,null,null,null,null,null,"",{"$f":"IF($M149=\"\",\"\",IFERROR(VLOOKUP($M149,PartnerSearch!B$2:G$16000,6,0),\"--\"))","v":""},null,"","","",""]
[null,null,null,null,null,null,null,null,null,null,null,null,"",{"$f":"IF($M150=\"\",\"\",IFERROR(VLOOKUP($M150,PartnerSearch!B$2:G$16000,6,0),\"--\"))","v":""},null,"","","",""]
[null,null,null,null,null,null,null,null,null,null,null,null,"",{"$f":"IF($M151=\"\",\"\",IFERROR(VLOOKUP($M151,PartnerSearch!B$2:G$16000,6,0),\"--\"))","v":""},null,"","","",""]
[null,null,null,null,null,null,null,null,null,null,null,null,"",{"$f":"IF($M152=\"\",\"\",IFERROR(VLOOKUP($M152,PartnerSearch!B$2:G$16000,6,0),\"--\"))","v":""},null,"","","",""]
[null,null,null,null,null,null,null,null,null,null,null,null,"",{"$f":"IF($M153=\"\",\"\",IFERROR(VLOOKUP($M153,PartnerSearch!B$2:G$16000,6,0),\"--\"))","v":""},null,"","","",""]
[null,null,null,null,null,null,null,null,null,null,null,null,"",{"$f":"IF($M154=\"\",\"\",IFERROR(VLOOKUP($M154,PartnerSearch!B$2:G$16000,6,0),\"--\"))","v":""},null,"","","",""]
[null,null,null,null,null,null,null,null,null,null,null,null,"",{"$f":"IF($M155=\"\",\"\",IFERROR(VLOOKUP($M155,PartnerSearch!B$2:G$16000,6,0),\"--\"))","v":""},null,"","","",""]
[null,null,null,null,null,null,null,null,null,null,null,null,"",{"$f":"IF($M156=\"\",\"\",IFERROR(VLOOKUP($M156,PartnerSearch!B$2:G$16000,6,0),\"--\"))","v":""},null,"","","",""]
[null,null,null,null,null,null,null,null,null,null,null,null,"",{"$f":"IF($M157=\"\",\"\",IFERROR(VLOOKUP($M157,PartnerSearch!B$2:G$16000,6,0),\"--\"))","v":""},null,"","","",""]
[null,null,null,null,null,null,null,null,null,null,null,null,"",{"$f":"IF($M158=\"\",\"\",IFERROR(VLOOKUP($M158,PartnerSearch!B$2:G$16000,6,0),\"--\"))","v":""},null,"","","",""]
[null,null,null,null,null,null,null,null,null,null,null,null,"",{"$f":"IF($M159=\"\",\"\",IFERROR(VLOOKUP($M159,PartnerSearch!B$2:G$16000,6,0),\"--\"))","v":""},null,"","","",""]
[null,null,null,null,null,null,null,null,null,null,null,null,"",{"$f":"IF($M160=\"\",\"\",IFERROR(VLOOKUP($M160,PartnerSearch!B$2:G$16000,6,0),\"--\"))","v":""},null,"","","",""]
[null,null,null,null,null,null,null,null,null,null,null,null,"",{"$f":"IF($M161=\"\",\"\",IFERROR(VLOOKUP($M161,PartnerSearch!B$2:G$16000,6,0),\"--\"))","v":""},null,"","","",""]
[null,null,null,null,null,null,null,null,null,null,null,null,"",{"$f":"IF($M162=\"\",\"\",IFERROR(VLOOKUP($M162,PartnerSearch!B$2:G$16000,6,0),\"--\"))","v":""},null,"","","",""]
[null,null,null,null,null,null,null,null,null,null,null,null,"",{"$f":"IF($M163=\"\",\"\",IFERROR(VLOOKUP($M163,PartnerSearch!B$2:G$16000,6,0),\"--\"))","v":""},null,"","","",""]
[null,null,null,null,null,null,null,null,null,null,null,null,"",{"$f":"IF($M164=\"\",\"\",IFERROR(VLOOKUP($M164,PartnerSearch!B$2:G$16000,6,0),\"--\"))","v":""},null,"","","",""]
[null,null,null,null,null,null,null,null,null,null,null,null,"",{"$f":"IF($M165=\"\",\"\",IFERROR(VLOOKUP($M165,PartnerSearch!B$2:G$16000,6,0),\"--\"))","v":""},null,"","","",""]
[null,null,null,null,null,null,null,null,null,null,null,null,"",{"$f":"IF($M166=\"\",\"\",IFERROR(VLOOKUP($M166,PartnerSearch!B$2:G$16000,6,0),\"--\"))","v":""},null,"","","",""]
[null,null,null,null,null,null,null,null,null,null,null,null,"",{"$f":"IF($M167=\"\",\"\",IFERROR(VLOOKUP($M167,PartnerSearch!B$2:G$16000,6,0),\"--\"))","v":""},null,"","","",""]
[null,null,null,null,null,null,null,null,null,null,null,null,"",{"$f":"IF($M168=\"\",\"\",IFERROR(VLOOKUP($M168,PartnerSearch!B$2:G$16000,6,0),\"--\"))","v":""},null,"","","",""]
[null,null,null,null,null,null,null,null,null,null,null,null,"",{"$f":"IF($M169=\"\",\"\",IFERROR(VLOOKUP($M169,PartnerSearch!B$2:G$16000,6,0),\"--\"))","v":""},null,"","","",""]
[null,null,null,null,null,null,null,null,null,null,null,null,"",{"$f":"IF($M170=\"\",\"\",IFERROR(VLOOKUP($M170,PartnerSearch!B$2:G$16000,6,0),\"--\"))","v":""},null,"","","",""]
[null,null,null,null,null,null,null,null,null,null,null,null,"",{"$f":"IF($M171=\"\",\"\",IFERROR(VLOOKUP($M171,PartnerSearch!B$2:G$16000,6,0),\"--\"))","v":""},null,"","","",""]
[null,null,null,null,null,null,null,null,null,null,null,null,"",{"$f":"IF($M172=\"\",\"\",IFERROR(VLOOKUP($M172,PartnerSearch!B$2:G$16000,6,0),\"--\"))","v":""},null,"","","",""]
[null,null,null,null,null,null,null,null,null,null,null,null,"",{"$f":"IF($M173=\"\",\"\",IFERROR(VLOOKUP($M173,PartnerSearch!B$2:G$16000,6,0),\"--\"))","v":""},null,"","","",""]
[null,null,null,null,null,null,null,null,null,null,null,null,"",{"$f":"IF($M174=\"\",\"\",IFERROR(VLOOKUP($M174,PartnerSearch!B$2:G$16000,6,0),\"--\"))","v":""},null,"","","",""]
[null,null,null,null,null,null,null,null,null,null,null,null,"",{"$f":"IF($M175=\"\",\"\",IFERROR(VLOOKUP($M175,PartnerSearch!B$2:G$16000,6,0),\"--\"))","v":""},null,"","","",""]
[null,null,null,null,null,null,null,null,null,null,null,null,"",{"$f":"IF($M176=\"\",\"\",IFERROR(VLOOKUP($M176,PartnerSearch!B$2:G$16000,6,0),\"--\"))","v":""},null,"","","",""]
[null,null,null,null,null,null,null,null,null,null,null,null,"",{"$f":"IF($M177=\"\",\"\",IFERROR(VLOOKUP($M177,PartnerSearch!B$2:G$16000,6,0),\"--\"))","v":""},null,"","","",""]
[null,null,null,null,null,null,null,null,null,null,null,null,"",{"$f":"IF($M178=\"\",\"\",IFERROR(VLOOKUP($M178,PartnerSearch!B$2:G$16000,6,0),\"--\"))","v":""},null,"","","",""]
[null,null,null,null,null,null,null,null,null,null,null,null,"",{"$f":"IF($M179=\"\",\"\",IFERROR(VLOOKUP($M179,PartnerSearch!B$2:G$16000,6,0),\"--\"))","v":""},null,"","","",""]
[null,null,null,null,null,null,null,null,null,null,null,null,"",{"$f":"IF($M180=\"\",\"\",IFERROR(VLOOKUP($M180,PartnerSearch!B$2:G$16000,6,0),\"--\"))","v":""},null,"","","",""]
[null,null,null,null,null,null,null,null,null,null,null,null,"",{"$f":"IF($M181=\"\",\"\",IFERROR(VLOOKUP($M181,PartnerSearch!B$2:G$16000,6,0),\"--\"))","v":""},null,"","","",""]
[null,null,null,null,null,null,null,null,null,null,null,null,"",{"$f":"IF($M182=\"\",\"\",IFERROR(VLOOKUP($M182,PartnerSearch!B$2:G$16000,6,0),\"--\"))","v":""},null,"","","",""]
[null,null,null,null,null,null,null,null,null,null,null,null,"",{"$f":"IF($M183=\"\",\"\",IFERROR(VLOOKUP($M183,PartnerSearch!B$2:G$16000,6,0),\"--\"))","v":""},null,"","","",""]
[null,null,null,null,null,null,null,null,null,null,null,null,"",{"$f":"IF($M184=\"\",\"\",IFERROR(VLOOKUP($M184,PartnerSearch!B$2:G$16000,6,0),\"--\"))","v":""},null,"","","",""]
[null,null,null,null,null,null,null,null,null,null,null,null,"",{"$f":"IF($M185=\"\",\"\",IFERROR(VLOOKUP($M185,PartnerSearch!B$2:G$16000,6,0),\"--\"))","v":""},null,"","","",""]
[null,null,null,null,null,null,null,null,null,null,null,null,"",{"$f":"IF($M186=\"\",\"\",IFERROR(VLOOKUP($M186,PartnerSearch!B$2:G$16000,6,0),\"--\"))","v":""},null,"","","",""]
[null,null,null,null,null,null,null,null,null,null,null,null,"",{"$f":"IF($M187=\"\",\"\",IFERROR(VLOOKUP($M187,PartnerSearch!B$2:G$16000,6,0),\"--\"))","v":""},null,"","","",""]
[null,null,null,null,null,null,null,null,null,null,null,null,"",{"$f":"IF($M188=\"\",\"\",IFERROR(VLOOKUP($M188,PartnerSearch!B$2:G$16000,6,0),\"--\"))","v":""},null,"","","",""]
[null,null,null,null,null,null,null,null,null,null,null,null,"",{"$f":"IF($M189=\"\",\"\",IFERROR(VLOOKUP($M189,PartnerSearch!B$2:G$16000,6,0),\"--\"))","v":""},null,"","","",""]
[null,null,null,null,null,null,null,null,null,null,null,null,"",{"$f":"IF($M190=\"\",\"\",IFERROR(VLOOKUP($M190,PartnerSearch!B$2:G$16000,6,0),\"--\"))","v":""},null,"","","",""]
[null,null,null,null,null,null,null,null,null,null,null,null,"",{"$f":"IF($M191=\"\",\"\",IFERROR(VLOOKUP($M191,PartnerSearch!B$2:G$16000,6,0),\"--\"))","v":""},null,"","","",""]
[null,null,null,null,null,null,null,null,null,null,null,null,"",{"$f":"IF($M192=\"\",\"\",IFERROR(VLOOKUP($M192,PartnerSearch!B$2:G$16000,6,0),\"--\"))","v":""},null,"","","",""]
[null,null,null,null,null,null,null,null,null,null,null,null,"",{"$f":"IF($M193=\"\",\"\",IFERROR(VLOOKUP($M193,PartnerSearch!B$2:G$16000,6,0),\"--\"))","v":""},null,"","","",""]
[null,null,null,null,null,null,null,null,null,null,null,null,"",{"$f":"IF($M194=\"\",\"\",IFERROR(VLOOKUP($M194,PartnerSearch!B$2:G$16000,6,0),\"--\"))","v":""},null,"","","",""]
[null,null,null,null,null,null,null,null,null,null,null,null,{"$f":"TRIM(SUBSTITUTE(SUBSTITUTE(SUBSTITUTE(SUBSTITUTE(SUBSTITUTE(SUBSTITUTE(SUBSTITUTE(SUBSTITUTE(SUBSTITUTE(SUBSTITUTE(SUBSTITUTE(SUBSTITUTE(SUBSTITUTE(SUBSTITUTE(E195,\"00000 \",\"\"),\" (Local)\",\"\"),\" (Tribal)\",\"\"),\" (State)\",\"\"),\" (Regional)\",\"\"),\" (Federal/National)\",\"\"),\" (International)\",\"\"),\" (Unknown)\",\"\"),\" (Academic Institution)\",\"\"),\" (Government)\",\"\"),\" (Industry/Business)\",\"\"),\" (NGO)\",\"\"),\" (Other)\",\"\"),\" (Sea Grant Program)\",\"\"))","v":""},{"$f":"IF($M195=\"\",\"\",IFERROR(VLOOKUP($M195,PartnerSearch!B$2:G$16000,6,0),\"--\"))","v":""},null,{"$f":"IF(E195=\"\",\"\",IF(LEFT(E195&\"x\",5)=\"00000\",\"\",IF(N195=\"--\",\"NO\",\"yes\")))","v":""},{"$f":"IF(LEFT(E195&\"x\",5)<>\"00000\",\"\",IF(N195=\"--\",\"yes\",\"NO\"))","v":""},{"$f":"IF(Q195=\"\",\"\",IF((ISERROR(SEARCH(\"(Federal/National)\",E195))*1+ISERROR(SEARCH(\"(International)\",E195))*1+ISERROR(SEARCH(\"(Local)\",E195))*1+ISERROR(SEARCH(\"(State)\",E195))*1+ISERROR(SEARCH(\"(Regional)\",E195))*1+ISERROR(SEARCH(\"(Tribal)\",E195))*1+ISERROR(SEARCH(\"(Unknown) (\",E195))*1)=6,\"yes\",\"NO\"))","v":""},{"$f":"IF(Q195=\"\",\"\",IF(OR(NOT(ISERROR(SEARCH(\"(Academic Institution)\",E195))),NOT(ISERROR(SEARCH(\"(Government)\",E195))),NOT(ISERROR(SEARCH(\"(Industry/Business)\",E195))),NOT(ISERROR(SEARCH(\"(NGO)\",E195))),NOT(ISERROR(SEARCH(\"(Sea Grant Program)\",E195))),NOT(ISERROR(SEARCH(\"(Other)\",E195))),NOT(AND(NOT(ISERROR(SEARCH(\"(Unknown)\",E195))),(ISERROR(SEARCH(\") (Unknown)\",E195)))))),\"yes\",\"NO\"))","v":""}]
[null,null,null,null,null,null,null,null,null,null,null,null,"",{"$f":"IF($M196=\"\",\"\",IFERROR(VLOOKUP($M196,PartnerSearch!B$2:G$16000,6,0),\"--\"))","v":""},null,"","","",""]
[null,null,null,null,null,null,null,null,null,null,null,null,"",{"$f":"IF($M197=\"\",\"\",IFERROR(VLOOKUP($M197,PartnerSearch!B$2:G$16000,6,0),\"--\"))","v":""},null,"","","",""]
[null,null,null,null,null,null,null,null,null,null,null,null,"",{"$f":"IF($M198=\"\",\"\",IFERROR(VLOOKUP($M198,PartnerSearch!B$2:G$16000,6,0),\"--\"))","v":""},null,"","","",""]
[null,null,null,null,null,null,null,null,null,null,null,null,"",{"$f":"IF($M199=\"\",\"\",IFERROR(VLOOKUP($M199,PartnerSearch!B$2:G$16000,6,0),\"--\"))","v":""},null,"","","",""]
[null,null,null,null,null,null,null,null,null,null,null,null,"",{"$f":"IF($M200=\"\",\"\",IFERROR(VLOOKUP($M200,PartnerSearch!B$2:G$16000,6,0),\"--\"))","v":""},null,"","","",""]
[null,null,null,null,null,null,null,null,null,null,null,null,"",{"$f":"IF($M201=\"\",\"\",IFERROR(VLOOKUP($M201,PartnerSearch!B$2:G$16000,6,0),\"--\"))","v":""},null,"","","",""]
[null,null,null,null,null,null,null,null,null,null,null,null,"",{"$f":"IF($M202=\"\",\"\",IFERROR(VLOOKUP($M202,PartnerSearch!B$2:G$16000,6,0),\"--\"))","v":""},null,"","","",""]
[null,null,null,null,null,null,null,null,null,null,null,null,"",{"$f":"IF($M203=\"\",\"\",IFERROR(VLOOKUP($M203,PartnerSearch!B$2:G$16000,6,0),\"--\"))","v":""},null,"","","",""]
[null,null,null,null,null,null,null,null,null,null,null,null,"",{"$f":"IF($M204=\"\",\"\",IFERROR(VLOOKUP($M204,PartnerSearch!B$2:G$16000,6,0),\"--\"))","v":""},null,"","","",""]
[null,null,null,null,null,null,null,null,null,null,null,null,"",{"$f":"IF($M205=\"\",\"\",IFERROR(VLOOKUP($M205,PartnerSearch!B$2:G$16000,6,0),\"--\"))","v":""},null,"","","",""]
[null,null,null,null,null,null,null,null,null,null,null,null,"",{"$f":"IF($M206=\"\",\"\",IFERROR(VLOOKUP($M206,PartnerSearch!B$2:G$16000,6,0),\"--\"))","v":""},null,"","","",""]
[null,null,null,null,null,null,null,null,null,null,null,null,"",{"$f":"IF($M207=\"\",\"\",IFERROR(VLOOKUP($M207,PartnerSearch!B$2:G$16000,6,0),\"--\"))","v":""},null,"","","",""]
[null,null,null,null,null,null,null,null,null,null,null,null,"",{"$f":"IF($M208=\"\",\"\",IFERROR(VLOOKUP($M208,PartnerSearch!B$2:G$16000,6,0),\"--\"))","v":""},null,"","","",""]
[null,null,null,null,null,null,null,null,null,null,null,null,"",{"$f":"IF($M209=\"\",\"\",IFERROR(VLOOKUP($M209,PartnerSearch!B$2:G$16000,6,0),\"--\"))","v":""},null,"","","",""]
[null,null,null,null,null,null,null,null,null,null,null,null,"",{"$f":"IF($M210=\"\",\"\",IFERROR(VLOOKUP($M210,PartnerSearch!B$2:G$16000,6,0),\"--\"))","v":""},null,"","","",""]
[null,null,null,null,null,null,null,null,null,null,null,null,"",{"$f":"IF($M211=\"\",\"\",IFERROR(VLOOKUP($M211,PartnerSearch!B$2:G$16000,6,0),\"--\"))","v":""},null,"","","",""]
[null,null,null,null,null,null,null,null,null,null,null,null,"",{"$f":"IF($M212=\"\",\"\",IFERROR(VLOOKUP($M212,PartnerSearch!B$2:G$16000,6,0),\"--\"))","v":""},null,"","","",""]
[null,null,null,null,null,null,null,null,null,null,null,null,"",{"$f":"IF($M213=\"\",\"\",IFERROR(VLOOKUP($M213,PartnerSearch!B$2:G$16000,6,0),\"--\"))","v":""},null,"","","",""]
[null,null,null,null,null,null,null,null,null,null,null,null,"",{"$f":"IF($M214=\"\",\"\",IFERROR(VLOOKUP($M214,PartnerSearch!B$2:G$16000,6,0),\"--\"))","v":""},null,"","","",""]
[null,null,null,null,null,null,null,null,null,null,null,null,"",{"$f":"IF($M215=\"\",\"\",IFERROR(VLOOKUP($M215,PartnerSearch!B$2:G$16000,6,0),\"--\"))","v":""},null,"","","",""]
[null,null,null,null,null,null,null,null,null,null,null,null,"",{"$f":"IF($M216=\"\",\"\",IFERROR(VLOOKUP($M216,PartnerSearch!B$2:G$16000,6,0),\"--\"))","v":""},null,"","","",""]
[null,null,null,null,null,null,null,null,null,null,null,null,"",{"$f":"IF($M217=\"\",\"\",IFERROR(VLOOKUP($M217,PartnerSearch!B$2:G$16000,6,0),\"--\"))","v":""},null,"","","",""]
[null,null,null,null,null,null,null,null,null,null,null,null,"",{"$f":"IF($M218=\"\",\"\",IFERROR(VLOOKUP($M218,PartnerSearch!B$2:G$16000,6,0),\"--\"))","v":""},null,"","","",""]
[null,null,null,null,null,null,null,null,null,null,null,null,"",{"$f":"IF($M219=\"\",\"\",IFERROR(VLOOKUP($M219,PartnerSearch!B$2:G$16000,6,0),\"--\"))","v":""},null,"","","",""]
[null,null,null,null,null,null,null,null,null,null,null,null,"",{"$f":"IF($M220=\"\",\"\",IFERROR(VLOOKUP($M220,PartnerSearch!B$2:G$16000,6,0),\"--\"))","v":""},null,"","","",""]
[null,null,null,null,null,null,null,null,null,null,null,null,"",{"$f":"IF($M221=\"\",\"\",IFERROR(VLOOKUP($M221,PartnerSearch!B$2:G$16000,6,0),\"--\"))","v":""},null,"","","",""]
[null,null,null,null,null,null,null,null,null,null,null,null,"",{"$f":"IF($M222=\"\",\"\",IFERROR(VLOOKUP($M222,PartnerSearch!B$2:G$16000,6,0),\"--\"))","v":""},null,"","","",""]
[null,null,null,null,null,null,null,null,null,null,null,null,"",{"$f":"IF($M223=\"\",\"\",IFERROR(VLOOKUP($M223,PartnerSearch!B$2:G$16000,6,0),\"--\"))","v":""},null,"","","",""]
[null,null,null,null,null,null,null,null,null,null,null,null,"",{"$f":"IF($M224=\"\",\"\",IFERROR(VLOOKUP($M224,PartnerSearch!B$2:G$16000,6,0),\"--\"))","v":""},null,"","","",""]
[null,null,null,null,null,null,null,null,null,null,null,null,"",{"$f":"IF($M225=\"\",\"\",IFERROR(VLOOKUP($M225,PartnerSearch!B$2:G$16000,6,0),\"--\"))","v":""},null,"","","",""]
[null,null,null,null,null,null,null,null,null,null,null,null,"",{"$f":"IF($M226=\"\",\"\",IFERROR(VLOOKUP($M226,PartnerSearch!B$2:G$16000,6,0),\"--\"))","v":""},null,"","","",""]
[null,null,null,null,null,null,null,null,null,null,null,null,"",{"$f":"IF($M227=\"\",\"\",IFERROR(VLOOKUP($M227,PartnerSearch!B$2:G$16000,6,0),\"--\"))","v":""},null,"","","",""]
[null,null,null,null,null,null,null,null,null,null,null,null,"",{"$f":"IF($M228=\"\",\"\",IFERROR(VLOOKUP($M228,PartnerSearch!B$2:G$16000,6,0),\"--\"))","v":""},null,"","","",""]
[null,null,null,null,null,null,null,null,null,null,null,null,"",{"$f":"IF($M229=\"\",\"\",IFERROR(VLOOKUP($M229,PartnerSearch!B$2:G$16000,6,0),\"--\"))","v":""},null,"","","",""]
[null,null,null,null,null,null,null,null,null,null,null,null,"",{"$f":"IF($M230=\"\",\"\",IFERROR(VLOOKUP($M230,PartnerSearch!B$2:G$16000,6,0),\"--\"))","v":""},null,"","","",""]
[null,null,null,null,null,null,null,null,null,null,null,null,"",{"$f":"IF($M231=\"\",\"\",IFERROR(VLOOKUP($M231,PartnerSearch!B$2:G$16000,6,0),\"--\"))","v":""},null,"","","",""]
[null,null,null,null,null,null,null,null,null,null,null,null,"",{"$f":"IF($M232=\"\",\"\",IFERROR(VLOOKUP($M232,PartnerSearch!B$2:G$16000,6,0),\"--\"))","v":""},null,"","","",""]
[null,null,null,null,null,null,null,null,null,null,null,null,"",{"$f":"IF($M233=\"\",\"\",IFERROR(VLOOKUP($M233,PartnerSearch!B$2:G$16000,6,0),\"--\"))","v":""},null,"","","",""]
[null,null,null,null,null,null,null,null,null,null,null,null,"",{"$f":"IF($M234=\"\",\"\",IFERROR(VLOOKUP($M234,PartnerSearch!B$2:G$16000,6,0),\"--\"))","v":""},null,"","","",""]
[null,null,null,null,null,null,null,null,null,null,null,null,"",{"$f":"IF($M235=\"\",\"\",IFERROR(VLOOKUP($M235,PartnerSearch!B$2:G$16000,6,0),\"--\"))","v":""},null,"","","",""]
[null,null,null,null,null,null,null,null,null,null,null,null,"",{"$f":"IF($M236=\"\",\"\",IFERROR(VLOOKUP($M236,PartnerSearch!B$2:G$16000,6,0),\"--\"))","v":""},null,"","","",""]
[null,null,null,null,null,null,null,null,null,null,null,null,"",{"$f":"IF($M237=\"\",\"\",IFERROR(VLOOKUP($M237,PartnerSearch!B$2:G$16000,6,0),\"--\"))","v":""},null,"","","",""]
[null,null,null,null,null,null,null,null,null,null,null,null,"",{"$f":"IF($M238=\"\",\"\",IFERROR(VLOOKUP($M238,PartnerSearch!B$2:G$16000,6,0),\"--\"))","v":""},null,"","","",""]
[null,null,null,null,null,null,null,null,null,null,null,null,"",{"$f":"IF($M239=\"\",\"\",IFERROR(VLOOKUP($M239,PartnerSearch!B$2:G$16000,6,0),\"--\"))","v":""},null,"","","",""]
[null,null,null,null,null,null,null,null,null,null,null,null,"",{"$f":"IF($M240=\"\",\"\",IFERROR(VLOOKUP($M240,PartnerSearch!B$2:G$16000,6,0),\"--\"))","v":""},null,"","","",""]
[null,null,null,null,null,null,null,null,null,null,null,null,"",{"$f":"IF($M241=\"\",\"\",IFERROR(VLOOKUP($M241,PartnerSearch!B$2:G$16000,6,0),\"--\"))","v":""},null,"","","",""]
[null,null,null,null,null,null,null,null,null,null,null,null,"",{"$f":"IF($M242=\"\",\"\",IFERROR(VLOOKUP($M242,PartnerSearch!B$2:G$16000,6,0),\"--\"))","v":""},null,"","","",""]
[null,null,null,null,null,null,null,null,null,null,null,null,"",{"$f":"IF($M243=\"\",\"\",IFERROR(VLOOKUP($M243,PartnerSearch!B$2:G$16000,6,0),\"--\"))","v":""},null,"","","",""]
[null,null,null,null,null,null,null,null,null,null,null,null,"",{"$f":"IF($M244=\"\",\"\",IFERROR(VLOOKUP($M244,PartnerSearch!B$2:G$16000,6,0),\"--\"))","v":""},null,"","","",""]
[null,null,null,null,null,null,null,null,null,null,null,null,"",{"$f":"IF($M245=\"\",\"\",IFERROR(VLOOKUP($M245,PartnerSearch!B$2:G$16000,6,0),\"--\"))","v":""},null,"","","",""]
[null,null,null,null,null,null,null,null,null,null,null,null,"",{"$f":"IF($M246=\"\",\"\",IFERROR(VLOOKUP($M246,PartnerSearch!B$2:G$16000,6,0),\"--\"))","v":""},null,"","","",""]
[null,null,null,null,null,null,null,null,null,null,null,null,"",{"$f":"IF($M247=\"\",\"\",IFERROR(VLOOKUP($M247,PartnerSearch!B$2:G$16000,6,0),\"--\"))","v":""},null,"","","",""]
[null,null,null,null,null,null,null,null,null,null,null,null,"",{"$f":"IF($M248=\"\",\"\",IFERROR(VLOOKUP($M248,PartnerSearch!B$2:G$16000,6,0),\"--\"))","v":""},null,"","","",""]
[null,null,null,null,null,null,null,null,null,null,null,null,"",{"$f":"IF($M249=\"\",\"\",IFERROR(VLOOKUP($M249,PartnerSearch!B$2:G$16000,6,0),\"--\"))","v":""},null,"","","",""]
[null,null,null,null,null,null,null,null,null,null,null,null,"",{"$f":"IF($M250=\"\",\"\",IFERROR(VLOOKUP($M250,PartnerSearch!B$2:G$16000,6,0),\"--\"))","v":""},null,"","","",""]
[null,null,null,null,null,null,null,null,null,null,null,null,"",{"$f":"IF($M251=\"\",\"\",IFERROR(VLOOKUP($M251,PartnerSearch!B$2:G$16000,6,0),\"--\"))","v":""},null,"","","",""]
[null,null,null,null,null,null,null,null,null,null,null,null,"",{"$f":"IF($M252=\"\",\"\",IFERROR(VLOOKUP($M252,PartnerSearch!B$2:G$16000,6,0),\"--\"))","v":""},null,"","","",""]
[null,null,null,null,null,null,null,null,null,null,null,null,"",{"$f":"IF($M253=\"\",\"\",IFERROR(VLOOKUP($M253,PartnerSearch!B$2:G$16000,6,0),\"--\"))","v":""},null,"","","",""]
[null,null,null,null,null,null,null,null,null,null,null,null,"",{"$f":"IF($M254=\"\",\"\",IFERROR(VLOOKUP($M254,PartnerSearch!B$2:G$16000,6,0),\"--\"))","v":""},null,"","","",""]
[null,null,null,null,null,null,null,null,null,null,null,null,"",{"$f":"IF($M255=\"\",\"\",IFERROR(VLOOKUP($M255,PartnerSearch!B$2:G$16000,6,0),\"--\"))","v":""},null,"","","",""]
[null,null,null,null,null,null,null,null,null,null,null,null,"",{"$f":"IF($M256=\"\",\"\",IFERROR(VLOOKUP($M256,PartnerSearch!B$2:G$16000,6,0),\"--\"))","v":""},null,"","","",""]
[null,null,null,null,null,null,null,null,null,null,null,null,"",{"$f":"IF($M257=\"\",\"\",IFERROR(VLOOKUP($M257,PartnerSearch!B$2:G$16000,6,0),\"--\"))","v":""},null,"","","",""]
[null,null,null,null,null,null,null,null,null,null,null,null,"",{"$f":"IF($M258=\"\",\"\",IFERROR(VLOOKUP($M258,PartnerSearch!B$2:G$16000,6,0),\"--\"))","v":""},null,"","","",""]
[null,null,null,null,null,null,null,null,null,null,null,null,{"$f":"TRIM(SUBSTITUTE(SUBSTITUTE(SUBSTITUTE(SUBSTITUTE(SUBSTITUTE(SUBSTITUTE(SUBSTITUTE(SUBSTITUTE(SUBSTITUTE(SUBSTITUTE(SUBSTITUTE(SUBSTITUTE(SUBSTITUTE(SUBSTITUTE(E259,\"00000 \",\"\"),\" (Local)\",\"\"),\" (Tribal)\",\"\"),\" (State)\",\"\"),\" (Regional)\",\"\"),\" (Federal/National)\",\"\"),\" (International)\",\"\"),\" (Unknown)\",\"\"),\" (Academic Institution)\",\"\"),\" (Government)\",\"\"),\" (Industry/Business)\",\"\"),\" (NGO)\",\"\"),\" (Other)\",\"\"),\" (Sea Grant Program)\",\"\"))","v":""},{"$f":"IF($M259=\"\",\"\",IFERROR(VLOOKUP($M259,PartnerSearch!B$2:G$16000,6,0),\"--\"))","v":""},null,{"$f":"IF(E259=\"\",\"\",IF(LEFT(E259&\"x\",5)=\"00000\",\"\",IF(N259=\"--\",\"NO\",\"yes\")))","v":""},{"$f":"IF(LEFT(E259&\"x\",5)<>\"00000\",\"\",IF(N259=\"--\",\"yes\",\"NO\"))","v":""},{"$f":"IF(Q259=\"\",\"\",IF((ISERROR(SEARCH(\"(Federal/National)\",E259))*1+ISERROR(SEARCH(\"(International)\",E259))*1+ISERROR(SEARCH(\"(Local)\",E259))*1+ISERROR(SEARCH(\"(State)\",E259))*1+ISERROR(SEARCH(\"(Regional)\",E259))*1+ISERROR(SEARCH(\"(Tribal)\",E259))*1+ISERROR(SEARCH(\"(Unknown) (\",E259))*1)=6,\"yes\",\"NO\"))","v":""},{"$f":"IF(Q259=\"\",\"\",IF(OR(NOT(ISERROR(SEARCH(\"(Academic Institution)\",E259))),NOT(ISERROR(SEARCH(\"(Government)\",E259))),NOT(ISERROR(SEARCH(\"(Industry/Business)\",E259))),NOT(ISERROR(SEARCH(\"(NGO)\",E259))),NOT(ISERROR(SEARCH(\"(Sea Grant Program)\",E259))),NOT(ISERROR(SEARCH(\"(Other)\",E259))),NOT(AND(NOT(ISERROR(SEARCH(\"(Unknown)\",E259))),(ISERROR(SEARCH(\") (Unknown)\",E259)))))),\"yes\",\"NO\"))","v":""}]
[null,null,null,null,null,null,null,null,null,null,null,null,"",{"$f":"IF($M260=\"\",\"\",IFERROR(VLOOKUP($M260,PartnerSearch!B$2:G$16000,6,0),\"--\"))","v":""},null,"","","",""]
[null,null,null,null,null,null,null,null,null,null,null,null,"",{"$f":"IF($M261=\"\",\"\",IFERROR(VLOOKUP($M261,PartnerSearch!B$2:G$16000,6,0),\"--\"))","v":""},null,"","","",""]
[null,null,null,null,null,null,null,null,null,null,null,null,"",{"$f":"IF($M262=\"\",\"\",IFERROR(VLOOKUP($M262,PartnerSearch!B$2:G$16000,6,0),\"--\"))","v":""},null,"","","",""]
[null,null,null,null,null,null,null,null,null,null,null,null,"",{"$f":"IF($M263=\"\",\"\",IFERROR(VLOOKUP($M263,PartnerSearch!B$2:G$16000,6,0),\"--\"))","v":""},null,"","","",""]
[null,null,null,null,null,null,null,null,null,null,null,null,"",{"$f":"IF($M264=\"\",\"\",IFERROR(VLOOKUP($M264,PartnerSearch!B$2:G$16000,6,0),\"--\"))","v":""},null,"","","",""]
[null,null,null,null,null,null,null,null,null,null,null,null,"",{"$f":"IF($M265=\"\",\"\",IFERROR(VLOOKUP($M265,PartnerSearch!B$2:G$16000,6,0),\"--\"))","v":""},null,"","","",""]
[null,null,null,null,null,null,null,null,null,null,null,null,"",{"$f":"IF($M266=\"\",\"\",IFERROR(VLOOKUP($M266,PartnerSearch!B$2:G$16000,6,0),\"--\"))","v":""},null,"","","",""]
[null,null,null,null,null,null,null,null,null,null,null,null,"",{"$f":"IF($M267=\"\",\"\",IFERROR(VLOOKUP($M267,PartnerSearch!B$2:G$16000,6,0),\"--\"))","v":""},null,"","","",""]
[null,null,null,null,null,null,null,null,null,null,null,null,"",{"$f":"IF($M268=\"\",\"\",IFERROR(VLOOKUP($M268,PartnerSearch!B$2:G$16000,6,0),\"--\"))","v":""},null,"","","",""]
[null,null,null,null,null,null,null,null,null,null,null,null,"",{"$f":"IF($M269=\"\",\"\",IFERROR(VLOOKUP($M269,PartnerSearch!B$2:G$16000,6,0),\"--\"))","v":""},null,"","","",""]
[null,null,null,null,null,null,null,null,null,null,null,null,"",{"$f":"IF($M270=\"\",\"\",IFERROR(VLOOKUP($M270,PartnerSearch!B$2:G$16000,6,0),\"--\"))","v":""},null,"","","",""]
[null,null,null,null,null,null,null,null,null,null,null,null,"",{"$f":"IF($M271=\"\",\"\",IFERROR(VLOOKUP($M271,PartnerSearch!B$2:G$16000,6,0),\"--\"))","v":""},null,"","","",""]
[null,null,null,null,null,null,null,null,null,null,null,null,"",{"$f":"IF($M272=\"\",\"\",IFERROR(VLOOKUP($M272,PartnerSearch!B$2:G$16000,6,0),\"--\"))","v":""},null,"","","",""]
[null,null,null,null,null,null,null,null,null,null,null,null,"",{"$f":"IF($M273=\"\",\"\",IFERROR(VLOOKUP($M273,PartnerSearch!B$2:G$16000,6,0),\"--\"))","v":""},null,"","","",""]
[null,null,null,null,null,null,null,null,null,null,null,null,"",{"$f":"IF($M274=\"\",\"\",IFERROR(VLOOKUP($M274,PartnerSearch!B$2:G$16000,6,0),\"--\"))","v":""},null,"","","",""]
[null,null,null,null,null,null,null,null,null,null,null,null,"",{"$f":"IF($M275=\"\",\"\",IFERROR(VLOOKUP($M275,PartnerSearch!B$2:G$16000,6,0),\"--\"))","v":""},null,"","","",""]
[null,null,null,null,null,null,null,null,null,null,null,null,"",{"$f":"IF($M276=\"\",\"\",IFERROR(VLOOKUP($M276,PartnerSearch!B$2:G$16000,6,0),\"--\"))","v":""},null,"","","",""]
[null,null,null,null,null,null,null,null,null,null,null,null,"",{"$f":"IF($M277=\"\",\"\",IFERROR(VLOOKUP($M277,PartnerSearch!B$2:G$16000,6,0),\"--\"))","v":""},null,"","","",""]
[null,null,null,null,null,null,null,null,null,null,null,null,"",{"$f":"IF($M278=\"\",\"\",IFERROR(VLOOKUP($M278,PartnerSearch!B$2:G$16000,6,0),\"--\"))","v":""},null,"","","",""]
[null,null,null,null,null,null,null,null,null,null,null,null,"",{"$f":"IF($M279=\"\",\"\",IFERROR(VLOOKUP($M279,PartnerSearch!B$2:G$16000,6,0),\"--\"))","v":""},null,"","","",""]
[null,null,null,null,null,null,null,null,null,null,null,null,"",{"$f":"IF($M280=\"\",\"\",IFERROR(VLOOKUP($M280,PartnerSearch!B$2:G$16000,6,0),\"--\"))","v":""},null,"","","",""]
[null,null,null,null,null,null,null,null,null,null,null,null,"",{"$f":"IF($M281=\"\",\"\",IFERROR(VLOOKUP($M281,PartnerSearch!B$2:G$16000,6,0),\"--\"))","v":""},null,"","","",""]
[null,null,null,null,null,null,null,null,null,null,null,null,"",{"$f":"IF($M282=\"\",\"\",IFERROR(VLOOKUP($M282,PartnerSearch!B$2:G$16000,6,0),\"--\"))","v":""},null,"","","",""]
[null,null,null,null,null,null,null,null,null,null,null,null,"",{"$f":"IF($M283=\"\",\"\",IFERROR(VLOOKUP($M283,PartnerSearch!B$2:G$16000,6,0),\"--\"))","v":""},null,"","","",""]
[null,null,null,null,null,null,null,null,null,null,null,null,"",{"$f":"IF($M284=\"\",\"\",IFERROR(VLOOKUP($M284,PartnerSearch!B$2:G$16000,6,0),\"--\"))","v":""},null,"","","",""]
[null,null,null,null,null,null,null,null,null,null,null,null,"",{"$f":"IF($M285=\"\",\"\",IFERROR(VLOOKUP($M285,PartnerSearch!B$2:G$16000,6,0),\"--\"))","v":""},null,"","","",""]
[null,null,null,null,null,null,null,null,null,null,null,null,"",{"$f":"IF($M286=\"\",\"\",IFERROR(VLOOKUP($M286,PartnerSearch!B$2:G$16000,6,0),\"--\"))","v":""},null,"","","",""]
[null,null,null,null,null,null,null,null,null,null,null,null,"",{"$f":"IF($M287=\"\",\"\",IFERROR(VLOOKUP($M287,PartnerSearch!B$2:G$16000,6,0),\"--\"))","v":""},null,"","","",""]
[null,null,null,null,null,null,null,null,null,null,null,null,"",{"$f":"IF($M288=\"\",\"\",IFERROR(VLOOKUP($M288,PartnerSearch!B$2:G$16000,6,0),\"--\"))","v":""},null,"","","",""]
[null,null,null,null,null,null,null,null,null,null,null,null,"",{"$f":"IF($M289=\"\",\"\",IFERROR(VLOOKUP($M289,PartnerSearch!B$2:G$16000,6,0),\"--\"))","v":""},null,"","","",""]
[null,null,null,null,null,null,null,null,null,null,null,null,"",{"$f":"IF($M290=\"\",\"\",IFERROR(VLOOKUP($M290,PartnerSearch!B$2:G$16000,6,0),\"--\"))","v":""},null,"","","",""]
[null,null,null,null,null,null,null,null,null,null,null,null,"",{"$f":"IF($M291=\"\",\"\",IFERROR(VLOOKUP($M291,PartnerSearch!B$2:G$16000,6,0),\"--\"))","v":""},null,"","","",""]
[null,null,null,null,null,null,null,null,null,null,null,null,"",{"$f":"IF($M292=\"\",\"\",IFERROR(VLOOKUP($M292,PartnerSearch!B$2:G$16000,6,0),\"--\"))","v":""},null,"","","",""]
[null,null,null,null,null,null,null,null,null,null,null,null,"",{"$f":"IF($M293=\"\",\"\",IFERROR(VLOOKUP($M293,PartnerSearch!B$2:G$16000,6,0),\"--\"))","v":""},null,"","","",""]
[null,null,null,null,null,null,null,null,null,null,null,null,"",{"$f":"IF($M294=\"\",\"\",IFERROR(VLOOKUP($M294,PartnerSearch!B$2:G$16000,6,0),\"--\"))","v":""},null,"","","",""]
[null,null,null,null,null,null,null,null,null,null,null,null,"",{"$f":"IF($M295=\"\",\"\",IFERROR(VLOOKUP($M295,PartnerSearch!B$2:G$16000,6,0),\"--\"))","v":""},null,"","","",""]
[null,null,null,null,null,null,null,null,null,null,null,null,"",{"$f":"IF($M296=\"\",\"\",IFERROR(VLOOKUP($M296,PartnerSearch!B$2:G$16000,6,0),\"--\"))","v":""},null,"","","",""]
[null,null,null,null,null,null,null,null,null,null,null,null,"",{"$f":"IF($M297=\"\",\"\",IFERROR(VLOOKUP($M297,PartnerSearch!B$2:G$16000,6,0),\"--\"))","v":""},null,"","","",""]
[null,null,null,null,null,null,null,null,null,null,null,null,"",{"$f":"IF($M298=\"\",\"\",IFERROR(VLOOKUP($M298,PartnerSearch!B$2:G$16000,6,0),\"--\"))","v":""},null,"","","",""]
[null,null,null,null,null,null,null,null,null,null,null,null,"",{"$f":"IF($M299=\"\",\"\",IFERROR(VLOOKUP($M299,PartnerSearch!B$2:G$16000,6,0),\"--\"))","v":""},null,"","","",""]
[null,null,null,null,null,null,null,null,null,null,null,null,"",{"$f":"IF($M300=\"\",\"\",IFERROR(VLOOKUP($M300,PartnerSearch!B$2:G$16000,6,0),\"--\"))","v":""},null,"","","",""]
[null,null,null,null,null,null,null,null,null,null,null,null,"",{"$f":"IF($M301=\"\",\"\",IFERROR(VLOOKUP($M301,PartnerSearch!B$2:G$16000,6,0),\"--\"))","v":""},null,"","","",""]
[null,null,null,null,null,null,null,null,null,null,null,null,"",{"$f":"IF($M302=\"\",\"\",IFERROR(VLOOKUP($M302,PartnerSearch!B$2:G$16000,6,0),\"--\"))","v":""},null,"","","",""]
[null,null,null,null,null,null,null,null,null,null,null,null,"",{"$f":"IF($M303=\"\",\"\",IFERROR(VLOOKUP($M303,PartnerSearch!B$2:G$16000,6,0),\"--\"))","v":""},null,"","","",""]
[null,null,null,null,null,null,null,null,null,null,null,null,"",{"$f":"IF($M304=\"\",\"\",IFERROR(VLOOKUP($M304,PartnerSearch!B$2:G$16000,6,0),\"--\"))","v":""},null,"","","",""]
[null,null,null,null,null,null,null,null,null,null,null,null,"",{"$f":"IF($M305=\"\",\"\",IFERROR(VLOOKUP($M305,PartnerSearch!B$2:G$16000,6,0),\"--\"))","v":""},null,"","","",""]
[null,null,null,null,null,null,null,null,null,null,null,null,"",{"$f":"IF($M306=\"\",\"\",IFERROR(VLOOKUP($M306,PartnerSearch!B$2:G$16000,6,0),\"--\"))","v":""},null,"","","",""]
[null,null,null,null,null,null,null,null,null,null,null,null,"",{"$f":"IF($M307=\"\",\"\",IFERROR(VLOOKUP($M307,PartnerSearch!B$2:G$16000,6,0),\"--\"))","v":""},null,"","","",""]
[null,null,null,null,null,null,null,null,null,null,null,null,"",{"$f":"IF($M308=\"\",\"\",IFERROR(VLOOKUP($M308,PartnerSearch!B$2:G$16000,6,0),\"--\"))","v":""},null,"","","",""]
[null,null,null,null,null,null,null,null,null,null,null,null,"",{"$f":"IF($M309=\"\",\"\",IFERROR(VLOOKUP($M309,PartnerSearch!B$2:G$16000,6,0),\"--\"))","v":""},null,"","","",""]
[null,null,null,null,null,null,null,null,null,null,null,null,"",{"$f":"IF($M310=\"\",\"\",IFERROR(VLOOKUP($M310,PartnerSearch!B$2:G$16000,6,0),\"--\"))","v":""},null,"","","",""]
[null,null,null,null,null,null,null,null,null,null,null,null,"",{"$f":"IF($M311=\"\",\"\",IFERROR(VLOOKUP($M311,PartnerSearch!B$2:G$16000,6,0),\"--\"))","v":""},null,"","","",""]
[null,null,null,null,null,null,null,null,null,null,null,null,"",{"$f":"IF($M312=\"\",\"\",IFERROR(VLOOKUP($M312,PartnerSearch!B$2:G$16000,6,0),\"--\"))","v":""},null,"","","",""]
[null,null,null,null,null,null,null,null,null,null,null,null,"",{"$f":"IF($M313=\"\",\"\",IFERROR(VLOOKUP($M313,PartnerSearch!B$2:G$16000,6,0),\"--\"))","v":""},null,"","","",""]
[null,null,null,null,null,null,null,null,null,null,null,null,"",{"$f":"IF($M314=\"\",\"\",IFERROR(VLOOKUP($M314,PartnerSearch!B$2:G$16000,6,0),\"--\"))","v":""},null,"","","",""]
[null,null,null,null,null,null,null,null,null,null,null,null,"",{"$f":"IF($M315=\"\",\"\",IFERROR(VLOOKUP($M315,PartnerSearch!B$2:G$16000,6,0),\"--\"))","v":""},null,"","","",""]
[null,null,null,null,null,null,null,null,null,null,null,null,"",{"$f":"IF($M316=\"\",\"\",IFERROR(VLOOKUP($M316,PartnerSearch!B$2:G$16000,6,0),\"--\"))","v":""},null,"","","",""]
[null,null,null,null,null,null,null,null,null,null,null,null,"",{"$f":"IF($M317=\"\",\"\",IFERROR(VLOOKUP($M317,PartnerSearch!B$2:G$16000,6,0),\"--\"))","v":""},null,"","","",""]
[null,null,null,null,null,null,null,null,null,null,null,null,"",{"$f":"IF($M318=\"\",\"\",IFERROR(VLOOKUP($M318,PartnerSearch!B$2:G$16000,6,0),\"--\"))","v":""},null,"","","",""]
[null,null,null,null,null,null,null,null,null,null,null,null,"",{"$f":"IF($M319=\"\",\"\",IFERROR(VLOOKUP($M319,PartnerSearch!B$2:G$16000,6,0),\"--\"))","v":""},null,"","","",""]
[null,null,null,null,null,null,null,null,null,null,null,null,"",{"$f":"IF($M320=\"\",\"\",IFERROR(VLOOKUP($M320,PartnerSearch!B$2:G$16000,6,0),\"--\"))","v":""},null,"","","",""]
[null,null,null,null,null,null,null,null,null,null,null,null,"",{"$f":"IF($M321=\"\",\"\",IFERROR(VLOOKUP($M321,PartnerSearch!B$2:G$16000,6,0),\"--\"))","v":""},null,"","","",""]
[null,null,null,null,null,null,null,null,null,null,null,null,"",{"$f":"IF($M322=\"\",\"\",IFERROR(VLOOKUP($M322,PartnerSearch!B$2:G$16000,6,0),\"--\"))","v":""},null,"","","",""]
[null,null,null,null,null,null,null,null,null,null,null,null,{"$f":"TRIM(SUBSTITUTE(SUBSTITUTE(SUBSTITUTE(SUBSTITUTE(SUBSTITUTE(SUBSTITUTE(SUBSTITUTE(SUBSTITUTE(SUBSTITUTE(SUBSTITUTE(SUBSTITUTE(SUBSTITUTE(SUBSTITUTE(SUBSTITUTE(E323,\"00000 \",\"\"),\" (Local)\",\"\"),\" (Tribal)\",\"\"),\" (State)\",\"\"),\" (Regional)\",\"\"),\" (Federal/National)\",\"\"),\" (International)\",\"\"),\" (Unknown)\",\"\"),\" (Academic Institution)\",\"\"),\" (Government)\",\"\"),\" (Industry/Business)\",\"\"),\" (NGO)\",\"\"),\" (Other)\",\"\"),\" (Sea Grant Program)\",\"\"))","v":""},{"$f":"IF($M323=\"\",\"\",IFERROR(VLOOKUP($M323,PartnerSearch!B$2:G$16000,6,0),\"--\"))","v":""},null,{"$f":"IF(E323=\"\",\"\",IF(LEFT(E323&\"x\",5)=\"00000\",\"\",IF(N323=\"--\",\"NO\",\"yes\")))","v":""},{"$f":"IF(LEFT(E323&\"x\",5)<>\"00000\",\"\",IF(N323=\"--\",\"yes\",\"NO\"))","v":""},{"$f":"IF(Q323=\"\",\"\",IF((ISERROR(SEARCH(\"(Federal/National)\",E323))*1+ISERROR(SEARCH(\"(International)\",E323))*1+ISERROR(SEARCH(\"(Local)\",E323))*1+ISERROR(SEARCH(\"(State)\",E323))*1+ISERROR(SEARCH(\"(Regional)\",E323))*1+ISERROR(SEARCH(\"(Tribal)\",E323))*1+ISERROR(SEARCH(\"(Unknown) (\",E323))*1)=6,\"yes\",\"NO\"))","v":""},{"$f":"IF(Q323=\"\",\"\",IF(OR(NOT(ISERROR(SEARCH(\"(Academic Institution)\",E323))),NOT(ISERROR(SEARCH(\"(Government)\",E323))),NOT(ISERROR(SEARCH(\"(Industry/Business)\",E323))),NOT(ISERROR(SEARCH(\"(NGO)\",E323))),NOT(ISERROR(SEARCH(\"(Sea Grant Program)\",E323))),NOT(ISERROR(SEARCH(\"(Other)\",E323))),NOT(AND(NOT(ISERROR(SEARCH(\"(Unknown)\",E323))),(ISERROR(SEARCH(\") (Unknown)\",E323)))))),\"yes\",\"NO\"))","v":""}]
[null,null,null,null,null,null,null,null,null,null,null,null,"",{"$f":"IF($M324=\"\",\"\",IFERROR(VLOOKUP($M324,PartnerSearch!B$2:G$16000,6,0),\"--\"))","v":""},null,"","","",""]
[null,null,null,null,null,null,null,null,null,null,null,null,"",{"$f":"IF($M325=\"\",\"\",IFERROR(VLOOKUP($M325,PartnerSearch!B$2:G$16000,6,0),\"--\"))","v":""},null,"","","",""]
[null,null,null,null,null,null,null,null,null,null,null,null,"",{"$f":"IF($M326=\"\",\"\",IFERROR(VLOOKUP($M326,PartnerSearch!B$2:G$16000,6,0),\"--\"))","v":""},null,"","","",""]
[null,null,null,null,null,null,null,null,null,null,null,null,"",{"$f":"IF($M327=\"\",\"\",IFERROR(VLOOKUP($M327,PartnerSearch!B$2:G$16000,6,0),\"--\"))","v":""},null,"","","",""]
[null,null,null,null,null,null,null,null,null,null,null,null,"",{"$f":"IF($M328=\"\",\"\",IFERROR(VLOOKUP($M328,PartnerSearch!B$2:G$16000,6,0),\"--\"))","v":""},null,"","","",""]
[null,null,null,null,null,null,null,null,null,null,null,null,"",{"$f":"IF($M329=\"\",\"\",IFERROR(VLOOKUP($M329,PartnerSearch!B$2:G$16000,6,0),\"--\"))","v":""},null,"","","",""]
[null,null,null,null,null,null,null,null,null,null,null,null,"",{"$f":"IF($M330=\"\",\"\",IFERROR(VLOOKUP($M330,PartnerSearch!B$2:G$16000,6,0),\"--\"))","v":""},null,"","","",""]
[null,null,null,null,null,null,null,null,null,null,null,null,"",{"$f":"IF($M331=\"\",\"\",IFERROR(VLOOKUP($M331,PartnerSearch!B$2:G$16000,6,0),\"--\"))","v":""},null,"","","",""]
[null,null,null,null,null,null,null,null,null,null,null,null,"",{"$f":"IF($M332=\"\",\"\",IFERROR(VLOOKUP($M332,PartnerSearch!B$2:G$16000,6,0),\"--\"))","v":""},null,"","","",""]
[null,null,null,null,null,null,null,null,null,null,null,null,"",{"$f":"IF($M333=\"\",\"\",IFERROR(VLOOKUP($M333,PartnerSearch!B$2:G$16000,6,0),\"--\"))","v":""},null,"","","",""]
[null,null,null,null,null,null,null,null,null,null,null,null,"",{"$f":"IF($M334=\"\",\"\",IFERROR(VLOOKUP($M334,PartnerSearch!B$2:G$16000,6,0),\"--\"))","v":""},null,"","","",""]
[null,null,null,null,null,null,null,null,null,null,null,null,"",{"$f":"IF($M335=\"\",\"\",IFERROR(VLOOKUP($M335,PartnerSearch!B$2:G$16000,6,0),\"--\"))","v":""},null,"","","",""]
[null,null,null,null,null,null,null,null,null,null,null,null,"",{"$f":"IF($M336=\"\",\"\",IFERROR(VLOOKUP($M336,PartnerSearch!B$2:G$16000,6,0),\"--\"))","v":""},null,"","","",""]
[null,null,null,null,null,null,null,null,null,null,null,null,"",{"$f":"IF($M337=\"\",\"\",IFERROR(VLOOKUP($M337,PartnerSearch!B$2:G$16000,6,0),\"--\"))","v":""},null,"","","",""]
[null,null,null,null,null,null,null,null,null,null,null,null,"",{"$f":"IF($M338=\"\",\"\",IFERROR(VLOOKUP($M338,PartnerSearch!B$2:G$16000,6,0),\"--\"))","v":""},null,"","","",""]
[null,null,null,null,null,null,null,null,null,null,null,null,"",{"$f":"IF($M339=\"\",\"\",IFERROR(VLOOKUP($M339,PartnerSearch!B$2:G$16000,6,0),\"--\"))","v":""},null,"","","",""]
[null,null,null,null,null,null,null,null,null,null,null,null,"",{"$f":"IF($M340=\"\",\"\",IFERROR(VLOOKUP($M340,PartnerSearch!B$2:G$16000,6,0),\"--\"))","v":""},null,"","","",""]
[null,null,null,null,null,null,null,null,null,null,null,null,"",{"$f":"IF($M341=\"\",\"\",IFERROR(VLOOKUP($M341,PartnerSearch!B$2:G$16000,6,0),\"--\"))","v":""},null,"","","",""]
[null,null,null,null,null,null,null,null,null,null,null,null,"",{"$f":"IF($M342=\"\",\"\",IFERROR(VLOOKUP($M342,PartnerSearch!B$2:G$16000,6,0),\"--\"))","v":""},null,"","","",""]
[null,null,null,null,null,null,null,null,null,null,null,null,"",{"$f":"IF($M343=\"\",\"\",IFERROR(VLOOKUP($M343,PartnerSearch!B$2:G$16000,6,0),\"--\"))","v":""},null,"","","",""]
[null,null,null,null,null,null,null,null,null,null,null,null,"",{"$f":"IF($M344=\"\",\"\",IFERROR(VLOOKUP($M344,PartnerSearch!B$2:G$16000,6,0),\"--\"))","v":""},null,"","","",""]
[null,null,null,null,null,null,null,null,null,null,null,null,"",{"$f":"IF($M345=\"\",\"\",IFERROR(VLOOKUP($M345,PartnerSearch!B$2:G$16000,6,0),\"--\"))","v":""},null,"","","",""]
[null,null,null,null,null,null,null,null,null,null,null,null,"",{"$f":"IF($M346=\"\",\"\",IFERROR(VLOOKUP($M346,PartnerSearch!B$2:G$16000,6,0),\"--\"))","v":""},null,"","","",""]
[null,null,null,null,null,null,null,null,null,null,null,null,"",{"$f":"IF($M347=\"\",\"\",IFERROR(VLOOKUP($M347,PartnerSearch!B$2:G$16000,6,0),\"--\"))","v":""},null,"","","",""]
[null,null,null,null,null,null,null,null,null,null,null,null,"",{"$f":"IF($M348=\"\",\"\",IFERROR(VLOOKUP($M348,PartnerSearch!B$2:G$16000,6,0),\"--\"))","v":""},null,"","","",""]
[null,null,null,null,null,null,null,null,null,null,null,null,"",{"$f":"IF($M349=\"\",\"\",IFERROR(VLOOKUP($M349,PartnerSearch!B$2:G$16000,6,0),\"--\"))","v":""},null,"","","",""]
[null,null,null,null,null,null,null,null,null,null,null,null,"",{"$f":"IF($M350=\"\",\"\",IFERROR(VLOOKUP($M350,PartnerSearch!B$2:G$16000,6,0),\"--\"))","v":""},null,"","","",""]
[null,null,null,null,null,null,null,null,null,null,null,null,"",{"$f":"IF($M351=\"\",\"\",IFERROR(VLOOKUP($M351,PartnerSearch!B$2:G$16000,6,0),\"--\"))","v":""},null,"","","",""]
[null,null,null,null,null,null,null,null,null,null,null,null,"",{"$f":"IF($M352=\"\",\"\",IFERROR(VLOOKUP($M352,PartnerSearch!B$2:G$16000,6,0),\"--\"))","v":""},null,"","","",""]
[null,null,null,null,null,null,null,null,null,null,null,null,"",{"$f":"IF($M353=\"\",\"\",IFERROR(VLOOKUP($M353,PartnerSearch!B$2:G$16000,6,0),\"--\"))","v":""},null,"","","",""]
[null,null,null,null,null,null,null,null,null,null,null,null,"",{"$f":"IF($M354=\"\",\"\",IFERROR(VLOOKUP($M354,PartnerSearch!B$2:G$16000,6,0),\"--\"))","v":""},null,"","","",""]
[null,null,null,null,null,null,null,null,null,null,null,null,"",{"$f":"IF($M355=\"\",\"\",IFERROR(VLOOKUP($M355,PartnerSearch!B$2:G$16000,6,0),\"--\"))","v":""},null,"","","",""]
[null,null,null,null,null,null,null,null,null,null,null,null,"",{"$f":"IF($M356=\"\",\"\",IFERROR(VLOOKUP($M356,PartnerSearch!B$2:G$16000,6,0),\"--\"))","v":""},null,"","","",""]
[null,null,null,null,null,null,null,null,null,null,null,null,"",{"$f":"IF($M357=\"\",\"\",IFERROR(VLOOKUP($M357,PartnerSearch!B$2:G$16000,6,0),\"--\"))","v":""},null,"","","",""]
[null,null,null,null,null,null,null,null,null,null,null,null,"",{"$f":"IF($M358=\"\",\"\",IFERROR(VLOOKUP($M358,PartnerSearch!B$2:G$16000,6,0),\"--\"))","v":""},null,"","","",""]
[null,null,null,null,null,null,null,null,null,null,null,null,"",{"$f":"IF($M359=\"\",\"\",IFERROR(VLOOKUP($M359,PartnerSearch!B$2:G$16000,6,0),\"--\"))","v":""},null,"","","",""]
[null,null,null,null,null,null,null,null,null,null,null,null,"",{"$f":"IF($M360=\"\",\"\",IFERROR(VLOOKUP($M360,PartnerSearch!B$2:G$16000,6,0),\"--\"))","v":""},null,"","","",""]
[null,null,null,null,null,null,null,null,null,null,null,null,"",{"$f":"IF($M361=\"\",\"\",IFERROR(VLOOKUP($M361,PartnerSearch!B$2:G$16000,6,0),\"--\"))","v":""},null,"","","",""]
[null,null,null,null,null,null,null,null,null,null,null,null,"",{"$f":"IF($M362=\"\",\"\",IFERROR(VLOOKUP($M362,PartnerSearch!B$2:G$16000,6,0),\"--\"))","v":""},null,"","","",""]
[null,null,null,null,null,null,null,null,null,null,null,null,"",{"$f":"IF($M363=\"\",\"\",IFERROR(VLOOKUP($M363,PartnerSearch!B$2:G$16000,6,0),\"--\"))","v":""},null,"","","",""]
[null,null,null,null,null,null,null,null,null,null,null,null,"",{"$f":"IF($M364=\"\",\"\",IFERROR(VLOOKUP($M364,PartnerSearch!B$2:G$16000,6,0),\"--\"))","v":""},null,"","","",""]
[null,null,null,null,null,null,null,null,null,null,null,null,"",{"$f":"IF($M365=\"\",\"\",IFERROR(VLOOKUP($M365,PartnerSearch!B$2:G$16000,6,0),\"--\"))","v":""},null,"","","",""]
[null,null,null,null,null,null,null,null,null,null,null,null,"",{"$f":"IF($M366=\"\",\"\",IFERROR(VLOOKUP($M366,PartnerSearch!B$2:G$16000,6,0),\"--\"))","v":""},null,"","","",""]
[null,null,null,null,null,null,null,null,null,null,null,null,"",{"$f":"IF($M367=\"\",\"\",IFERROR(VLOOKUP($M367,PartnerSearch!B$2:G$16000,6,0),\"--\"))","v":""},null,"","","",""]
[null,null,null,null,null,null,null,null,null,null,null,null,"",{"$f":"IF($M368=\"\",\"\",IFERROR(VLOOKUP($M368,PartnerSearch!B$2:G$16000,6,0),\"--\"))","v":""},null,"","","",""]
[null,null,null,null,null,null,null,null,null,null,null,null,"",{"$f":"IF($M369=\"\",\"\",IFERROR(VLOOKUP($M369,PartnerSearch!B$2:G$16000,6,0),\"--\"))","v":""},null,"","","",""]
[null,null,null,null,null,null,null,null,null,null,null,null,"",{"$f":"IF($M370=\"\",\"\",IFERROR(VLOOKUP($M370,PartnerSearch!B$2:G$16000,6,0),\"--\"))","v":""},null,"","","",""]
[null,null,null,null,null,null,null,null,null,null,null,null,"",{"$f":"IF($M371=\"\",\"\",IFERROR(VLOOKUP($M371,PartnerSearch!B$2:G$16000,6,0),\"--\"))","v":""},null,"","","",""]
[null,null,null,null,null,null,null,null,null,null,null,null,"",{"$f":"IF($M372=\"\",\"\",IFERROR(VLOOKUP($M372,PartnerSearch!B$2:G$16000,6,0),\"--\"))","v":""},null,"","","",""]
[null,null,null,null,null,null,null,null,null,null,null,null,"",{"$f":"IF($M373=\"\",\"\",IFERROR(VLOOKUP($M373,PartnerSearch!B$2:G$16000,6,0),\"--\"))","v":""},null,"","","",""]
[null,null,null,null,null,null,null,null,null,null,null,null,"",{"$f":"IF($M374=\"\",\"\",IFERROR(VLOOKUP($M374,PartnerSearch!B$2:G$16000,6,0),\"--\"))","v":""},null,"","","",""]
[null,null,null,null,null,null,null,null,null,null,null,null,"",{"$f":"IF($M375=\"\",\"\",IFERROR(VLOOKUP($M375,PartnerSearch!B$2:G$16000,6,0),\"--\"))","v":""},null,"","","",""]
[null,null,null,null,null,null,null,null,null,null,null,null,"",{"$f":"IF($M376=\"\",\"\",IFERROR(VLOOKUP($M376,PartnerSearch!B$2:G$16000,6,0),\"--\"))","v":""},null,"","","",""]
[null,null,null,null,null,null,null,null,null,null,null,null,"",{"$f":"IF($M377=\"\",\"\",IFERROR(VLOOKUP($M377,PartnerSearch!B$2:G$16000,6,0),\"--\"))","v":""},null,"","","",""]
[null,null,null,null,null,null,null,null,null,null,null,null,"",{"$f":"IF($M378=\"\",\"\",IFERROR(VLOOKUP($M378,PartnerSearch!B$2:G$16000,6,0),\"--\"))","v":""},null,"","","",""]
[null,null,null,null,null,null,null,null,null,null,null,null,"",{"$f":"IF($M379=\"\",\"\",IFERROR(VLOOKUP($M379,PartnerSearch!B$2:G$16000,6,0),\"--\"))","v":""},null,"","","",""]
[null,null,null,null,null,null,null,null,null,null,null,null,"",{"$f":"IF($M380=\"\",\"\",IFERROR(VLOOKUP($M380,PartnerSearch!B$2:G$16000,6,0),\"--\"))","v":""},null,"","","",""]
[null,null,null,null,null,null,null,null,null,null,null,null,"",{"$f":"IF($M381=\"\",\"\",IFERROR(VLOOKUP($M381,PartnerSearch!B$2:G$16000,6,0),\"--\"))","v":""},null,"","","",""]
[null,null,null,null,null,null,null,null,null,null,null,null,"",{"$f":"IF($M382=\"\",\"\",IFERROR(VLOOKUP($M382,PartnerSearch!B$2:G$16000,6,0),\"--\"))","v":""},null,"","","",""]
[null,null,null,null,null,null,null,null,null,null,null,null,"",{"$f":"IF($M383=\"\",\"\",IFERROR(VLOOKUP($M383,PartnerSearch!B$2:G$16000,6,0),\"--\"))","v":""},null,"","","",""]
[null,null,null,null,null,null,null,null,null,null,null,null,"",{"$f":"IF($M384=\"\",\"\",IFERROR(VLOOKUP($M384,PartnerSearch!B$2:G$16000,6,0),\"--\"))","v":""},null,"","","",""]
[null,null,null,null,null,null,null,null,null,null,null,null,"",{"$f":"IF($M385=\"\",\"\",IFERROR(VLOOKUP($M385,PartnerSearch!B$2:G$16000,6,0),\"--\"))","v":""},null,"","","",""]
[null,null,null,null,null,null,null,null,null,null,null,null,"",{"$f":"IF($M386=\"\",\"\",IFERROR(VLOOKUP($M386,PartnerSearch!B$2:G$16000,6,0),\"--\"))","v":""},null,"","","",""]
[null,null,null,null,null,null,null,null,null,null,null,null,{"$f":"TRIM(SUBSTITUTE(SUBSTITUTE(SUBSTITUTE(SUBSTITUTE(SUBSTITUTE(SUBSTITUTE(SUBSTITUTE(SUBSTITUTE(SUBSTITUTE(SUBSTITUTE(SUBSTITUTE(SUBSTITUTE(SUBSTITUTE(SUBSTITUTE(E387,\"00000 \",\"\"),\" (Local)\",\"\"),\" (Tribal)\",\"\"),\" (State)\",\"\"),\" (Regional)\",\"\"),\" (Federal/National)\",\"\"),\" (International)\",\"\"),\" (Unknown)\",\"\"),\" (Academic Institution)\",\"\"),\" (Government)\",\"\"),\" (Industry/Business)\",\"\"),\" (NGO)\",\"\"),\" (Other)\",\"\"),\" (Sea Grant Program)\",\"\"))","v":""},{"$f":"IF($M387=\"\",\"\",IFERROR(VLOOKUP($M387,PartnerSearch!B$2:G$16000,6,0),\"--\"))","v":""},null,{"$f":"IF(E387=\"\",\"\",IF(LEFT(E387&\"x\",5)=\"00000\",\"\",IF(N387=\"--\",\"NO\",\"yes\")))","v":""},{"$f":"IF(LEFT(E387&\"x\",5)<>\"00000\",\"\",IF(N387=\"--\",\"yes\",\"NO\"))","v":""},{"$f":"IF(Q387=\"\",\"\",IF((ISERROR(SEARCH(\"(Federal/National)\",E387))*1+ISERROR(SEARCH(\"(International)\",E387))*1+ISERROR(SEARCH(\"(Local)\",E387))*1+ISERROR(SEARCH(\"(State)\",E387))*1+ISERROR(SEARCH(\"(Regional)\",E387))*1+ISERROR(SEARCH(\"(Tribal)\",E387))*1+ISERROR(SEARCH(\"(Unknown) (\",E387))*1)=6,\"yes\",\"NO\"))","v":""},{"$f":"IF(Q387=\"\",\"\",IF(OR(NOT(ISERROR(SEARCH(\"(Academic Institution)\",E387))),NOT(ISERROR(SEARCH(\"(Government)\",E387))),NOT(ISERROR(SEARCH(\"(Industry/Business)\",E387))),NOT(ISERROR(SEARCH(\"(NGO)\",E387))),NOT(ISERROR(SEARCH(\"(Sea Grant Program)\",E387))),NOT(ISERROR(SEARCH(\"(Other)\",E387))),NOT(AND(NOT(ISERROR(SEARCH(\"(Unknown)\",E387))),(ISERROR(SEARCH(\") (Unknown)\",E387)))))),\"yes\",\"NO\"))","v":""}]
[null,null,null,null,null,null,null,null,null,null,null,null,"",{"$f":"IF($M388=\"\",\"\",IFERROR(VLOOKUP($M388,PartnerSearch!B$2:G$16000,6,0),\"--\"))","v":""},null,"","","",""]
[null,null,null,null,null,null,null,null,null,null,null,null,"",{"$f":"IF($M389=\"\",\"\",IFERROR(VLOOKUP($M389,PartnerSearch!B$2:G$16000,6,0),\"--\"))","v":""},null,"","","",""]
[null,null,null,null,null,null,null,null,null,null,null,null,"",{"$f":"IF($M390=\"\",\"\",IFERROR(VLOOKUP($M390,PartnerSearch!B$2:G$16000,6,0),\"--\"))","v":""},null,"","","",""]
[null,null,null,null,null,null,null,null,null,null,null,null,"",{"$f":"IF($M391=\"\",\"\",IFERROR(VLOOKUP($M391,PartnerSearch!B$2:G$16000,6,0),\"--\"))","v":""},null,"","","",""]
[null,null,null,null,null,null,null,null,null,null,null,null,"",{"$f":"IF($M392=\"\",\"\",IFERROR(VLOOKUP($M392,PartnerSearch!B$2:G$16000,6,0),\"--\"))","v":""},null,"","","",""]
[null,null,null,null,null,null,null,null,null,null,null,null,"",{"$f":"IF($M393=\"\",\"\",IFERROR(VLOOKUP($M393,PartnerSearch!B$2:G$16000,6,0),\"--\"))","v":""},null,"","","",""]
[null,null,null,null,null,null,null,null,null,null,null,null,"",{"$f":"IF($M394=\"\",\"\",IFERROR(VLOOKUP($M394,PartnerSearch!B$2:G$16000,6,0),\"--\"))","v":""},null,"","","",""]
[null,null,null,null,null,null,null,null,null,null,null,null,"",{"$f":"IF($M395=\"\",\"\",IFERROR(VLOOKUP($M395,PartnerSearch!B$2:G$16000,6,0),\"--\"))","v":""},null,"","","",""]
[null,null,null,null,null,null,null,null,null,null,null,null,"",{"$f":"IF($M396=\"\",\"\",IFERROR(VLOOKUP($M396,PartnerSearch!B$2:G$16000,6,0),\"--\"))","v":""},null,"","","",""]
[null,null,null,null,null,null,null,null,null,null,null,null,"",{"$f":"IF($M397=\"\",\"\",IFERROR(VLOOKUP($M397,PartnerSearch!B$2:G$16000,6,0),\"--\"))","v":""},null,"","","",""]
[null,null,null,null,null,null,null,null,null,null,null,null,"",{"$f":"IF($M398=\"\",\"\",IFERROR(VLOOKUP($M398,PartnerSearch!B$2:G$16000,6,0),\"--\"))","v":""},null,"","","",""]
[null,null,null,null,null,null,null,null,null,null,null,null,"",{"$f":"IF($M399=\"\",\"\",IFERROR(VLOOKUP($M399,PartnerSearch!B$2:G$16000,6,0),\"--\"))","v":""},null,"","","",""]
[null,null,null,null,null,null,null,null,null,null,null,null,"",{"$f":"IF($M400=\"\",\"\",IFERROR(VLOOKUP($M400,PartnerSearch!B$2:G$16000,6,0),\"--\"))","v":""},null,"","","",""]
[null,null,null,null,null,null,null,null,null,null,null,null,"",{"$f":"IF($M401=\"\",\"\",IFERROR(VLOOKUP($M401,PartnerSearch!B$2:G$16000,6,0),\"--\"))","v":""},null,"","","",""]
[null,null,null,null,null,null,null,null,null,null,null,null,"",{"$f":"IF($M402=\"\",\"\",IFERROR(VLOOKUP($M402,PartnerSearch!B$2:G$16000,6,0),\"--\"))","v":""},null,"","","",""]
[null,null,null,null,null,null,null,null,null,null,null,null,"",{"$f":"IF($M403=\"\",\"\",IFERROR(VLOOKUP($M403,PartnerSearch!B$2:G$16000,6,0),\"--\"))","v":""},null,"","","",""]
[null,null,null,null,null,null,null,null,null,null,null,null,"",{"$f":"IF($M404=\"\",\"\",IFERROR(VLOOKUP($M404,PartnerSearch!B$2:G$16000,6,0),\"--\"))","v":""},null,"","","",""]
[null,null,null,null,null,null,null,null,null,null,null,null,"",{"$f":"IF($M405=\"\",\"\",IFERROR(VLOOKUP($M405,PartnerSearch!B$2:G$16000,6,0),\"--\"))","v":""},null,"","","",""]
[null,null,null,null,null,null,null,null,null,null,null,null,"",{"$f":"IF($M406=\"\",\"\",IFERROR(VLOOKUP($M406,PartnerSearch!B$2:G$16000,6,0),\"--\"))","v":""},null,"","","",""]
[null,null,null,null,null,null,null,null,null,null,null,null,"",{"$f":"IF($M407=\"\",\"\",IFERROR(VLOOKUP($M407,PartnerSearch!B$2:G$16000,6,0),\"--\"))","v":""},null,"","","",""]
[null,null,null,null,null,null,null,null,null,null,null,null,"",{"$f":"IF($M408=\"\",\"\",IFERROR(VLOOKUP($M408,PartnerSearch!B$2:G$16000,6,0),\"--\"))","v":""},null,"","","",""]
[null,null,null,null,null,null,null,null,null,null,null,null,"",{"$f":"IF($M409=\"\",\"\",IFERROR(VLOOKUP($M409,PartnerSearch!B$2:G$16000,6,0),\"--\"))","v":""},null,"","","",""]
[null,null,null,null,null,null,null,null,null,null,null,null,"",{"$f":"IF($M410=\"\",\"\",IFERROR(VLOOKUP($M410,PartnerSearch!B$2:G$16000,6,0),\"--\"))","v":""},null,"","","",""]
[null,null,null,null,null,null,null,null,null,null,null,null,"",{"$f":"IF($M411=\"\",\"\",IFERROR(VLOOKUP($M411,PartnerSearch!B$2:G$16000,6,0),\"--\"))","v":""},null,"","","",""]
[null,null,null,null,null,null,null,null,null,null,null,null,"",{"$f":"IF($M412=\"\",\"\",IFERROR(VLOOKUP($M412,PartnerSearch!B$2:G$16000,6,0),\"--\"))","v":""},null,"","","",""]
[null,null,null,null,null,null,null,null,null,null,null,null,"",{"$f":"IF($M413=\"\",\"\",IFERROR(VLOOKUP($M413,PartnerSearch!B$2:G$16000,6,0),\"--\"))","v":""},null,"","","",""]
[null,null,null,null,null,null,null,null,null,null,null,null,"",{"$f":"IF($M414=\"\",\"\",IFERROR(VLOOKUP($M414,PartnerSearch!B$2:G$16000,6,0),\"--\"))","v":""},null,"","","",""]
[null,null,null,null,null,null,null,null,null,null,null,null,"",{"$f":"IF($M415=\"\",\"\",IFERROR(VLOOKUP($M415,PartnerSearch!B$2:G$16000,6,0),\"--\"))","v":""},null,"","","",""]
[null,null,null,null,null,null,null,null,null,null,null,null,"",{"$f":"IF($M416=\"\",\"\",IFERROR(VLOOKUP($M416,PartnerSearch!B$2:G$16000,6,0),\"--\"))","v":""},null,"","","",""]
[null,null,null,null,null,null,null,null,null,null,null,null,"",{"$f":"IF($M417=\"\",\"\",IFERROR(VLOOKUP($M417,PartnerSearch!B$2:G$16000,6,0),\"--\"))","v":""},null,"","","",""]
[null,null,null,null,null,null,null,null,null,null,null,null,"",{"$f":"IF($M418=\"\",\"\",IFERROR(VLOOKUP($M418,PartnerSearch!B$2:G$16000,6,0),\"--\"))","v":""},null,"","","",""]
[null,null,null,null,null,null,null,null,null,null,null,null,"",{"$f":"IF($M419=\"\",\"\",IFERROR(VLOOKUP($M419,PartnerSearch!B$2:G$16000,6,0),\"--\"))","v":""},null,"","","",""]
[null,null,null,null,null,null,null,null,null,null,null,null,"",{"$f":"IF($M420=\"\",\"\",IFERROR(VLOOKUP($M420,PartnerSearch!B$2:G$16000,6,0),\"--\"))","v":""},null,"","","",""]
[null,null,null,null,null,null,null,null,null,null,null,null,"",{"$f":"IF($M421=\"\",\"\",IFERROR(VLOOKUP($M421,PartnerSearch!B$2:G$16000,6,0),\"--\"))","v":""},null,"","","",""]
[null,null,null,null,null,null,null,null,null,null,null,null,"",{"$f":"IF($M422=\"\",\"\",IFERROR(VLOOKUP($M422,PartnerSearch!B$2:G$16000,6,0),\"--\"))","v":""},null,"","","",""]
[null,null,null,null,null,null,null,null,null,null,null,null,"",{"$f":"IF($M423=\"\",\"\",IFERROR(VLOOKUP($M423,PartnerSearch!B$2:G$16000,6,0),\"--\"))","v":""},null,"","","",""]
[null,null,null,null,null,null,null,null,null,null,null,null,"",{"$f":"IF($M424=\"\",\"\",IFERROR(VLOOKUP($M424,PartnerSearch!B$2:G$16000,6,0),\"--\"))","v":""},null,"","","",""]
[null,null,null,null,null,null,null,null,null,null,null,null,"",{"$f":"IF($M425=\"\",\"\",IFERROR(VLOOKUP($M425,PartnerSearch!B$2:G$16000,6,0),\"--\"))","v":""},null,"","","",""]
[null,null,null,null,null,null,null,null,null,null,null,null,"",{"$f":"IF($M426=\"\",\"\",IFERROR(VLOOKUP($M426,PartnerSearch!B$2:G$16000,6,0),\"--\"))","v":""},null,"","","",""]
[null,null,null,null,null,null,null,null,null,null,null,null,"",{"$f":"IF($M427=\"\",\"\",IFERROR(VLOOKUP($M427,PartnerSearch!B$2:G$16000,6,0),\"--\"))","v":""},null,"","","",""]
[null,null,null,null,null,null,null,null,null,null,null,null,"",{"$f":"IF($M428=\"\",\"\",IFERROR(VLOOKUP($M428,PartnerSearch!B$2:G$16000,6,0),\"--\"))","v":""},null,"","","",""]
[null,null,null,null,null,null,null,null,null,null,null,null,"",{"$f":"IF($M429=\"\",\"\",IFERROR(VLOOKUP($M429,PartnerSearch!B$2:G$16000,6,0),\"--\"))","v":""},null,"","","",""]
[null,null,null,null,null,null,null,null,null,null,null,null,"",{"$f":"IF($M430=\"\",\"\",IFERROR(VLOOKUP($M430,PartnerSearch!B$2:G$16000,6,0),\"--\"))","v":""},null,"","","",""]
[null,null,null,null,null,null,null,null,null,null,null,null,"",{"$f":"IF($M431=\"\",\"\",IFERROR(VLOOKUP($M431,PartnerSearch!B$2:G$16000,6,0),\"--\"))","v":""},null,"","","",""]
[null,null,null,null,null,null,null,null,null,null,null,null,"",{"$f":"IF($M432=\"\",\"\",IFERROR(VLOOKUP($M432,PartnerSearch!B$2:G$16000,6,0),\"--\"))","v":""},null,"","","",""]
[null,null,null,null,null,null,null,null,null,null,null,null,"",{"$f":"IF($M433=\"\",\"\",IFERROR(VLOOKUP($M433,PartnerSearch!B$2:G$16000,6,0),\"--\"))","v":""},null,"","","",""]
[null,null,null,null,null,null,null,null,null,null,null,null,"",{"$f":"IF($M434=\"\",\"\",IFERROR(VLOOKUP($M434,PartnerSearch!B$2:G$16000,6,0),\"--\"))","v":""},null,"","","",""]
[null,null,null,null,null,null,null,null,null,null,null,null,"",{"$f":"IF($M435=\"\",\"\",IFERROR(VLOOKUP($M435,PartnerSearch!B$2:G$16000,6,0),\"--\"))","v":""},null,"","","",""]
[null,null,null,null,null,null,null,null,null,null,null,null,"",{"$f":"IF($M436=\"\",\"\",IFERROR(VLOOKUP($M436,PartnerSearch!B$2:G$16000,6,0),\"--\"))","v":""},null,"","","",""]
[null,null,null,null,null,null,null,null,null,null,null,null,"",{"$f":"IF($M437=\"\",\"\",IFERROR(VLOOKUP($M437,PartnerSearch!B$2:G$16000,6,0),\"--\"))","v":""},null,"","","",""]
[null,null,null,null,null,null,null,null,null,null,null,null,"",{"$f":"IF($M438=\"\",\"\",IFERROR(VLOOKUP($M438,PartnerSearch!B$2:G$16000,6,0),\"--\"))","v":""},null,"","","",""]
[null,null,null,null,null,null,null,null,null,null,null,null,"",{"$f":"IF($M439=\"\",\"\",IFERROR(VLOOKUP($M439,PartnerSearch!B$2:G$16000,6,0),\"--\"))","v":""},null,"","","",""]
[null,null,null,null,null,null,null,null,null,null,null,null,"",{"$f":"IF($M440=\"\",\"\",IFERROR(VLOOKUP($M440,PartnerSearch!B$2:G$16000,6,0),\"--\"))","v":""},null,"","","",""]
[null,null,null,null,null,null,null,null,null,null,null,null,"",{"$f":"IF($M441=\"\",\"\",IFERROR(VLOOKUP($M441,PartnerSearch!B$2:G$16000,6,0),\"--\"))","v":""},null,"","","",""]
[null,null,null,null,null,null,null,null,null,null,null,null,"",{"$f":"IF($M442=\"\",\"\",IFERROR(VLOOKUP($M442,PartnerSearch!B$2:G$16000,6,0),\"--\"))","v":""},null,"","","",""]
[null,null,null,null,null,null,null,null,null,null,null,null,"",{"$f":"IF($M443=\"\",\"\",IFERROR(VLOOKUP($M443,PartnerSearch!B$2:G$16000,6,0),\"--\"))","v":""},null,"","","",""]
[null,null,null,null,null,null,null,null,null,null,null,null,"",{"$f":"IF($M444=\"\",\"\",IFERROR(VLOOKUP($M444,PartnerSearch!B$2:G$16000,6,0),\"--\"))","v":""},null,"","","",""]
[null,null,null,null,null,null,null,null,null,null,null,null,"",{"$f":"IF($M445=\"\",\"\",IFERROR(VLOOKUP($M445,PartnerSearch!B$2:G$16000,6,0),\"--\"))","v":""},null,"","","",""]
[null,null,null,null,null,null,null,null,null,null,null,null,"",{"$f":"IF($M446=\"\",\"\",IFERROR(VLOOKUP($M446,PartnerSearch!B$2:G$16000,6,0),\"--\"))","v":""},null,"","","",""]
[null,null,null,null,null,null,null,null,null,null,null,null,"",{"$f":"IF($M447=\"\",\"\",IFERROR(VLOOKUP($M447,PartnerSearch!B$2:G$16000,6,0),\"--\"))","v":""},null,"","","",""]
[null,null,null,null,null,null,null,null,null,null,null,null,"",{"$f":"IF($M448=\"\",\"\",IFERROR(VLOOKUP($M448,PartnerSearch!B$2:G$16000,6,0),\"--\"))","v":""},null,"","","",""]
[null,null,null,null,null,null,null,null,null,null,null,null,"",{"$f":"IF($M449=\"\",\"\",IFERROR(VLOOKUP($M449,PartnerSearch!B$2:G$16000,6,0),\"--\"))","v":""},null,"","","",""]
[null,null,null,null,null,null,null,null,null,null,null,null,"",{"$f":"IF($M450=\"\",\"\",IFERROR(VLOOKUP($M450,PartnerSearch!B$2:G$16000,6,0),\"--\"))","v":""},null,"","","",""]
[null,null,null,null,null,null,null,null,null,null,null,null,{"$f":"TRIM(SUBSTITUTE(SUBSTITUTE(SUBSTITUTE(SUBSTITUTE(SUBSTITUTE(SUBSTITUTE(SUBSTITUTE(SUBSTITUTE(SUBSTITUTE(SUBSTITUTE(SUBSTITUTE(SUBSTITUTE(SUBSTITUTE(SUBSTITUTE(E451,\"00000 \",\"\"),\" (Local)\",\"\"),\" (Tribal)\",\"\"),\" (State)\",\"\"),\" (Regional)\",\"\"),\" (Federal/National)\",\"\"),\" (International)\",\"\"),\" (Unknown)\",\"\"),\" (Academic Institution)\",\"\"),\" (Government)\",\"\"),\" (Industry/Business)\",\"\"),\" (NGO)\",\"\"),\" (Other)\",\"\"),\" (Sea Grant Program)\",\"\"))","v":""},{"$f":"IF($M451=\"\",\"\",IFERROR(VLOOKUP($M451,PartnerSearch!B$2:G$16000,6,0),\"--\"))","v":""},null,{"$f":"IF(E451=\"\",\"\",IF(LEFT(E451&\"x\",5)=\"00000\",\"\",IF(N451=\"--\",\"NO\",\"yes\")))","v":""},{"$f":"IF(LEFT(E451&\"x\",5)<>\"00000\",\"\",IF(N451=\"--\",\"yes\",\"NO\"))","v":""},{"$f":"IF(Q451=\"\",\"\",IF((ISERROR(SEARCH(\"(Federal/National)\",E451))*1+ISERROR(SEARCH(\"(International)\",E451))*1+ISERROR(SEARCH(\"(Local)\",E451))*1+ISERROR(SEARCH(\"(State)\",E451))*1+ISERROR(SEARCH(\"(Regional)\",E451))*1+ISERROR(SEARCH(\"(Tribal)\",E451))*1+ISERROR(SEARCH(\"(Unknown) (\",E451))*1)=6,\"yes\",\"NO\"))","v":""},{"$f":"IF(Q451=\"\",\"\",IF(OR(NOT(ISERROR(SEARCH(\"(Academic Institution)\",E451))),NOT(ISERROR(SEARCH(\"(Government)\",E451))),NOT(ISERROR(SEARCH(\"(Industry/Business)\",E451))),NOT(ISERROR(SEARCH(\"(NGO)\",E451))),NOT(ISERROR(SEARCH(\"(Sea Grant Program)\",E451))),NOT(ISERROR(SEARCH(\"(Other)\",E451))),NOT(AND(NOT(ISERROR(SEARCH(\"(Unknown)\",E451))),(ISERROR(SEARCH(\") (Unknown)\",E451)))))),\"yes\",\"NO\"))","v":""}]
[null,null,null,null,null,null,null,null,null,null,null,null,"",{"$f":"IF($M452=\"\",\"\",IFERROR(VLOOKUP($M452,PartnerSearch!B$2:G$16000,6,0),\"--\"))","v":""},null,"","","",""]
[null,null,null,null,null,null,null,null,null,null,null,null,"",{"$f":"IF($M453=\"\",\"\",IFERROR(VLOOKUP($M453,PartnerSearch!B$2:G$16000,6,0),\"--\"))","v":""},null,"","","",""]
[null,null,null,null,null,null,null,null,null,null,null,null,"",{"$f":"IF($M454=\"\",\"\",IFERROR(VLOOKUP($M454,PartnerSearch!B$2:G$16000,6,0),\"--\"))","v":""},null,"","","",""]
[null,null,null,null,null,null,null,null,null,null,null,null,"",{"$f":"IF($M455=\"\",\"\",IFERROR(VLOOKUP($M455,PartnerSearch!B$2:G$16000,6,0),\"--\"))","v":""},null,"","","",""]
[null,null,null,null,null,null,null,null,null,null,null,null,"",{"$f":"IF($M456=\"\",\"\",IFERROR(VLOOKUP($M456,PartnerSearch!B$2:G$16000,6,0),\"--\"))","v":""},null,"","","",""]
[null,null,null,null,null,null,null,null,null,null,null,null,"",{"$f":"IF($M457=\"\",\"\",IFERROR(VLOOKUP($M457,PartnerSearch!B$2:G$16000,6,0),\"--\"))","v":""},null,"","","",""]
[null,null,null,null,null,null,null,null,null,null,null,null,"",{"$f":"IF($M458=\"\",\"\",IFERROR(VLOOKUP($M458,PartnerSearch!B$2:G$16000,6,0),\"--\"))","v":""},null,"","","",""]
[null,null,null,null,null,null,null,null,null,null,null,null,"",{"$f":"IF($M459=\"\",\"\",IFERROR(VLOOKUP($M459,PartnerSearch!B$2:G$16000,6,0),\"--\"))","v":""},null,"","","",""]
[null,null,null,null,null,null,null,null,null,null,null,null,"",{"$f":"IF($M460=\"\",\"\",IFERROR(VLOOKUP($M460,PartnerSearch!B$2:G$16000,6,0),\"--\"))","v":""},null,"","","",""]
[null,null,null,null,null,null,null,null,null,null,null,null,"",{"$f":"IF($M461=\"\",\"\",IFERROR(VLOOKUP($M461,PartnerSearch!B$2:G$16000,6,0),\"--\"))","v":""},null,"","","",""]
[null,null,null,null,null,null,null,null,null,null,null,null,"",{"$f":"IF($M462=\"\",\"\",IFERROR(VLOOKUP($M462,PartnerSearch!B$2:G$16000,6,0),\"--\"))","v":""},null,"","","",""]
[null,null,null,null,null,null,null,null,null,null,null,null,"",{"$f":"IF($M463=\"\",\"\",IFERROR(VLOOKUP($M463,PartnerSearch!B$2:G$16000,6,0),\"--\"))","v":""},null,"","","",""]
[null,null,null,null,null,null,null,null,null,null,null,null,"",{"$f":"IF($M464=\"\",\"\",IFERROR(VLOOKUP($M464,PartnerSearch!B$2:G$16000,6,0),\"--\"))","v":""},null,"","","",""]
[null,null,null,null,null,null,null,null,null,null,null,null,"",{"$f":"IF($M465=\"\",\"\",IFERROR(VLOOKUP($M465,PartnerSearch!B$2:G$16000,6,0),\"--\"))","v":""},null,"","","",""]
[null,null,null,null,null,null,null,null,null,null,null,null,"",{"$f":"IF($M466=\"\",\"\",IFERROR(VLOOKUP($M466,PartnerSearch!B$2:G$16000,6,0),\"--\"))","v":""},null,"","","",""]
[null,null,null,null,null,null,null,null,null,null,null,null,"",{"$f":"IF($M467=\"\",\"\",IFERROR(VLOOKUP($M467,PartnerSearch!B$2:G$16000,6,0),\"--\"))","v":""},null,"","","",""]
[null,null,null,null,null,null,null,null,null,null,null,null,"",{"$f":"IF($M468=\"\",\"\",IFERROR(VLOOKUP($M468,PartnerSearch!B$2:G$16000,6,0),\"--\"))","v":""},null,"","","",""]
[null,null,null,null,null,null,null,null,null,null,null,null,"",{"$f":"IF($M469=\"\",\"\",IFERROR(VLOOKUP($M469,PartnerSearch!B$2:G$16000,6,0),\"--\"))","v":""},null,"","","",""]
[null,null,null,null,null,null,null,null,null,null,null,null,"",{"$f":"IF($M470=\"\",\"\",IFERROR(VLOOKUP($M470,PartnerSearch!B$2:G$16000,6,0),\"--\"))","v":""},null,"","","",""]
[null,null,null,null,null,null,null,null,null,null,null,null,"",{"$f":"IF($M471=\"\",\"\",IFERROR(VLOOKUP($M471,PartnerSearch!B$2:G$16000,6,0),\"--\"))","v":""},null,"","","",""]
[null,null,null,null,null,null,null,null,null,null,null,null,"",{"$f":"IF($M472=\"\",\"\",IFERROR(VLOOKUP($M472,PartnerSearch!B$2:G$16000,6,0),\"--\"))","v":""},null,"","","",""]
[null,null,null,null,null,null,null,null,null,null,null,null,"",{"$f":"IF($M473=\"\",\"\",IFERROR(VLOOKUP($M473,PartnerSearch!B$2:G$16000,6,0),\"--\"))","v":""},null,"","","",""]
[null,null,null,null,null,null,null,null,null,null,null,null,"",{"$f":"IF($M474=\"\",\"\",IFERROR(VLOOKUP($M474,PartnerSearch!B$2:G$16000,6,0),\"--\"))","v":""},null,"","","",""]
[null,null,null,null,null,null,null,null,null,null,null,null,"",{"$f":"IF($M475=\"\",\"\",IFERROR(VLOOKUP($M475,PartnerSearch!B$2:G$16000,6,0),\"--\"))","v":""},null,"","","",""]
[null,null,null,null,null,null,null,null,null,null,null,null,"",{"$f":"IF($M476=\"\",\"\",IFERROR(VLOOKUP($M476,PartnerSearch!B$2:G$16000,6,0),\"--\"))","v":""},null,"","","",""]
[null,null,null,null,null,null,null,null,null,null,null,null,"",{"$f":"IF($M477=\"\",\"\",IFERROR(VLOOKUP($M477,PartnerSearch!B$2:G$16000,6,0),\"--\"))","v":""},null,"","","",""]
[null,null,null,null,null,null,null,null,null,null,null,null,"",{"$f":"IF($M478=\"\",\"\",IFERROR(VLOOKUP($M478,PartnerSearch!B$2:G$16000,6,0),\"--\"))","v":""},null,"","","",""]
[null,null,null,null,null,null,null,null,null,null,null,null,"",{"$f":"IF($M479=\"\",\"\",IFERROR(VLOOKUP($M479,PartnerSearch!B$2:G$16000,6,0),\"--\"))","v":""},null,"","","",""]
[null,null,null,null,null,null,null,null,null,null,null,null,"",{"$f":"IF($M480=\"\",\"\",IFERROR(VLOOKUP($M480,PartnerSearch!B$2:G$16000,6,0),\"--\"))","v":""},null,"","","",""]
[null,null,null,null,null,null,null,null,null,null,null,null,"",{"$f":"IF($M481=\"\",\"\",IFERROR(VLOOKUP($M481,PartnerSearch!B$2:G$16000,6,0),\"--\"))","v":""},null,"","","",""]
[null,null,null,null,null,null,null,null,null,null,null,null,"",{"$f":"IF($M482=\"\",\"\",IFERROR(VLOOKUP($M482,PartnerSearch!B$2:G$16000,6,0),\"--\"))","v":""},null,"","","",""]
[null,null,null,null,null,null,null,null,null,null,null,null,"",{"$f":"IF($M483=\"\",\"\",IFERROR(VLOOKUP($M483,PartnerSearch!B$2:G$16000,6,0),\"--\"))","v":""},null,"","","",""]
[null,null,null,null,null,null,null,null,null,null,null,null,"",{"$f":"IF($M484=\"\",\"\",IFERROR(VLOOKUP($M484,PartnerSearch!B$2:G$16000,6,0),\"--\"))","v":""},null,"","","",""]
[null,null,null,null,null,null,null,null,null,null,null,null,"",{"$f":"IF($M485=\"\",\"\",IFERROR(VLOOKUP($M485,PartnerSearch!B$2:G$16000,6,0),\"--\"))","v":""},null,"","","",""]
[null,null,null,null,null,null,null,null,null,null,null,null,"",{"$f":"IF($M486=\"\",\"\",IFERROR(VLOOKUP($M486,PartnerSearch!B$2:G$16000,6,0),\"--\"))","v":""},null,"","","",""]
[null,null,null,null,null,null,null,null,null,null,null,null,"",{"$f":"IF($M487=\"\",\"\",IFERROR(VLOOKUP($M487,PartnerSearch!B$2:G$16000,6,0),\"--\"))","v":""},null,"","","",""]
[null,null,null,null,null,null,null,null,null,null,null,null,"",{"$f":"IF($M488=\"\",\"\",IFERROR(VLOOKUP($M488,PartnerSearch!B$2:G$16000,6,0),\"--\"))","v":""},null,"","","",""]
[null,null,null,null,null,null,null,null,null,null,null,null,"",{"$f":"IF($M489=\"\",\"\",IFERROR(VLOOKUP($M489,PartnerSearch!B$2:G$16000,6,0),\"--\"))","v":""},null,"","","",""]
[null,null,null,null,null,null,null,null,null,null,null,null,"",{"$f":"IF($M490=\"\",\"\",IFERROR(VLOOKUP($M490,PartnerSearch!B$2:G$16000,6,0),\"--\"))","v":""},null,"","","",""]
[null,null,null,null,null,null,null,null,null,null,null,null,"",{"$f":"IF($M491=\"\",\"\",IFERROR(VLOOKUP($M491,PartnerSearch!B$2:G$16000,6,0),\"--\"))","v":""},null,"","","",""]
[null,null,null,null,null,null,null,null,null,null,null,null,"",{"$f":"IF($M492=\"\",\"\",IFERROR(VLOOKUP($M492,PartnerSearch!B$2:G$16000,6,0),\"--\"))","v":""},null,"","","",""]
[null,null,null,null,null,null,null,null,null,null,null,null,"",{"$f":"IF($M493=\"\",\"\",IFERROR(VLOOKUP($M493,PartnerSearch!B$2:G$16000,6,0),\"--\"))","v":""},null,"","","",""]
[null,null,null,null,null,null,null,null,null,null,null,null,"",{"$f":"IF($M494=\"\",\"\",IFERROR(VLOOKUP($M494,PartnerSearch!B$2:G$16000,6,0),\"--\"))","v":""},null,"","","",""]
[null,null,null,null,null,null,null,null,null,null,null,null,"",{"$f":"IF($M495=\"\",\"\",IFERROR(VLOOKUP($M495,PartnerSearch!B$2:G$16000,6,0),\"--\"))","v":""},null,"","","",""]
[null,null,null,null,null,null,null,null,null,null,null,null,"",{"$f":"IF($M496=\"\",\"\",IFERROR(VLOOKUP($M496,PartnerSearch!B$2:G$16000,6,0),\"--\"))","v":""},null,"","","",""]
[null,null,null,null,null,null,null,null,null,null,null,null,"",{"$f":"IF($M497=\"\",\"\",IFERROR(VLOOKUP($M497,PartnerSearch!B$2:G$16000,6,0),\"--\"))","v":""},null,"","","",""]
[null,null,null,null,null,null,null,null,null,null,null,null,"",{"$f":"IF($M498=\"\",\"\",IFERROR(VLOOKUP($M498,PartnerSearch!B$2:G$16000,6,0),\"--\"))","v":""},null,"","","",""]
[null,null,null,null,null,null,null,null,null,null,null,null,"",{"$f":"IF($M499=\"\",\"\",IFERROR(VLOOKUP($M499,PartnerSearch!B$2:G$16000,6,0),\"--\"))","v":""},null,"","","",""]
[null,null,null,null,null,null,null,null,null,null,null,null,"",{"$f":"IF($M500=\"\",\"\",IFERROR(VLOOKUP($M500,PartnerSearch!B$2:G$16000,6,0),\"--\"))","v":""},null,"","","",""]
[null,null,null,null,null,null,null,null,null,null,null,null,"",{"$f":"IF($M501=\"\",\"\",IFERROR(VLOOKUP($M501,PartnerSearch!B$2:G$16000,6,0),\"--\"))","v":""},null,"","","",""]
[null,null,null,null,null,null,null,null,null,null,null,null,"",{"$f":"IF($M502=\"\",\"\",IFERROR(VLOOKUP($M502,PartnerSearch!B$2:G$16000,6,0),\"--\"))","v":""},null,"","","",""]
[null,null,null,null,null,null,null,null,null,null,null,null,"",{"$f":"IF($M503=\"\",\"\",IFERROR(VLOOKUP($M503,PartnerSearch!B$2:G$16000,6,0),\"--\"))","v":""},null,"","","",""]
[null,null,null,null,null,null,null,null,null,null,null,null,"",{"$f":"IF($M504=\"\",\"\",IFERROR(VLOOKUP($M504,PartnerSearch!B$2:G$16000,6,0),\"--\"))","v":""},null,"","","",""]
[null,null,null,null,null,null,null,null,null,null,null,null,"",{"$f":"IF($M505=\"\",\"\",IFERROR(VLOOKUP($M505,PartnerSearch!B$2:G$16000,6,0),\"--\"))","v":""},null,"","","",""]
[null,null,null,null,null,null,null,null,null,null,null,null,"",{"$f":"IF($M506=\"\",\"\",IFERROR(VLOOKUP($M506,PartnerSearch!B$2:G$16000,6,0),\"--\"))","v":""},null,"","","",""]
[null,null,null,null,null,null,null,null,null,null,null,null,"",{"$f":"IF($M507=\"\",\"\",IFERROR(VLOOKUP($M507,PartnerSearch!B$2:G$16000,6,0),\"--\"))","v":""},null,"","","",""]
[null,null,null,null,null,null,null,null,null,null,null,null,"",{"$f":"IF($M508=\"\",\"\",IFERROR(VLOOKUP($M508,PartnerSearch!B$2:G$16000,6,0),\"--\"))","v":""},null,"","","",""]
[null,null,null,null,null,null,null,null,null,null,null,null,"",{"$f":"IF($M509=\"\",\"\",IFERROR(VLOOKUP($M509,PartnerSearch!B$2:G$16000,6,0),\"--\"))","v":""},null,"","","",""]
[null,null,null,null,null,null,null,null,null,null,null,null,"",{"$f":"IF($M510=\"\",\"\",IFERROR(VLOOKUP($M510,PartnerSearch!B$2:G$16000,6,0),\"--\"))","v":""},null,"","","",""]
[null,null,null,null,null,null,null,null,null,null,null,null,"",{"$f":"IF($M511=\"\",\"\",IFERROR(VLOOKUP($M511,PartnerSearch!B$2:G$16000,6,0),\"--\"))","v":""},null,"","","",""]
[null,null,null,null,null,null,null,null,null,null,null,null,"",{"$f":"IF($M512=\"\",\"\",IFERROR(VLOOKUP($M512,PartnerSearch!B$2:G$16000,6,0),\"--\"))","v":""},null,"","","",""]
[null,null,null,null,null,null,null,null,null,null,null,null,"",{"$f":"IF($M513=\"\",\"\",IFERROR(VLOOKUP($M513,PartnerSearch!B$2:G$16000,6,0),\"--\"))","v":""},null,"","","",""]
[null,null,null,null,null,null,null,null,null,null,null,null,"",{"$f":"IF($M514=\"\",\"\",IFERROR(VLOOKUP($M514,PartnerSearch!B$2:G$16000,6,0),\"--\"))","v":""},null,"","","",""]
[null,null,null,null,null,null,null,null,null,null,null,null,{"$f":"TRIM(SUBSTITUTE(SUBSTITUTE(SUBSTITUTE(SUBSTITUTE(SUBSTITUTE(SUBSTITUTE(SUBSTITUTE(SUBSTITUTE(SUBSTITUTE(SUBSTITUTE(SUBSTITUTE(SUBSTITUTE(SUBSTITUTE(SUBSTITUTE(E515,\"00000 \",\"\"),\" (Local)\",\"\"),\" (Tribal)\",\"\"),\" (State)\",\"\"),\" (Regional)\",\"\"),\" (Federal/National)\",\"\"),\" (International)\",\"\"),\" (Unknown)\",\"\"),\" (Academic Institution)\",\"\"),\" (Government)\",\"\"),\" (Industry/Business)\",\"\"),\" (NGO)\",\"\"),\" (Other)\",\"\"),\" (Sea Grant Program)\",\"\"))","v":""},{"$f":"IF($M515=\"\",\"\",IFERROR(VLOOKUP($M515,PartnerSearch!B$2:G$16000,6,0),\"--\"))","v":""},null,{"$f":"IF(E515=\"\",\"\",IF(LEFT(E515&\"x\",5)=\"00000\",\"\",IF(N515=\"--\",\"NO\",\"yes\")))","v":""},{"$f":"IF(LEFT(E515&\"x\",5)<>\"00000\",\"\",IF(N515=\"--\",\"yes\",\"NO\"))","v":""},{"$f":"IF(Q515=\"\",\"\",IF((ISERROR(SEARCH(\"(Federal/National)\",E515))*1+ISERROR(SEARCH(\"(International)\",E515))*1+ISERROR(SEARCH(\"(Local)\",E515))*1+ISERROR(SEARCH(\"(State)\",E515))*1+ISERROR(SEARCH(\"(Regional)\",E515))*1+ISERROR(SEARCH(\"(Tribal)\",E515))*1+ISERROR(SEARCH(\"(Unknown) (\",E515))*1)=6,\"yes\",\"NO\"))","v":""},{"$f":"IF(Q515=\"\",\"\",IF(OR(NOT(ISERROR(SEARCH(\"(Academic Institution)\",E515))),NOT(ISERROR(SEARCH(\"(Government)\",E515))),NOT(ISERROR(SEARCH(\"(Industry/Business)\",E515))),NOT(ISERROR(SEARCH(\"(NGO)\",E515))),NOT(ISERROR(SEARCH(\"(Sea Grant Program)\",E515))),NOT(ISERROR(SEARCH(\"(Other)\",E515))),NOT(AND(NOT(ISERROR(SEARCH(\"(Unknown)\",E515))),(ISERROR(SEARCH(\") (Unknown)\",E515)))))),\"yes\",\"NO\"))","v":""}]
[null,null,null,null,null,null,null,null,null,null,null,null,"",{"$f":"IF($M516=\"\",\"\",IFERROR(VLOOKUP($M516,PartnerSearch!B$2:G$16000,6,0),\"--\"))","v":""},null,"","","",""]
[null,null,null,null,null,null,null,null,null,null,null,null,"",{"$f":"IF($M517=\"\",\"\",IFERROR(VLOOKUP($M517,PartnerSearch!B$2:G$16000,6,0),\"--\"))","v":""},null,"","","",""]
[null,null,null,null,null,null,null,null,null,null,null,null,"",{"$f":"IF($M518=\"\",\"\",IFERROR(VLOOKUP($M518,PartnerSearch!B$2:G$16000,6,0),\"--\"))","v":""},null,"","","",""]
[null,null,null,null,null,null,null,null,null,null,null,null,"",{"$f":"IF($M519=\"\",\"\",IFERROR(VLOOKUP($M519,PartnerSearch!B$2:G$16000,6,0),\"--\"))","v":""},null,"","","",""]
[null,null,null,null,null,null,null,null,null,null,null,null,"",{"$f":"IF($M520=\"\",\"\",IFERROR(VLOOKUP($M520,PartnerSearch!B$2:G$16000,6,0),\"--\"))","v":""},null,"","","",""]
[null,null,null,null,null,null,null,null,null,null,null,null,"",{"$f":"IF($M521=\"\",\"\",IFERROR(VLOOKUP($M521,PartnerSearch!B$2:G$16000,6,0),\"--\"))","v":""},null,"","","",""]
[null,null,null,null,null,null,null,null,null,null,null,null,"",{"$f":"IF($M522=\"\",\"\",IFERROR(VLOOKUP($M522,PartnerSearch!B$2:G$16000,6,0),\"--\"))","v":""},null,"","","",""]
[null,null,null,null,null,null,null,null,null,null,null,null,"",{"$f":"IF($M523=\"\",\"\",IFERROR(VLOOKUP($M523,PartnerSearch!B$2:G$16000,6,0),\"--\"))","v":""},null,"","","",""]
[null,null,null,null,null,null,null,null,null,null,null,null,"",{"$f":"IF($M524=\"\",\"\",IFERROR(VLOOKUP($M524,PartnerSearch!B$2:G$16000,6,0),\"--\"))","v":""},null,"","","",""]
[null,null,null,null,null,null,null,null,null,null,null,null,"",{"$f":"IF($M525=\"\",\"\",IFERROR(VLOOKUP($M525,PartnerSearch!B$2:G$16000,6,0),\"--\"))","v":""},null,"","","",""]
[null,null,null,null,null,null,null,null,null,null,null,null,"",{"$f":"IF($M526=\"\",\"\",IFERROR(VLOOKUP($M526,PartnerSearch!B$2:G$16000,6,0),\"--\"))","v":""},null,"","","",""]
[null,null,null,null,null,null,null,null,null,null,null,null,"",{"$f":"IF($M527=\"\",\"\",IFERROR(VLOOKUP($M527,PartnerSearch!B$2:G$16000,6,0),\"--\"))","v":""},null,"","","",""]
[null,null,null,null,null,null,null,null,null,null,null,null,"",{"$f":"IF($M528=\"\",\"\",IFERROR(VLOOKUP($M528,PartnerSearch!B$2:G$16000,6,0),\"--\"))","v":""},null,"","","",""]
[null,null,null,null,null,null,null,null,null,null,null,null,"",{"$f":"IF($M529=\"\",\"\",IFERROR(VLOOKUP($M529,PartnerSearch!B$2:G$16000,6,0),\"--\"))","v":""},null,"","","",""]
[null,null,null,null,null,null,null,null,null,null,null,null,"",{"$f":"IF($M530=\"\",\"\",IFERROR(VLOOKUP($M530,PartnerSearch!B$2:G$16000,6,0),\"--\"))","v":""},null,"","","",""]
[null,null,null,null,null,null,null,null,null,null,null,null,"",{"$f":"IF($M531=\"\",\"\",IFERROR(VLOOKUP($M531,PartnerSearch!B$2:G$16000,6,0),\"--\"))","v":""},null,"","","",""]
[null,null,null,null,null,null,null,null,null,null,null,null,"",{"$f":"IF($M532=\"\",\"\",IFERROR(VLOOKUP($M532,PartnerSearch!B$2:G$16000,6,0),\"--\"))","v":""},null,"","","",""]
[null,null,null,null,null,null,null,null,null,null,null,null,"",{"$f":"IF($M533=\"\",\"\",IFERROR(VLOOKUP($M533,PartnerSearch!B$2:G$16000,6,0),\"--\"))","v":""},null,"","","",""]
[null,null,null,null,null,null,null,null,null,null,null,null,"",{"$f":"IF($M534=\"\",\"\",IFERROR(VLOOKUP($M534,PartnerSearch!B$2:G$16000,6,0),\"--\"))","v":""},null,"","","",""]
[null,null,null,null,null,null,null,null,null,null,null,null,"",{"$f":"IF($M535=\"\",\"\",IFERROR(VLOOKUP($M535,PartnerSearch!B$2:G$16000,6,0),\"--\"))","v":""},null,"","","",""]
[null,null,null,null,null,null,null,null,null,null,null,null,"",{"$f":"IF($M536=\"\",\"\",IFERROR(VLOOKUP($M536,PartnerSearch!B$2:G$16000,6,0),\"--\"))","v":""},null,"","","",""]
[null,null,null,null,null,null,null,null,null,null,null,null,"",{"$f":"IF($M537=\"\",\"\",IFERROR(VLOOKUP($M537,PartnerSearch!B$2:G$16000,6,0),\"--\"))","v":""},null,"","","",""]
[null,null,null,null,null,null,null,null,null,null,null,null,"",{"$f":"IF($M538=\"\",\"\",IFERROR(VLOOKUP($M538,PartnerSearch!B$2:G$16000,6,0),\"--\"))","v":""},null,"","","",""]
[null,null,null,null,null,null,null,null,null,null,null,null,"",{"$f":"IF($M539=\"\",\"\",IFERROR(VLOOKUP($M539,PartnerSearch!B$2:G$16000,6,0),\"--\"))","v":""},null,"","","",""]
[null,null,null,null,null,null,null,null,null,null,null,null,"",{"$f":"IF($M540=\"\",\"\",IFERROR(VLOOKUP($M540,PartnerSearch!B$2:G$16000,6,0),\"--\"))","v":""},null,"","","",""]
[null,null,null,null,null,null,null,null,null,null,null,null,"",{"$f":"IF($M541=\"\",\"\",IFERROR(VLOOKUP($M541,PartnerSearch!B$2:G$16000,6,0),\"--\"))","v":""},null,"","","",""]
[null,null,null,null,null,null,null,null,null,null,null,null,"",{"$f":"IF($M542=\"\",\"\",IFERROR(VLOOKUP($M542,PartnerSearch!B$2:G$16000,6,0),\"--\"))","v":""},null,"","","",""]
[null,null,null,null,null,null,null,null,null,null,null,null,"",{"$f":"IF($M543=\"\",\"\",IFERROR(VLOOKUP($M543,PartnerSearch!B$2:G$16000,6,0),\"--\"))","v":""},null,"","","",""]
[null,null,null,null,null,null,null,null,null,null,null,null,"",{"$f":"IF($M544=\"\",\"\",IFERROR(VLOOKUP($M544,PartnerSearch!B$2:G$16000,6,0),\"--\"))","v":""},null,"","","",""]
[null,null,null,null,null,null,null,null,null,null,null,null,"",{"$f":"IF($M545=\"\",\"\",IFERROR(VLOOKUP($M545,PartnerSearch!B$2:G$16000,6,0),\"--\"))","v":""},null,"","","",""]
[null,null,null,null,null,null,null,null,null,null,null,null,"",{"$f":"IF($M546=\"\",\"\",IFERROR(VLOOKUP($M546,PartnerSearch!B$2:G$16000,6,0),\"--\"))","v":""},null,"","","",""]
[null,null,null,null,null,null,null,null,null,null,null,null,"",{"$f":"IF($M547=\"\",\"\",IFERROR(VLOOKUP($M547,PartnerSearch!B$2:G$16000,6,0),\"--\"))","v":""},null,"","","",""]
[null,null,null,null,null,null,null,null,null,null,null,null,"",{"$f":"IF($M548=\"\",\"\",IFERROR(VLOOKUP($M548,PartnerSearch!B$2:G$16000,6,0),\"--\"))","v":""},null,"","","",""]
[null,null,null,null,null,null,null,null,null,null,null,null,"",{"$f":"IF($M549=\"\",\"\",IFERROR(VLOOKUP($M549,PartnerSearch!B$2:G$16000,6,0),\"--\"))","v":""},null,"","","",""]
[null,null,null,null,null,null,null,null,null,null,null,null,"",{"$f":"IF($M550=\"\",\"\",IFERROR(VLOOKUP($M550,PartnerSearch!B$2:G$16000,6,0),\"--\"))","v":""},null,"","","",""]
[null,null,null,null,null,null,null,null,null,null,null,null,"",{"$f":"IF($M551=\"\",\"\",IFERROR(VLOOKUP($M551,PartnerSearch!B$2:G$16000,6,0),\"--\"))","v":""},null,"","","",""]
[null,null,null,null,null,null,null,null,null,null,null,null,"",{"$f":"IF($M552=\"\",\"\",IFERROR(VLOOKUP($M552,PartnerSearch!B$2:G$16000,6,0),\"--\"))","v":""},null,"","","",""]
[null,null,null,null,null,null,null,null,null,null,null,null,"",{"$f":"IF($M553=\"\",\"\",IFERROR(VLOOKUP($M553,PartnerSearch!B$2:G$16000,6,0),\"--\"))","v":""},null,"","","",""]
[null,null,null,null,null,null,null,null,null,null,null,null,"",{"$f":"IF($M554=\"\",\"\",IFERROR(VLOOKUP($M554,PartnerSearch!B$2:G$16000,6,0),\"--\"))","v":""},null,"","","",""]
[null,null,null,null,null,null,null,null,null,null,null,null,"",{"$f":"IF($M555=\"\",\"\",IFERROR(VLOOKUP($M555,PartnerSearch!B$2:G$16000,6,0),\"--\"))","v":""},null,"","","",""]
[null,null,null,null,null,null,null,null,null,null,null,null,"",{"$f":"IF($M556=\"\",\"\",IFERROR(VLOOKUP($M556,PartnerSearch!B$2:G$16000,6,0),\"--\"))","v":""},null,"","","",""]
[null,null,null,null,null,null,null,null,null,null,null,null,"",{"$f":"IF($M557=\"\",\"\",IFERROR(VLOOKUP($M557,PartnerSearch!B$2:G$16000,6,0),\"--\"))","v":""},null,"","","",""]
[null,null,null,null,null,null,null,null,null,null,null,null,"",{"$f":"IF($M558=\"\",\"\",IFERROR(VLOOKUP($M558,PartnerSearch!B$2:G$16000,6,0),\"--\"))","v":""},null,"","","",""]
[null,null,null,null,null,null,null,null,null,null,null,null,"",{"$f":"IF($M559=\"\",\"\",IFERROR(VLOOKUP($M559,PartnerSearch!B$2:G$16000,6,0),\"--\"))","v":""},null,"","","",""]
[null,null,null,null,null,null,null,null,null,null,null,null,"",{"$f":"IF($M560=\"\",\"\",IFERROR(VLOOKUP($M560,PartnerSearch!B$2:G$16000,6,0),\"--\"))","v":""},null,"","","",""]
[null,null,null,null,null,null,null,null,null,null,null,null,"",{"$f":"IF($M561=\"\",\"\",IFERROR(VLOOKUP($M561,PartnerSearch!B$2:G$16000,6,0),\"--\"))","v":""},null,"","","",""]
[null,null,null,null,null,null,null,null,null,null,null,null,"",{"$f":"IF($M562=\"\",\"\",IFERROR(VLOOKUP($M562,PartnerSearch!B$2:G$16000,6,0),\"--\"))","v":""},null,"","","",""]
[null,null,null,null,null,null,null,null,null,null,null,null,"",{"$f":"IF($M563=\"\",\"\",IFERROR(VLOOKUP($M563,PartnerSearch!B$2:G$16000,6,0),\"--\"))","v":""},null,"","","",""]
[null,null,null,null,null,null,null,null,null,null,null,null,"",{"$f":"IF($M564=\"\",\"\",IFERROR(VLOOKUP($M564,PartnerSearch!B$2:G$16000,6,0),\"--\"))","v":""},null,"","","",""]
[null,null,null,null,null,null,null,null,null,null,null,null,"",{"$f":"IF($M565=\"\",\"\",IFERROR(VLOOKUP($M565,PartnerSearch!B$2:G$16000,6,0),\"--\"))","v":""},null,"","","",""]
[null,null,null,null,null,null,null,null,null,null,null,null,"",{"$f":"IF($M566=\"\",\"\",IFERROR(VLOOKUP($M566,PartnerSearch!B$2:G$16000,6,0),\"--\"))","v":""},null,"","","",""]
[null,null,null,null,null,null,null,null,null,null,null,null,"",{"$f":"IF($M567=\"\",\"\",IFERROR(VLOOKUP($M567,PartnerSearch!B$2:G$16000,6,0),\"--\"))","v":""},null,"","","",""]
[null,null,null,null,null,null,null,null,null,null,null,null,"",{"$f":"IF($M568=\"\",\"\",IFERROR(VLOOKUP($M568,PartnerSearch!B$2:G$16000,6,0),\"--\"))","v":""},null,"","","",""]
[null,null,null,null,null,null,null,null,null,null,null,null,"",{"$f":"IF($M569=\"\",\"\",IFERROR(VLOOKUP($M569,PartnerSearch!B$2:G$16000,6,0),\"--\"))","v":""},null,"","","",""]
[null,null,null,null,null,null,null,null,null,null,null,null,"",{"$f":"IF($M570=\"\",\"\",IFERROR(VLOOKUP($M570,PartnerSearch!B$2:G$16000,6,0),\"--\"))","v":""},null,"","","",""]
[null,null,null,null,null,null,null,null,null,null,null,null,"",{"$f":"IF($M571=\"\",\"\",IFERROR(VLOOKUP($M571,PartnerSearch!B$2:G$16000,6,0),\"--\"))","v":""},null,"","","",""]
[null,null,null,null,null,null,null,null,null,null,null,null,"",{"$f":"IF($M572=\"\",\"\",IFERROR(VLOOKUP($M572,PartnerSearch!B$2:G$16000,6,0),\"--\"))","v":""},null,"","","",""]
[null,null,null,null,null,null,null,null,null,null,null,null,"",{"$f":"IF($M573=\"\",\"\",IFERROR(VLOOKUP($M573,PartnerSearch!B$2:G$16000,6,0),\"--\"))","v":""},null,"","","",""]
[null,null,null,null,null,null,null,null,null,null,null,null,"",{"$f":"IF($M574=\"\",\"\",IFERROR(VLOOKUP($M574,PartnerSearch!B$2:G$16000,6,0),\"--\"))","v":""},null,"","","",""]
[null,null,null,null,null,null,null,null,null,null,null,null,"",{"$f":"IF($M575=\"\",\"\",IFERROR(VLOOKUP($M575,PartnerSearch!B$2:G$16000,6,0),\"--\"))","v":""},null,"","","",""]
[null,null,null,null,null,null,null,null,null,null,null,null,"",{"$f":"IF($M576=\"\",\"\",IFERROR(VLOOKUP($M576,PartnerSearch!B$2:G$16000,6,0),\"--\"))","v":""},null,"","","",""]
[null,null,null,null,null,null,null,null,null,null,null,null,"",{"$f":"IF($M577=\"\",\"\",IFERROR(VLOOKUP($M577,PartnerSearch!B$2:G$16000,6,0),\"--\"))","v":""},null,"","","",""]
[null,null,null,null,null,null,null,null,null,null,null,null,"",{"$f":"IF($M578=\"\",\"\",IFERROR(VLOOKUP($M578,PartnerSearch!B$2:G$16000,6,0),\"--\"))","v":""},null,"","","",""]
[null,null,null,null,null,null,null,null,null,null,null,null,{"$f":"TRIM(SUBSTITUTE(SUBSTITUTE(SUBSTITUTE(SUBSTITUTE(SUBSTITUTE(SUBSTITUTE(SUBSTITUTE(SUBSTITUTE(SUBSTITUTE(SUBSTITUTE(SUBSTITUTE(SUBSTITUTE(SUBSTITUTE(SUBSTITUTE(E579,\"00000 \",\"\"),\" (Local)\",\"\"),\" (Tribal)\",\"\"),\" (State)\",\"\"),\" (Regional)\",\"\"),\" (Federal/National)\",\"\"),\" (International)\",\"\"),\" (Unknown)\",\"\"),\" (Academic Institution)\",\"\"),\" (Government)\",\"\"),\" (Industry/Business)\",\"\"),\" (NGO)\",\"\"),\" (Other)\",\"\"),\" (Sea Grant Program)\",\"\"))","v":""},{"$f":"IF($M579=\"\",\"\",IFERROR(VLOOKUP($M579,PartnerSearch!B$2:G$16000,6,0),\"--\"))","v":""},null,{"$f":"IF(E579=\"\",\"\",IF(LEFT(E579&\"x\",5)=\"00000\",\"\",IF(N579=\"--\",\"NO\",\"yes\")))","v":""},{"$f":"IF(LEFT(E579&\"x\",5)<>\"00000\",\"\",IF(N579=\"--\",\"yes\",\"NO\"))","v":""},{"$f":"IF(Q579=\"\",\"\",IF((ISERROR(SEARCH(\"(Federal/National)\",E579))*1+ISERROR(SEARCH(\"(International)\",E579))*1+ISERROR(SEARCH(\"(Local)\",E579))*1+ISERROR(SEARCH(\"(State)\",E579))*1+ISERROR(SEARCH(\"(Regional)\",E579))*1+ISERROR(SEARCH(\"(Tribal)\",E579))*1+ISERROR(SEARCH(\"(Unknown) (\",E579))*1)=6,\"yes\",\"NO\"))","v":""},{"$f":"IF(Q579=\"\",\"\",IF(OR(NOT(ISERROR(SEARCH(\"(Academic Institution)\",E579))),NOT(ISERROR(SEARCH(\"(Government)\",E579))),NOT(ISERROR(SEARCH(\"(Industry/Business)\",E579))),NOT(ISERROR(SEARCH(\"(NGO)\",E579))),NOT(ISERROR(SEARCH(\"(Sea Grant Program)\",E579))),NOT(ISERROR(SEARCH(\"(Other)\",E579))),NOT(AND(NOT(ISERROR(SEARCH(\"(Unknown)\",E579))),(ISERROR(SEARCH(\") (Unknown)\",E579)))))),\"yes\",\"NO\"))","v":""}]
[null,null,null,null,null,null,null,null,null,null,null,null,"",{"$f":"IF($M580=\"\",\"\",IFERROR(VLOOKUP($M580,PartnerSearch!B$2:G$16000,6,0),\"--\"))","v":""},null,"","","",""]
[null,null,null,null,null,null,null,null,null,null,null,null,"",{"$f":"IF($M581=\"\",\"\",IFERROR(VLOOKUP($M581,PartnerSearch!B$2:G$16000,6,0),\"--\"))","v":""},null,"","","",""]
[null,null,null,null,null,null,null,null,null,null,null,null,"",{"$f":"IF($M582=\"\",\"\",IFERROR(VLOOKUP($M582,PartnerSearch!B$2:G$16000,6,0),\"--\"))","v":""},null,"","","",""]
[null,null,null,null,null,null,null,null,null,null,null,null,"",{"$f":"IF($M583=\"\",\"\",IFERROR(VLOOKUP($M583,PartnerSearch!B$2:G$16000,6,0),\"--\"))","v":""},null,"","","",""]
[null,null,null,null,null,null,null,null,null,null,null,null,"",{"$f":"IF($M584=\"\",\"\",IFERROR(VLOOKUP($M584,PartnerSearch!B$2:G$16000,6,0),\"--\"))","v":""},null,"","","",""]
[null,null,null,null,null,null,null,null,null,null,null,null,"",{"$f":"IF($M585=\"\",\"\",IFERROR(VLOOKUP($M585,PartnerSearch!B$2:G$16000,6,0),\"--\"))","v":""},null,"","","",""]
[null,null,null,null,null,null,null,null,null,null,null,null,"",{"$f":"IF($M586=\"\",\"\",IFERROR(VLOOKUP($M586,PartnerSearch!B$2:G$16000,6,0),\"--\"))","v":""},null,"","","",""]
[null,null,null,null,null,null,null,null,null,null,null,null,"",{"$f":"IF($M587=\"\",\"\",IFERROR(VLOOKUP($M587,PartnerSearch!B$2:G$16000,6,0),\"--\"))","v":""},null,"","","",""]
[null,null,null,null,null,null,null,null,null,null,null,null,"",{"$f":"IF($M588=\"\",\"\",IFERROR(VLOOKUP($M588,PartnerSearch!B$2:G$16000,6,0),\"--\"))","v":""},null,"","","",""]
[null,null,null,null,null,null,null,null,null,null,null,null,"",{"$f":"IF($M589=\"\",\"\",IFERROR(VLOOKUP($M589,PartnerSearch!B$2:G$16000,6,0),\"--\"))","v":""},null,"","","",""]
[null,null,null,null,null,null,null,null,null,null,null,null,"",{"$f":"IF($M590=\"\",\"\",IFERROR(VLOOKUP($M590,PartnerSearch!B$2:G$16000,6,0),\"--\"))","v":""},null,"","","",""]
[null,null,null,null,null,null,null,null,null,null,null,null,"",{"$f":"IF($M591=\"\",\"\",IFERROR(VLOOKUP($M591,PartnerSearch!B$2:G$16000,6,0),\"--\"))","v":""},null,"","","",""]
[null,null,null,null,null,null,null,null,null,null,null,null,"",{"$f":"IF($M592=\"\",\"\",IFERROR(VLOOKUP($M592,PartnerSearch!B$2:G$16000,6,0),\"--\"))","v":""},null,"","","",""]
[null,null,null,null,null,null,null,null,null,null,null,null,"",{"$f":"IF($M593=\"\",\"\",IFERROR(VLOOKUP($M593,PartnerSearch!B$2:G$16000,6,0),\"--\"))","v":""},null,"","","",""]
[null,null,null,null,null,null,null,null,null,null,null,null,"",{"$f":"IF($M594=\"\",\"\",IFERROR(VLOOKUP($M594,PartnerSearch!B$2:G$16000,6,0),\"--\"))","v":""},null,"","","",""]
[null,null,null,null,null,null,null,null,null,null,null,null,"",{"$f":"IF($M595=\"\",\"\",IFERROR(VLOOKUP($M595,PartnerSearch!B$2:G$16000,6,0),\"--\"))","v":""},null,"","","",""]
[null,null,null,null,null,null,null,null,null,null,null,null,"",{"$f":"IF($M596=\"\",\"\",IFERROR(VLOOKUP($M596,PartnerSearch!B$2:G$16000,6,0),\"--\"))","v":""},null,"","","",""]
[null,null,null,null,null,null,null,null,null,null,null,null,"",{"$f":"IF($M597=\"\",\"\",IFERROR(VLOOKUP($M597,PartnerSearch!B$2:G$16000,6,0),\"--\"))","v":""},null,"","","",""]
[null,null,null,null,null,null,null,null,null,null,null,null,"",{"$f":"IF($M598=\"\",\"\",IFERROR(VLOOKUP($M598,PartnerSearch!B$2:G$16000,6,0),\"--\"))","v":""},null,"","","",""]
[null,null,null,null,null,null,null,null,null,null,null,null,"",{"$f":"IF($M599=\"\",\"\",IFERROR(VLOOKUP($M599,PartnerSearch!B$2:G$16000,6,0),\"--\"))","v":""},null,"","","",""]
[null,null,null,null,null,null,null,null,null,null,null,null,"",{"$f":"IF($M600=\"\",\"\",IFERROR(VLOOKUP($M600,PartnerSearch!B$2:G$16000,6,0),\"--\"))","v":""},null,"","","",""]
[null,null,null,null,null,null,null,null,null,null,null,null,"",{"$f":"IF($M601=\"\",\"\",IFERROR(VLOOKUP($M601,PartnerSearch!B$2:G$16000,6,0),\"--\"))","v":""},null,"","","",""]
[null,null,null,null,null,null,null,null,null,null,null,null,"",{"$f":"IF($M602=\"\",\"\",IFERROR(VLOOKUP($M602,PartnerSearch!B$2:G$16000,6,0),\"--\"))","v":""},null,"","","",""]
[null,null,null,null,null,null,null,null,null,null,null,null,"",{"$f":"IF($M603=\"\",\"\",IFERROR(VLOOKUP($M603,PartnerSearch!B$2:G$16000,6,0),\"--\"))","v":""},null,"","","",""]
[null,null,null,null,null,null,null,null,null,null,null,null,"",{"$f":"IF($M604=\"\",\"\",IFERROR(VLOOKUP($M604,PartnerSearch!B$2:G$16000,6,0),\"--\"))","v":""},null,"","","",""]
[null,null,null,null,null,null,null,null,null,null,null,null,"",{"$f":"IF($M605=\"\",\"\",IFERROR(VLOOKUP($M605,PartnerSearch!B$2:G$16000,6,0),\"--\"))","v":""},null,"","","",""]
[null,null,null,null,null,null,null,null,null,null,null,null,"",{"$f":"IF($M606=\"\",\"\",IFERROR(VLOOKUP($M606,PartnerSearch!B$2:G$16000,6,0),\"--\"))","v":""},null,"","","",""]
[null,null,null,null,null,null,null,null,null,null,null,null,"",{"$f":"IF($M607=\"\",\"\",IFERROR(VLOOKUP($M607,PartnerSearch!B$2:G$16000,6,0),\"--\"))","v":""},null,"","","",""]
[null,null,null,null,null,null,null,null,null,null,null,null,"",{"$f":"IF($M608=\"\",\"\",IFERROR(VLOOKUP($M608,PartnerSearch!B$2:G$16000,6,0),\"--\"))","v":""},null,"","","",""]
[null,null,null,null,null,null,null,null,null,null,null,null,"",{"$f":"IF($M609=\"\",\"\",IFERROR(VLOOKUP($M609,PartnerSearch!B$2:G$16000,6,0),\"--\"))","v":""},null,"","","",""]
[null,null,null,null,null,null,null,null,null,null,null,null,"",{"$f":"IF($M610=\"\",\"\",IFERROR(VLOOKUP($M610,PartnerSearch!B$2:G$16000,6,0),\"--\"))","v":""},null,"","","",""]
[null,null,null,null,null,null,null,null,null,null,null,null,"",{"$f":"IF($M611=\"\",\"\",IFERROR(VLOOKUP($M611,PartnerSearch!B$2:G$16000,6,0),\"--\"))","v":""},null,"","","",""]
[null,null,null,null,null,null,null,null,null,null,null,null,"",{"$f":"IF($M612=\"\",\"\",IFERROR(VLOOKUP($M612,PartnerSearch!B$2:G$16000,6,0),\"--\"))","v":""},null,"","","",""]
[null,null,null,null,null,null,null,null,null,null,null,null,"",{"$f":"IF($M613=\"\",\"\",IFERROR(VLOOKUP($M613,PartnerSearch!B$2:G$16000,6,0),\"--\"))","v":""},null,"","","",""]
[null,null,null,null,null,null,null,null,null,null,null,null,"",{"$f":"IF($M614=\"\",\"\",IFERROR(VLOOKUP($M614,PartnerSearch!B$2:G$16000,6,0),\"--\"))","v":""},null,"","","",""]
[null,null,null,null,null,null,null,null,null,null,null,null,"",{"$f":"IF($M615=\"\",\"\",IFERROR(VLOOKUP($M615,PartnerSearch!B$2:G$16000,6,0),\"--\"))","v":""},null,"","","",""]
[null,null,null,null,null,null,null,null,null,null,null,null,"",{"$f":"IF($M616=\"\",\"\",IFERROR(VLOOKUP($M616,PartnerSearch!B$2:G$16000,6,0),\"--\"))","v":""},null,"","","",""]
[null,null,null,null,null,null,null,null,null,null,null,null,"",{"$f":"IF($M617=\"\",\"\",IFERROR(VLOOKUP($M617,PartnerSearch!B$2:G$16000,6,0),\"--\"))","v":""},null,"","","",""]
[null,null,null,null,null,null,null,null,null,null,null,null,"",{"$f":"IF($M618=\"\",\"\",IFERROR(VLOOKUP($M618,PartnerSearch!B$2:G$16000,6,0),\"--\"))","v":""},null,"","","",""]
[null,null,null,null,null,null,null,null,null,null,null,null,"",{"$f":"IF($M619=\"\",\"\",IFERROR(VLOOKUP($M619,PartnerSearch!B$2:G$16000,6,0),\"--\"))","v":""},null,"","","",""]
[null,null,null,null,null,null,null,null,null,null,null,null,"",{"$f":"IF($M620=\"\",\"\",IFERROR(VLOOKUP($M620,PartnerSearch!B$2:G$16000,6,0),\"--\"))","v":""},null,"","","",""]
[null,null,null,null,null,null,null,null,null,null,null,null,"",{"$f":"IF($M621=\"\",\"\",IFERROR(VLOOKUP($M621,PartnerSearch!B$2:G$16000,6,0),\"--\"))","v":""},null,"","","",""]
[null,null,null,null,null,null,null,null,null,null,null,null,"",{"$f":"IF($M622=\"\",\"\",IFERROR(VLOOKUP($M622,PartnerSearch!B$2:G$16000,6,0),\"--\"))","v":""},null,"","","",""]
[null,null,null,null,null,null,null,null,null,null,null,null,"",{"$f":"IF($M623=\"\",\"\",IFERROR(VLOOKUP($M623,PartnerSearch!B$2:G$16000,6,0),\"--\"))","v":""},null,"","","",""]
[null,null,null,null,null,null,null,null,null,null,null,null,"",{"$f":"IF($M624=\"\",\"\",IFERROR(VLOOKUP($M624,PartnerSearch!B$2:G$16000,6,0),\"--\"))","v":""},null,"","","",""]
[null,null,null,null,null,null,null,null,null,null,null,null,"",{"$f":"IF($M625=\"\",\"\",IFERROR(VLOOKUP($M625,PartnerSearch!B$2:G$16000,6,0),\"--\"))","v":""},null,"","","",""]
[null,null,null,null,null,null,null,null,null,null,null,null,"",{"$f":"IF($M626=\"\",\"\",IFERROR(VLOOKUP($M626,PartnerSearch!B$2:G$16000,6,0),\"--\"))","v":""},null,"","","",""]
[null,null,null,null,null,null,null,null,null,null,null,null,"",{"$f":"IF($M627=\"\",\"\",IFERROR(VLOOKUP($M627,PartnerSearch!B$2:G$16000,6,0),\"--\"))","v":""},null,"","","",""]
[null,null,null,null,null,null,null,null,null,null,null,null,"",{"$f":"IF($M628=\"\",\"\",IFERROR(VLOOKUP($M628,PartnerSearch!B$2:G$16000,6,0),\"--\"))","v":""},null,"","","",""]
[null,null,null,null,null,null,null,null,null,null,null,null,"",{"$f":"IF($M629=\"\",\"\",IFERROR(VLOOKUP($M629,PartnerSearch!B$2:G$16000,6,0),\"--\"))","v":""},null,"","","",""]
[null,null,null,null,null,null,null,null,null,null,null,null,"",{"$f":"IF($M630=\"\",\"\",IFERROR(VLOOKUP($M630,PartnerSearch!B$2:G$16000,6,0),\"--\"))","v":""},null,"","","",""]
[null,null,null,null,null,null,null,null,null,null,null,null,"",{"$f":"IF($M631=\"\",\"\",IFERROR(VLOOKUP($M631,PartnerSearch!B$2:G$16000,6,0),\"--\"))","v":""},null,"","","",""]
[null,null,null,null,null,null,null,null,null,null,null,null,"",{"$f":"IF($M632=\"\",\"\",IFERROR(VLOOKUP($M632,PartnerSearch!B$2:G$16000,6,0),\"--\"))","v":""},null,"","","",""]
[null,null,null,null,null,null,null,null,null,null,null,null,"",{"$f":"IF($M633=\"\",\"\",IFERROR(VLOOKUP($M633,PartnerSearch!B$2:G$16000,6,0),\"--\"))","v":""},null,"","","",""]
[null,null,null,null,null,null,null,null,null,null,null,null,"",{"$f":"IF($M634=\"\",\"\",IFERROR(VLOOKUP($M634,PartnerSearch!B$2:G$16000,6,0),\"--\"))","v":""},null,"","","",""]
[null,null,null,null,null,null,null,null,null,null,null,null,"",{"$f":"IF($M635=\"\",\"\",IFERROR(VLOOKUP($M635,PartnerSearch!B$2:G$16000,6,0),\"--\"))","v":""},null,"","","",""]
[null,null,null,null,null,null,null,null,null,null,null,null,"",{"$f":"IF($M636=\"\",\"\",IFERROR(VLOOKUP($M636,PartnerSearch!B$2:G$16000,6,0),\"--\"))","v":""},null,"","","",""]
[null,null,null,null,null,null,null,null,null,null,null,null,"",{"$f":"IF($M637=\"\",\"\",IFERROR(VLOOKUP($M637,PartnerSearch!B$2:G$16000,6,0),\"--\"))","v":""},null,"","","",""]
[null,null,null,null,null,null,null,null,null,null,null,null,"",{"$f":"IF($M638=\"\",\"\",IFERROR(VLOOKUP($M638,PartnerSearch!B$2:G$16000,6,0),\"--\"))","v":""},null,"","","",""]
[null,null,null,null,null,null,null,null,null,null,null,null,"",{"$f":"IF($M639=\"\",\"\",IFERROR(VLOOKUP($M639,PartnerSearch!B$2:G$16000,6,0),\"--\"))","v":""},null,"","","",""]
[null,null,null,null,null,null,null,null,null,null,null,null,"",{"$f":"IF($M640=\"\",\"\",IFERROR(VLOOKUP($M640,PartnerSearch!B$2:G$16000,6,0),\"--\"))","v":""},null,"","","",""]
[null,null,null,null,null,null,null,null,null,null,null,null,"",{"$f":"IF($M641=\"\",\"\",IFERROR(VLOOKUP($M641,PartnerSearch!B$2:G$16000,6,0),\"--\"))","v":""},null,"","","",""]
[null,null,null,null,null,null,null,null,null,null,null,null,"",{"$f":"IF($M642=\"\",\"\",IFERROR(VLOOKUP($M642,PartnerSearch!B$2:G$16000,6,0),\"--\"))","v":""},null,"","","",""]
[null,null,null,null,null,null,null,null,null,null,null,null,{"$f":"TRIM(SUBSTITUTE(SUBSTITUTE(SUBSTITUTE(SUBSTITUTE(SUBSTITUTE(SUBSTITUTE(SUBSTITUTE(SUBSTITUTE(SUBSTITUTE(SUBSTITUTE(SUBSTITUTE(SUBSTITUTE(SUBSTITUTE(SUBSTITUTE(E643,\"00000 \",\"\"),\" (Local)\",\"\"),\" (Tribal)\",\"\"),\" (State)\",\"\"),\" (Regional)\",\"\"),\" (Federal/National)\",\"\"),\" (International)\",\"\"),\" (Unknown)\",\"\"),\" (Academic Institution)\",\"\"),\" (Government)\",\"\"),\" (Industry/Business)\",\"\"),\" (NGO)\",\"\"),\" (Other)\",\"\"),\" (Sea Grant Program)\",\"\"))","v":""},{"$f":"IF($M643=\"\",\"\",IFERROR(VLOOKUP($M643,PartnerSearch!B$2:G$16000,6,0),\"--\"))","v":""},null,{"$f":"IF(E643=\"\",\"\",IF(LEFT(E643&\"x\",5)=\"00000\",\"\",IF(N643=\"--\",\"NO\",\"yes\")))","v":""},{"$f":"IF(LEFT(E643&\"x\",5)<>\"00000\",\"\",IF(N643=\"--\",\"yes\",\"NO\"))","v":""},{"$f":"IF(Q643=\"\",\"\",IF((ISERROR(SEARCH(\"(Federal/National)\",E643))*1+ISERROR(SEARCH(\"(International)\",E643))*1+ISERROR(SEARCH(\"(Local)\",E643))*1+ISERROR(SEARCH(\"(State)\",E643))*1+ISERROR(SEARCH(\"(Regional)\",E643))*1+ISERROR(SEARCH(\"(Tribal)\",E643))*1+ISERROR(SEARCH(\"(Unknown) (\",E643))*1)=6,\"yes\",\"NO\"))","v":""},{"$f":"IF(Q643=\"\",\"\",IF(OR(NOT(ISERROR(SEARCH(\"(Academic Institution)\",E643))),NOT(ISERROR(SEARCH(\"(Government)\",E643))),NOT(ISERROR(SEARCH(\"(Industry/Business)\",E643))),NOT(ISERROR(SEARCH(\"(NGO)\",E643))),NOT(ISERROR(SEARCH(\"(Sea Grant Program)\",E643))),NOT(ISERROR(SEARCH(\"(Other)\",E643))),NOT(AND(NOT(ISERROR(SEARCH(\"(Unknown)\",E643))),(ISERROR(SEARCH(\") (Unknown)\",E643)))))),\"yes\",\"NO\"))","v":""}]
[null,null,null,null,null,null,null,null,null,null,null,null,"",{"$f":"IF($M644=\"\",\"\",IFERROR(VLOOKUP($M644,PartnerSearch!B$2:G$16000,6,0),\"--\"))","v":""},null,"","","",""]
[null,null,null,null,null,null,null,null,null,null,null,null,"",{"$f":"IF($M645=\"\",\"\",IFERROR(VLOOKUP($M645,PartnerSearch!B$2:G$16000,6,0),\"--\"))","v":""},null,"","","",""]
[null,null,null,null,null,null,null,null,null,null,null,null,"",{"$f":"IF($M646=\"\",\"\",IFERROR(VLOOKUP($M646,PartnerSearch!B$2:G$16000,6,0),\"--\"))","v":""},null,"","","",""]
[null,null,null,null,null,null,null,null,null,null,null,null,"",{"$f":"IF($M647=\"\",\"\",IFERROR(VLOOKUP($M647,PartnerSearch!B$2:G$16000,6,0),\"--\"))","v":""},null,"","","",""]
[null,null,null,null,null,null,null,null,null,null,null,null,"",{"$f":"IF($M648=\"\",\"\",IFERROR(VLOOKUP($M648,PartnerSearch!B$2:G$16000,6,0),\"--\"))","v":""},null,"","","",""]
[null,null,null,null,null,null,null,null,null,null,null,null,"",{"$f":"IF($M649=\"\",\"\",IFERROR(VLOOKUP($M649,PartnerSearch!B$2:G$16000,6,0),\"--\"))","v":""},null,"","","",""]
[null,null,null,null,null,null,null,null,null,null,null,null,"",{"$f":"IF($M650=\"\",\"\",IFERROR(VLOOKUP($M650,PartnerSearch!B$2:G$16000,6,0),\"--\"))","v":""},null,"","","",""]
[null,null,null,null,null,null,null,null,null,null,null,null,"",{"$f":"IF($M651=\"\",\"\",IFERROR(VLOOKUP($M651,PartnerSearch!B$2:G$16000,6,0),\"--\"))","v":""},null,"","","",""]
[null,null,null,null,null,null,null,null,null,null,null,null,"",{"$f":"IF($M652=\"\",\"\",IFERROR(VLOOKUP($M652,PartnerSearch!B$2:G$16000,6,0),\"--\"))","v":""},null,"","","",""]
[null,null,null,null,null,null,null,null,null,null,null,null,"",{"$f":"IF($M653=\"\",\"\",IFERROR(VLOOKUP($M653,PartnerSearch!B$2:G$16000,6,0),\"--\"))","v":""},null,"","","",""]
[null,null,null,null,null,null,null,null,null,null,null,null,"",{"$f":"IF($M654=\"\",\"\",IFERROR(VLOOKUP($M654,PartnerSearch!B$2:G$16000,6,0),\"--\"))","v":""},null,"","","",""]
[null,null,null,null,null,null,null,null,null,null,null,null,"",{"$f":"IF($M655=\"\",\"\",IFERROR(VLOOKUP($M655,PartnerSearch!B$2:G$16000,6,0),\"--\"))","v":""},null,"","","",""]
[null,null,null,null,null,null,null,null,null,null,null,null,"",{"$f":"IF($M656=\"\",\"\",IFERROR(VLOOKUP($M656,PartnerSearch!B$2:G$16000,6,0),\"--\"))","v":""},null,"","","",""]
[null,null,null,null,null,null,null,null,null,null,null,null,"",{"$f":"IF($M657=\"\",\"\",IFERROR(VLOOKUP($M657,PartnerSearch!B$2:G$16000,6,0),\"--\"))","v":""},null,"","","",""]
[null,null,null,null,null,null,null,null,null,null,null,null,"",{"$f":"IF($M658=\"\",\"\",IFERROR(VLOOKUP($M658,PartnerSearch!B$2:G$16000,6,0),\"--\"))","v":""},null,"","","",""]
[null,null,null,null,null,null,null,null,null,null,null,null,"",{"$f":"IF($M659=\"\",\"\",IFERROR(VLOOKUP($M659,PartnerSearch!B$2:G$16000,6,0),\"--\"))","v":""},null,"","","",""]
[null,null,null,null,null,null,null,null,null,null,null,null,"",{"$f":"IF($M660=\"\",\"\",IFERROR(VLOOKUP($M660,PartnerSearch!B$2:G$16000,6,0),\"--\"))","v":""},null,"","","",""]
[null,null,null,null,null,null,null,null,null,null,null,null,"",{"$f":"IF($M661=\"\",\"\",IFERROR(VLOOKUP($M661,PartnerSearch!B$2:G$16000,6,0),\"--\"))","v":""},null,"","","",""]
[null,null,null,null,null,null,null,null,null,null,null,null,"",{"$f":"IF($M662=\"\",\"\",IFERROR(VLOOKUP($M662,PartnerSearch!B$2:G$16000,6,0),\"--\"))","v":""},null,"","","",""]
[null,null,null,null,null,null,null,null,null,null,null,null,"",{"$f":"IF($M663=\"\",\"\",IFERROR(VLOOKUP($M663,PartnerSearch!B$2:G$16000,6,0),\"--\"))","v":""},null,"","","",""]
[null,null,null,null,null,null,null,null,null,null,null,null,"",{"$f":"IF($M664=\"\",\"\",IFERROR(VLOOKUP($M664,PartnerSearch!B$2:G$16000,6,0),\"--\"))","v":""},null,"","","",""]
[null,null,null,null,null,null,null,null,null,null,null,null,"",{"$f":"IF($M665=\"\",\"\",IFERROR(VLOOKUP($M665,PartnerSearch!B$2:G$16000,6,0),\"--\"))","v":""},null,"","","",""]
[null,null,null,null,null,null,null,null,null,null,null,null,"",{"$f":"IF($M666=\"\",\"\",IFERROR(VLOOKUP($M666,PartnerSearch!B$2:G$16000,6,0),\"--\"))","v":""},null,"","","",""]
[null,null,null,null,null,null,null,null,null,null,null,null,"",{"$f":"IF($M667=\"\",\"\",IFERROR(VLOOKUP($M667,PartnerSearch!B$2:G$16000,6,0),\"--\"))","v":""},null,"","","",""]
[null,null,null,null,null,null,null,null,null,null,null,null,"",{"$f":"IF($M668=\"\",\"\",IFERROR(VLOOKUP($M668,PartnerSearch!B$2:G$16000,6,0),\"--\"))","v":""},null,"","","",""]
[null,null,null,null,null,null,null,null,null,null,null,null,"",{"$f":"IF($M669=\"\",\"\",IFERROR(VLOOKUP($M669,PartnerSearch!B$2:G$16000,6,0),\"--\"))","v":""},null,"","","",""]
[null,null,null,null,null,null,null,null,null,null,null,null,"",{"$f":"IF($M670=\"\",\"\",IFERROR(VLOOKUP($M670,PartnerSearch!B$2:G$16000,6,0),\"--\"))","v":""},null,"","","",""]
[null,null,null,null,null,null,null,null,null,null,null,null,"",{"$f":"IF($M671=\"\",\"\",IFERROR(VLOOKUP($M671,PartnerSearch!B$2:G$16000,6,0),\"--\"))","v":""},null,"","","",""]
[null,null,null,null,null,null,null,null,null,null,null,null,"",{"$f":"IF($M672=\"\",\"\",IFERROR(VLOOKUP($M672,PartnerSearch!B$2:G$16000,6,0),\"--\"))","v":""},null,"","","",""]
[null,null,null,null,null,null,null,null,null,null,null,null,"",{"$f":"IF($M673=\"\",\"\",IFERROR(VLOOKUP($M673,PartnerSearch!B$2:G$16000,6,0),\"--\"))","v":""},null,"","","",""]
[null,null,null,null,null,null,null,null,null,null,null,null,"",{"$f":"IF($M674=\"\",\"\",IFERROR(VLOOKUP($M674,PartnerSearch!B$2:G$16000,6,0),\"--\"))","v":""},null,"","","",""]
[null,null,null,null,null,null,null,null,null,null,null,null,"",{"$f":"IF($M675=\"\",\"\",IFERROR(VLOOKUP($M675,PartnerSearch!B$2:G$16000,6,0),\"--\"))","v":""},null,"","","",""]
[null,null,null,null,null,null,null,null,null,null,null,null,"",{"$f":"IF($M676=\"\",\"\",IFERROR(VLOOKUP($M676,PartnerSearch!B$2:G$16000,6,0),\"--\"))","v":""},null,"","","",""]
[null,null,null,null,null,null,null,null,null,null,null,null,"",{"$f":"IF($M677=\"\",\"\",IFERROR(VLOOKUP($M677,PartnerSearch!B$2:G$16000,6,0),\"--\"))","v":""},null,"","","",""]
[null,null,null,null,null,null,null,null,null,null,null,null,"",{"$f":"IF($M678=\"\",\"\",IFERROR(VLOOKUP($M678,PartnerSearch!B$2:G$16000,6,0),\"--\"))","v":""},null,"","","",""]
[null,null,null,null,null,null,null,null,null,null,null,null,"",{"$f":"IF($M679=\"\",\"\",IFERROR(VLOOKUP($M679,PartnerSearch!B$2:G$16000,6,0),\"--\"))","v":""},null,"","","",""]
[null,null,null,null,null,null,null,null,null,null,null,null,"",{"$f":"IF($M680=\"\",\"\",IFERROR(VLOOKUP($M680,PartnerSearch!B$2:G$16000,6,0),\"--\"))","v":""},null,"","","",""]
[null,null,null,null,null,null,null,null,null,null,null,null,"",{"$f":"IF($M681=\"\",\"\",IFERROR(VLOOKUP($M681,PartnerSearch!B$2:G$16000,6,0),\"--\"))","v":""},null,"","","",""]
[null,null,null,null,null,null,null,null,null,null,null,null,"",{"$f":"IF($M682=\"\",\"\",IFERROR(VLOOKUP($M682,PartnerSearch!B$2:G$16000,6,0),\"--\"))","v":""},null,"","","",""]
[null,null,null,null,null,null,null,null,null,null,null,null,"",{"$f":"IF($M683=\"\",\"\",IFERROR(VLOOKUP($M683,PartnerSearch!B$2:G$16000,6,0),\"--\"))","v":""},null,"","","",""]
[null,null,null,null,null,null,null,null,null,null,null,null,"",{"$f":"IF($M684=\"\",\"\",IFERROR(VLOOKUP($M684,PartnerSearch!B$2:G$16000,6,0),\"--\"))","v":""},null,"","","",""]
[null,null,null,null,null,null,null,null,null,null,null,null,"",{"$f":"IF($M685=\"\",\"\",IFERROR(VLOOKUP($M685,PartnerSearch!B$2:G$16000,6,0),\"--\"))","v":""},null,"","","",""]
[null,null,null,null,null,null,null,null,null,null,null,null,"",{"$f":"IF($M686=\"\",\"\",IFERROR(VLOOKUP($M686,PartnerSearch!B$2:G$16000,6,0),\"--\"))","v":""},null,"","","",""]
[null,null,null,null,null,null,null,null,null,null,null,null,"",{"$f":"IF($M687=\"\",\"\",IFERROR(VLOOKUP($M687,PartnerSearch!B$2:G$16000,6,0),\"--\"))","v":""},null,"","","",""]
[null,null,null,null,null,null,null,null,null,null,null,null,"",{"$f":"IF($M688=\"\",\"\",IFERROR(VLOOKUP($M688,PartnerSearch!B$2:G$16000,6,0),\"--\"))","v":""},null,"","","",""]
[null,null,null,null,null,null,null,null,null,null,null,null,"",{"$f":"IF($M689=\"\",\"\",IFERROR(VLOOKUP($M689,PartnerSearch!B$2:G$16000,6,0),\"--\"))","v":""},null,"","","",""]
[null,null,null,null,null,null,null,null,null,null,null,null,"",{"$f":"IF($M690=\"\",\"\",IFERROR(VLOOKUP($M690,PartnerSearch!B$2:G$16000,6,0),\"--\"))","v":""},null,"","","",""]
[null,null,null,null,null,null,null,null,null,null,null,null,"",{"$f":"IF($M691=\"\",\"\",IFERROR(VLOOKUP($M691,PartnerSearch!B$2:G$16000,6,0),\"--\"))","v":""},null,"","","",""]
[null,null,null,null,null,null,null,null,null,null,null,null,"",{"$f":"IF($M692=\"\",\"\",IFERROR(VLOOKUP($M692,PartnerSearch!B$2:G$16000,6,0),\"--\"))","v":""},null,"","","",""]
[null,null,null,null,null,null,null,null,null,null,null,null,"",{"$f":"IF($M693=\"\",\"\",IFERROR(VLOOKUP($M693,PartnerSearch!B$2:G$16000,6,0),\"--\"))","v":""},null,"","","",""]
[null,null,null,null,null,null,null,null,null,null,null,null,"",{"$f":"IF($M694=\"\",\"\",IFERROR(VLOOKUP($M694,PartnerSearch!B$2:G$16000,6,0),\"--\"))","v":""},null,"","","",""]
[null,null,null,null,null,null,null,null,null,null,null,null,"",{"$f":"IF($M695=\"\",\"\",IFERROR(VLOOKUP($M695,PartnerSearch!B$2:G$16000,6,0),\"--\"))","v":""},null,"","","",""]
[null,null,null,null,null,null,null,null,null,null,null,null,"",{"$f":"IF($M696=\"\",\"\",IFERROR(VLOOKUP($M696,PartnerSearch!B$2:G$16000,6,0),\"--\"))","v":""},null,"","","",""]
[null,null,null,null,null,null,null,null,null,null,null,null,"",{"$f":"IF($M697=\"\",\"\",IFERROR(VLOOKUP($M697,PartnerSearch!B$2:G$16000,6,0),\"--\"))","v":""},null,"","","",""]
[null,null,null,null,null,null,null,null,null,null,null,null,"",{"$f":"IF($M698=\"\",\"\",IFERROR(VLOOKUP($M698,PartnerSearch!B$2:G$16000,6,0),\"--\"))","v":""},null,"","","",""]
[null,null,null,null,null,null,null,null,null,null,null,null,"",{"$f":"IF($M699=\"\",\"\",IFERROR(VLOOKUP($M699,PartnerSearch!B$2:G$16000,6,0),\"--\"))","v":""},null,"","","",""]
[null,null,null,null,null,null,null,null,null,null,null,null,"",{"$f":"IF($M700=\"\",\"\",IFERROR(VLOOKUP($M700,PartnerSearch!B$2:G$16000,6,0),\"--\"))","v":""},null,"","","",""]
[null,null,null,null,null,null,null,null,null,null,null,null,"",{"$f":"IF($M701=\"\",\"\",IFERROR(VLOOKUP($M701,PartnerSearch!B$2:G$16000,6,0),\"--\"))","v":""},null,"","","",""]
[null,null,null,null,null,null,null,null,null,null,null,null,"",{"$f":"IF($M702=\"\",\"\",IFERROR(VLOOKUP($M702,PartnerSearch!B$2:G$16000,6,0),\"--\"))","v":""},null,"","","",""]
[null,null,null,null,null,null,null,null,null,null,null,null,"",{"$f":"IF($M703=\"\",\"\",IFERROR(VLOOKUP($M703,PartnerSearch!B$2:G$16000,6,0),\"--\"))","v":""},null,"","","",""]
[null,null,null,null,null,null,null,null,null,null,null,null,"",{"$f":"IF($M704=\"\",\"\",IFERROR(VLOOKUP($M704,PartnerSearch!B$2:G$16000,6,0),\"--\"))","v":""},null,"","","",""]
[null,null,null,null,null,null,null,null,null,null,null,null,"",{"$f":"IF($M705=\"\",\"\",IFERROR(VLOOKUP($M705,PartnerSearch!B$2:G$16000,6,0),\"--\"))","v":""},null,"","","",""]
[null,null,null,null,null,null,null,null,null,null,null,null,"",{"$f":"IF($M706=\"\",\"\",IFERROR(VLOOKUP($M706,PartnerSearch!B$2:G$16000,6,0),\"--\"))","v":""},null,"","","",""]
[null,null,null,null,null,null,null,null,null,null,null,null,{"$f":"TRIM(SUBSTITUTE(SUBSTITUTE(SUBSTITUTE(SUBSTITUTE(SUBSTITUTE(SUBSTITUTE(SUBSTITUTE(SUBSTITUTE(SUBSTITUTE(SUBSTITUTE(SUBSTITUTE(SUBSTITUTE(SUBSTITUTE(SUBSTITUTE(E707,\"00000 \",\"\"),\" (Local)\",\"\"),\" (Tribal)\",\"\"),\" (State)\",\"\"),\" (Regional)\",\"\"),\" (Federal/National)\",\"\"),\" (International)\",\"\"),\" (Unknown)\",\"\"),\" (Academic Institution)\",\"\"),\" (Government)\",\"\"),\" (Industry/Business)\",\"\"),\" (NGO)\",\"\"),\" (Other)\",\"\"),\" (Sea Grant Program)\",\"\"))","v":""},{"$f":"IF($M707=\"\",\"\",IFERROR(VLOOKUP($M707,PartnerSearch!B$2:G$16000,6,0),\"--\"))","v":""},null,{"$f":"IF(E707=\"\",\"\",IF(LEFT(E707&\"x\",5)=\"00000\",\"\",IF(N707=\"--\",\"NO\",\"yes\")))","v":""},{"$f":"IF(LEFT(E707&\"x\",5)<>\"00000\",\"\",IF(N707=\"--\",\"yes\",\"NO\"))","v":""},{"$f":"IF(Q707=\"\",\"\",IF((ISERROR(SEARCH(\"(Federal/National)\",E707))*1+ISERROR(SEARCH(\"(International)\",E707))*1+ISERROR(SEARCH(\"(Local)\",E707))*1+ISERROR(SEARCH(\"(State)\",E707))*1+ISERROR(SEARCH(\"(Regional)\",E707))*1+ISERROR(SEARCH(\"(Tribal)\",E707))*1+ISERROR(SEARCH(\"(Unknown) (\",E707))*1)=6,\"yes\",\"NO\"))","v":""},{"$f":"IF(Q707=\"\",\"\",IF(OR(NOT(ISERROR(SEARCH(\"(Academic Institution)\",E707))),NOT(ISERROR(SEARCH(\"(Government)\",E707))),NOT(ISERROR(SEARCH(\"(Industry/Business)\",E707))),NOT(ISERROR(SEARCH(\"(NGO)\",E707))),NOT(ISERROR(SEARCH(\"(Sea Grant Program)\",E707))),NOT(ISERROR(SEARCH(\"(Other)\",E707))),NOT(AND(NOT(ISERROR(SEARCH(\"(Unknown)\",E707))),(ISERROR(SEARCH(\") (Unknown)\",E707)))))),\"yes\",\"NO\"))","v":""}]
[null,null,null,null,null,null,null,null,null,null,null,null,"",{"$f":"IF($M708=\"\",\"\",IFERROR(VLOOKUP($M708,PartnerSearch!B$2:G$16000,6,0),\"--\"))","v":""},null,"","","",""]
[null,null,null,null,null,null,null,null,null,null,null,null,"",{"$f":"IF($M709=\"\",\"\",IFERROR(VLOOKUP($M709,PartnerSearch!B$2:G$16000,6,0),\"--\"))","v":""},null,"","","",""]
[null,null,null,null,null,null,null,null,null,null,null,null,"",{"$f":"IF($M710=\"\",\"\",IFERROR(VLOOKUP($M710,PartnerSearch!B$2:G$16000,6,0),\"--\"))","v":""},null,"","","",""]
[null,null,null,null,null,null,null,null,null,null,null,null,"",{"$f":"IF($M711=\"\",\"\",IFERROR(VLOOKUP($M711,PartnerSearch!B$2:G$16000,6,0),\"--\"))","v":""},null,"","","",""]
[null,null,null,null,null,null,null,null,null,null,null,null,"",{"$f":"IF($M712=\"\",\"\",IFERROR(VLOOKUP($M712,PartnerSearch!B$2:G$16000,6,0),\"--\"))","v":""},null,"","","",""]
[null,null,null,null,null,null,null,null,null,null,null,null,"",{"$f":"IF($M713=\"\",\"\",IFERROR(VLOOKUP($M713,PartnerSearch!B$2:G$16000,6,0),\"--\"))","v":""},null,"","","",""]
[null,null,null,null,null,null,null,null,null,null,null,null,"",{"$f":"IF($M714=\"\",\"\",IFERROR(VLOOKUP($M714,PartnerSearch!B$2:G$16000,6,0),\"--\"))","v":""},null,"","","",""]
[null,null,null,null,null,null,null,null,null,null,null,null,"",{"$f":"IF($M715=\"\",\"\",IFERROR(VLOOKUP($M715,PartnerSearch!B$2:G$16000,6,0),\"--\"))","v":""},null,"","","",""]
[null,null,null,null,null,null,null,null,null,null,null,null,"",{"$f":"IF($M716=\"\",\"\",IFERROR(VLOOKUP($M716,PartnerSearch!B$2:G$16000,6,0),\"--\"))","v":""},null,"","","",""]
[null,null,null,null,null,null,null,null,null,null,null,null,"",{"$f":"IF($M717=\"\",\"\",IFERROR(VLOOKUP($M717,PartnerSearch!B$2:G$16000,6,0),\"--\"))","v":""},null,"","","",""]
[null,null,null,null,null,null,null,null,null,null,null,null,"",{"$f":"IF($M718=\"\",\"\",IFERROR(VLOOKUP($M718,PartnerSearch!B$2:G$16000,6,0),\"--\"))","v":""},null,"","","",""]
[null,null,null,null,null,null,null,null,null,null,null,null,"",{"$f":"IF($M719=\"\",\"\",IFERROR(VLOOKUP($M719,PartnerSearch!B$2:G$16000,6,0),\"--\"))","v":""},null,"","","",""]
[null,null,null,null,null,null,null,null,null,null,null,null,"",{"$f":"IF($M720=\"\",\"\",IFERROR(VLOOKUP($M720,PartnerSearch!B$2:G$16000,6,0),\"--\"))","v":""},null,"","","",""]
[null,null,null,null,null,null,null,null,null,null,null,null,"",{"$f":"IF($M721=\"\",\"\",IFERROR(VLOOKUP($M721,PartnerSearch!B$2:G$16000,6,0),\"--\"))","v":""},null,"","","",""]
[null,null,null,null,null,null,null,null,null,null,null,null,"",{"$f":"IF($M722=\"\",\"\",IFERROR(VLOOKUP($M722,PartnerSearch!B$2:G$16000,6,0),\"--\"))","v":""},null,"","","",""]
[null,null,null,null,null,null,null,null,null,null,null,null,"",{"$f":"IF($M723=\"\",\"\",IFERROR(VLOOKUP($M723,PartnerSearch!B$2:G$16000,6,0),\"--\"))","v":""},null,"","","",""]
[null,null,null,null,null,null,null,null,null,null,null,null,"",{"$f":"IF($M724=\"\",\"\",IFERROR(VLOOKUP($M724,PartnerSearch!B$2:G$16000,6,0),\"--\"))","v":""},null,"","","",""]
[null,null,null,null,null,null,null,null,null,null,null,null,"",{"$f":"IF($M725=\"\",\"\",IFERROR(VLOOKUP($M725,PartnerSearch!B$2:G$16000,6,0),\"--\"))","v":""},null,"","","",""]
[null,null,null,null,null,null,null,null,null,null,null,null,"",{"$f":"IF($M726=\"\",\"\",IFERROR(VLOOKUP($M726,PartnerSearch!B$2:G$16000,6,0),\"--\"))","v":""},null,"","","",""]
[null,null,null,null,null,null,null,null,null,null,null,null,"",{"$f":"IF($M727=\"\",\"\",IFERROR(VLOOKUP($M727,PartnerSearch!B$2:G$16000,6,0),\"--\"))","v":""},null,"","","",""]
[null,null,null,null,null,null,null,null,null,null,null,null,"",{"$f":"IF($M728=\"\",\"\",IFERROR(VLOOKUP($M728,PartnerSearch!B$2:G$16000,6,0),\"--\"))","v":""},null,"","","",""]
[null,null,null,null,null,null,null,null,null,null,null,null,"",{"$f":"IF($M729=\"\",\"\",IFERROR(VLOOKUP($M729,PartnerSearch!B$2:G$16000,6,0),\"--\"))","v":""},null,"","","",""]
[null,null,null,null,null,null,null,null,null,null,null,null,"",{"$f":"IF($M730=\"\",\"\",IFERROR(VLOOKUP($M730,PartnerSearch!B$2:G$16000,6,0),\"--\"))","v":""},null,"","","",""]
[null,null,null,null,null,null,null,null,null,null,null,null,"",{"$f":"IF($M731=\"\",\"\",IFERROR(VLOOKUP($M731,PartnerSearch!B$2:G$16000,6,0),\"--\"))","v":""},null,"","","",""]
[null,null,null,null,null,null,null,null,null,null,null,null,"",{"$f":"IF($M732=\"\",\"\",IFERROR(VLOOKUP($M732,PartnerSearch!B$2:G$16000,6,0),\"--\"))","v":""},null,"","","",""]
[null,null,null,null,null,null,null,null,null,null,null,null,"",{"$f":"IF($M733=\"\",\"\",IFERROR(VLOOKUP($M733,PartnerSearch!B$2:G$16000,6,0),\"--\"))","v":""},null,"","","",""]
[null,null,null,null,null,null,null,null,null,null,null,null,"",{"$f":"IF($M734=\"\",\"\",IFERROR(VLOOKUP($M734,PartnerSearch!B$2:G$16000,6,0),\"--\"))","v":""},null,"","","",""]
[null,null,null,null,null,null,null,null,null,null,null,null,"",{"$f":"IF($M735=\"\",\"\",IFERROR(VLOOKUP($M735,PartnerSearch!B$2:G$16000,6,0),\"--\"))","v":""},null,"","","",""]
[null,null,null,null,null,null,null,null,null,null,null,null,"",{"$f":"IF($M736=\"\",\"\",IFERROR(VLOOKUP($M736,PartnerSearch!B$2:G$16000,6,0),\"--\"))","v":""},null,"","","",""]
[null,null,null,null,null,null,null,null,null,null,null,null,"",{"$f":"IF($M737=\"\",\"\",IFERROR(VLOOKUP($M737,PartnerSearch!B$2:G$16000,6,0),\"--\"))","v":""},null,"","","",""]
[null,null,null,null,null,null,null,null,null,null,null,null,"",{"$f":"IF($M738=\"\",\"\",IFERROR(VLOOKUP($M738,PartnerSearch!B$2:G$16000,6,0),\"--\"))","v":""},null,"","","",""]
[null,null,null,null,null,null,null,null,null,null,null,null,"",{"$f":"IF($M739=\"\",\"\",IFERROR(VLOOKUP($M739,PartnerSearch!B$2:G$16000,6,0),\"--\"))","v":""},null,"","","",""]
[null,null,null,null,null,null,null,null,null,null,null,null,"",{"$f":"IF($M740=\"\",\"\",IFERROR(VLOOKUP($M740,PartnerSearch!B$2:G$16000,6,0),\"--\"))","v":""},null,"","","",""]
[null,null,null,null,null,null,null,null,null,null,null,null,"",{"$f":"IF($M741=\"\",\"\",IFERROR(VLOOKUP($M741,PartnerSearch!B$2:G$16000,6,0),\"--\"))","v":""},null,"","","",""]
[null,null,null,null,null,null,null,null,null,null,null,null,"",{"$f":"IF($M742=\"\",\"\",IFERROR(VLOOKUP($M742,PartnerSearch!B$2:G$16000,6,0),\"--\"))","v":""},null,"","","",""]
[null,null,null,null,null,null,null,null,null,null,null,null,"",{"$f":"IF($M743=\"\",\"\",IFERROR(VLOOKUP($M743,PartnerSearch!B$2:G$16000,6,0),\"--\"))","v":""},null,"","","",""]
[null,null,null,null,null,null,null,null,null,null,null,null,"",{"$f":"IF($M744=\"\",\"\",IFERROR(VLOOKUP($M744,PartnerSearch!B$2:G$16000,6,0),\"--\"))","v":""},null,"","","",""]
[null,null,null,null,null,null,null,null,null,null,null,null,"",{"$f":"IF($M745=\"\",\"\",IFERROR(VLOOKUP($M745,PartnerSearch!B$2:G$16000,6,0),\"--\"))","v":""},null,"","","",""]
[null,null,null,null,null,null,null,null,null,null,null,null,"",{"$f":"IF($M746=\"\",\"\",IFERROR(VLOOKUP($M746,PartnerSearch!B$2:G$16000,6,0),\"--\"))","v":""},null,"","","",""]
[null,null,null,null,null,null,null,null,null,null,null,null,"",{"$f":"IF($M747=\"\",\"\",IFERROR(VLOOKUP($M747,PartnerSearch!B$2:G$16000,6,0),\"--\"))","v":""},null,"","","",""]
[null,null,null,null,null,null,null,null,null,null,null,null,"",{"$f":"IF($M748=\"\",\"\",IFERROR(VLOOKUP($M748,PartnerSearch!B$2:G$16000,6,0),\"--\"))","v":""},null,"","","",""]
[null,null,null,null,null,null,null,null,null,null,null,null,"",{"$f":"IF($M749=\"\",\"\",IFERROR(VLOOKUP($M749,PartnerSearch!B$2:G$16000,6,0),\"--\"))","v":""},null,"","","",""]
[null,null,null,null,null,null,null,null,null,null,null,null,"",{"$f":"IF($M750=\"\",\"\",IFERROR(VLOOKUP($M750,PartnerSearch!B$2:G$16000,6,0),\"--\"))","v":""},null,"","","",""]
[null,null,null,null,null,null,null,null,null,null,null,null,"",{"$f":"IF($M751=\"\",\"\",IFERROR(VLOOKUP($M751,PartnerSearch!B$2:G$16000,6,0),\"--\"))","v":""},null,"","","",""]
[null,null,null,null,null,null,null,null,null,null,null,null,"",{"$f":"IF($M752=\"\",\"\",IFERROR(VLOOKUP($M752,PartnerSearch!B$2:G$16000,6,0),\"--\"))","v":""},null,"","","",""]
[null,null,null,null,null,null,null,null,null,null,null,null,"",{"$f":"IF($M753=\"\",\"\",IFERROR(VLOOKUP($M753,PartnerSearch!B$2:G$16000,6,0),\"--\"))","v":""},null,"","","",""]
[null,null,null,null,null,null,null,null,null,null,null,null,"",{"$f":"IF($M754=\"\",\"\",IFERROR(VLOOKUP($M754,PartnerSearch!B$2:G$16000,6,0),\"--\"))","v":""},null,"","","",""]
[null,null,null,null,null,null,null,null,null,null,null,null,"",{"$f":"IF($M755=\"\",\"\",IFERROR(VLOOKUP($M755,PartnerSearch!B$2:G$16000,6,0),\"--\"))","v":""},null,"","","",""]
[null,null,null,null,null,null,null,null,null,null,null,null,"",{"$f":"IF($M756=\"\",\"\",IFERROR(VLOOKUP($M756,PartnerSearch!B$2:G$16000,6,0),\"--\"))","v":""},null,"","","",""]
[null,null,null,null,null,null,null,null,null,null,null,null,"",{"$f":"IF($M757=\"\",\"\",IFERROR(VLOOKUP($M757,PartnerSearch!B$2:G$16000,6,0),\"--\"))","v":""},null,"","","",""]
[null,null,null,null,null,null,null,null,null,null,null,null,"",{"$f":"IF($M758=\"\",\"\",IFERROR(VLOOKUP($M758,PartnerSearch!B$2:G$16000,6,0),\"--\"))","v":""},null,"","","",""]
[null,null,null,null,null,null,null,null,null,null,null,null,"",{"$f":"IF($M759=\"\",\"\",IFERROR(VLOOKUP($M759,PartnerSearch!B$2:G$16000,6,0),\"--\"))","v":""},null,"","","",""]
[null,null,null,null,null,null,null,null,null,null,null,null,"",{"$f":"IF($M760=\"\",\"\",IFERROR(VLOOKUP($M760,PartnerSearch!B$2:G$16000,6,0),\"--\"))","v":""},null,"","","",""]
[null,null,null,null,null,null,null,null,null,null,null,null,"",{"$f":"IF($M761=\"\",\"\",IFERROR(VLOOKUP($M761,PartnerSearch!B$2:G$16000,6,0),\"--\"))","v":""},null,"","","",""]
[null,null,null,null,null,null,null,null,null,null,null,null,"",{"$f":"IF($M762=\"\",\"\",IFERROR(VLOOKUP($M762,PartnerSearch!B$2:G$16000,6,0),\"--\"))","v":""},null,"","","",""]
[null,null,null,null,null,null,null,null,null,null,null,null,"",{"$f":"IF($M763=\"\",\"\",IFERROR(VLOOKUP($M763,PartnerSearch!B$2:G$16000,6,0),\"--\"))","v":""},null,"","","",""]
[null,null,null,null,null,null,null,null,null,null,null,null,"",{"$f":"IF($M764=\"\",\"\",IFERROR(VLOOKUP($M764,PartnerSearch!B$2:G$16000,6,0),\"--\"))","v":""},null,"","","",""]
[null,null,null,null,null,null,null,null,null,null,null,null,"",{"$f":"IF($M765=\"\",\"\",IFERROR(VLOOKUP($M765,PartnerSearch!B$2:G$16000,6,0),\"--\"))","v":""},null,"","","",""]
[null,null,null,null,null,null,null,null,null,null,null,null,"",{"$f":"IF($M766=\"\",\"\",IFERROR(VLOOKUP($M766,PartnerSearch!B$2:G$16000,6,0),\"--\"))","v":""},null,"","","",""]
[null,null,null,null,null,null,null,null,null,null,null,null,"",{"$f":"IF($M767=\"\",\"\",IFERROR(VLOOKUP($M767,PartnerSearch!B$2:G$16000,6,0),\"--\"))","v":""},null,"","","",""]
[null,null,null,null,null,null,null,null,null,null,null,null,"",{"$f":"IF($M768=\"\",\"\",IFERROR(VLOOKUP($M768,PartnerSearch!B$2:G$16000,6,0),\"--\"))","v":""},null,"","","",""]
[null,null,null,null,null,null,null,null,null,null,null,null,"",{"$f":"IF($M769=\"\",\"\",IFERROR(VLOOKUP($M769,PartnerSearch!B$2:G$16000,6,0),\"--\"))","v":""},null,"","","",""]
[null,null,null,null,null,null,null,null,null,null,null,null,"",{"$f":"IF($M770=\"\",\"\",IFERROR(VLOOKUP($M770,PartnerSearch!B$2:G$16000,6,0),\"--\"))","v":""},null,"","","",""]
[null,null,null,null,null,null,null,null,null,null,null,null,{"$f":"TRIM(SUBSTITUTE(SUBSTITUTE(SUBSTITUTE(SUBSTITUTE(SUBSTITUTE(SUBSTITUTE(SUBSTITUTE(SUBSTITUTE(SUBSTITUTE(SUBSTITUTE(SUBSTITUTE(SUBSTITUTE(SUBSTITUTE(SUBSTITUTE(E771,\"00000 \",\"\"),\" (Local)\",\"\"),\" (Tribal)\",\"\"),\" (State)\",\"\"),\" (Regional)\",\"\"),\" (Federal/National)\",\"\"),\" (International)\",\"\"),\" (Unknown)\",\"\"),\" (Academic Institution)\",\"\"),\" (Government)\",\"\"),\" (Industry/Business)\",\"\"),\" (NGO)\",\"\"),\" (Other)\",\"\"),\" (Sea Grant Program)\",\"\"))","v":""},{"$f":"IF($M771=\"\",\"\",IFERROR(VLOOKUP($M771,PartnerSearch!B$2:G$16000,6,0),\"--\"))","v":""},null,{"$f":"IF(E771=\"\",\"\",IF(LEFT(E771&\"x\",5)=\"00000\",\"\",IF(N771=\"--\",\"NO\",\"yes\")))","v":""},{"$f":"IF(LEFT(E771&\"x\",5)<>\"00000\",\"\",IF(N771=\"--\",\"yes\",\"NO\"))","v":""},{"$f":"IF(Q771=\"\",\"\",IF((ISERROR(SEARCH(\"(Federal/National)\",E771))*1+ISERROR(SEARCH(\"(International)\",E771))*1+ISERROR(SEARCH(\"(Local)\",E771))*1+ISERROR(SEARCH(\"(State)\",E771))*1+ISERROR(SEARCH(\"(Regional)\",E771))*1+ISERROR(SEARCH(\"(Tribal)\",E771))*1+ISERROR(SEARCH(\"(Unknown) (\",E771))*1)=6,\"yes\",\"NO\"))","v":""},{"$f":"IF(Q771=\"\",\"\",IF(OR(NOT(ISERROR(SEARCH(\"(Academic Institution)\",E771))),NOT(ISERROR(SEARCH(\"(Government)\",E771))),NOT(ISERROR(SEARCH(\"(Industry/Business)\",E771))),NOT(ISERROR(SEARCH(\"(NGO)\",E771))),NOT(ISERROR(SEARCH(\"(Sea Grant Program)\",E771))),NOT(ISERROR(SEARCH(\"(Other)\",E771))),NOT(AND(NOT(ISERROR(SEARCH(\"(Unknown)\",E771))),(ISERROR(SEARCH(\") (Unknown)\",E771)))))),\"yes\",\"NO\"))","v":""}]
[null,null,null,null,null,null,null,null,null,null,null,null,"",{"$f":"IF($M772=\"\",\"\",IFERROR(VLOOKUP($M772,PartnerSearch!B$2:G$16000,6,0),\"--\"))","v":""},null,"","","",""]
[null,null,null,null,null,null,null,null,null,null,null,null,"",{"$f":"IF($M773=\"\",\"\",IFERROR(VLOOKUP($M773,PartnerSearch!B$2:G$16000,6,0),\"--\"))","v":""},null,"","","",""]
[null,null,null,null,null,null,null,null,null,null,null,null,"",{"$f":"IF($M774=\"\",\"\",IFERROR(VLOOKUP($M774,PartnerSearch!B$2:G$16000,6,0),\"--\"))","v":""},null,"","","",""]
[null,null,null,null,null,null,null,null,null,null,null,null,"",{"$f":"IF($M775=\"\",\"\",IFERROR(VLOOKUP($M775,PartnerSearch!B$2:G$16000,6,0),\"--\"))","v":""},null,"","","",""]
[null,null,null,null,null,null,null,null,null,null,null,null,"",{"$f":"IF($M776=\"\",\"\",IFERROR(VLOOKUP($M776,PartnerSearch!B$2:G$16000,6,0),\"--\"))","v":""},null,"","","",""]
[null,null,null,null,null,null,null,null,null,null,null,null,"",{"$f":"IF($M777=\"\",\"\",IFERROR(VLOOKUP($M777,PartnerSearch!B$2:G$16000,6,0),\"--\"))","v":""},null,"","","",""]
[null,null,null,null,null,null,null,null,null,null,null,null,"",{"$f":"IF($M778=\"\",\"\",IFERROR(VLOOKUP($M778,PartnerSearch!B$2:G$16000,6,0),\"--\"))","v":""},null,"","","",""]
[null,null,null,null,null,null,null,null,null,null,null,null,"",{"$f":"IF($M779=\"\",\"\",IFERROR(VLOOKUP($M779,PartnerSearch!B$2:G$16000,6,0),\"--\"))","v":""},null,"","","",""]
[null,null,null,null,null,null,null,null,null,null,null,null,"",{"$f":"IF($M780=\"\",\"\",IFERROR(VLOOKUP($M780,PartnerSearch!B$2:G$16000,6,0),\"--\"))","v":""},null,"","","",""]
[null,null,null,null,null,null,null,null,null,null,null,null,"",{"$f":"IF($M781=\"\",\"\",IFERROR(VLOOKUP($M781,PartnerSearch!B$2:G$16000,6,0),\"--\"))","v":""},null,"","","",""]
[null,null,null,null,null,null,null,null,null,null,null,null,"",{"$f":"IF($M782=\"\",\"\",IFERROR(VLOOKUP($M782,PartnerSearch!B$2:G$16000,6,0),\"--\"))","v":""},null,"","","",""]
[null,null,null,null,null,null,null,null,null,null,null,null,"",{"$f":"IF($M783=\"\",\"\",IFERROR(VLOOKUP($M783,PartnerSearch!B$2:G$16000,6,0),\"--\"))","v":""},null,"","","",""]
[null,null,null,null,null,null,null,null,null,null,null,null,"",{"$f":"IF($M784=\"\",\"\",IFERROR(VLOOKUP($M784,PartnerSearch!B$2:G$16000,6,0),\"--\"))","v":""},null,"","","",""]
[null,null,null,null,null,null,null,null,null,null,null,null,"",{"$f":"IF($M785=\"\",\"\",IFERROR(VLOOKUP($M785,PartnerSearch!B$2:G$16000,6,0),\"--\"))","v":""},null,"","","",""]
[null,null,null,null,null,null,null,null,null,null,null,null,"",{"$f":"IF($M786=\"\",\"\",IFERROR(VLOOKUP($M786,PartnerSearch!B$2:G$16000,6,0),\"--\"))","v":""},null,"","","",""]
[null,null,null,null,null,null,null,null,null,null,null,null,"",{"$f":"IF($M787=\"\",\"\",IFERROR(VLOOKUP($M787,PartnerSearch!B$2:G$16000,6,0),\"--\"))","v":""},null,"","","",""]
[null,null,null,null,null,null,null,null,null,null,null,null,"",{"$f":"IF($M788=\"\",\"\",IFERROR(VLOOKUP($M788,PartnerSearch!B$2:G$16000,6,0),\"--\"))","v":""},null,"","","",""]
[null,null,null,null,null,null,null,null,null,null,null,null,"",{"$f":"IF($M789=\"\",\"\",IFERROR(VLOOKUP($M789,PartnerSearch!B$2:G$16000,6,0),\"--\"))","v":""},null,"","","",""]
[null,null,null,null,null,null,null,null,null,null,null,null,"",{"$f":"IF($M790=\"\",\"\",IFERROR(VLOOKUP($M790,PartnerSearch!B$2:G$16000,6,0),\"--\"))","v":""},null,"","","",""]
[null,null,null,null,null,null,null,null,null,null,null,null,"",{"$f":"IF($M791=\"\",\"\",IFERROR(VLOOKUP($M791,PartnerSearch!B$2:G$16000,6,0),\"--\"))","v":""},null,"","","",""]
[null,null,null,null,null,null,null,null,null,null,null,null,"",{"$f":"IF($M792=\"\",\"\",IFERROR(VLOOKUP($M792,PartnerSearch!B$2:G$16000,6,0),\"--\"))","v":""},null,"","","",""]
[null,null,null,null,null,null,null,null,null,null,null,null,"",{"$f":"IF($M793=\"\",\"\",IFERROR(VLOOKUP($M793,PartnerSearch!B$2:G$16000,6,0),\"--\"))","v":""},null,"","","",""]
[null,null,null,null,null,null,null,null,null,null,null,null,"",{"$f":"IF($M794=\"\",\"\",IFERROR(VLOOKUP($M794,PartnerSearch!B$2:G$16000,6,0),\"--\"))","v":""},null,"","","",""]
[null,null,null,null,null,null,null,null,null,null,null,null,"",{"$f":"IF($M795=\"\",\"\",IFERROR(VLOOKUP($M795,PartnerSearch!B$2:G$16000,6,0),\"--\"))","v":""},null,"","","",""]
[null,null,null,null,null,null,null,null,null,null,null,null,"",{"$f":"IF($M796=\"\",\"\",IFERROR(VLOOKUP($M796,PartnerSearch!B$2:G$16000,6,0),\"--\"))","v":""},null,"","","",""]
[null,null,null,null,null,null,null,null,null,null,null,null,"",{"$f":"IF($M797=\"\",\"\",IFERROR(VLOOKUP($M797,PartnerSearch!B$2:G$16000,6,0),\"--\"))","v":""},null,"","","",""]
[null,null,null,null,null,null,null,null,null,null,null,null,"",{"$f":"IF($M798=\"\",\"\",IFERROR(VLOOKUP($M798,PartnerSearch!B$2:G$16000,6,0),\"--\"))","v":""},null,"","","",""]
[null,null,null,null,null,null,null,null,null,null,null,null,"",{"$f":"IF($M799=\"\",\"\",IFERROR(VLOOKUP($M799,PartnerSearch!B$2:G$16000,6,0),\"--\"))","v":""},null,"","","",""]
[null,null,null,null,null,null,null,null,null,null,null,null,"",{"$f":"IF($M800=\"\",\"\",IFERROR(VLOOKUP($M800,PartnerSearch!B$2:G$16000,6,0),\"--\"))","v":""},null,"","","",""]
[null,null,null,null,null,null,null,null,null,null,null,null,"",{"$f":"IF($M801=\"\",\"\",IFERROR(VLOOKUP($M801,PartnerSearch!B$2:G$16000,6,0),\"--\"))","v":""},null,"","","",""]
[null,null,null,null,null,null,null,null,null,null,null,null,"",{"$f":"IF($M802=\"\",\"\",IFERROR(VLOOKUP($M802,PartnerSearch!B$2:G$16000,6,0),\"--\"))","v":""},null,"","","",""]
[null,null,null,null,null,null,null,null,null,null,null,null,"",{"$f":"IF($M803=\"\",\"\",IFERROR(VLOOKUP($M803,PartnerSearch!B$2:G$16000,6,0),\"--\"))","v":""},null,"","","",""]
[null,null,null,null,null,null,null,null,null,null,null,null,"",{"$f":"IF($M804=\"\",\"\",IFERROR(VLOOKUP($M804,PartnerSearch!B$2:G$16000,6,0),\"--\"))","v":""},null,"","","",""]
[null,null,null,null,null,null,null,null,null,null,null,null,"",{"$f":"IF($M805=\"\",\"\",IFERROR(VLOOKUP($M805,PartnerSearch!B$2:G$16000,6,0),\"--\"))","v":""},null,"","","",""]
[null,null,null,null,null,null,null,null,null,null,null,null,"",{"$f":"IF($M806=\"\",\"\",IFERROR(VLOOKUP($M806,PartnerSearch!B$2:G$16000,6,0),\"--\"))","v":""},null,"","","",""]
[null,null,null,null,null,null,null,null,null,null,null,null,"",{"$f":"IF($M807=\"\",\"\",IFERROR(VLOOKUP($M807,PartnerSearch!B$2:G$16000,6,0),\"--\"))","v":""},null,"","","",""]
[null,null,null,null,null,null,null,null,null,null,null,null,"",{"$f":"IF($M808=\"\",\"\",IFERROR(VLOOKUP($M808,PartnerSearch!B$2:G$16000,6,0),\"--\"))","v":""},null,"","","",""]
[null,null,null,null,null,null,null,null,null,null,null,null,"",{"$f":"IF($M809=\"\",\"\",IFERROR(VLOOKUP($M809,PartnerSearch!B$2:G$16000,6,0),\"--\"))","v":""},null,"","","",""]
[null,null,null,null,null,null,null,null,null,null,null,null,"",{"$f":"IF($M810=\"\",\"\",IFERROR(VLOOKUP($M810,PartnerSearch!B$2:G$16000,6,0),\"--\"))","v":""},null,"","","",""]
[null,null,null,null,null,null,null,null,null,null,null,null,"",{"$f":"IF($M811=\"\",\"\",IFERROR(VLOOKUP($M811,PartnerSearch!B$2:G$16000,6,0),\"--\"))","v":""},null,"","","",""]
[null,null,null,null,null,null,null,null,null,null,null,null,"",{"$f":"IF($M812=\"\",\"\",IFERROR(VLOOKUP($M812,PartnerSearch!B$2:G$16000,6,0),\"--\"))","v":""},null,"","","",""]
[null,null,null,null,null,null,null,null,null,null,null,null,"",{"$f":"IF($M813=\"\",\"\",IFERROR(VLOOKUP($M813,PartnerSearch!B$2:G$16000,6,0),\"--\"))","v":""},null,"","","",""]
[null,null,null,null,null,null,null,null,null,null,null,null,"",{"$f":"IF($M814=\"\",\"\",IFERROR(VLOOKUP($M814,PartnerSearch!B$2:G$16000,6,0),\"--\"))","v":""},null,"","","",""]
[null,null,null,null,null,null,null,null,null,null,null,null,"",{"$f":"IF($M815=\"\",\"\",IFERROR(VLOOKUP($M815,PartnerSearch!B$2:G$16000,6,0),\"--\"))","v":""},null,"","","",""]
[null,null,null,null,null,null,null,null,null,null,null,null,"",{"$f":"IF($M816=\"\",\"\",IFERROR(VLOOKUP($M816,PartnerSearch!B$2:G$16000,6,0),\"--\"))","v":""},null,"","","",""]
[null,null,null,null,null,null,null,null,null,null,null,null,"",{"$f":"IF($M817=\"\",\"\",IFERROR(VLOOKUP($M817,PartnerSearch!B$2:G$16000,6,0),\"--\"))","v":""},null,"","","",""]
[null,null,null,null,null,null,null,null,null,null,null,null,"",{"$f":"IF($M818=\"\",\"\",IFERROR(VLOOKUP($M818,PartnerSearch!B$2:G$16000,6,0),\"--\"))","v":""},null,"","","",""]
[null,null,null,null,null,null,null,null,null,null,null,null,"",{"$f":"IF($M819=\"\",\"\",IFERROR(VLOOKUP($M819,PartnerSearch!B$2:G$16000,6,0),\"--\"))","v":""},null,"","","",""]
[null,null,null,null,null,null,null,null,null,null,null,null,"",{"$f":"IF($M820=\"\",\"\",IFERROR(VLOOKUP($M820,PartnerSearch!B$2:G$16000,6,0),\"--\"))","v":""},null,"","","",""]
[null,null,null,null,null,null,null,null,null,null,null,null,"",{"$f":"IF($M821=\"\",\"\",IFERROR(VLOOKUP($M821,PartnerSearch!B$2:G$16000,6,0),\"--\"))","v":""},null,"","","",""]
[null,null,null,null,null,null,null,null,null,null,null,null,"",{"$f":"IF($M822=\"\",\"\",IFERROR(VLOOKUP($M822,PartnerSearch!B$2:G$16000,6,0),\"--\"))","v":""},null,"","","",""]
[null,null,null,null,null,null,null,null,null,null,null,null,"",{"$f":"IF($M823=\"\",\"\",IFERROR(VLOOKUP($M823,PartnerSearch!B$2:G$16000,6,0),\"--\"))","v":""},null,"","","",""]
[null,null,null,null,null,null,null,null,null,null,null,null,"",{"$f":"IF($M824=\"\",\"\",IFERROR(VLOOKUP($M824,PartnerSearch!B$2:G$16000,6,0),\"--\"))","v":""},null,"","","",""]
[null,null,null,null,null,null,null,null,null,null,null,null,"",{"$f":"IF($M825=\"\",\"\",IFERROR(VLOOKUP($M825,PartnerSearch!B$2:G$16000,6,0),\"--\"))","v":""},null,"","","",""]
[null,null,null,null,null,null,null,null,null,null,null,null,"",{"$f":"IF($M826=\"\",\"\",IFERROR(VLOOKUP($M826,PartnerSearch!B$2:G$16000,6,0),\"--\"))","v":""},null,"","","",""]
[null,null,null,null,null,null,null,null,null,null,null,null,"",{"$f":"IF($M827=\"\",\"\",IFERROR(VLOOKUP($M827,PartnerSearch!B$2:G$16000,6,0),\"--\"))","v":""},null,"","","",""]
[null,null,null,null,null,null,null,null,null,null,null,null,"",{"$f":"IF($M828=\"\",\"\",IFERROR(VLOOKUP($M828,PartnerSearch!B$2:G$16000,6,0),\"--\"))","v":""},null,"","","",""]
[null,null,null,null,null,null,null,null,null,null,null,null,"",{"$f":"IF($M829=\"\",\"\",IFERROR(VLOOKUP($M829,PartnerSearch!B$2:G$16000,6,0),\"--\"))","v":""},null,"","","",""]
[null,null,null,null,null,null,null,null,null,null,null,null,"",{"$f":"IF($M830=\"\",\"\",IFERROR(VLOOKUP($M830,PartnerSearch!B$2:G$16000,6,0),\"--\"))","v":""},null,"","","",""]
[null,null,null,null,null,null,null,null,null,null,null,null,"",{"$f":"IF($M831=\"\",\"\",IFERROR(VLOOKUP($M831,PartnerSearch!B$2:G$16000,6,0),\"--\"))","v":""},null,"","","",""]
[null,null,null,null,null,null,null,null,null,null,null,null,"",{"$f":"IF($M832=\"\",\"\",IFERROR(VLOOKUP($M832,PartnerSearch!B$2:G$16000,6,0),\"--\"))","v":""},null,"","","",""]
[null,null,null,null,null,null,null,null,null,null,null,null,"",{"$f":"IF($M833=\"\",\"\",IFERROR(VLOOKUP($M833,PartnerSearch!B$2:G$16000,6,0),\"--\"))","v":""},null,"","","",""]
[null,null,null,null,null,null,null,null,null,null,null,null,"",{"$f":"IF($M834=\"\",\"\",IFERROR(VLOOKUP($M834,PartnerSearch!B$2:G$16000,6,0),\"--\"))","v":""},null,"","","",""]
[null,null,null,null,null,null,null,null,null,null,null,null,{"$f":"TRIM(SUBSTITUTE(SUBSTITUTE(SUBSTITUTE(SUBSTITUTE(SUBSTITUTE(SUBSTITUTE(SUBSTITUTE(SUBSTITUTE(SUBSTITUTE(SUBSTITUTE(SUBSTITUTE(SUBSTITUTE(SUBSTITUTE(SUBSTITUTE(E835,\"00000 \",\"\"),\" (Local)\",\"\"),\" (Tribal)\",\"\"),\" (State)\",\"\"),\" (Regional)\",\"\"),\" (Federal/National)\",\"\"),\" (International)\",\"\"),\" (Unknown)\",\"\"),\" (Academic Institution)\",\"\"),\" (Government)\",\"\"),\" (Industry/Business)\",\"\"),\" (NGO)\",\"\"),\" (Other)\",\"\"),\" (Sea Grant Program)\",\"\"))","v":""},{"$f":"IF($M835=\"\",\"\",IFERROR(VLOOKUP($M835,PartnerSearch!B$2:G$16000,6,0),\"--\"))","v":""},null,{"$f":"IF(E835=\"\",\"\",IF(LEFT(E835&\"x\",5)=\"00000\",\"\",IF(N835=\"--\",\"NO\",\"yes\")))","v":""},{"$f":"IF(LEFT(E835&\"x\",5)<>\"00000\",\"\",IF(N835=\"--\",\"yes\",\"NO\"))","v":""},{"$f":"IF(Q835=\"\",\"\",IF((ISERROR(SEARCH(\"(Federal/National)\",E835))*1+ISERROR(SEARCH(\"(International)\",E835))*1+ISERROR(SEARCH(\"(Local)\",E835))*1+ISERROR(SEARCH(\"(State)\",E835))*1+ISERROR(SEARCH(\"(Regional)\",E835))*1+ISERROR(SEARCH(\"(Tribal)\",E835))*1+ISERROR(SEARCH(\"(Unknown) (\",E835))*1)=6,\"yes\",\"NO\"))","v":""},{"$f":"IF(Q835=\"\",\"\",IF(OR(NOT(ISERROR(SEARCH(\"(Academic Institution)\",E835))),NOT(ISERROR(SEARCH(\"(Government)\",E835))),NOT(ISERROR(SEARCH(\"(Industry/Business)\",E835))),NOT(ISERROR(SEARCH(\"(NGO)\",E835))),NOT(ISERROR(SEARCH(\"(Sea Grant Program)\",E835))),NOT(ISERROR(SEARCH(\"(Other)\",E835))),NOT(AND(NOT(ISERROR(SEARCH(\"(Unknown)\",E835))),(ISERROR(SEARCH(\") (Unknown)\",E835)))))),\"yes\",\"NO\"))","v":""}]
[null,null,null,null,null,null,null,null,null,null,null,null,"",{"$f":"IF($M836=\"\",\"\",IFERROR(VLOOKUP($M836,PartnerSearch!B$2:G$16000,6,0),\"--\"))","v":""},null,"","","",""]
[null,null,null,null,null,null,null,null,null,null,null,null,"",{"$f":"IF($M837=\"\",\"\",IFERROR(VLOOKUP($M837,PartnerSearch!B$2:G$16000,6,0),\"--\"))","v":""},null,"","","",""]
[null,null,null,null,null,null,null,null,null,null,null,null,"",{"$f":"IF($M838=\"\",\"\",IFERROR(VLOOKUP($M838,PartnerSearch!B$2:G$16000,6,0),\"--\"))","v":""},null,"","","",""]
[null,null,null,null,null,null,null,null,null,null,null,null,"",{"$f":"IF($M839=\"\",\"\",IFERROR(VLOOKUP($M839,PartnerSearch!B$2:G$16000,6,0),\"--\"))","v":""},null,"","","",""]
[null,null,null,null,null,null,null,null,null,null,null,null,"",{"$f":"IF($M840=\"\",\"\",IFERROR(VLOOKUP($M840,PartnerSearch!B$2:G$16000,6,0),\"--\"))","v":""},null,"","","",""]
[null,null,null,null,null,null,null,null,null,null,null,null,"",{"$f":"IF($M841=\"\",\"\",IFERROR(VLOOKUP($M841,PartnerSearch!B$2:G$16000,6,0),\"--\"))","v":""},null,"","","",""]
[null,null,null,null,null,null,null,null,null,null,null,null,"",{"$f":"IF($M842=\"\",\"\",IFERROR(VLOOKUP($M842,PartnerSearch!B$2:G$16000,6,0),\"--\"))","v":""},null,"","","",""]
[null,null,null,null,null,null,null,null,null,null,null,null,"",{"$f":"IF($M843=\"\",\"\",IFERROR(VLOOKUP($M843,PartnerSearch!B$2:G$16000,6,0),\"--\"))","v":""},null,"","","",""]
[null,null,null,null,null,null,null,null,null,null,null,null,"",{"$f":"IF($M844=\"\",\"\",IFERROR(VLOOKUP($M844,PartnerSearch!B$2:G$16000,6,0),\"--\"))","v":""},null,"","","",""]
[null,null,null,null,null,null,null,null,null,null,null,null,"",{"$f":"IF($M845=\"\",\"\",IFERROR(VLOOKUP($M845,PartnerSearch!B$2:G$16000,6,0),\"--\"))","v":""},null,"","","",""]
[null,null,null,null,null,null,null,null,null,null,null,null,"",{"$f":"IF($M846=\"\",\"\",IFERROR(VLOOKUP($M846,PartnerSearch!B$2:G$16000,6,0),\"--\"))","v":""},null,"","","",""]
[null,null,null,null,null,null,null,null,null,null,null,null,"",{"$f":"IF($M847=\"\",\"\",IFERROR(VLOOKUP($M847,PartnerSearch!B$2:G$16000,6,0),\"--\"))","v":""},null,"","","",""]
[null,null,null,null,null,null,null,null,null,null,null,null,"",{"$f":"IF($M848=\"\",\"\",IFERROR(VLOOKUP($M848,PartnerSearch!B$2:G$16000,6,0),\"--\"))","v":""},null,"","","",""]
[null,null,null,null,null,null,null,null,null,null,null,null,"",{"$f":"IF($M849=\"\",\"\",IFERROR(VLOOKUP($M849,PartnerSearch!B$2:G$16000,6,0),\"--\"))","v":""},null,"","","",""]
[null,null,null,null,null,null,null,null,null,null,null,null,"",{"$f":"IF($M850=\"\",\"\",IFERROR(VLOOKUP($M850,PartnerSearch!B$2:G$16000,6,0),\"--\"))","v":""},null,"","","",""]
[null,null,null,null,null,null,null,null,null,null,null,null,"",{"$f":"IF($M851=\"\",\"\",IFERROR(VLOOKUP($M851,PartnerSearch!B$2:G$16000,6,0),\"--\"))","v":""},null,"","","",""]
[null,null,null,null,null,null,null,null,null,null,null,null,"",{"$f":"IF($M852=\"\",\"\",IFERROR(VLOOKUP($M852,PartnerSearch!B$2:G$16000,6,0),\"--\"))","v":""},null,"","","",""]
[null,null,null,null,null,null,null,null,null,null,null,null,"",{"$f":"IF($M853=\"\",\"\",IFERROR(VLOOKUP($M853,PartnerSearch!B$2:G$16000,6,0),\"--\"))","v":""},null,"","","",""]
[null,null,null,null,null,null,null,null,null,null,null,null,"",{"$f":"IF($M854=\"\",\"\",IFERROR(VLOOKUP($M854,PartnerSearch!B$2:G$16000,6,0),\"--\"))","v":""},null,"","","",""]
[null,null,null,null,null,null,null,null,null,null,null,null,"",{"$f":"IF($M855=\"\",\"\",IFERROR(VLOOKUP($M855,PartnerSearch!B$2:G$16000,6,0),\"--\"))","v":""},null,"","","",""]
[null,null,null,null,null,null,null,null,null,null,null,null,"",{"$f":"IF($M856=\"\",\"\",IFERROR(VLOOKUP($M856,PartnerSearch!B$2:G$16000,6,0),\"--\"))","v":""},null,"","","",""]
[null,null,null,null,null,null,null,null,null,null,null,null,"",{"$f":"IF($M857=\"\",\"\",IFERROR(VLOOKUP($M857,PartnerSearch!B$2:G$16000,6,0),\"--\"))","v":""},null,"","","",""]
[null,null,null,null,null,null,null,null,null,null,null,null,"",{"$f":"IF($M858=\"\",\"\",IFERROR(VLOOKUP($M858,PartnerSearch!B$2:G$16000,6,0),\"--\"))","v":""},null,"","","",""]
[null,null,null,null,null,null,null,null,null,null,null,null,"",{"$f":"IF($M859=\"\",\"\",IFERROR(VLOOKUP($M859,PartnerSearch!B$2:G$16000,6,0),\"--\"))","v":""},null,"","","",""]
[null,null,null,null,null,null,null,null,null,null,null,null,"",{"$f":"IF($M860=\"\",\"\",IFERROR(VLOOKUP($M860,PartnerSearch!B$2:G$16000,6,0),\"--\"))","v":""},null,"","","",""]
[null,null,null,null,null,null,null,null,null,null,null,null,"",{"$f":"IF($M861=\"\",\"\",IFERROR(VLOOKUP($M861,PartnerSearch!B$2:G$16000,6,0),\"--\"))","v":""},null,"","","",""]
[null,null,null,null,null,null,null,null,null,null,null,null,"",{"$f":"IF($M862=\"\",\"\",IFERROR(VLOOKUP($M862,PartnerSearch!B$2:G$16000,6,0),\"--\"))","v":""},null,"","","",""]
[null,null,null,null,null,null,null,null,null,null,null,null,"",{"$f":"IF($M863=\"\",\"\",IFERROR(VLOOKUP($M863,PartnerSearch!B$2:G$16000,6,0),\"--\"))","v":""},null,"","","",""]
[null,null,null,null,null,null,null,null,null,null,null,null,"",{"$f":"IF($M864=\"\",\"\",IFERROR(VLOOKUP($M864,PartnerSearch!B$2:G$16000,6,0),\"--\"))","v":""},null,"","","",""]
[null,null,null,null,null,null,null,null,null,null,null,null,"",{"$f":"IF($M865=\"\",\"\",IFERROR(VLOOKUP($M865,PartnerSearch!B$2:G$16000,6,0),\"--\"))","v":""},null,"","","",""]
[null,null,null,null,null,null,null,null,null,null,null,null,"",{"$f":"IF($M866=\"\",\"\",IFERROR(VLOOKUP($M866,PartnerSearch!B$2:G$16000,6,0),\"--\"))","v":""},null,"","","",""]
[null,null,null,null,null,null,null,null,null,null,null,null,"",{"$f":"IF($M867=\"\",\"\",IFERROR(VLOOKUP($M867,PartnerSearch!B$2:G$16000,6,0),\"--\"))","v":""},null,"","","",""]
[null,null,null,null,null,null,null,null,null,null,null,null,"",{"$f":"IF($M868=\"\",\"\",IFERROR(VLOOKUP($M868,PartnerSearch!B$2:G$16000,6,0),\"--\"))","v":""},null,"","","",""]
[null,null,null,null,null,null,null,null,null,null,null,null,"",{"$f":"IF($M869=\"\",\"\",IFERROR(VLOOKUP($M869,PartnerSearch!B$2:G$16000,6,0),\"--\"))","v":""},null,"","","",""]
[null,null,null,null,null,null,null,null,null,null,null,null,"",{"$f":"IF($M870=\"\",\"\",IFERROR(VLOOKUP($M870,PartnerSearch!B$2:G$16000,6,0),\"--\"))","v":""},null,"","","",""]
[null,null,null,null,null,null,null,null,null,null,null,null,"",{"$f":"IF($M871=\"\",\"\",IFERROR(VLOOKUP($M871,PartnerSearch!B$2:G$16000,6,0),\"--\"))","v":""},null,"","","",""]
[null,null,null,null,null,null,null,null,null,null,null,null,"",{"$f":"IF($M872=\"\",\"\",IFERROR(VLOOKUP($M872,PartnerSearch!B$2:G$16000,6,0),\"--\"))","v":""},null,"","","",""]
[null,null,null,null,null,null,null,null,null,null,null,null,"",{"$f":"IF($M873=\"\",\"\",IFERROR(VLOOKUP($M873,PartnerSearch!B$2:G$16000,6,0),\"--\"))","v":""},null,"","","",""]
[null,null,null,null,null,null,null,null,null,null,null,null,"",{"$f":"IF($M874=\"\",\"\",IFERROR(VLOOKUP($M874,PartnerSearch!B$2:G$16000,6,0),\"--\"))","v":""},null,"","","",""]
[null,null,null,null,null,null,null,null,null,null,null,null,"",{"$f":"IF($M875=\"\",\"\",IFERROR(VLOOKUP($M875,PartnerSearch!B$2:G$16000,6,0),\"--\"))","v":""},null,"","","",""]
[null,null,null,null,null,null,null,null,null,null,null,null,"",{"$f":"IF($M876=\"\",\"\",IFERROR(VLOOKUP($M876,PartnerSearch!B$2:G$16000,6,0),\"--\"))","v":""},null,"","","",""]
[null,null,null,null,null,null,null,null,null,null,null,null,"",{"$f":"IF($M877=\"\",\"\",IFERROR(VLOOKUP($M877,PartnerSearch!B$2:G$16000,6,0),\"--\"))","v":""},null,"","","",""]
[null,null,null,null,null,null,null,null,null,null,null,null,"",{"$f":"IF($M878=\"\",\"\",IFERROR(VLOOKUP($M878,PartnerSearch!B$2:G$16000,6,0),\"--\"))","v":""},null,"","","",""]
[null,null,null,null,null,null,null,null,null,null,null,null,"",{"$f":"IF($M879=\"\",\"\",IFERROR(VLOOKUP($M879,PartnerSearch!B$2:G$16000,6,0),\"--\"))","v":""},null,"","","",""]
[null,null,null,null,null,null,null,null,null,null,null,null,"",{"$f":"IF($M880=\"\",\"\",IFERROR(VLOOKUP($M880,PartnerSearch!B$2:G$16000,6,0),\"--\"))","v":""},null,"","","",""]
[null,null,null,null,null,null,null,null,null,null,null,null,"",{"$f":"IF($M881=\"\",\"\",IFERROR(VLOOKUP($M881,PartnerSearch!B$2:G$16000,6,0),\"--\"))","v":""},null,"","","",""]
[null,null,null,null,null,null,null,null,null,null,null,null,"",{"$f":"IF($M882=\"\",\"\",IFERROR(VLOOKUP($M882,PartnerSearch!B$2:G$16000,6,0),\"--\"))","v":""},null,"","","",""]
[null,null,null,null,null,null,null,null,null,null,null,null,"",{"$f":"IF($M883=\"\",\"\",IFERROR(VLOOKUP($M883,PartnerSearch!B$2:G$16000,6,0),\"--\"))","v":""},null,"","","",""]
[null,null,null,null,null,null,null,null,null,null,null,null,"",{"$f":"IF($M884=\"\",\"\",IFERROR(VLOOKUP($M884,PartnerSearch!B$2:G$16000,6,0),\"--\"))","v":""},null,"","","",""]
[null,null,null,null,null,null,null,null,null,null,null,null,"",{"$f":"IF($M885=\"\",\"\",IFERROR(VLOOKUP($M885,PartnerSearch!B$2:G$16000,6,0),\"--\"))","v":""},null,"","","",""]
[null,null,null,null,null,null,null,null,null,null,null,null,"",{"$f":"IF($M886=\"\",\"\",IFERROR(VLOOKUP($M886,PartnerSearch!B$2:G$16000,6,0),\"--\"))","v":""},null,"","","",""]
[null,null,null,null,null,null,null,null,null,null,null,null,"",{"$f":"IF($M887=\"\",\"\",IFERROR(VLOOKUP($M887,PartnerSearch!B$2:G$16000,6,0),\"--\"))","v":""},null,"","","",""]
[null,null,null,null,null,null,null,null,null,null,null,null,"",{"$f":"IF($M888=\"\",\"\",IFERROR(VLOOKUP($M888,PartnerSearch!B$2:G$16000,6,0),\"--\"))","v":""},null,"","","",""]
[null,null,null,null,null,null,null,null,null,null,null,null,"",{"$f":"IF($M889=\"\",\"\",IFERROR(VLOOKUP($M889,PartnerSearch!B$2:G$16000,6,0),\"--\"))","v":""},null,"","","",""]
[null,null,null,null,null,null,null,null,null,null,null,null,"",{"$f":"IF($M890=\"\",\"\",IFERROR(VLOOKUP($M890,PartnerSearch!B$2:G$16000,6,0),\"--\"))","v":""},null,"","","",""]
[null,null,null,null,null,null,null,null,null,null,null,null,"",{"$f":"IF($M891=\"\",\"\",IFERROR(VLOOKUP($M891,PartnerSearch!B$2:G$16000,6,0),\"--\"))","v":""},null,"","","",""]
[null,null,null,null,null,null,null,null,null,null,null,null,"",{"$f":"IF($M892=\"\",\"\",IFERROR(VLOOKUP($M892,PartnerSearch!B$2:G$16000,6,0),\"--\"))","v":""},null,"","","",""]
[null,null,null,null,null,null,null,null,null,null,null,null,"",{"$f":"IF($M893=\"\",\"\",IFERROR(VLOOKUP($M893,PartnerSearch!B$2:G$16000,6,0),\"--\"))","v":""},null,"","","",""]
[null,null,null,null,null,null,null,null,null,null,null,null,"",{"$f":"IF($M894=\"\",\"\",IFERROR(VLOOKUP($M894,PartnerSearch!B$2:G$16000,6,0),\"--\"))","v":""},null,"","","",""]
[null,null,null,null,null,null,null,null,null,null,null,null,"",{"$f":"IF($M895=\"\",\"\",IFERROR(VLOOKUP($M895,PartnerSearch!B$2:G$16000,6,0),\"--\"))","v":""},null,"","","",""]
[null,null,null,null,null,null,null,null,null,null,null,null,"",{"$f":"IF($M896=\"\",\"\",IFERROR(VLOOKUP($M896,PartnerSearch!B$2:G$16000,6,0),\"--\"))","v":""},null,"","","",""]
[null,null,null,null,null,null,null,null,null,null,null,null,"",{"$f":"IF($M897=\"\",\"\",IFERROR(VLOOKUP($M897,PartnerSearch!B$2:G$16000,6,0),\"--\"))","v":""},null,"","","",""]
[null,null,null,null,null,null,null,null,null,null,null,null,"",{"$f":"IF($M898=\"\",\"\",IFERROR(VLOOKUP($M898,PartnerSearch!B$2:G$16000,6,0),\"--\"))","v":""},null,"","","",""]
[null,null,null,null,null,null,null,null,null,null,null,null,{"$f":"TRIM(SUBSTITUTE(SUBSTITUTE(SUBSTITUTE(SUBSTITUTE(SUBSTITUTE(SUBSTITUTE(SUBSTITUTE(SUBSTITUTE(SUBSTITUTE(SUBSTITUTE(SUBSTITUTE(SUBSTITUTE(SUBSTITUTE(SUBSTITUTE(E899,\"00000 \",\"\"),\" (Local)\",\"\"),\" (Tribal)\",\"\"),\" (State)\",\"\"),\" (Regional)\",\"\"),\" (Federal/National)\",\"\"),\" (International)\",\"\"),\" (Unknown)\",\"\"),\" (Academic Institution)\",\"\"),\" (Government)\",\"\"),\" (Industry/Business)\",\"\"),\" (NGO)\",\"\"),\" (Other)\",\"\"),\" (Sea Grant Program)\",\"\"))","v":""},{"$f":"IF($M899=\"\",\"\",IFERROR(VLOOKUP($M899,PartnerSearch!B$2:G$16000,6,0),\"--\"))","v":""},null,{"$f":"IF(E899=\"\",\"\",IF(LEFT(E899&\"x\",5)=\"00000\",\"\",IF(N899=\"--\",\"NO\",\"yes\")))","v":""},{"$f":"IF(LEFT(E899&\"x\",5)<>\"00000\",\"\",IF(N899=\"--\",\"yes\",\"NO\"))","v":""},{"$f":"IF(Q899=\"\",\"\",IF((ISERROR(SEARCH(\"(Federal/National)\",E899))*1+ISERROR(SEARCH(\"(International)\",E899))*1+ISERROR(SEARCH(\"(Local)\",E899))*1+ISERROR(SEARCH(\"(State)\",E899))*1+ISERROR(SEARCH(\"(Regional)\",E899))*1+ISERROR(SEARCH(\"(Tribal)\",E899))*1+ISERROR(SEARCH(\"(Unknown) (\",E899))*1)=6,\"yes\",\"NO\"))","v":""},{"$f":"IF(Q899=\"\",\"\",IF(OR(NOT(ISERROR(SEARCH(\"(Academic Institution)\",E899))),NOT(ISERROR(SEARCH(\"(Government)\",E899))),NOT(ISERROR(SEARCH(\"(Industry/Business)\",E899))),NOT(ISERROR(SEARCH(\"(NGO)\",E899))),NOT(ISERROR(SEARCH(\"(Sea Grant Program)\",E899))),NOT(ISERROR(SEARCH(\"(Other)\",E899))),NOT(AND(NOT(ISERROR(SEARCH(\"(Unknown)\",E899))),(ISERROR(SEARCH(\") (Unknown)\",E899)))))),\"yes\",\"NO\"))","v":""}]
[null,null,null,null,null,null,null,null,null,null,null,null,"",{"$f":"IF($M900=\"\",\"\",IFERROR(VLOOKUP($M900,PartnerSearch!B$2:G$16000,6,0),\"--\"))","v":""},null,"","","",""]
[null,null,null,null,null,null,null,null,null,null,null,null,"",{"$f":"IF($M901=\"\",\"\",IFERROR(VLOOKUP($M901,PartnerSearch!B$2:G$16000,6,0),\"--\"))","v":""},null,"","","",""]
[null,null,null,null,null,null,null,null,null,null,null,null,"",{"$f":"IF($M902=\"\",\"\",IFERROR(VLOOKUP($M902,PartnerSearch!B$2:G$16000,6,0),\"--\"))","v":""},null,"","","",""]
[null,null,null,null,null,null,null,null,null,null,null,null,"",{"$f":"IF($M903=\"\",\"\",IFERROR(VLOOKUP($M903,PartnerSearch!B$2:G$16000,6,0),\"--\"))","v":""},null,"","","",""]
[null,null,null,null,null,null,null,null,null,null,null,null,"",{"$f":"IF($M904=\"\",\"\",IFERROR(VLOOKUP($M904,PartnerSearch!B$2:G$16000,6,0),\"--\"))","v":""},null,"","","",""]
[null,null,null,null,null,null,null,null,null,null,null,null,"",{"$f":"IF($M905=\"\",\"\",IFERROR(VLOOKUP($M905,PartnerSearch!B$2:G$16000,6,0),\"--\"))","v":""},null,"","","",""]
[null,null,null,null,null,null,null,null,null,null,null,null,"",{"$f":"IF($M906=\"\",\"\",IFERROR(VLOOKUP($M906,PartnerSearch!B$2:G$16000,6,0),\"--\"))","v":""},null,"","","",""]
[null,null,null,null,null,null,null,null,null,null,null,null,"",{"$f":"IF($M907=\"\",\"\",IFERROR(VLOOKUP($M907,PartnerSearch!B$2:G$16000,6,0),\"--\"))","v":""},null,"","","",""]
[null,null,null,null,null,null,null,null,null,null,null,null,"",{"$f":"IF($M908=\"\",\"\",IFERROR(VLOOKUP($M908,PartnerSearch!B$2:G$16000,6,0),\"--\"))","v":""},null,"","","",""]
[null,null,null,null,null,null,null,null,null,null,null,null,"",{"$f":"IF($M909=\"\",\"\",IFERROR(VLOOKUP($M909,PartnerSearch!B$2:G$16000,6,0),\"--\"))","v":""},null,"","","",""]
[null,null,null,null,null,null,null,null,null,null,null,null,"",{"$f":"IF($M910=\"\",\"\",IFERROR(VLOOKUP($M910,PartnerSearch!B$2:G$16000,6,0),\"--\"))","v":""},null,"","","",""]
[null,null,null,null,null,null,null,null,null,null,null,null,"",{"$f":"IF($M911=\"\",\"\",IFERROR(VLOOKUP($M911,PartnerSearch!B$2:G$16000,6,0),\"--\"))","v":""},null,"","","",""]
[null,null,null,null,null,null,null,null,null,null,null,null,"",{"$f":"IF($M912=\"\",\"\",IFERROR(VLOOKUP($M912,PartnerSearch!B$2:G$16000,6,0),\"--\"))","v":""},null,"","","",""]
[null,null,null,null,null,null,null,null,null,null,null,null,"",{"$f":"IF($M913=\"\",\"\",IFERROR(VLOOKUP($M913,PartnerSearch!B$2:G$16000,6,0),\"--\"))","v":""},null,"","","",""]
[null,null,null,null,null,null,null,null,null,null,null,null,"",{"$f":"IF($M914=\"\",\"\",IFERROR(VLOOKUP($M914,PartnerSearch!B$2:G$16000,6,0),\"--\"))","v":""},null,"","","",""]
[null,null,null,null,null,null,null,null,null,null,null,null,"",{"$f":"IF($M915=\"\",\"\",IFERROR(VLOOKUP($M915,PartnerSearch!B$2:G$16000,6,0),\"--\"))","v":""},null,"","","",""]
[null,null,null,null,null,null,null,null,null,null,null,null,"",{"$f":"IF($M916=\"\",\"\",IFERROR(VLOOKUP($M916,PartnerSearch!B$2:G$16000,6,0),\"--\"))","v":""},null,"","","",""]
[null,null,null,null,null,null,null,null,null,null,null,null,"",{"$f":"IF($M917=\"\",\"\",IFERROR(VLOOKUP($M917,PartnerSearch!B$2:G$16000,6,0),\"--\"))","v":""},null,"","","",""]
[null,null,null,null,null,null,null,null,null,null,null,null,"",{"$f":"IF($M918=\"\",\"\",IFERROR(VLOOKUP($M918,PartnerSearch!B$2:G$16000,6,0),\"--\"))","v":""},null,"","","",""]
[null,null,null,null,null,null,null,null,null,null,null,null,"",{"$f":"IF($M919=\"\",\"\",IFERROR(VLOOKUP($M919,PartnerSearch!B$2:G$16000,6,0),\"--\"))","v":""},null,"","","",""]
[null,null,null,null,null,null,null,null,null,null,null,null,"",{"$f":"IF($M920=\"\",\"\",IFERROR(VLOOKUP($M920,PartnerSearch!B$2:G$16000,6,0),\"--\"))","v":""},null,"","","",""]
[null,null,null,null,null,null,null,null,null,null,null,null,"",{"$f":"IF($M921=\"\",\"\",IFERROR(VLOOKUP($M921,PartnerSearch!B$2:G$16000,6,0),\"--\"))","v":""},null,"","","",""]
[null,null,null,null,null,null,null,null,null,null,null,null,"",{"$f":"IF($M922=\"\",\"\",IFERROR(VLOOKUP($M922,PartnerSearch!B$2:G$16000,6,0),\"--\"))","v":""},null,"","","",""]
[null,null,null,null,null,null,null,null,null,null,null,null,"",{"$f":"IF($M923=\"\",\"\",IFERROR(VLOOKUP($M923,PartnerSearch!B$2:G$16000,6,0),\"--\"))","v":""},null,"","","",""]
[null,null,null,null,null,null,null,null,null,null,null,null,"",{"$f":"IF($M924=\"\",\"\",IFERROR(VLOOKUP($M924,PartnerSearch!B$2:G$16000,6,0),\"--\"))","v":""},null,"","","",""]
[null,null,null,null,null,null,null,null,null,null,null,null,"",{"$f":"IF($M925=\"\",\"\",IFERROR(VLOOKUP($M925,PartnerSearch!B$2:G$16000,6,0),\"--\"))","v":""},null,"","","",""]
[null,null,null,null,null,null,null,null,null,null,null,null,"",{"$f":"IF($M926=\"\",\"\",IFERROR(VLOOKUP($M926,PartnerSearch!B$2:G$16000,6,0),\"--\"))","v":""},null,"","","",""]
[null,null,null,null,null,null,null,null,null,null,null,null,"",{"$f":"IF($M927=\"\",\"\",IFERROR(VLOOKUP($M927,PartnerSearch!B$2:G$16000,6,0),\"--\"))","v":""},null,"","","",""]
[null,null,null,null,null,null,null,null,null,null,null,null,"",{"$f":"IF($M928=\"\",\"\",IFERROR(VLOOKUP($M928,PartnerSearch!B$2:G$16000,6,0),\"--\"))","v":""},null,"","","",""]
[null,null,null,null,null,null,null,null,null,null,null,null,"",{"$f":"IF($M929=\"\",\"\",IFERROR(VLOOKUP($M929,PartnerSearch!B$2:G$16000,6,0),\"--\"))","v":""},null,"","","",""]
[null,null,null,null,null,null,null,null,null,null,null,null,"",{"$f":"IF($M930=\"\",\"\",IFERROR(VLOOKUP($M930,PartnerSearch!B$2:G$16000,6,0),\"--\"))","v":""},null,"","","",""]
[null,null,null,null,null,null,null,null,null,null,null,null,"",{"$f":"IF($M931=\"\",\"\",IFERROR(VLOOKUP($M931,PartnerSearch!B$2:G$16000,6,0),\"--\"))","v":""},null,"","","",""]
[null,null,null,null,null,null,null,null,null,null,null,null,"",{"$f":"IF($M932=\"\",\"\",IFERROR(VLOOKUP($M932,PartnerSearch!B$2:G$16000,6,0),\"--\"))","v":""},null,"","","",""]
[null,null,null,null,null,null,null,null,null,null,null,null,"",{"$f":"IF($M933=\"\",\"\",IFERROR(VLOOKUP($M933,PartnerSearch!B$2:G$16000,6,0),\"--\"))","v":""},null,"","","",""]
[null,null,null,null,null,null,null,null,null,null,null,null,"",{"$f":"IF($M934=\"\",\"\",IFERROR(VLOOKUP($M934,PartnerSearch!B$2:G$16000,6,0),\"--\"))","v":""},null,"","","",""]
[null,null,null,null,null,null,null,null,null,null,null,null,"",{"$f":"IF($M935=\"\",\"\",IFERROR(VLOOKUP($M935,PartnerSearch!B$2:G$16000,6,0),\"--\"))","v":""},null,"","","",""]
[null,null,null,null,null,null,null,null,null,null,null,null,"",{"$f":"IF($M936=\"\",\"\",IFERROR(VLOOKUP($M936,PartnerSearch!B$2:G$16000,6,0),\"--\"))","v":""},null,"","","",""]
[null,null,null,null,null,null,null,null,null,null,null,null,"",{"$f":"IF($M937=\"\",\"\",IFERROR(VLOOKUP($M937,PartnerSearch!B$2:G$16000,6,0),\"--\"))","v":""},null,"","","",""]
[null,null,null,null,null,null,null,null,null,null,null,null,"",{"$f":"IF($M938=\"\",\"\",IFERROR(VLOOKUP($M938,PartnerSearch!B$2:G$16000,6,0),\"--\"))","v":""},null,"","","",""]
[null,null,null,null,null,null,null,null,null,null,null,null,"",{"$f":"IF($M939=\"\",\"\",IFERROR(VLOOKUP($M939,PartnerSearch!B$2:G$16000,6,0),\"--\"))","v":""},null,"","","",""]
[null,null,null,null,null,null,null,null,null,null,null,null,"",{"$f":"IF($M940=\"\",\"\",IFERROR(VLOOKUP($M940,PartnerSearch!B$2:G$16000,6,0),\"--\"))","v":""},null,"","","",""]
[null,null,null,null,null,null,null,null,null,null,null,null,"",{"$f":"IF($M941=\"\",\"\",IFERROR(VLOOKUP($M941,PartnerSearch!B$2:G$16000,6,0),\"--\"))","v":""},null,"","","",""]
[null,null,null,null,null,null,null,null,null,null,null,null,"",{"$f":"IF($M942=\"\",\"\",IFERROR(VLOOKUP($M942,PartnerSearch!B$2:G$16000,6,0),\"--\"))","v":""},null,"","","",""]
[null,null,null,null,null,null,null,null,null,null,null,null,"",{"$f":"IF($M943=\"\",\"\",IFERROR(VLOOKUP($M943,PartnerSearch!B$2:G$16000,6,0),\"--\"))","v":""},null,"","","",""]
[null,null,null,null,null,null,null,null,null,null,null,null,"",{"$f":"IF($M944=\"\",\"\",IFERROR(VLOOKUP($M944,PartnerSearch!B$2:G$16000,6,0),\"--\"))","v":""},null,"","","",""]
[null,null,null,null,null,null,null,null,null,null,null,null,"",{"$f":"IF($M945=\"\",\"\",IFERROR(VLOOKUP($M945,PartnerSearch!B$2:G$16000,6,0),\"--\"))","v":""},null,"","","",""]
[null,null,null,null,null,null,null,null,null,null,null,null,"",{"$f":"IF($M946=\"\",\"\",IFERROR(VLOOKUP($M946,PartnerSearch!B$2:G$16000,6,0),\"--\"))","v":""},null,"","","",""]
[null,null,null,null,null,null,null,null,null,null,null,null,"",{"$f":"IF($M947=\"\",\"\",IFERROR(VLOOKUP($M947,PartnerSearch!B$2:G$16000,6,0),\"--\"))","v":""},null,"","","",""]
[null,null,null,null,null,null,null,null,null,null,null,null,"",{"$f":"IF($M948=\"\",\"\",IFERROR(VLOOKUP($M948,PartnerSearch!B$2:G$16000,6,0),\"--\"))","v":""},null,"","","",""]
[null,null,null,null,null,null,null,null,null,null,null,null,"",{"$f":"IF($M949=\"\",\"\",IFERROR(VLOOKUP($M949,PartnerSearch!B$2:G$16000,6,0),\"--\"))","v":""},null,"","","",""]
[null,null,null,null,null,null,null,null,null,null,null,null,"",{"$f":"IF($M950=\"\",\"\",IFERROR(VLOOKUP($M950,PartnerSearch!B$2:G$16000,6,0),\"--\"))","v":""},null,"","","",""]
[null,null,null,null,null,null,null,null,null,null,null,null,"",{"$f":"IF($M951=\"\",\"\",IFERROR(VLOOKUP($M951,PartnerSearch!B$2:G$16000,6,0),\"--\"))","v":""},null,"","","",""]
[null,null,null,null,null,null,null,null,null,null,null,null,"",{"$f":"IF($M952=\"\",\"\",IFERROR(VLOOKUP($M952,PartnerSearch!B$2:G$16000,6,0),\"--\"))","v":""},null,"","","",""]
[null,null,null,null,null,null,null,null,null,null,null,null,"",{"$f":"IF($M953=\"\",\"\",IFERROR(VLOOKUP($M953,PartnerSearch!B$2:G$16000,6,0),\"--\"))","v":""},null,"","","",""]
[null,null,null,null,null,null,null,null,null,null,null,null,"",{"$f":"IF($M954=\"\",\"\",IFERROR(VLOOKUP($M954,PartnerSearch!B$2:G$16000,6,0),\"--\"))","v":""},null,"","","",""]
[null,null,null,null,null,null,null,null,null,null,null,null,"",{"$f":"IF($M955=\"\",\"\",IFERROR(VLOOKUP($M955,PartnerSearch!B$2:G$16000,6,0),\"--\"))","v":""},null,"","","",""]
[null,null,null,null,null,null,null,null,null,null,null,null,"",{"$f":"IF($M956=\"\",\"\",IFERROR(VLOOKUP($M956,PartnerSearch!B$2:G$16000,6,0),\"--\"))","v":""},null,"","","",""]
[null,null,null,null,null,null,null,null,null,null,null,null,"",{"$f":"IF($M957=\"\",\"\",IFERROR(VLOOKUP($M957,PartnerSearch!B$2:G$16000,6,0),\"--\"))","v":""},null,"","","",""]
[null,null,null,null,null,null,null,null,null,null,null,null,"",{"$f":"IF($M958=\"\",\"\",IFERROR(VLOOKUP($M958,PartnerSearch!B$2:G$16000,6,0),\"--\"))","v":""},null,"","","",""]
[null,null,null,null,null,null,null,null,null,null,null,null,"",{"$f":"IF($M959=\"\",\"\",IFERROR(VLOOKUP($M959,PartnerSearch!B$2:G$16000,6,0),\"--\"))","v":""},null,"","","",""]
[null,null,null,null,null,null,null,null,null,null,null,null,"",{"$f":"IF($M960=\"\",\"\",IFERROR(VLOOKUP($M960,PartnerSearch!B$2:G$16000,6,0),\"--\"))","v":""},null,"","","",""]
[null,null,null,null,null,null,null,null,null,null,null,null,"",{"$f":"IF($M961=\"\",\"\",IFERROR(VLOOKUP($M961,PartnerSearch!B$2:G$16000,6,0),\"--\"))","v":""},null,"","","",""]
[null,null,null,null,null,null,null,null,null,null,null,null,"",{"$f":"IF($M962=\"\",\"\",IFERROR(VLOOKUP($M962,PartnerSearch!B$2:G$16000,6,0),\"--\"))","v":""},null,"","","",""]
[null,null,null,null,null,null,null,null,null,null,null,null,{"$f":"TRIM(SUBSTITUTE(SUBSTITUTE(SUBSTITUTE(SUBSTITUTE(SUBSTITUTE(SUBSTITUTE(SUBSTITUTE(SUBSTITUTE(SUBSTITUTE(SUBSTITUTE(SUBSTITUTE(SUBSTITUTE(SUBSTITUTE(SUBSTITUTE(E963,\"00000 \",\"\"),\" (Local)\",\"\"),\" (Tribal)\",\"\"),\" (State)\",\"\"),\" (Regional)\",\"\"),\" (Federal/National)\",\"\"),\" (International)\",\"\"),\" (Unknown)\",\"\"),\" (Academic Institution)\",\"\"),\" (Government)\",\"\"),\" (Industry/Business)\",\"\"),\" (NGO)\",\"\"),\" (Other)\",\"\"),\" (Sea Grant Program)\",\"\"))","v":""},{"$f":"IF($M963=\"\",\"\",IFERROR(VLOOKUP($M963,PartnerSearch!B$2:G$16000,6,0),\"--\"))","v":""},null,{"$f":"IF(E963=\"\",\"\",IF(LEFT(E963&\"x\",5)=\"00000\",\"\",IF(N963=\"--\",\"NO\",\"yes\")))","v":""},{"$f":"IF(LEFT(E963&\"x\",5)<>\"00000\",\"\",IF(N963=\"--\",\"yes\",\"NO\"))","v":""},{"$f":"IF(Q963=\"\",\"\",IF((ISERROR(SEARCH(\"(Federal/National)\",E963))*1+ISERROR(SEARCH(\"(International)\",E963))*1+ISERROR(SEARCH(\"(Local)\",E963))*1+ISERROR(SEARCH(\"(State)\",E963))*1+ISERROR(SEARCH(\"(Regional)\",E963))*1+ISERROR(SEARCH(\"(Tribal)\",E963))*1+ISERROR(SEARCH(\"(Unknown) (\",E963))*1)=6,\"yes\",\"NO\"))","v":""},{"$f":"IF(Q963=\"\",\"\",IF(OR(NOT(ISERROR(SEARCH(\"(Academic Institution)\",E963))),NOT(ISERROR(SEARCH(\"(Government)\",E963))),NOT(ISERROR(SEARCH(\"(Industry/Business)\",E963))),NOT(ISERROR(SEARCH(\"(NGO)\",E963))),NOT(ISERROR(SEARCH(\"(Sea Grant Program)\",E963))),NOT(ISERROR(SEARCH(\"(Other)\",E963))),NOT(AND(NOT(ISERROR(SEARCH(\"(Unknown)\",E963))),(ISERROR(SEARCH(\") (Unknown)\",E963)))))),\"yes\",\"NO\"))","v":""}]
[null,null,null,null,null,null,null,null,null,null,null,null,"",{"$f":"IF($M964=\"\",\"\",IFERROR(VLOOKUP($M964,PartnerSearch!B$2:G$16000,6,0),\"--\"))","v":""},null,"","","",""]
[null,null,null,null,null,null,null,null,null,null,null,null,"",{"$f":"IF($M965=\"\",\"\",IFERROR(VLOOKUP($M965,PartnerSearch!B$2:G$16000,6,0),\"--\"))","v":""},null,"","","",""]
[null,null,null,null,null,null,null,null,null,null,null,null,"",{"$f":"IF($M966=\"\",\"\",IFERROR(VLOOKUP($M966,PartnerSearch!B$2:G$16000,6,0),\"--\"))","v":""},null,"","","",""]
[null,null,null,null,null,null,null,null,null,null,null,null,"",{"$f":"IF($M967=\"\",\"\",IFERROR(VLOOKUP($M967,PartnerSearch!B$2:G$16000,6,0),\"--\"))","v":""},null,"","","",""]
[null,null,null,null,null,null,null,null,null,null,null,null,"",{"$f":"IF($M968=\"\",\"\",IFERROR(VLOOKUP($M968,PartnerSearch!B$2:G$16000,6,0),\"--\"))","v":""},null,"","","",""]
[null,null,null,null,null,null,null,null,null,null,null,null,"",{"$f":"IF($M969=\"\",\"\",IFERROR(VLOOKUP($M969,PartnerSearch!B$2:G$16000,6,0),\"--\"))","v":""},null,"","","",""]
[null,null,null,null,null,null,null,null,null,null,null,null,"",{"$f":"IF($M970=\"\",\"\",IFERROR(VLOOKUP($M970,PartnerSearch!B$2:G$16000,6,0),\"--\"))","v":""},null,"","","",""]
[null,null,null,null,null,null,null,null,null,null,null,null,"",{"$f":"IF($M971=\"\",\"\",IFERROR(VLOOKUP($M971,PartnerSearch!B$2:G$16000,6,0),\"--\"))","v":""},null,"","","",""]
[null,null,null,null,null,null,null,null,null,null,null,null,"",{"$f":"IF($M972=\"\",\"\",IFERROR(VLOOKUP($M972,PartnerSearch!B$2:G$16000,6,0),\"--\"))","v":""},null,"","","",""]
[null,null,null,null,null,null,null,null,null,null,null,null,"",{"$f":"IF($M973=\"\",\"\",IFERROR(VLOOKUP($M973,PartnerSearch!B$2:G$16000,6,0),\"--\"))","v":""},null,"","","",""]
[null,null,null,null,null,null,null,null,null,null,null,null,"",{"$f":"IF($M974=\"\",\"\",IFERROR(VLOOKUP($M974,PartnerSearch!B$2:G$16000,6,0),\"--\"))","v":""},null,"","","",""]
[null,null,null,null,null,null,null,null,null,null,null,null,"",{"$f":"IF($M975=\"\",\"\",IFERROR(VLOOKUP($M975,PartnerSearch!B$2:G$16000,6,0),\"--\"))","v":""},null,"","","",""]
[null,null,null,null,null,null,null,null,null,null,null,null,"",{"$f":"IF($M976=\"\",\"\",IFERROR(VLOOKUP($M976,PartnerSearch!B$2:G$16000,6,0),\"--\"))","v":""},null,"","","",""]
[null,null,null,null,null,null,null,null,null,null,null,null,"",{"$f":"IF($M977=\"\",\"\",IFERROR(VLOOKUP($M977,PartnerSearch!B$2:G$16000,6,0),\"--\"))","v":""},null,"","","",""]
[null,null,null,null,null,null,null,null,null,null,null,null,"",{"$f":"IF($M978=\"\",\"\",IFERROR(VLOOKUP($M978,PartnerSearch!B$2:G$16000,6,0),\"--\"))","v":""},null,"","","",""]
[null,null,null,null,null,null,null,null,null,null,null,null,"",{"$f":"IF($M979=\"\",\"\",IFERROR(VLOOKUP($M979,PartnerSearch!B$2:G$16000,6,0),\"--\"))","v":""},null,"","","",""]
[null,null,null,null,null,null,null,null,null,null,null,null,"",{"$f":"IF($M980=\"\",\"\",IFERROR(VLOOKUP($M980,PartnerSearch!B$2:G$16000,6,0),\"--\"))","v":""},null,"","","",""]
[null,null,null,null,null,null,null,null,null,null,null,null,"",{"$f":"IF($M981=\"\",\"\",IFERROR(VLOOKUP($M981,PartnerSearch!B$2:G$16000,6,0),\"--\"))","v":""},null,"","","",""]
[null,null,null,null,null,null,null,null,null,null,null,null,"",{"$f":"IF($M982=\"\",\"\",IFERROR(VLOOKUP($M982,PartnerSearch!B$2:G$16000,6,0),\"--\"))","v":""},null,"","","",""]
[null,null,null,null,null,null,null,null,null,null,null,null,"",{"$f":"IF($M983=\"\",\"\",IFERROR(VLOOKUP($M983,PartnerSearch!B$2:G$16000,6,0),\"--\"))","v":""},null,"","","",""]
[null,null,null,null,null,null,null,null,null,null,null,null,"",{"$f":"IF($M984=\"\",\"\",IFERROR(VLOOKUP($M984,PartnerSearch!B$2:G$16000,6,0),\"--\"))","v":""},null,"","","",""]
[null,null,null,null,null,null,null,null,null,null,null,null,"",{"$f":"IF($M985=\"\",\"\",IFERROR(VLOOKUP($M985,PartnerSearch!B$2:G$16000,6,0),\"--\"))","v":""},null,"","","",""]
[null,null,null,null,null,null,null,null,null,null,null,null,"",{"$f":"IF($M986=\"\",\"\",IFERROR(VLOOKUP($M986,PartnerSearch!B$2:G$16000,6,0),\"--\"))","v":""},null,"","","",""]
[null,null,null,null,null,null,null,null,null,null,null,null,"",{"$f":"IF($M987=\"\",\"\",IFERROR(VLOOKUP($M987,PartnerSearch!B$2:G$16000,6,0),\"--\"))","v":""},null,"","","",""]
[null,null,null,null,null,null,null,null,null,null,null,null,"",{"$f":"IF($M988=\"\",\"\",IFERROR(VLOOKUP($M988,PartnerSearch!B$2:G$16000,6,0),\"--\"))","v":""},null,"","","",""]
[null,null,null,null,null,null,null,null,null,null,null,null,"",{"$f":"IF($M989=\"\",\"\",IFERROR(VLOOKUP($M989,PartnerSearch!B$2:G$16000,6,0),\"--\"))","v":""},null,"","","",""]
[null,null,null,null,null,null,null,null,null,null,null,null,"",{"$f":"IF($M990=\"\",\"\",IFERROR(VLOOKUP($M990,PartnerSearch!B$2:G$16000,6,0),\"--\"))","v":""},null,"","","",""]
[null,null,null,null,null,null,null,null,null,null,null,null,"",{"$f":"IF($M991=\"\",\"\",IFERROR(VLOOKUP($M991,PartnerSearch!B$2:G$16000,6,0),\"--\"))","v":""},null,"","","",""]
[null,null,null,null,null,null,null,null,null,null,null,null,"",{"$f":"IF($M992=\"\",\"\",IFERROR(VLOOKUP($M992,PartnerSearch!B$2:G$16000,6,0),\"--\"))","v":""},null,"","","",""]
[null,null,null,null,null,null,null,null,null,null,null,null,"",{"$f":"IF($M993=\"\",\"\",IFERROR(VLOOKUP($M993,PartnerSearch!B$2:G$16000,6,0),\"--\"))","v":""},null,"","","",""]
[null,null,null,null,null,null,null,null,null,null,null,null,"",{"$f":"IF($M994=\"\",\"\",IFERROR(VLOOKUP($M994,PartnerSearch!B$2:G$16000,6,0),\"--\"))","v":""},null,"","","",""]
[null,null,null,null,null,null,null,null,null,null,null,null,"",{"$f":"IF($M995=\"\",\"\",IFERROR(VLOOKUP($M995,PartnerSearch!B$2:G$16000,6,0),\"--\"))","v":""},null,"","","",""]
[null,null,null,null,null,null,null,null,null,null,null,null,"",{"$f":"IF($M996=\"\",\"\",IFERROR(VLOOKUP($M996,PartnerSearch!B$2:G$16000,6,0),\"--\"))","v":""},null,"","","",""]
[null,null,null,null,null,null,null,null,null,null,null,null,"",{"$f":"IF($M997=\"\",\"\",IFERROR(VLOOKUP($M997,PartnerSearch!B$2:G$16000,6,0),\"--\"))","v":""},null,"","","",""]
[null,null,null,null,null,null,null,null,null,null,null,null,"",{"$f":"IF($M998=\"\",\"\",IFERROR(VLOOKUP($M998,PartnerSearch!B$2:G$16000,6,0),\"--\"))","v":""},null,"","","",""]
[null,null,null,null,null,null,null,null,null,null,null,null,"",{"$f":"IF($M999=\"\",\"\",IFERROR(VLOOKUP($M999,PartnerSearch!B$2:G$16000,6,0),\"--\"))","v":""},null,"","","",""]
[null,null,null,null,null,null,null,null,null,null,null,null,"",{"$f":"IF($M1000=\"\",\"\",IFERROR(VLOOKUP($M1000,PartnerSearch!B$2:G$16000,6,0),\"--\"))","v":""},null,"","","",""]
[null,null,null,null,null,null,null,null,null,null,null,null,"",{"$f":"IF($M1001=\"\",\"\",IFERROR(VLOOKUP($M1001,PartnerSearch!B$2:G$16000,6,0),\"--\"))","v":""},null,"","","",""]
[null,null,null,null,null,null,null,null,null,null,null,null,"",{"$f":"IF($M1002=\"\",\"\",IFERROR(VLOOKUP($M1002,PartnerSearch!B$2:G$16000,6,0),\"--\"))","v":""},null,"","","",""]
[null,null,null,null,null,null,null,null,null,null,null,null,"",{"$f":"IF($M1003=\"\",\"\",IFERROR(VLOOKUP($M1003,PartnerSearch!B$2:G$16000,6,0),\"--\"))","v":""},null,"","","",""]
[null,null,null,null,null,null,null,null,null,null,null,null,"",{"$f":"IF($M1004=\"\",\"\",IFERROR(VLOOKUP($M1004,PartnerSearch!B$2:G$16000,6,0),\"--\"))","v":""},null,"","","",""]
[null,null,null,null,null,null,null,null,null,null,null,null,"",{"$f":"IF($M1005=\"\",\"\",IFERROR(VLOOKUP($M1005,PartnerSearch!B$2:G$16000,6,0),\"--\"))","v":""},null,"","","",""]
[null,null,null,null,null,null,null,null,null,null,null,null,"",{"$f":"IF($M1006=\"\",\"\",IFERROR(VLOOKUP($M1006,PartnerSearch!B$2:G$16000,6,0),\"--\"))","v":""},null,"","","",""]
[null,null,null,null,null,null,null,null,null,null,null,null,"",{"$f":"IF($M1007=\"\",\"\",IFERROR(VLOOKUP($M1007,PartnerSearch!B$2:G$16000,6,0),\"--\"))","v":""},null,"","","",""]
[null,null,null,null,null,null,null,null,null,null,null,null,"",{"$f":"IF($M1008=\"\",\"\",IFERROR(VLOOKUP($M1008,PartnerSearch!B$2:G$16000,6,0),\"--\"))","v":""},null,"","","",""]
[null,null,null,null,null,null,null,null,null,null,null,null,"",{"$f":"IF($M1009=\"\",\"\",IFERROR(VLOOKUP($M1009,PartnerSearch!B$2:G$16000,6,0),\"--\"))","v":""},null,"","","",""]
[null,null,null,null,null,null,null,null,null,null,null,null,"",{"$f":"IF($M1010=\"\",\"\",IFERROR(VLOOKUP($M1010,PartnerSearch!B$2:G$16000,6,0),\"--\"))","v":""},null,"","","",""]
[null,null,null,null,null,null,null,null,null,null,null,null,"",{"$f":"IF($M1011=\"\",\"\",IFERROR(VLOOKUP($M1011,PartnerSearch!B$2:G$16000,6,0),\"--\"))","v":""},null,"","","",""]
[null,null,null,null,null,null,null,null,null,null,null,null,"",{"$f":"IF($M1012=\"\",\"\",IFERROR(VLOOKUP($M1012,PartnerSearch!B$2:G$16000,6,0),\"--\"))","v":""},null,"","","",""]
[null,null,null,null,null,null,null,null,null,null,null,null,"",{"$f":"IF($M1013=\"\",\"\",IFERROR(VLOOKUP($M1013,PartnerSearch!B$2:G$16000,6,0),\"--\"))","v":""},null,"","","",""]
[null,null,null,null,null,null,null,null,null,null,null,null,"",{"$f":"IF($M1014=\"\",\"\",IFERROR(VLOOKUP($M1014,PartnerSearch!B$2:G$16000,6,0),\"--\"))","v":""},null,"","","",""]
[null,null,null,null,null,null,null,null,null,null,null,null,"",{"$f":"IF($M1015=\"\",\"\",IFERROR(VLOOKUP($M1015,PartnerSearch!B$2:G$16000,6,0),\"--\"))","v":""},null,"","","",""]
[null,null,null,null,null,null,null,null,null,null,null,null,"",{"$f":"IF($M1016=\"\",\"\",IFERROR(VLOOKUP($M1016,PartnerSearch!B$2:G$16000,6,0),\"--\"))","v":""},null,"","","",""]
[null,null,null,null,null,null,null,null,null,null,null,null,"",{"$f":"IF($M1017=\"\",\"\",IFERROR(VLOOKUP($M1017,PartnerSearch!B$2:G$16000,6,0),\"--\"))","v":""},null,"","","",""]
[null,null,null,null,null,null,null,null,null,null,null,null,"",{"$f":"IF($M1018=\"\",\"\",IFERROR(VLOOKUP($M1018,PartnerSearch!B$2:G$16000,6,0),\"--\"))","v":""},null,"","","",""]
[null,null,null,null,null,null,null,null,null,null,null,null,"",{"$f":"IF($M1019=\"\",\"\",IFERROR(VLOOKUP($M1019,PartnerSearch!B$2:G$16000,6,0),\"--\"))","v":""},null,"","","",""]
[null,null,null,null,null,null,null,null,null,null,null,null,"",{"$f":"IF($M1020=\"\",\"\",IFERROR(VLOOKUP($M1020,PartnerSearch!B$2:G$16000,6,0),\"--\"))","v":""},null,"","","",""]
[null,null,null,null,null,null,null,null,null,null,null,null,"",{"$f":"IF($M1021=\"\",\"\",IFERROR(VLOOKUP($M1021,PartnerSearch!B$2:G$16000,6,0),\"--\"))","v":""},null,"","","",""]
[null,null,null,null,null,null,null,null,null,null,null,null,"",{"$f":"IF($M1022=\"\",\"\",IFERROR(VLOOKUP($M1022,PartnerSearch!B$2:G$16000,6,0),\"--\"))","v":""},null,"","","",""]
[null,null,null,null,null,null,null,null,null,null,null,null,"",{"$f":"IF($M1023=\"\",\"\",IFERROR(VLOOKUP($M1023,PartnerSearch!B$2:G$16000,6,0),\"--\"))","v":""},null,"","","",""]
[null,null,null,null,null,null,null,null,null,null,null,null,"",{"$f":"IF($M1024=\"\",\"\",IFERROR(VLOOKUP($M1024,PartnerSearch!B$2:G$16000,6,0),\"--\"))","v":""},null,"","","",""]
[null,null,null,null,null,null,null,null,null,null,null,null,"",{"$f":"IF($M1025=\"\",\"\",IFERROR(VLOOKUP($M1025,PartnerSearch!B$2:G$16000,6,0),\"--\"))","v":""},null,"","","",""]
[null,null,null,null,null,null,null,null,null,null,null,null,"",{"$f":"IF($M1026=\"\",\"\",IFERROR(VLOOKUP($M1026,PartnerSearch!B$2:G$16000,6,0),\"--\"))","v":""},null,"","","",""]
[null,null,null,null,null,null,null,null,null,null,null,null,{"$f":"TRIM(SUBSTITUTE(SUBSTITUTE(SUBSTITUTE(SUBSTITUTE(SUBSTITUTE(SUBSTITUTE(SUBSTITUTE(SUBSTITUTE(SUBSTITUTE(SUBSTITUTE(SUBSTITUTE(SUBSTITUTE(SUBSTITUTE(SUBSTITUTE(E1027,\"00000 \",\"\"),\" (Local)\",\"\"),\" (Tribal)\",\"\"),\" (State)\",\"\"),\" (Regional)\",\"\"),\" (Federal/National)\",\"\"),\" (International)\",\"\"),\" (Unknown)\",\"\"),\" (Academic Institution)\",\"\"),\" (Government)\",\"\"),\" (Industry/Business)\",\"\"),\" (NGO)\",\"\"),\" (Other)\",\"\"),\" (Sea Grant Program)\",\"\"))","v":""},{"$f":"IF($M1027=\"\",\"\",IFERROR(VLOOKUP($M1027,PartnerSearch!B$2:G$16000,6,0),\"--\"))","v":""},null,{"$f":"IF(E1027=\"\",\"\",IF(LEFT(E1027&\"x\",5)=\"00000\",\"\",IF(N1027=\"--\",\"NO\",\"yes\")))","v":""},{"$f":"IF(LEFT(E1027&\"x\",5)<>\"00000\",\"\",IF(N1027=\"--\",\"yes\",\"NO\"))","v":""},{"$f":"IF(Q1027=\"\",\"\",IF((ISERROR(SEARCH(\"(Federal/National)\",E1027))*1+ISERROR(SEARCH(\"(International)\",E1027))*1+ISERROR(SEARCH(\"(Local)\",E1027))*1+ISERROR(SEARCH(\"(State)\",E1027))*1+ISERROR(SEARCH(\"(Regional)\",E1027))*1+ISERROR(SEARCH(\"(Tribal)\",E1027))*1+ISERROR(SEARCH(\"(Unknown) (\",E1027))*1)=6,\"yes\",\"NO\"))","v":""},{"$f":"IF(Q1027=\"\",\"\",IF(OR(NOT(ISERROR(SEARCH(\"(Academic Institution)\",E1027))),NOT(ISERROR(SEARCH(\"(Government)\",E1027))),NOT(ISERROR(SEARCH(\"(Industry/Business)\",E1027))),NOT(ISERROR(SEARCH(\"(NGO)\",E1027))),NOT(ISERROR(SEARCH(\"(Sea Grant Program)\",E1027))),NOT(ISERROR(SEARCH(\"(Other)\",E1027))),NOT(AND(NOT(ISERROR(SEARCH(\"(Unknown)\",E1027))),(ISERROR(SEARCH(\") (Unknown)\",E1027)))))),\"yes\",\"NO\"))","v":""}]
[null,null,null,null,null,null,null,null,null,null,null,null,"",{"$f":"IF($M1028=\"\",\"\",IFERROR(VLOOKUP($M1028,PartnerSearch!B$2:G$16000,6,0),\"--\"))","v":""},null,"","","",""]
[null,null,null,null,null,null,null,null,null,null,null,null,"",{"$f":"IF($M1029=\"\",\"\",IFERROR(VLOOKUP($M1029,PartnerSearch!B$2:G$16000,6,0),\"--\"))","v":""},null,"","","",""]
[null,null,null,null,null,null,null,null,null,null,null,null,"",{"$f":"IF($M1030=\"\",\"\",IFERROR(VLOOKUP($M1030,PartnerSearch!B$2:G$16000,6,0),\"--\"))","v":""},null,"","","",""]
[null,null,null,null,null,null,null,null,null,null,null,null,"",{"$f":"IF($M1031=\"\",\"\",IFERROR(VLOOKUP($M1031,PartnerSearch!B$2:G$16000,6,0),\"--\"))","v":""},null,"","","",""]
[null,null,null,null,null,null,null,null,null,null,null,null,"",{"$f":"IF($M1032=\"\",\"\",IFERROR(VLOOKUP($M1032,PartnerSearch!B$2:G$16000,6,0),\"--\"))","v":""},null,"","","",""]
[null,null,null,null,null,null,null,null,null,null,null,null,"",{"$f":"IF($M1033=\"\",\"\",IFERROR(VLOOKUP($M1033,PartnerSearch!B$2:G$16000,6,0),\"--\"))","v":""},null,"","","",""]
[null,null,null,null,null,null,null,null,null,null,null,null,"",{"$f":"IF($M1034=\"\",\"\",IFERROR(VLOOKUP($M1034,PartnerSearch!B$2:G$16000,6,0),\"--\"))","v":""},null,"","","",""]
[null,null,null,null,null,null,null,null,null,null,null,null,"",{"$f":"IF($M1035=\"\",\"\",IFERROR(VLOOKUP($M1035,PartnerSearch!B$2:G$16000,6,0),\"--\"))","v":""},null,"","","",""]
[null,null,null,null,null,null,null,null,null,null,null,null,"",{"$f":"IF($M1036=\"\",\"\",IFERROR(VLOOKUP($M1036,PartnerSearch!B$2:G$16000,6,0),\"--\"))","v":""},null,"","","",""]
[null,null,null,null,null,null,null,null,null,null,null,null,"",{"$f":"IF($M1037=\"\",\"\",IFERROR(VLOOKUP($M1037,PartnerSearch!B$2:G$16000,6,0),\"--\"))","v":""},null,"","","",""]
[null,null,null,null,null,null,null,null,null,null,null,null,"",{"$f":"IF($M1038=\"\",\"\",IFERROR(VLOOKUP($M1038,PartnerSearch!B$2:G$16000,6,0),\"--\"))","v":""},null,"","","",""]
[null,null,null,null,null,null,null,null,null,null,null,null,"",{"$f":"IF($M1039=\"\",\"\",IFERROR(VLOOKUP($M1039,PartnerSearch!B$2:G$16000,6,0),\"--\"))","v":""},null,"","","",""]
[null,null,null,null,null,null,null,null,null,null,null,null,"",{"$f":"IF($M1040=\"\",\"\",IFERROR(VLOOKUP($M1040,PartnerSearch!B$2:G$16000,6,0),\"--\"))","v":""},null,"","","",""]
[null,null,null,null,null,null,null,null,null,null,null,null,"",{"$f":"IF($M1041=\"\",\"\",IFERROR(VLOOKUP($M1041,PartnerSearch!B$2:G$16000,6,0),\"--\"))","v":""},null,"","","",""]
[null,null,null,null,null,null,null,null,null,null,null,null,"",{"$f":"IF($M1042=\"\",\"\",IFERROR(VLOOKUP($M1042,PartnerSearch!B$2:G$16000,6,0),\"--\"))","v":""},null,"","","",""]
[null,null,null,null,null,null,null,null,null,null,null,null,"",{"$f":"IF($M1043=\"\",\"\",IFERROR(VLOOKUP($M1043,PartnerSearch!B$2:G$16000,6,0),\"--\"))","v":""},null,"","","",""]
[null,null,null,null,null,null,null,null,null,null,null,null,"",{"$f":"IF($M1044=\"\",\"\",IFERROR(VLOOKUP($M1044,PartnerSearch!B$2:G$16000,6,0),\"--\"))","v":""},null,"","","",""]
[null,null,null,null,null,null,null,null,null,null,null,null,"",{"$f":"IF($M1045=\"\",\"\",IFERROR(VLOOKUP($M1045,PartnerSearch!B$2:G$16000,6,0),\"--\"))","v":""},null,"","","",""]
[null,null,null,null,null,null,null,null,null,null,null,null,"",{"$f":"IF($M1046=\"\",\"\",IFERROR(VLOOKUP($M1046,PartnerSearch!B$2:G$16000,6,0),\"--\"))","v":""},null,"","","",""]
[null,null,null,null,null,null,null,null,null,null,null,null,"",{"$f":"IF($M1047=\"\",\"\",IFERROR(VLOOKUP($M1047,PartnerSearch!B$2:G$16000,6,0),\"--\"))","v":""},null,"","","",""]
[null,null,null,null,null,null,null,null,null,null,null,null,"",{"$f":"IF($M1048=\"\",\"\",IFERROR(VLOOKUP($M1048,PartnerSearch!B$2:G$16000,6,0),\"--\"))","v":""},null,"","","",""]
[null,null,null,null,null,null,null,null,null,null,null,null,"",{"$f":"IF($M1049=\"\",\"\",IFERROR(VLOOKUP($M1049,PartnerSearch!B$2:G$16000,6,0),\"--\"))","v":""},null,"","","",""]
[null,null,null,null,null,null,null,null,null,null,null,null,"",{"$f":"IF($M1050=\"\",\"\",IFERROR(VLOOKUP($M1050,PartnerSearch!B$2:G$16000,6,0),\"--\"))","v":""},null,"","","",""]
[null,null,null,null,null,null,null,null,null,null,null,null,"",{"$f":"IF($M1051=\"\",\"\",IFERROR(VLOOKUP($M1051,PartnerSearch!B$2:G$16000,6,0),\"--\"))","v":""},null,"","","",""]
[null,null,null,null,null,null,null,null,null,null,null,null,"",{"$f":"IF($M1052=\"\",\"\",IFERROR(VLOOKUP($M1052,PartnerSearch!B$2:G$16000,6,0),\"--\"))","v":""},null,"","","",""]
[null,null,null,null,null,null,null,null,null,null,null,null,"",{"$f":"IF($M1053=\"\",\"\",IFERROR(VLOOKUP($M1053,PartnerSearch!B$2:G$16000,6,0),\"--\"))","v":""},null,"","","",""]
[null,null,null,null,null,null,null,null,null,null,null,null,"",{"$f":"IF($M1054=\"\",\"\",IFERROR(VLOOKUP($M1054,PartnerSearch!B$2:G$16000,6,0),\"--\"))","v":""},null,"","","",""]
[null,null,null,null,null,null,null,null,null,null,null,null,"",{"$f":"IF($M1055=\"\",\"\",IFERROR(VLOOKUP($M1055,PartnerSearch!B$2:G$16000,6,0),\"--\"))","v":""},null,"","","",""]
[null,null,null,null,null,null,null,null,null,null,null,null,"",{"$f":"IF($M1056=\"\",\"\",IFERROR(VLOOKUP($M1056,PartnerSearch!B$2:G$16000,6,0),\"--\"))","v":""},null,"","","",""]
[null,null,null,null,null,null,null,null,null,null,null,null,"",{"$f":"IF($M1057=\"\",\"\",IFERROR(VLOOKUP($M1057,PartnerSearch!B$2:G$16000,6,0),\"--\"))","v":""},null,"","","",""]
[null,null,null,null,null,null,null,null,null,null,null,null,"",{"$f":"IF($M1058=\"\",\"\",IFERROR(VLOOKUP($M1058,PartnerSearch!B$2:G$16000,6,0),\"--\"))","v":""},null,"","","",""]
[null,null,null,null,null,null,null,null,null,null,null,null,"",{"$f":"IF($M1059=\"\",\"\",IFERROR(VLOOKUP($M1059,PartnerSearch!B$2:G$16000,6,0),\"--\"))","v":""},null,"","","",""]
[null,null,null,null,null,null,null,null,null,null,null,null,"",{"$f":"IF($M1060=\"\",\"\",IFERROR(VLOOKUP($M1060,PartnerSearch!B$2:G$16000,6,0),\"--\"))","v":""},null,"","","",""]
[null,null,null,null,null,null,null,null,null,null,null,null,"",{"$f":"IF($M1061=\"\",\"\",IFERROR(VLOOKUP($M1061,PartnerSearch!B$2:G$16000,6,0),\"--\"))","v":""},null,"","","",""]
[null,null,null,null,null,null,null,null,null,null,null,null,"",{"$f":"IF($M1062=\"\",\"\",IFERROR(VLOOKUP($M1062,PartnerSearch!B$2:G$16000,6,0),\"--\"))","v":""},null,"","","",""]
[null,null,null,null,null,null,null,null,null,null,null,null,"",{"$f":"IF($M1063=\"\",\"\",IFERROR(VLOOKUP($M1063,PartnerSearch!B$2:G$16000,6,0),\"--\"))","v":""},null,"","","",""]
[null,null,null,null,null,null,null,null,null,null,null,null,"",{"$f":"IF($M1064=\"\",\"\",IFERROR(VLOOKUP($M1064,PartnerSearch!B$2:G$16000,6,0),\"--\"))","v":""},null,"","","",""]
[null,null,null,null,null,null,null,null,null,null,null,null,"",{"$f":"IF($M1065=\"\",\"\",IFERROR(VLOOKUP($M1065,PartnerSearch!B$2:G$16000,6,0),\"--\"))","v":""},null,"","","",""]
[null,null,null,null,null,null,null,null,null,null,null,null,"",{"$f":"IF($M1066=\"\",\"\",IFERROR(VLOOKUP($M1066,PartnerSearch!B$2:G$16000,6,0),\"--\"))","v":""},null,"","","",""]
[null,null,null,null,null,null,null,null,null,null,null,null,"",{"$f":"IF($M1067=\"\",\"\",IFERROR(VLOOKUP($M1067,PartnerSearch!B$2:G$16000,6,0),\"--\"))","v":""},null,"","","",""]
[null,null,null,null,null,null,null,null,null,null,null,null,"",{"$f":"IF($M1068=\"\",\"\",IFERROR(VLOOKUP($M1068,PartnerSearch!B$2:G$16000,6,0),\"--\"))","v":""},null,"","","",""]
[null,null,null,null,null,null,null,null,null,null,null,null,"",{"$f":"IF($M1069=\"\",\"\",IFERROR(VLOOKUP($M1069,PartnerSearch!B$2:G$16000,6,0),\"--\"))","v":""},null,"","","",""]
[null,null,null,null,null,null,null,null,null,null,null,null,"",{"$f":"IF($M1070=\"\",\"\",IFERROR(VLOOKUP($M1070,PartnerSearch!B$2:G$16000,6,0),\"--\"))","v":""},null,"","","",""]
[null,null,null,null,null,null,null,null,null,null,null,null,"",{"$f":"IF($M1071=\"\",\"\",IFERROR(VLOOKUP($M1071,PartnerSearch!B$2:G$16000,6,0),\"--\"))","v":""},null,"","","",""]
[null,null,null,null,null,null,null,null,null,null,null,null,"",{"$f":"IF($M1072=\"\",\"\",IFERROR(VLOOKUP($M1072,PartnerSearch!B$2:G$16000,6,0),\"--\"))","v":""},null,"","","",""]
[null,null,null,null,null,null,null,null,null,null,null,null,"",{"$f":"IF($M1073=\"\",\"\",IFERROR(VLOOKUP($M1073,PartnerSearch!B$2:G$16000,6,0),\"--\"))","v":""},null,"","","",""]
[null,null,null,null,null,null,null,null,null,null,null,null,"",{"$f":"IF($M1074=\"\",\"\",IFERROR(VLOOKUP($M1074,PartnerSearch!B$2:G$16000,6,0),\"--\"))","v":""},null,"","","",""]
[null,null,null,null,null,null,null,null,null,null,null,null,"",{"$f":"IF($M1075=\"\",\"\",IFERROR(VLOOKUP($M1075,PartnerSearch!B$2:G$16000,6,0),\"--\"))","v":""},null,"","","",""]
[null,null,null,null,null,null,null,null,null,null,null,null,"",{"$f":"IF($M1076=\"\",\"\",IFERROR(VLOOKUP($M1076,PartnerSearch!B$2:G$16000,6,0),\"--\"))","v":""},null,"","","",""]
[null,null,null,null,null,null,null,null,null,null,null,null,"",{"$f":"IF($M1077=\"\",\"\",IFERROR(VLOOKUP($M1077,PartnerSearch!B$2:G$16000,6,0),\"--\"))","v":""},null,"","","",""]
[null,null,null,null,null,null,null,null,null,null,null,null,"",{"$f":"IF($M1078=\"\",\"\",IFERROR(VLOOKUP($M1078,PartnerSearch!B$2:G$16000,6,0),\"--\"))","v":""},null,"","","",""]
[null,null,null,null,null,null,null,null,null,null,null,null,"",{"$f":"IF($M1079=\"\",\"\",IFERROR(VLOOKUP($M1079,PartnerSearch!B$2:G$16000,6,0),\"--\"))","v":""},null,"","","",""]
[null,null,null,null,null,null,null,null,null,null,null,null,"",{"$f":"IF($M1080=\"\",\"\",IFERROR(VLOOKUP($M1080,PartnerSearch!B$2:G$16000,6,0),\"--\"))","v":""},null,"","","",""]
[null,null,null,null,null,null,null,null,null,null,null,null,"",{"$f":"IF($M1081=\"\",\"\",IFERROR(VLOOKUP($M1081,PartnerSearch!B$2:G$16000,6,0),\"--\"))","v":""},null,"","","",""]
[null,null,null,null,null,null,null,null,null,null,null,null,"",{"$f":"IF($M1082=\"\",\"\",IFERROR(VLOOKUP($M1082,PartnerSearch!B$2:G$16000,6,0),\"--\"))","v":""},null,"","","",""]
[null,null,null,null,null,null,null,null,null,null,null,null,"",{"$f":"IF($M1083=\"\",\"\",IFERROR(VLOOKUP($M1083,PartnerSearch!B$2:G$16000,6,0),\"--\"))","v":""},null,"","","",""]
[null,null,null,null,null,null,null,null,null,null,null,null,"",{"$f":"IF($M1084=\"\",\"\",IFERROR(VLOOKUP($M1084,PartnerSearch!B$2:G$16000,6,0),\"--\"))","v":""},null,"","","",""]
[null,null,null,null,null,null,null,null,null,null,null,null,"",{"$f":"IF($M1085=\"\",\"\",IFERROR(VLOOKUP($M1085,PartnerSearch!B$2:G$16000,6,0),\"--\"))","v":""},null,"","","",""]
[null,null,null,null,null,null,null,null,null,null,null,null,"",{"$f":"IF($M1086=\"\",\"\",IFERROR(VLOOKUP($M1086,PartnerSearch!B$2:G$16000,6,0),\"--\"))","v":""},null,"","","",""]
[null,null,null,null,null,null,null,null,null,null,null,null,"",{"$f":"IF($M1087=\"\",\"\",IFERROR(VLOOKUP($M1087,PartnerSearch!B$2:G$16000,6,0),\"--\"))","v":""},null,"","","",""]
[null,null,null,null,null,null,null,null,null,null,null,null,"",{"$f":"IF($M1088=\"\",\"\",IFERROR(VLOOKUP($M1088,PartnerSearch!B$2:G$16000,6,0),\"--\"))","v":""},null,"","","",""]
[null,null,null,null,null,null,null,null,null,null,null,null,"",{"$f":"IF($M1089=\"\",\"\",IFERROR(VLOOKUP($M1089,PartnerSearch!B$2:G$16000,6,0),\"--\"))","v":""},null,"","","",""]
[null,null,null,null,null,null,null,null,null,null,null,null,"",{"$f":"IF($M1090=\"\",\"\",IFERROR(VLOOKUP($M1090,PartnerSearch!B$2:G$16000,6,0),\"--\"))","v":""},null,"","","",""]
[null,null,null,null,null,null,null,null,null,null,null,null,{"$f":"TRIM(SUBSTITUTE(SUBSTITUTE(SUBSTITUTE(SUBSTITUTE(SUBSTITUTE(SUBSTITUTE(SUBSTITUTE(SUBSTITUTE(SUBSTITUTE(SUBSTITUTE(SUBSTITUTE(SUBSTITUTE(SUBSTITUTE(SUBSTITUTE(E1091,\"00000 \",\"\"),\" (Local)\",\"\"),\" (Tribal)\",\"\"),\" (State)\",\"\"),\" (Regional)\",\"\"),\" (Federal/National)\",\"\"),\" (International)\",\"\"),\" (Unknown)\",\"\"),\" (Academic Institution)\",\"\"),\" (Government)\",\"\"),\" (Industry/Business)\",\"\"),\" (NGO)\",\"\"),\" (Other)\",\"\"),\" (Sea Grant Program)\",\"\"))","v":""},{"$f":"IF($M1091=\"\",\"\",IFERROR(VLOOKUP($M1091,PartnerSearch!B$2:G$16000,6,0),\"--\"))","v":""},null,{"$f":"IF(E1091=\"\",\"\",IF(LEFT(E1091&\"x\",5)=\"00000\",\"\",IF(N1091=\"--\",\"NO\",\"yes\")))","v":""},{"$f":"IF(LEFT(E1091&\"x\",5)<>\"00000\",\"\",IF(N1091=\"--\",\"yes\",\"NO\"))","v":""},{"$f":"IF(Q1091=\"\",\"\",IF((ISERROR(SEARCH(\"(Federal/National)\",E1091))*1+ISERROR(SEARCH(\"(International)\",E1091))*1+ISERROR(SEARCH(\"(Local)\",E1091))*1+ISERROR(SEARCH(\"(State)\",E1091))*1+ISERROR(SEARCH(\"(Regional)\",E1091))*1+ISERROR(SEARCH(\"(Tribal)\",E1091))*1+ISERROR(SEARCH(\"(Unknown) (\",E1091))*1)=6,\"yes\",\"NO\"))","v":""},{"$f":"IF(Q1091=\"\",\"\",IF(OR(NOT(ISERROR(SEARCH(\"(Academic Institution)\",E1091))),NOT(ISERROR(SEARCH(\"(Government)\",E1091))),NOT(ISERROR(SEARCH(\"(Industry/Business)\",E1091))),NOT(ISERROR(SEARCH(\"(NGO)\",E1091))),NOT(ISERROR(SEARCH(\"(Sea Grant Program)\",E1091))),NOT(ISERROR(SEARCH(\"(Other)\",E1091))),NOT(AND(NOT(ISERROR(SEARCH(\"(Unknown)\",E1091))),(ISERROR(SEARCH(\") (Unknown)\",E1091)))))),\"yes\",\"NO\"))","v":""}]
[null,null,null,null,null,null,null,null,null,null,null,null,"",{"$f":"IF($M1092=\"\",\"\",IFERROR(VLOOKUP($M1092,PartnerSearch!B$2:G$16000,6,0),\"--\"))","v":""},null,"","","",""]
[null,null,null,null,null,null,null,null,null,null,null,null,"",{"$f":"IF($M1093=\"\",\"\",IFERROR(VLOOKUP($M1093,PartnerSearch!B$2:G$16000,6,0),\"--\"))","v":""},null,"","","",""]
[null,null,null,null,null,null,null,null,null,null,null,null,"",{"$f":"IF($M1094=\"\",\"\",IFERROR(VLOOKUP($M1094,PartnerSearch!B$2:G$16000,6,0),\"--\"))","v":""},null,"","","",""]
[null,null,null,null,null,null,null,null,null,null,null,null,"",{"$f":"IF($M1095=\"\",\"\",IFERROR(VLOOKUP($M1095,PartnerSearch!B$2:G$16000,6,0),\"--\"))","v":""},null,"","","",""]
[null,null,null,null,null,null,null,null,null,null,null,null,"",{"$f":"IF($M1096=\"\",\"\",IFERROR(VLOOKUP($M1096,PartnerSearch!B$2:G$16000,6,0),\"--\"))","v":""},null,"","","",""]
[null,null,null,null,null,null,null,null,null,null,null,null,"",{"$f":"IF($M1097=\"\",\"\",IFERROR(VLOOKUP($M1097,PartnerSearch!B$2:G$16000,6,0),\"--\"))","v":""},null,"","","",""]
[null,null,null,null,null,null,null,null,null,null,null,null,"",{"$f":"IF($M1098=\"\",\"\",IFERROR(VLOOKUP($M1098,PartnerSearch!B$2:G$16000,6,0),\"--\"))","v":""},null,"","","",""]
[null,null,null,null,null,null,null,null,null,null,null,null,"",{"$f":"IF($M1099=\"\",\"\",IFERROR(VLOOKUP($M1099,PartnerSearch!B$2:G$16000,6,0),\"--\"))","v":""},null,"","","",""]
[null,null,null,null,null,null,null,null,null,null,null,null,"",{"$f":"IF($M1100=\"\",\"\",IFERROR(VLOOKUP($M1100,PartnerSearch!B$2:G$16000,6,0),\"--\"))","v":""},null,"","","",""]
[null,null,null,null,null,null,null,null,null,null,null,null,"",{"$f":"IF($M1101=\"\",\"\",IFERROR(VLOOKUP($M1101,PartnerSearch!B$2:G$16000,6,0),\"--\"))","v":""},null,"","","",""]
[null,null,null,null,null,null,null,null,null,null,null,null,"",{"$f":"IF($M1102=\"\",\"\",IFERROR(VLOOKUP($M1102,PartnerSearch!B$2:G$16000,6,0),\"--\"))","v":""},null,"","","",""]
[null,null,null,null,null,null,null,null,null,null,null,null,"",{"$f":"IF($M1103=\"\",\"\",IFERROR(VLOOKUP($M1103,PartnerSearch!B$2:G$16000,6,0),\"--\"))","v":""},null,"","","",""]
[null,null,null,null,null,null,null,null,null,null,null,null,"",{"$f":"IF($M1104=\"\",\"\",IFERROR(VLOOKUP($M1104,PartnerSearch!B$2:G$16000,6,0),\"--\"))","v":""},null,"","","",""]
[null,null,null,null,null,null,null,null,null,null,null,null,"",{"$f":"IF($M1105=\"\",\"\",IFERROR(VLOOKUP($M1105,PartnerSearch!B$2:G$16000,6,0),\"--\"))","v":""},null,"","","",""]
[null,null,null,null,null,null,null,null,null,null,null,null,"",{"$f":"IF($M1106=\"\",\"\",IFERROR(VLOOKUP($M1106,PartnerSearch!B$2:G$16000,6,0),\"--\"))","v":""},null,"","","",""]
[null,null,null,null,null,null,null,null,null,null,null,null,"",{"$f":"IF($M1107=\"\",\"\",IFERROR(VLOOKUP($M1107,PartnerSearch!B$2:G$16000,6,0),\"--\"))","v":""},null,"","","",""]
[null,null,null,null,null,null,null,null,null,null,null,null,"",{"$f":"IF($M1108=\"\",\"\",IFERROR(VLOOKUP($M1108,PartnerSearch!B$2:G$16000,6,0),\"--\"))","v":""},null,"","","",""]
[null,null,null,null,null,null,null,null,null,null,null,null,"",{"$f":"IF($M1109=\"\",\"\",IFERROR(VLOOKUP($M1109,PartnerSearch!B$2:G$16000,6,0),\"--\"))","v":""},null,"","","",""]
[null,null,null,null,null,null,null,null,null,null,null,null,"",{"$f":"IF($M1110=\"\",\"\",IFERROR(VLOOKUP($M1110,PartnerSearch!B$2:G$16000,6,0),\"--\"))","v":""},null,"","","",""]
[null,null,null,null,null,null,null,null,null,null,null,null,"",{"$f":"IF($M1111=\"\",\"\",IFERROR(VLOOKUP($M1111,PartnerSearch!B$2:G$16000,6,0),\"--\"))","v":""},null,"","","",""]
[null,null,null,null,null,null,null,null,null,null,null,null,"",{"$f":"IF($M1112=\"\",\"\",IFERROR(VLOOKUP($M1112,PartnerSearch!B$2:G$16000,6,0),\"--\"))","v":""},null,"","","",""]
[null,null,null,null,null,null,null,null,null,null,null,null,"",{"$f":"IF($M1113=\"\",\"\",IFERROR(VLOOKUP($M1113,PartnerSearch!B$2:G$16000,6,0),\"--\"))","v":""},null,"","","",""]
[null,null,null,null,null,null,null,null,null,null,null,null,"",{"$f":"IF($M1114=\"\",\"\",IFERROR(VLOOKUP($M1114,PartnerSearch!B$2:G$16000,6,0),\"--\"))","v":""},null,"","","",""]
[null,null,null,null,null,null,null,null,null,null,null,null,"",{"$f":"IF($M1115=\"\",\"\",IFERROR(VLOOKUP($M1115,PartnerSearch!B$2:G$16000,6,0),\"--\"))","v":""},null,"","","",""]
[null,null,null,null,null,null,null,null,null,null,null,null,"",{"$f":"IF($M1116=\"\",\"\",IFERROR(VLOOKUP($M1116,PartnerSearch!B$2:G$16000,6,0),\"--\"))","v":""},null,"","","",""]
[null,null,null,null,null,null,null,null,null,null,null,null,"",{"$f":"IF($M1117=\"\",\"\",IFERROR(VLOOKUP($M1117,PartnerSearch!B$2:G$16000,6,0),\"--\"))","v":""},null,"","","",""]
[null,null,null,null,null,null,null,null,null,null,null,null,"",{"$f":"IF($M1118=\"\",\"\",IFERROR(VLOOKUP($M1118,PartnerSearch!B$2:G$16000,6,0),\"--\"))","v":""},null,"","","",""]
[null,null,null,null,null,null,null,null,null,null,null,null,"",{"$f":"IF($M1119=\"\",\"\",IFERROR(VLOOKUP($M1119,PartnerSearch!B$2:G$16000,6,0),\"--\"))","v":""},null,"","","",""]
[null,null,null,null,null,null,null,null,null,null,null,null,"",{"$f":"IF($M1120=\"\",\"\",IFERROR(VLOOKUP($M1120,PartnerSearch!B$2:G$16000,6,0),\"--\"))","v":""},null,"","","",""]
[null,null,null,null,null,null,null,null,null,null,null,null,"",{"$f":"IF($M1121=\"\",\"\",IFERROR(VLOOKUP($M1121,PartnerSearch!B$2:G$16000,6,0),\"--\"))","v":""},null,"","","",""]
[null,null,null,null,null,null,null,null,null,null,null,null,"",{"$f":"IF($M1122=\"\",\"\",IFERROR(VLOOKUP($M1122,PartnerSearch!B$2:G$16000,6,0),\"--\"))","v":""},null,"","","",""]
[null,null,null,null,null,null,null,null,null,null,null,null,"",{"$f":"IF($M1123=\"\",\"\",IFERROR(VLOOKUP($M1123,PartnerSearch!B$2:G$16000,6,0),\"--\"))","v":""},null,"","","",""]
[null,null,null,null,null,null,null,null,null,null,null,null,"",{"$f":"IF($M1124=\"\",\"\",IFERROR(VLOOKUP($M1124,PartnerSearch!B$2:G$16000,6,0),\"--\"))","v":""},null,"","","",""]
[null,null,null,null,null,null,null,null,null,null,null,null,"",{"$f":"IF($M1125=\"\",\"\",IFERROR(VLOOKUP($M1125,PartnerSearch!B$2:G$16000,6,0),\"--\"))","v":""},null,"","","",""]
[null,null,null,null,null,null,null,null,null,null,null,null,"",{"$f":"IF($M1126=\"\",\"\",IFERROR(VLOOKUP($M1126,PartnerSearch!B$2:G$16000,6,0),\"--\"))","v":""},null,"","","",""]
[null,null,null,null,null,null,null,null,null,null,null,null,"",{"$f":"IF($M1127=\"\",\"\",IFERROR(VLOOKUP($M1127,PartnerSearch!B$2:G$16000,6,0),\"--\"))","v":""},null,"","","",""]
[null,null,null,null,null,null,null,null,null,null,null,null,"",{"$f":"IF($M1128=\"\",\"\",IFERROR(VLOOKUP($M1128,PartnerSearch!B$2:G$16000,6,0),\"--\"))","v":""},null,"","","",""]
[null,null,null,null,null,null,null,null,null,null,null,null,"",{"$f":"IF($M1129=\"\",\"\",IFERROR(VLOOKUP($M1129,PartnerSearch!B$2:G$16000,6,0),\"--\"))","v":""},null,"","","",""]
[null,null,null,null,null,null,null,null,null,null,null,null,"",{"$f":"IF($M1130=\"\",\"\",IFERROR(VLOOKUP($M1130,PartnerSearch!B$2:G$16000,6,0),\"--\"))","v":""},null,"","","",""]
[null,null,null,null,null,null,null,null,null,null,null,null,"",{"$f":"IF($M1131=\"\",\"\",IFERROR(VLOOKUP($M1131,PartnerSearch!B$2:G$16000,6,0),\"--\"))","v":""},null,"","","",""]
[null,null,null,null,null,null,null,null,null,null,null,null,"",{"$f":"IF($M1132=\"\",\"\",IFERROR(VLOOKUP($M1132,PartnerSearch!B$2:G$16000,6,0),\"--\"))","v":""},null,"","","",""]
[null,null,null,null,null,null,null,null,null,null,null,null,"",{"$f":"IF($M1133=\"\",\"\",IFERROR(VLOOKUP($M1133,PartnerSearch!B$2:G$16000,6,0),\"--\"))","v":""},null,"","","",""]
[null,null,null,null,null,null,null,null,null,null,null,null,"",{"$f":"IF($M1134=\"\",\"\",IFERROR(VLOOKUP($M1134,PartnerSearch!B$2:G$16000,6,0),\"--\"))","v":""},null,"","","",""]
[null,null,null,null,null,null,null,null,null,null,null,null,"",{"$f":"IF($M1135=\"\",\"\",IFERROR(VLOOKUP($M1135,PartnerSearch!B$2:G$16000,6,0),\"--\"))","v":""},null,"","","",""]
[null,null,null,null,null,null,null,null,null,null,null,null,"",{"$f":"IF($M1136=\"\",\"\",IFERROR(VLOOKUP($M1136,PartnerSearch!B$2:G$16000,6,0),\"--\"))","v":""},null,"","","",""]
[null,null,null,null,null,null,null,null,null,null,null,null,"",{"$f":"IF($M1137=\"\",\"\",IFERROR(VLOOKUP($M1137,PartnerSearch!B$2:G$16000,6,0),\"--\"))","v":""},null,"","","",""]
[null,null,null,null,null,null,null,null,null,null,null,null,"",{"$f":"IF($M1138=\"\",\"\",IFERROR(VLOOKUP($M1138,PartnerSearch!B$2:G$16000,6,0),\"--\"))","v":""},null,"","","",""]
[null,null,null,null,null,null,null,null,null,null,null,null,"",{"$f":"IF($M1139=\"\",\"\",IFERROR(VLOOKUP($M1139,PartnerSearch!B$2:G$16000,6,0),\"--\"))","v":""},null,"","","",""]
[null,null,null,null,null,null,null,null,null,null,null,null,"",{"$f":"IF($M1140=\"\",\"\",IFERROR(VLOOKUP($M1140,PartnerSearch!B$2:G$16000,6,0),\"--\"))","v":""},null,"","","",""]
[null,null,null,null,null,null,null,null,null,null,null,null,"",{"$f":"IF($M1141=\"\",\"\",IFERROR(VLOOKUP($M1141,PartnerSearch!B$2:G$16000,6,0),\"--\"))","v":""},null,"","","",""]
[null,null,null,null,null,null,null,null,null,null,null,null,"",{"$f":"IF($M1142=\"\",\"\",IFERROR(VLOOKUP($M1142,PartnerSearch!B$2:G$16000,6,0),\"--\"))","v":""},null,"","","",""]
[null,null,null,null,null,null,null,null,null,null,null,null,"",{"$f":"IF($M1143=\"\",\"\",IFERROR(VLOOKUP($M1143,PartnerSearch!B$2:G$16000,6,0),\"--\"))","v":""},null,"","","",""]
[null,null,null,null,null,null,null,null,null,null,null,null,"",{"$f":"IF($M1144=\"\",\"\",IFERROR(VLOOKUP($M1144,PartnerSearch!B$2:G$16000,6,0),\"--\"))","v":""},null,"","","",""]
[null,null,null,null,null,null,null,null,null,null,null,null,"",{"$f":"IF($M1145=\"\",\"\",IFERROR(VLOOKUP($M1145,PartnerSearch!B$2:G$16000,6,0),\"--\"))","v":""},null,"","","",""]
[null,null,null,null,null,null,null,null,null,null,null,null,"",{"$f":"IF($M1146=\"\",\"\",IFERROR(VLOOKUP($M1146,PartnerSearch!B$2:G$16000,6,0),\"--\"))","v":""},null,"","","",""]
[null,null,null,null,null,null,null,null,null,null,null,null,"",{"$f":"IF($M1147=\"\",\"\",IFERROR(VLOOKUP($M1147,PartnerSearch!B$2:G$16000,6,0),\"--\"))","v":""},null,"","","",""]
[null,null,null,null,null,null,null,null,null,null,null,null,"",{"$f":"IF($M1148=\"\",\"\",IFERROR(VLOOKUP($M1148,PartnerSearch!B$2:G$16000,6,0),\"--\"))","v":""},null,"","","",""]
[null,null,null,null,null,null,null,null,null,null,null,null,"",{"$f":"IF($M1149=\"\",\"\",IFERROR(VLOOKUP($M1149,PartnerSearch!B$2:G$16000,6,0),\"--\"))","v":""},null,"","","",""]
[null,null,null,null,null,null,null,null,null,null,null,null,"",{"$f":"IF($M1150=\"\",\"\",IFERROR(VLOOKUP($M1150,PartnerSearch!B$2:G$16000,6,0),\"--\"))","v":""},null,"","","",""]
[null,null,null,null,null,null,null,null,null,null,null,null,"",{"$f":"IF($M1151=\"\",\"\",IFERROR(VLOOKUP($M1151,PartnerSearch!B$2:G$16000,6,0),\"--\"))","v":""},null,"","","",""]
[null,null,null,null,null,null,null,null,null,null,null,null,"",{"$f":"IF($M1152=\"\",\"\",IFERROR(VLOOKUP($M1152,PartnerSearch!B$2:G$16000,6,0),\"--\"))","v":""},null,"","","",""]
[null,null,null,null,null,null,null,null,null,null,null,null,"",{"$f":"IF($M1153=\"\",\"\",IFERROR(VLOOKUP($M1153,PartnerSearch!B$2:G$16000,6,0),\"--\"))","v":""},null,"","","",""]
[null,null,null,null,null,null,null,null,null,null,null,null,"",{"$f":"IF($M1154=\"\",\"\",IFERROR(VLOOKUP($M1154,PartnerSearch!B$2:G$16000,6,0),\"--\"))","v":""},null,"","","",""]
[null,null,null,null,null,null,null,null,null,null,null,null,{"$f":"TRIM(SUBSTITUTE(SUBSTITUTE(SUBSTITUTE(SUBSTITUTE(SUBSTITUTE(SUBSTITUTE(SUBSTITUTE(SUBSTITUTE(SUBSTITUTE(SUBSTITUTE(SUBSTITUTE(SUBSTITUTE(SUBSTITUTE(SUBSTITUTE(E1155,\"00000 \",\"\"),\" (Local)\",\"\"),\" (Tribal)\",\"\"),\" (State)\",\"\"),\" (Regional)\",\"\"),\" (Federal/National)\",\"\"),\" (International)\",\"\"),\" (Unknown)\",\"\"),\" (Academic Institution)\",\"\"),\" (Government)\",\"\"),\" (Industry/Business)\",\"\"),\" (NGO)\",\"\"),\" (Other)\",\"\"),\" (Sea Grant Program)\",\"\"))","v":""},{"$f":"IF($M1155=\"\",\"\",IFERROR(VLOOKUP($M1155,PartnerSearch!B$2:G$16000,6,0),\"--\"))","v":""},null,{"$f":"IF(E1155=\"\",\"\",IF(LEFT(E1155&\"x\",5)=\"00000\",\"\",IF(N1155=\"--\",\"NO\",\"yes\")))","v":""},{"$f":"IF(LEFT(E1155&\"x\",5)<>\"00000\",\"\",IF(N1155=\"--\",\"yes\",\"NO\"))","v":""},{"$f":"IF(Q1155=\"\",\"\",IF((ISERROR(SEARCH(\"(Federal/National)\",E1155))*1+ISERROR(SEARCH(\"(International)\",E1155))*1+ISERROR(SEARCH(\"(Local)\",E1155))*1+ISERROR(SEARCH(\"(State)\",E1155))*1+ISERROR(SEARCH(\"(Regional)\",E1155))*1+ISERROR(SEARCH(\"(Tribal)\",E1155))*1+ISERROR(SEARCH(\"(Unknown) (\",E1155))*1)=6,\"yes\",\"NO\"))","v":""},{"$f":"IF(Q1155=\"\",\"\",IF(OR(NOT(ISERROR(SEARCH(\"(Academic Institution)\",E1155))),NOT(ISERROR(SEARCH(\"(Government)\",E1155))),NOT(ISERROR(SEARCH(\"(Industry/Business)\",E1155))),NOT(ISERROR(SEARCH(\"(NGO)\",E1155))),NOT(ISERROR(SEARCH(\"(Sea Grant Program)\",E1155))),NOT(ISERROR(SEARCH(\"(Other)\",E1155))),NOT(AND(NOT(ISERROR(SEARCH(\"(Unknown)\",E1155))),(ISERROR(SEARCH(\") (Unknown)\",E1155)))))),\"yes\",\"NO\"))","v":""}]
[null,null,null,null,null,null,null,null,null,null,null,null,"",{"$f":"IF($M1156=\"\",\"\",IFERROR(VLOOKUP($M1156,PartnerSearch!B$2:G$16000,6,0),\"--\"))","v":""},null,"","","",""]
[null,null,null,null,null,null,null,null,null,null,null,null,"",{"$f":"IF($M1157=\"\",\"\",IFERROR(VLOOKUP($M1157,PartnerSearch!B$2:G$16000,6,0),\"--\"))","v":""},null,"","","",""]
[null,null,null,null,null,null,null,null,null,null,null,null,"",{"$f":"IF($M1158=\"\",\"\",IFERROR(VLOOKUP($M1158,PartnerSearch!B$2:G$16000,6,0),\"--\"))","v":""},null,"","","",""]
[null,null,null,null,null,null,null,null,null,null,null,null,"",{"$f":"IF($M1159=\"\",\"\",IFERROR(VLOOKUP($M1159,PartnerSearch!B$2:G$16000,6,0),\"--\"))","v":""},null,"","","",""]
[null,null,null,null,null,null,null,null,null,null,null,null,"",{"$f":"IF($M1160=\"\",\"\",IFERROR(VLOOKUP($M1160,PartnerSearch!B$2:G$16000,6,0),\"--\"))","v":""},null,"","","",""]
[null,null,null,null,null,null,null,null,null,null,null,null,"",{"$f":"IF($M1161=\"\",\"\",IFERROR(VLOOKUP($M1161,PartnerSearch!B$2:G$16000,6,0),\"--\"))","v":""},null,"","","",""]
[null,null,null,null,null,null,null,null,null,null,null,null,"",{"$f":"IF($M1162=\"\",\"\",IFERROR(VLOOKUP($M1162,PartnerSearch!B$2:G$16000,6,0),\"--\"))","v":""},null,"","","",""]
[null,null,null,null,null,null,null,null,null,null,null,null,"",{"$f":"IF($M1163=\"\",\"\",IFERROR(VLOOKUP($M1163,PartnerSearch!B$2:G$16000,6,0),\"--\"))","v":""},null,"","","",""]
[null,null,null,null,null,null,null,null,null,null,null,null,"",{"$f":"IF($M1164=\"\",\"\",IFERROR(VLOOKUP($M1164,PartnerSearch!B$2:G$16000,6,0),\"--\"))","v":""},null,"","","",""]
[null,null,null,null,null,null,null,null,null,null,null,null,"",{"$f":"IF($M1165=\"\",\"\",IFERROR(VLOOKUP($M1165,PartnerSearch!B$2:G$16000,6,0),\"--\"))","v":""},null,"","","",""]
[null,null,null,null,null,null,null,null,null,null,null,null,"",{"$f":"IF($M1166=\"\",\"\",IFERROR(VLOOKUP($M1166,PartnerSearch!B$2:G$16000,6,0),\"--\"))","v":""},null,"","","",""]
[null,null,null,null,null,null,null,null,null,null,null,null,"",{"$f":"IF($M1167=\"\",\"\",IFERROR(VLOOKUP($M1167,PartnerSearch!B$2:G$16000,6,0),\"--\"))","v":""},null,"","","",""]
[null,null,null,null,null,null,null,null,null,null,null,null,"",{"$f":"IF($M1168=\"\",\"\",IFERROR(VLOOKUP($M1168,PartnerSearch!B$2:G$16000,6,0),\"--\"))","v":""},null,"","","",""]
[null,null,null,null,null,null,null,null,null,null,null,null,"",{"$f":"IF($M1169=\"\",\"\",IFERROR(VLOOKUP($M1169,PartnerSearch!B$2:G$16000,6,0),\"--\"))","v":""},null,"","","",""]
[null,null,null,null,null,null,null,null,null,null,null,null,"",{"$f":"IF($M1170=\"\",\"\",IFERROR(VLOOKUP($M1170,PartnerSearch!B$2:G$16000,6,0),\"--\"))","v":""},null,"","","",""]
[null,null,null,null,null,null,null,null,null,null,null,null,"",{"$f":"IF($M1171=\"\",\"\",IFERROR(VLOOKUP($M1171,PartnerSearch!B$2:G$16000,6,0),\"--\"))","v":""},null,"","","",""]
[null,null,null,null,null,null,null,null,null,null,null,null,"",{"$f":"IF($M1172=\"\",\"\",IFERROR(VLOOKUP($M1172,PartnerSearch!B$2:G$16000,6,0),\"--\"))","v":""},null,"","","",""]
[null,null,null,null,null,null,null,null,null,null,null,null,"",{"$f":"IF($M1173=\"\",\"\",IFERROR(VLOOKUP($M1173,PartnerSearch!B$2:G$16000,6,0),\"--\"))","v":""},null,"","","",""]
[null,null,null,null,null,null,null,null,null,null,null,null,"",{"$f":"IF($M1174=\"\",\"\",IFERROR(VLOOKUP($M1174,PartnerSearch!B$2:G$16000,6,0),\"--\"))","v":""},null,"","","",""]
[null,null,null,null,null,null,null,null,null,null,null,null,"",{"$f":"IF($M1175=\"\",\"\",IFERROR(VLOOKUP($M1175,PartnerSearch!B$2:G$16000,6,0),\"--\"))","v":""},null,"","","",""]
[null,null,null,null,null,null,null,null,null,null,null,null,"",{"$f":"IF($M1176=\"\",\"\",IFERROR(VLOOKUP($M1176,PartnerSearch!B$2:G$16000,6,0),\"--\"))","v":""},null,"","","",""]
[null,null,null,null,null,null,null,null,null,null,null,null,"",{"$f":"IF($M1177=\"\",\"\",IFERROR(VLOOKUP($M1177,PartnerSearch!B$2:G$16000,6,0),\"--\"))","v":""},null,"","","",""]
[null,null,null,null,null,null,null,null,null,null,null,null,"",{"$f":"IF($M1178=\"\",\"\",IFERROR(VLOOKUP($M1178,PartnerSearch!B$2:G$16000,6,0),\"--\"))","v":""},null,"","","",""]
[null,null,null,null,null,null,null,null,null,null,null,null,"",{"$f":"IF($M1179=\"\",\"\",IFERROR(VLOOKUP($M1179,PartnerSearch!B$2:G$16000,6,0),\"--\"))","v":""},null,"","","",""]
[null,null,null,null,null,null,null,null,null,null,null,null,"",{"$f":"IF($M1180=\"\",\"\",IFERROR(VLOOKUP($M1180,PartnerSearch!B$2:G$16000,6,0),\"--\"))","v":""},null,"","","",""]
[null,null,null,null,null,null,null,null,null,null,null,null,"",{"$f":"IF($M1181=\"\",\"\",IFERROR(VLOOKUP($M1181,PartnerSearch!B$2:G$16000,6,0),\"--\"))","v":""},null,"","","",""]
[null,null,null,null,null,null,null,null,null,null,null,null,"",{"$f":"IF($M1182=\"\",\"\",IFERROR(VLOOKUP($M1182,PartnerSearch!B$2:G$16000,6,0),\"--\"))","v":""},null,"","","",""]
[null,null,null,null,null,null,null,null,null,null,null,null,"",{"$f":"IF($M1183=\"\",\"\",IFERROR(VLOOKUP($M1183,PartnerSearch!B$2:G$16000,6,0),\"--\"))","v":""},null,"","","",""]
[null,null,null,null,null,null,null,null,null,null,null,null,"",{"$f":"IF($M1184=\"\",\"\",IFERROR(VLOOKUP($M1184,PartnerSearch!B$2:G$16000,6,0),\"--\"))","v":""},null,"","","",""]
[null,null,null,null,null,null,null,null,null,null,null,null,"",{"$f":"IF($M1185=\"\",\"\",IFERROR(VLOOKUP($M1185,PartnerSearch!B$2:G$16000,6,0),\"--\"))","v":""},null,"","","",""]
[null,null,null,null,null,null,null,null,null,null,null,null,"",{"$f":"IF($M1186=\"\",\"\",IFERROR(VLOOKUP($M1186,PartnerSearch!B$2:G$16000,6,0),\"--\"))","v":""},null,"","","",""]
[null,null,null,null,null,null,null,null,null,null,null,null,"",{"$f":"IF($M1187=\"\",\"\",IFERROR(VLOOKUP($M1187,PartnerSearch!B$2:G$16000,6,0),\"--\"))","v":""},null,"","","",""]
[null,null,null,null,null,null,null,null,null,null,null,null,"",{"$f":"IF($M1188=\"\",\"\",IFERROR(VLOOKUP($M1188,PartnerSearch!B$2:G$16000,6,0),\"--\"))","v":""},null,"","","",""]
[null,null,null,null,null,null,null,null,null,null,null,null,"",{"$f":"IF($M1189=\"\",\"\",IFERROR(VLOOKUP($M1189,PartnerSearch!B$2:G$16000,6,0),\"--\"))","v":""},null,"","","",""]
[null,null,null,null,null,null,null,null,null,null,null,null,"",{"$f":"IF($M1190=\"\",\"\",IFERROR(VLOOKUP($M1190,PartnerSearch!B$2:G$16000,6,0),\"--\"))","v":""},null,"","","",""]
[null,null,null,null,null,null,null,null,null,null,null,null,"",{"$f":"IF($M1191=\"\",\"\",IFERROR(VLOOKUP($M1191,PartnerSearch!B$2:G$16000,6,0),\"--\"))","v":""},null,"","","",""]
[null,null,null,null,null,null,null,null,null,null,null,null,"",{"$f":"IF($M1192=\"\",\"\",IFERROR(VLOOKUP($M1192,PartnerSearch!B$2:G$16000,6,0),\"--\"))","v":""},null,"","","",""]
[null,null,null,null,null,null,null,null,null,null,null,null,"",{"$f":"IF($M1193=\"\",\"\",IFERROR(VLOOKUP($M1193,PartnerSearch!B$2:G$16000,6,0),\"--\"))","v":""},null,"","","",""]
[null,null,null,null,null,null,null,null,null,null,null,null,"",{"$f":"IF($M1194=\"\",\"\",IFERROR(VLOOKUP($M1194,PartnerSearch!B$2:G$16000,6,0),\"--\"))","v":""},null,"","","",""]
[null,null,null,null,null,null,null,null,null,null,null,null,"",{"$f":"IF($M1195=\"\",\"\",IFERROR(VLOOKUP($M1195,PartnerSearch!B$2:G$16000,6,0),\"--\"))","v":""},null,"","","",""]
[null,null,null,null,null,null,null,null,null,null,null,null,"",{"$f":"IF($M1196=\"\",\"\",IFERROR(VLOOKUP($M1196,PartnerSearch!B$2:G$16000,6,0),\"--\"))","v":""},null,"","","",""]
[null,null,null,null,null,null,null,null,null,null,null,null,"",{"$f":"IF($M1197=\"\",\"\",IFERROR(VLOOKUP($M1197,PartnerSearch!B$2:G$16000,6,0),\"--\"))","v":""},null,"","","",""]
[null,null,null,null,null,null,null,null,null,null,null,null,"",{"$f":"IF($M1198=\"\",\"\",IFERROR(VLOOKUP($M1198,PartnerSearch!B$2:G$16000,6,0),\"--\"))","v":""},null,"","","",""]
[null,null,null,null,null,null,null,null,null,null,null,null,"",{"$f":"IF($M1199=\"\",\"\",IFERROR(VLOOKUP($M1199,PartnerSearch!B$2:G$16000,6,0),\"--\"))","v":""},null,"","","",""]
[null,null,null,null,null,null,null,null,null,null,null,null,"",{"$f":"IF($M1200=\"\",\"\",IFERROR(VLOOKUP($M1200,PartnerSearch!B$2:G$16000,6,0),\"--\"))","v":""},null,"","","",""]
[null,null,null,null,null,null,null,null,null,null,null,null,"",{"$f":"IF($M1201=\"\",\"\",IFERROR(VLOOKUP($M1201,PartnerSearch!B$2:G$16000,6,0),\"--\"))","v":""},null,"","","",""]
[null,null,null,null,null,null,null,null,null,null,null,null,"",{"$f":"IF($M1202=\"\",\"\",IFERROR(VLOOKUP($M1202,PartnerSearch!B$2:G$16000,6,0),\"--\"))","v":""},null,"","","",""]
[null,null,null,null,null,null,null,null,null,null,null,null,"",{"$f":"IF($M1203=\"\",\"\",IFERROR(VLOOKUP($M1203,PartnerSearch!B$2:G$16000,6,0),\"--\"))","v":""},null,"","","",""]
[null,null,null,null,null,null,null,null,null,null,null,null,"",{"$f":"IF($M1204=\"\",\"\",IFERROR(VLOOKUP($M1204,PartnerSearch!B$2:G$16000,6,0),\"--\"))","v":""},null,"","","",""]
[null,null,null,null,null,null,null,null,null,null,null,null,"",{"$f":"IF($M1205=\"\",\"\",IFERROR(VLOOKUP($M1205,PartnerSearch!B$2:G$16000,6,0),\"--\"))","v":""},null,"","","",""]
[null,null,null,null,null,null,null,null,null,null,null,null,"",{"$f":"IF($M1206=\"\",\"\",IFERROR(VLOOKUP($M1206,PartnerSearch!B$2:G$16000,6,0),\"--\"))","v":""},null,"","","",""]
[null,null,null,null,null,null,null,null,null,null,null,null,"",{"$f":"IF($M1207=\"\",\"\",IFERROR(VLOOKUP($M1207,PartnerSearch!B$2:G$16000,6,0),\"--\"))","v":""},null,"","","",""]
[null,null,null,null,null,null,null,null,null,null,null,null,"",{"$f":"IF($M1208=\"\",\"\",IFERROR(VLOOKUP($M1208,PartnerSearch!B$2:G$16000,6,0),\"--\"))","v":""},null,"","","",""]
[null,null,null,null,null,null,null,null,null,null,null,null,"",{"$f":"IF($M1209=\"\",\"\",IFERROR(VLOOKUP($M1209,PartnerSearch!B$2:G$16000,6,0),\"--\"))","v":""},null,"","","",""]
[null,null,null,null,null,null,null,null,null,null,null,null,"",{"$f":"IF($M1210=\"\",\"\",IFERROR(VLOOKUP($M1210,PartnerSearch!B$2:G$16000,6,0),\"--\"))","v":""},null,"","","",""]
[null,null,null,null,null,null,null,null,null,null,null,null,"",{"$f":"IF($M1211=\"\",\"\",IFERROR(VLOOKUP($M1211,PartnerSearch!B$2:G$16000,6,0),\"--\"))","v":""},null,"","","",""]
[null,null,null,null,null,null,null,null,null,null,null,null,"",{"$f":"IF($M1212=\"\",\"\",IFERROR(VLOOKUP($M1212,PartnerSearch!B$2:G$16000,6,0),\"--\"))","v":""},null,"","","",""]
[null,null,null,null,null,null,null,null,null,null,null,null,"",{"$f":"IF($M1213=\"\",\"\",IFERROR(VLOOKUP($M1213,PartnerSearch!B$2:G$16000,6,0),\"--\"))","v":""},null,"","","",""]
[null,null,null,null,null,null,null,null,null,null,null,null,"",{"$f":"IF($M1214=\"\",\"\",IFERROR(VLOOKUP($M1214,PartnerSearch!B$2:G$16000,6,0),\"--\"))","v":""},null,"","","",""]
[null,null,null,null,null,null,null,null,null,null,null,null,"",{"$f":"IF($M1215=\"\",\"\",IFERROR(VLOOKUP($M1215,PartnerSearch!B$2:G$16000,6,0),\"--\"))","v":""},null,"","","",""]
[null,null,null,null,null,null,null,null,null,null,null,null,"",{"$f":"IF($M1216=\"\",\"\",IFERROR(VLOOKUP($M1216,PartnerSearch!B$2:G$16000,6,0),\"--\"))","v":""},null,"","","",""]
[null,null,null,null,null,null,null,null,null,null,null,null,"",{"$f":"IF($M1217=\"\",\"\",IFERROR(VLOOKUP($M1217,PartnerSearch!B$2:G$16000,6,0),\"--\"))","v":""},null,"","","",""]
[null,null,null,null,null,null,null,null,null,null,null,null,"",{"$f":"IF($M1218=\"\",\"\",IFERROR(VLOOKUP($M1218,PartnerSearch!B$2:G$16000,6,0),\"--\"))","v":""},null,"","","",""]
[null,null,null,null,null,null,null,null,null,null,null,null,{"$f":"TRIM(SUBSTITUTE(SUBSTITUTE(SUBSTITUTE(SUBSTITUTE(SUBSTITUTE(SUBSTITUTE(SUBSTITUTE(SUBSTITUTE(SUBSTITUTE(SUBSTITUTE(SUBSTITUTE(SUBSTITUTE(SUBSTITUTE(SUBSTITUTE(E1219,\"00000 \",\"\"),\" (Local)\",\"\"),\" (Tribal)\",\"\"),\" (State)\",\"\"),\" (Regional)\",\"\"),\" (Federal/National)\",\"\"),\" (International)\",\"\"),\" (Unknown)\",\"\"),\" (Academic Institution)\",\"\"),\" (Government)\",\"\"),\" (Industry/Business)\",\"\"),\" (NGO)\",\"\"),\" (Other)\",\"\"),\" (Sea Grant Program)\",\"\"))","v":""},{"$f":"IF($M1219=\"\",\"\",IFERROR(VLOOKUP($M1219,PartnerSearch!B$2:G$16000,6,0),\"--\"))","v":""},null,{"$f":"IF(E1219=\"\",\"\",IF(LEFT(E1219&\"x\",5)=\"00000\",\"\",IF(N1219=\"--\",\"NO\",\"yes\")))","v":""},{"$f":"IF(LEFT(E1219&\"x\",5)<>\"00000\",\"\",IF(N1219=\"--\",\"yes\",\"NO\"))","v":""},{"$f":"IF(Q1219=\"\",\"\",IF((ISERROR(SEARCH(\"(Federal/National)\",E1219))*1+ISERROR(SEARCH(\"(International)\",E1219))*1+ISERROR(SEARCH(\"(Local)\",E1219))*1+ISERROR(SEARCH(\"(State)\",E1219))*1+ISERROR(SEARCH(\"(Regional)\",E1219))*1+ISERROR(SEARCH(\"(Tribal)\",E1219))*1+ISERROR(SEARCH(\"(Unknown) (\",E1219))*1)=6,\"yes\",\"NO\"))","v":""},{"$f":"IF(Q1219=\"\",\"\",IF(OR(NOT(ISERROR(SEARCH(\"(Academic Institution)\",E1219))),NOT(ISERROR(SEARCH(\"(Government)\",E1219))),NOT(ISERROR(SEARCH(\"(Industry/Business)\",E1219))),NOT(ISERROR(SEARCH(\"(NGO)\",E1219))),NOT(ISERROR(SEARCH(\"(Sea Grant Program)\",E1219))),NOT(ISERROR(SEARCH(\"(Other)\",E1219))),NOT(AND(NOT(ISERROR(SEARCH(\"(Unknown)\",E1219))),(ISERROR(SEARCH(\") (Unknown)\",E1219)))))),\"yes\",\"NO\"))","v":""}]
[null,null,null,null,null,null,null,null,null,null,null,null,"",{"$f":"IF($M1220=\"\",\"\",IFERROR(VLOOKUP($M1220,PartnerSearch!B$2:G$16000,6,0),\"--\"))","v":""},null,"","","",""]
[null,null,null,null,null,null,null,null,null,null,null,null,"",{"$f":"IF($M1221=\"\",\"\",IFERROR(VLOOKUP($M1221,PartnerSearch!B$2:G$16000,6,0),\"--\"))","v":""},null,"","","",""]
[null,null,null,null,null,null,null,null,null,null,null,null,"",{"$f":"IF($M1222=\"\",\"\",IFERROR(VLOOKUP($M1222,PartnerSearch!B$2:G$16000,6,0),\"--\"))","v":""},null,"","","",""]
[null,null,null,null,null,null,null,null,null,null,null,null,"",{"$f":"IF($M1223=\"\",\"\",IFERROR(VLOOKUP($M1223,PartnerSearch!B$2:G$16000,6,0),\"--\"))","v":""},null,"","","",""]
[null,null,null,null,null,null,null,null,null,null,null,null,"",{"$f":"IF($M1224=\"\",\"\",IFERROR(VLOOKUP($M1224,PartnerSearch!B$2:G$16000,6,0),\"--\"))","v":""},null,"","","",""]
[null,null,null,null,null,null,null,null,null,null,null,null,"",{"$f":"IF($M1225=\"\",\"\",IFERROR(VLOOKUP($M1225,PartnerSearch!B$2:G$16000,6,0),\"--\"))","v":""},null,"","","",""]
[null,null,null,null,null,null,null,null,null,null,null,null,"",{"$f":"IF($M1226=\"\",\"\",IFERROR(VLOOKUP($M1226,PartnerSearch!B$2:G$16000,6,0),\"--\"))","v":""},null,"","","",""]
[null,null,null,null,null,null,null,null,null,null,null,null,"",{"$f":"IF($M1227=\"\",\"\",IFERROR(VLOOKUP($M1227,PartnerSearch!B$2:G$16000,6,0),\"--\"))","v":""},null,"","","",""]
[null,null,null,null,null,null,null,null,null,null,null,null,"",{"$f":"IF($M1228=\"\",\"\",IFERROR(VLOOKUP($M1228,PartnerSearch!B$2:G$16000,6,0),\"--\"))","v":""},null,"","","",""]
[null,null,null,null,null,null,null,null,null,null,null,null,"",{"$f":"IF($M1229=\"\",\"\",IFERROR(VLOOKUP($M1229,PartnerSearch!B$2:G$16000,6,0),\"--\"))","v":""},null,"","","",""]
[null,null,null,null,null,null,null,null,null,null,null,null,"",{"$f":"IF($M1230=\"\",\"\",IFERROR(VLOOKUP($M1230,PartnerSearch!B$2:G$16000,6,0),\"--\"))","v":""},null,"","","",""]
[null,null,null,null,null,null,null,null,null,null,null,null,"",{"$f":"IF($M1231=\"\",\"\",IFERROR(VLOOKUP($M1231,PartnerSearch!B$2:G$16000,6,0),\"--\"))","v":""},null,"","","",""]
[null,null,null,null,null,null,null,null,null,null,null,null,"",{"$f":"IF($M1232=\"\",\"\",IFERROR(VLOOKUP($M1232,PartnerSearch!B$2:G$16000,6,0),\"--\"))","v":""},null,"","","",""]
[null,null,null,null,null,null,null,null,null,null,null,null,"",{"$f":"IF($M1233=\"\",\"\",IFERROR(VLOOKUP($M1233,PartnerSearch!B$2:G$16000,6,0),\"--\"))","v":""},null,"","","",""]
[null,null,null,null,null,null,null,null,null,null,null,null,"",{"$f":"IF($M1234=\"\",\"\",IFERROR(VLOOKUP($M1234,PartnerSearch!B$2:G$16000,6,0),\"--\"))","v":""},null,"","","",""]
[null,null,null,null,null,null,null,null,null,null,null,null,"",{"$f":"IF($M1235=\"\",\"\",IFERROR(VLOOKUP($M1235,PartnerSearch!B$2:G$16000,6,0),\"--\"))","v":""},null,"","","",""]
[null,null,null,null,null,null,null,null,null,null,null,null,"",{"$f":"IF($M1236=\"\",\"\",IFERROR(VLOOKUP($M1236,PartnerSearch!B$2:G$16000,6,0),\"--\"))","v":""},null,"","","",""]
[null,null,null,null,null,null,null,null,null,null,null,null,"",{"$f":"IF($M1237=\"\",\"\",IFERROR(VLOOKUP($M1237,PartnerSearch!B$2:G$16000,6,0),\"--\"))","v":""},null,"","","",""]
[null,null,null,null,null,null,null,null,null,null,null,null,"",{"$f":"IF($M1238=\"\",\"\",IFERROR(VLOOKUP($M1238,PartnerSearch!B$2:G$16000,6,0),\"--\"))","v":""},null,"","","",""]
[null,null,null,null,null,null,null,null,null,null,null,null,"",{"$f":"IF($M1239=\"\",\"\",IFERROR(VLOOKUP($M1239,PartnerSearch!B$2:G$16000,6,0),\"--\"))","v":""},null,"","","",""]
[null,null,null,null,null,null,null,null,null,null,null,null,"",{"$f":"IF($M1240=\"\",\"\",IFERROR(VLOOKUP($M1240,PartnerSearch!B$2:G$16000,6,0),\"--\"))","v":""},null,"","","",""]
[null,null,null,null,null,null,null,null,null,null,null,null,"",{"$f":"IF($M1241=\"\",\"\",IFERROR(VLOOKUP($M1241,PartnerSearch!B$2:G$16000,6,0),\"--\"))","v":""},null,"","","",""]
[null,null,null,null,null,null,null,null,null,null,null,null,"",{"$f":"IF($M1242=\"\",\"\",IFERROR(VLOOKUP($M1242,PartnerSearch!B$2:G$16000,6,0),\"--\"))","v":""},null,"","","",""]
[null,null,null,null,null,null,null,null,null,null,null,null,"",{"$f":"IF($M1243=\"\",\"\",IFERROR(VLOOKUP($M1243,PartnerSearch!B$2:G$16000,6,0),\"--\"))","v":""},null,"","","",""]
[null,null,null,null,null,null,null,null,null,null,null,null,"",{"$f":"IF($M1244=\"\",\"\",IFERROR(VLOOKUP($M1244,PartnerSearch!B$2:G$16000,6,0),\"--\"))","v":""},null,"","","",""]
[null,null,null,null,null,null,null,null,null,null,null,null,"",{"$f":"IF($M1245=\"\",\"\",IFERROR(VLOOKUP($M1245,PartnerSearch!B$2:G$16000,6,0),\"--\"))","v":""},null,"","","",""]
[null,null,null,null,null,null,null,null,null,null,null,null,"",{"$f":"IF($M1246=\"\",\"\",IFERROR(VLOOKUP($M1246,PartnerSearch!B$2:G$16000,6,0),\"--\"))","v":""},null,"","","",""]
[null,null,null,null,null,null,null,null,null,null,null,null,"",{"$f":"IF($M1247=\"\",\"\",IFERROR(VLOOKUP($M1247,PartnerSearch!B$2:G$16000,6,0),\"--\"))","v":""},null,"","","",""]
[null,null,null,null,null,null,null,null,null,null,null,null,"",{"$f":"IF($M1248=\"\",\"\",IFERROR(VLOOKUP($M1248,PartnerSearch!B$2:G$16000,6,0),\"--\"))","v":""},null,"","","",""]
[null,null,null,null,null,null,null,null,null,null,null,null,"",{"$f":"IF($M1249=\"\",\"\",IFERROR(VLOOKUP($M1249,PartnerSearch!B$2:G$16000,6,0),\"--\"))","v":""},null,"","","",""]
[null,null,null,null,null,null,null,null,null,null,null,null,"",{"$f":"IF($M1250=\"\",\"\",IFERROR(VLOOKUP($M1250,PartnerSearch!B$2:G$16000,6,0),\"--\"))","v":""},null,"","","",""]
[null,null,null,null,null,null,null,null,null,null,null,null,"",{"$f":"IF($M1251=\"\",\"\",IFERROR(VLOOKUP($M1251,PartnerSearch!B$2:G$16000,6,0),\"--\"))","v":""},null,"","","",""]
[null,null,null,null,null,null,null,null,null,null,null,null,"",{"$f":"IF($M1252=\"\",\"\",IFERROR(VLOOKUP($M1252,PartnerSearch!B$2:G$16000,6,0),\"--\"))","v":""},null,"","","",""]
[null,null,null,null,null,null,null,null,null,null,null,null,"",{"$f":"IF($M1253=\"\",\"\",IFERROR(VLOOKUP($M1253,PartnerSearch!B$2:G$16000,6,0),\"--\"))","v":""},null,"","","",""]
[null,null,null,null,null,null,null,null,null,null,null,null,"",{"$f":"IF($M1254=\"\",\"\",IFERROR(VLOOKUP($M1254,PartnerSearch!B$2:G$16000,6,0),\"--\"))","v":""},null,"","","",""]
[null,null,null,null,null,null,null,null,null,null,null,null,"",{"$f":"IF($M1255=\"\",\"\",IFERROR(VLOOKUP($M1255,PartnerSearch!B$2:G$16000,6,0),\"--\"))","v":""},null,"","","",""]
[null,null,null,null,null,null,null,null,null,null,null,null,"",{"$f":"IF($M1256=\"\",\"\",IFERROR(VLOOKUP($M1256,PartnerSearch!B$2:G$16000,6,0),\"--\"))","v":""},null,"","","",""]
[null,null,null,null,null,null,null,null,null,null,null,null,"",{"$f":"IF($M1257=\"\",\"\",IFERROR(VLOOKUP($M1257,PartnerSearch!B$2:G$16000,6,0),\"--\"))","v":""},null,"","","",""]
[null,null,null,null,null,null,null,null,null,null,null,null,"",{"$f":"IF($M1258=\"\",\"\",IFERROR(VLOOKUP($M1258,PartnerSearch!B$2:G$16000,6,0),\"--\"))","v":""},null,"","","",""]
[null,null,null,null,null,null,null,null,null,null,null,null,"",{"$f":"IF($M1259=\"\",\"\",IFERROR(VLOOKUP($M1259,PartnerSearch!B$2:G$16000,6,0),\"--\"))","v":""},null,"","","",""]
[null,null,null,null,null,null,null,null,null,null,null,null,"",{"$f":"IF($M1260=\"\",\"\",IFERROR(VLOOKUP($M1260,PartnerSearch!B$2:G$16000,6,0),\"--\"))","v":""},null,"","","",""]
[null,null,null,null,null,null,null,null,null,null,null,null,"",{"$f":"IF($M1261=\"\",\"\",IFERROR(VLOOKUP($M1261,PartnerSearch!B$2:G$16000,6,0),\"--\"))","v":""},null,"","","",""]
[null,null,null,null,null,null,null,null,null,null,null,null,"",{"$f":"IF($M1262=\"\",\"\",IFERROR(VLOOKUP($M1262,PartnerSearch!B$2:G$16000,6,0),\"--\"))","v":""},null,"","","",""]
[null,null,null,null,null,null,null,null,null,null,null,null,"",{"$f":"IF($M1263=\"\",\"\",IFERROR(VLOOKUP($M1263,PartnerSearch!B$2:G$16000,6,0),\"--\"))","v":""},null,"","","",""]
[null,null,null,null,null,null,null,null,null,null,null,null,"",{"$f":"IF($M1264=\"\",\"\",IFERROR(VLOOKUP($M1264,PartnerSearch!B$2:G$16000,6,0),\"--\"))","v":""},null,"","","",""]
[null,null,null,null,null,null,null,null,null,null,null,null,"",{"$f":"IF($M1265=\"\",\"\",IFERROR(VLOOKUP($M1265,PartnerSearch!B$2:G$16000,6,0),\"--\"))","v":""},null,"","","",""]
[null,null,null,null,null,null,null,null,null,null,null,null,"",{"$f":"IF($M1266=\"\",\"\",IFERROR(VLOOKUP($M1266,PartnerSearch!B$2:G$16000,6,0),\"--\"))","v":""},null,"","","",""]
[null,null,null,null,null,null,null,null,null,null,null,null,"",{"$f":"IF($M1267=\"\",\"\",IFERROR(VLOOKUP($M1267,PartnerSearch!B$2:G$16000,6,0),\"--\"))","v":""},null,"","","",""]
[null,null,null,null,null,null,null,null,null,null,null,null,"",{"$f":"IF($M1268=\"\",\"\",IFERROR(VLOOKUP($M1268,PartnerSearch!B$2:G$16000,6,0),\"--\"))","v":""},null,"","","",""]
[null,null,null,null,null,null,null,null,null,null,null,null,"",{"$f":"IF($M1269=\"\",\"\",IFERROR(VLOOKUP($M1269,PartnerSearch!B$2:G$16000,6,0),\"--\"))","v":""},null,"","","",""]
[null,null,null,null,null,null,null,null,null,null,null,null,"",{"$f":"IF($M1270=\"\",\"\",IFERROR(VLOOKUP($M1270,PartnerSearch!B$2:G$16000,6,0),\"--\"))","v":""},null,"","","",""]
[null,null,null,null,null,null,null,null,null,null,null,null,"",{"$f":"IF($M1271=\"\",\"\",IFERROR(VLOOKUP($M1271,PartnerSearch!B$2:G$16000,6,0),\"--\"))","v":""},null,"","","",""]
[null,null,null,null,null,null,null,null,null,null,null,null,"",{"$f":"IF($M1272=\"\",\"\",IFERROR(VLOOKUP($M1272,PartnerSearch!B$2:G$16000,6,0),\"--\"))","v":""},null,"","","",""]
[null,null,null,null,null,null,null,null,null,null,null,null,"",{"$f":"IF($M1273=\"\",\"\",IFERROR(VLOOKUP($M1273,PartnerSearch!B$2:G$16000,6,0),\"--\"))","v":""},null,"","","",""]
[null,null,null,null,null,null,null,null,null,null,null,null,"",{"$f":"IF($M1274=\"\",\"\",IFERROR(VLOOKUP($M1274,PartnerSearch!B$2:G$16000,6,0),\"--\"))","v":""},null,"","","",""]
[null,null,null,null,null,null,null,null,null,null,null,null,"",{"$f":"IF($M1275=\"\",\"\",IFERROR(VLOOKUP($M1275,PartnerSearch!B$2:G$16000,6,0),\"--\"))","v":""},null,"","","",""]
[null,null,null,null,null,null,null,null,null,null,null,null,"",{"$f":"IF($M1276=\"\",\"\",IFERROR(VLOOKUP($M1276,PartnerSearch!B$2:G$16000,6,0),\"--\"))","v":""},null,"","","",""]
[null,null,null,null,null,null,null,null,null,null,null,null,"",{"$f":"IF($M1277=\"\",\"\",IFERROR(VLOOKUP($M1277,PartnerSearch!B$2:G$16000,6,0),\"--\"))","v":""},null,"","","",""]
[null,null,null,null,null,null,null,null,null,null,null,null,"",{"$f":"IF($M1278=\"\",\"\",IFERROR(VLOOKUP($M1278,PartnerSearch!B$2:G$16000,6,0),\"--\"))","v":""},null,"","","",""]
[null,null,null,null,null,null,null,null,null,null,null,null,"",{"$f":"IF($M1279=\"\",\"\",IFERROR(VLOOKUP($M1279,PartnerSearch!B$2:G$16000,6,0),\"--\"))","v":""},null,"","","",""]
[null,null,null,null,null,null,null,null,null,null,null,null,"",{"$f":"IF($M1280=\"\",\"\",IFERROR(VLOOKUP($M1280,PartnerSearch!B$2:G$16000,6,0),\"--\"))","v":""},null,"","","",""]
[null,null,null,null,null,null,null,null,null,null,null,null,"",{"$f":"IF($M1281=\"\",\"\",IFERROR(VLOOKUP($M1281,PartnerSearch!B$2:G$16000,6,0),\"--\"))","v":""},null,"","","",""]
[null,null,null,null,null,null,null,null,null,null,null,null,"",{"$f":"IF($M1282=\"\",\"\",IFERROR(VLOOKUP($M1282,PartnerSearch!B$2:G$16000,6,0),\"--\"))","v":""},null,"","","",""]
[null,null,null,null,null,null,null,null,null,null,null,null,{"$f":"TRIM(SUBSTITUTE(SUBSTITUTE(SUBSTITUTE(SUBSTITUTE(SUBSTITUTE(SUBSTITUTE(SUBSTITUTE(SUBSTITUTE(SUBSTITUTE(SUBSTITUTE(SUBSTITUTE(SUBSTITUTE(SUBSTITUTE(SUBSTITUTE(E1283,\"00000 \",\"\"),\" (Local)\",\"\"),\" (Tribal)\",\"\"),\" (State)\",\"\"),\" (Regional)\",\"\"),\" (Federal/National)\",\"\"),\" (International)\",\"\"),\" (Unknown)\",\"\"),\" (Academic Institution)\",\"\"),\" (Government)\",\"\"),\" (Industry/Business)\",\"\"),\" (NGO)\",\"\"),\" (Other)\",\"\"),\" (Sea Grant Program)\",\"\"))","v":""},{"$f":"IF($M1283=\"\",\"\",IFERROR(VLOOKUP($M1283,PartnerSearch!B$2:G$16000,6,0),\"--\"))","v":""},null,{"$f":"IF(E1283=\"\",\"\",IF(LEFT(E1283&\"x\",5)=\"00000\",\"\",IF(N1283=\"--\",\"NO\",\"yes\")))","v":""},{"$f":"IF(LEFT(E1283&\"x\",5)<>\"00000\",\"\",IF(N1283=\"--\",\"yes\",\"NO\"))","v":""},{"$f":"IF(Q1283=\"\",\"\",IF((ISERROR(SEARCH(\"(Federal/National)\",E1283))*1+ISERROR(SEARCH(\"(International)\",E1283))*1+ISERROR(SEARCH(\"(Local)\",E1283))*1+ISERROR(SEARCH(\"(State)\",E1283))*1+ISERROR(SEARCH(\"(Regional)\",E1283))*1+ISERROR(SEARCH(\"(Tribal)\",E1283))*1+ISERROR(SEARCH(\"(Unknown) (\",E1283))*1)=6,\"yes\",\"NO\"))","v":""},{"$f":"IF(Q1283=\"\",\"\",IF(OR(NOT(ISERROR(SEARCH(\"(Academic Institution)\",E1283))),NOT(ISERROR(SEARCH(\"(Government)\",E1283))),NOT(ISERROR(SEARCH(\"(Industry/Business)\",E1283))),NOT(ISERROR(SEARCH(\"(NGO)\",E1283))),NOT(ISERROR(SEARCH(\"(Sea Grant Program)\",E1283))),NOT(ISERROR(SEARCH(\"(Other)\",E1283))),NOT(AND(NOT(ISERROR(SEARCH(\"(Unknown)\",E1283))),(ISERROR(SEARCH(\") (Unknown)\",E1283)))))),\"yes\",\"NO\"))","v":""}]
[null,null,null,null,null,null,null,null,null,null,null,null,"",{"$f":"IF($M1284=\"\",\"\",IFERROR(VLOOKUP($M1284,PartnerSearch!B$2:G$16000,6,0),\"--\"))","v":""},null,"","","",""]
[null,null,null,null,null,null,null,null,null,null,null,null,"",{"$f":"IF($M1285=\"\",\"\",IFERROR(VLOOKUP($M1285,PartnerSearch!B$2:G$16000,6,0),\"--\"))","v":""},null,"","","",""]
[null,null,null,null,null,null,null,null,null,null,null,null,"",{"$f":"IF($M1286=\"\",\"\",IFERROR(VLOOKUP($M1286,PartnerSearch!B$2:G$16000,6,0),\"--\"))","v":""},null,"","","",""]
[null,null,null,null,null,null,null,null,null,null,null,null,"",{"$f":"IF($M1287=\"\",\"\",IFERROR(VLOOKUP($M1287,PartnerSearch!B$2:G$16000,6,0),\"--\"))","v":""},null,"","","",""]
[null,null,null,null,null,null,null,null,null,null,null,null,"",{"$f":"IF($M1288=\"\",\"\",IFERROR(VLOOKUP($M1288,PartnerSearch!B$2:G$16000,6,0),\"--\"))","v":""},null,"","","",""]
[null,null,null,null,null,null,null,null,null,null,null,null,"",{"$f":"IF($M1289=\"\",\"\",IFERROR(VLOOKUP($M1289,PartnerSearch!B$2:G$16000,6,0),\"--\"))","v":""},null,"","","",""]
[null,null,null,null,null,null,null,null,null,null,null,null,"",{"$f":"IF($M1290=\"\",\"\",IFERROR(VLOOKUP($M1290,PartnerSearch!B$2:G$16000,6,0),\"--\"))","v":""},null,"","","",""]
[null,null,null,null,null,null,null,null,null,null,null,null,"",{"$f":"IF($M1291=\"\",\"\",IFERROR(VLOOKUP($M1291,PartnerSearch!B$2:G$16000,6,0),\"--\"))","v":""},null,"","","",""]
[null,null,null,null,null,null,null,null,null,null,null,null,"",{"$f":"IF($M1292=\"\",\"\",IFERROR(VLOOKUP($M1292,PartnerSearch!B$2:G$16000,6,0),\"--\"))","v":""},null,"","","",""]
[null,null,null,null,null,null,null,null,null,null,null,null,"",{"$f":"IF($M1293=\"\",\"\",IFERROR(VLOOKUP($M1293,PartnerSearch!B$2:G$16000,6,0),\"--\"))","v":""},null,"","","",""]
[null,null,null,null,null,null,null,null,null,null,null,null,"",{"$f":"IF($M1294=\"\",\"\",IFERROR(VLOOKUP($M1294,PartnerSearch!B$2:G$16000,6,0),\"--\"))","v":""},null,"","","",""]
[null,null,null,null,null,null,null,null,null,null,null,null,"",{"$f":"IF($M1295=\"\",\"\",IFERROR(VLOOKUP($M1295,PartnerSearch!B$2:G$16000,6,0),\"--\"))","v":""},null,"","","",""]
[null,null,null,null,null,null,null,null,null,null,null,null,"",{"$f":"IF($M1296=\"\",\"\",IFERROR(VLOOKUP($M1296,PartnerSearch!B$2:G$16000,6,0),\"--\"))","v":""},null,"","","",""]
[null,null,null,null,null,null,null,null,null,null,null,null,"",{"$f":"IF($M1297=\"\",\"\",IFERROR(VLOOKUP($M1297,PartnerSearch!B$2:G$16000,6,0),\"--\"))","v":""},null,"","","",""]
[null,null,null,null,null,null,null,null,null,null,null,null,"",{"$f":"IF($M1298=\"\",\"\",IFERROR(VLOOKUP($M1298,PartnerSearch!B$2:G$16000,6,0),\"--\"))","v":""},null,"","","",""]
[null,null,null,null,null,null,null,null,null,null,null,null,"",{"$f":"IF($M1299=\"\",\"\",IFERROR(VLOOKUP($M1299,PartnerSearch!B$2:G$16000,6,0),\"--\"))","v":""},null,"","","",""]
[null,null,null,null,null,null,null,null,null,null,null,null,"",{"$f":"IF($M1300=\"\",\"\",IFERROR(VLOOKUP($M1300,PartnerSearch!B$2:G$16000,6,0),\"--\"))","v":""},null,"","","",""]
[null,null,null,null,null,null,null,null,null,null,null,null,"",{"$f":"IF($M1301=\"\",\"\",IFERROR(VLOOKUP($M1301,PartnerSearch!B$2:G$16000,6,0),\"--\"))","v":""},null,"","","",""]
[null,null,null,null,null,null,null,null,null,null,null,null,"",{"$f":"IF($M1302=\"\",\"\",IFERROR(VLOOKUP($M1302,PartnerSearch!B$2:G$16000,6,0),\"--\"))","v":""},null,"","","",""]
[null,null,null,null,null,null,null,null,null,null,null,null,"",{"$f":"IF($M1303=\"\",\"\",IFERROR(VLOOKUP($M1303,PartnerSearch!B$2:G$16000,6,0),\"--\"))","v":""},null,"","","",""]
[null,null,null,null,null,null,null,null,null,null,null,null,"",{"$f":"IF($M1304=\"\",\"\",IFERROR(VLOOKUP($M1304,PartnerSearch!B$2:G$16000,6,0),\"--\"))","v":""},null,"","","",""]
[null,null,null,null,null,null,null,null,null,null,null,null,"",{"$f":"IF($M1305=\"\",\"\",IFERROR(VLOOKUP($M1305,PartnerSearch!B$2:G$16000,6,0),\"--\"))","v":""},null,"","","",""]
[null,null,null,null,null,null,null,null,null,null,null,null,"",{"$f":"IF($M1306=\"\",\"\",IFERROR(VLOOKUP($M1306,PartnerSearch!B$2:G$16000,6,0),\"--\"))","v":""},null,"","","",""]
[null,null,null,null,null,null,null,null,null,null,null,null,"",{"$f":"IF($M1307=\"\",\"\",IFERROR(VLOOKUP($M1307,PartnerSearch!B$2:G$16000,6,0),\"--\"))","v":""},null,"","","",""]
[null,null,null,null,null,null,null,null,null,null,null,null,"",{"$f":"IF($M1308=\"\",\"\",IFERROR(VLOOKUP($M1308,PartnerSearch!B$2:G$16000,6,0),\"--\"))","v":""},null,"","","",""]
[null,null,null,null,null,null,null,null,null,null,null,null,"",{"$f":"IF($M1309=\"\",\"\",IFERROR(VLOOKUP($M1309,PartnerSearch!B$2:G$16000,6,0),\"--\"))","v":""},null,"","","",""]
[null,null,null,null,null,null,null,null,null,null,null,null,"",{"$f":"IF($M1310=\"\",\"\",IFERROR(VLOOKUP($M1310,PartnerSearch!B$2:G$16000,6,0),\"--\"))","v":""},null,"","","",""]
[null,null,null,null,null,null,null,null,null,null,null,null,"",{"$f":"IF($M1311=\"\",\"\",IFERROR(VLOOKUP($M1311,PartnerSearch!B$2:G$16000,6,0),\"--\"))","v":""},null,"","","",""]
[null,null,null,null,null,null,null,null,null,null,null,null,"",{"$f":"IF($M1312=\"\",\"\",IFERROR(VLOOKUP($M1312,PartnerSearch!B$2:G$16000,6,0),\"--\"))","v":""},null,"","","",""]
[null,null,null,null,null,null,null,null,null,null,null,null,"",{"$f":"IF($M1313=\"\",\"\",IFERROR(VLOOKUP($M1313,PartnerSearch!B$2:G$16000,6,0),\"--\"))","v":""},null,"","","",""]
[null,null,null,null,null,null,null,null,null,null,null,null,"",{"$f":"IF($M1314=\"\",\"\",IFERROR(VLOOKUP($M1314,PartnerSearch!B$2:G$16000,6,0),\"--\"))","v":""},null,"","","",""]
[null,null,null,null,null,null,null,null,null,null,null,null,"",{"$f":"IF($M1315=\"\",\"\",IFERROR(VLOOKUP($M1315,PartnerSearch!B$2:G$16000,6,0),\"--\"))","v":""},null,"","","",""]
[null,null,null,null,null,null,null,null,null,null,null,null,"",{"$f":"IF($M1316=\"\",\"\",IFERROR(VLOOKUP($M1316,PartnerSearch!B$2:G$16000,6,0),\"--\"))","v":""},null,"","","",""]
[null,null,null,null,null,null,null,null,null,null,null,null,"",{"$f":"IF($M1317=\"\",\"\",IFERROR(VLOOKUP($M1317,PartnerSearch!B$2:G$16000,6,0),\"--\"))","v":""},null,"","","",""]
[null,null,null,null,null,null,null,null,null,null,null,null,"",{"$f":"IF($M1318=\"\",\"\",IFERROR(VLOOKUP($M1318,PartnerSearch!B$2:G$16000,6,0),\"--\"))","v":""},null,"","","",""]
[null,null,null,null,null,null,null,null,null,null,null,null,"",{"$f":"IF($M1319=\"\",\"\",IFERROR(VLOOKUP($M1319,PartnerSearch!B$2:G$16000,6,0),\"--\"))","v":""},null,"","","",""]
[null,null,null,null,null,null,null,null,null,null,null,null,"",{"$f":"IF($M1320=\"\",\"\",IFERROR(VLOOKUP($M1320,PartnerSearch!B$2:G$16000,6,0),\"--\"))","v":""},null,"","","",""]
[null,null,null,null,null,null,null,null,null,null,null,null,"",{"$f":"IF($M1321=\"\",\"\",IFERROR(VLOOKUP($M1321,PartnerSearch!B$2:G$16000,6,0),\"--\"))","v":""},null,"","","",""]
[null,null,null,null,null,null,null,null,null,null,null,null,"",{"$f":"IF($M1322=\"\",\"\",IFERROR(VLOOKUP($M1322,PartnerSearch!B$2:G$16000,6,0),\"--\"))","v":""},null,"","","",""]
[null,null,null,null,null,null,null,null,null,null,null,null,"",{"$f":"IF($M1323=\"\",\"\",IFERROR(VLOOKUP($M1323,PartnerSearch!B$2:G$16000,6,0),\"--\"))","v":""},null,"","","",""]
[null,null,null,null,null,null,null,null,null,null,null,null,"",{"$f":"IF($M1324=\"\",\"\",IFERROR(VLOOKUP($M1324,PartnerSearch!B$2:G$16000,6,0),\"--\"))","v":""},null,"","","",""]
[null,null,null,null,null,null,null,null,null,null,null,null,"",{"$f":"IF($M1325=\"\",\"\",IFERROR(VLOOKUP($M1325,PartnerSearch!B$2:G$16000,6,0),\"--\"))","v":""},null,"","","",""]
[null,null,null,null,null,null,null,null,null,null,null,null,"",{"$f":"IF($M1326=\"\",\"\",IFERROR(VLOOKUP($M1326,PartnerSearch!B$2:G$16000,6,0),\"--\"))","v":""},null,"","","",""]
[null,null,null,null,null,null,null,null,null,null,null,null,"",{"$f":"IF($M1327=\"\",\"\",IFERROR(VLOOKUP($M1327,PartnerSearch!B$2:G$16000,6,0),\"--\"))","v":""},null,"","","",""]
[null,null,null,null,null,null,null,null,null,null,null,null,"",{"$f":"IF($M1328=\"\",\"\",IFERROR(VLOOKUP($M1328,PartnerSearch!B$2:G$16000,6,0),\"--\"))","v":""},null,"","","",""]
[null,null,null,null,null,null,null,null,null,null,null,null,"",{"$f":"IF($M1329=\"\",\"\",IFERROR(VLOOKUP($M1329,PartnerSearch!B$2:G$16000,6,0),\"--\"))","v":""},null,"","","",""]
[null,null,null,null,null,null,null,null,null,null,null,null,"",{"$f":"IF($M1330=\"\",\"\",IFERROR(VLOOKUP($M1330,PartnerSearch!B$2:G$16000,6,0),\"--\"))","v":""},null,"","","",""]
[null,null,null,null,null,null,null,null,null,null,null,null,"",{"$f":"IF($M1331=\"\",\"\",IFERROR(VLOOKUP($M1331,PartnerSearch!B$2:G$16000,6,0),\"--\"))","v":""},null,"","","",""]
[null,null,null,null,null,null,null,null,null,null,null,null,"",{"$f":"IF($M1332=\"\",\"\",IFERROR(VLOOKUP($M1332,PartnerSearch!B$2:G$16000,6,0),\"--\"))","v":""},null,"","","",""]
[null,null,null,null,null,null,null,null,null,null,null,null,"",{"$f":"IF($M1333=\"\",\"\",IFERROR(VLOOKUP($M1333,PartnerSearch!B$2:G$16000,6,0),\"--\"))","v":""},null,"","","",""]
[null,null,null,null,null,null,null,null,null,null,null,null,"",{"$f":"IF($M1334=\"\",\"\",IFERROR(VLOOKUP($M1334,PartnerSearch!B$2:G$16000,6,0),\"--\"))","v":""},null,"","","",""]
[null,null,null,null,null,null,null,null,null,null,null,null,"",{"$f":"IF($M1335=\"\",\"\",IFERROR(VLOOKUP($M1335,PartnerSearch!B$2:G$16000,6,0),\"--\"))","v":""},null,"","","",""]
[null,null,null,null,null,null,null,null,null,null,null,null,"",{"$f":"IF($M1336=\"\",\"\",IFERROR(VLOOKUP($M1336,PartnerSearch!B$2:G$16000,6,0),\"--\"))","v":""},null,"","","",""]
[null,null,null,null,null,null,null,null,null,null,null,null,"",{"$f":"IF($M1337=\"\",\"\",IFERROR(VLOOKUP($M1337,PartnerSearch!B$2:G$16000,6,0),\"--\"))","v":""},null,"","","",""]
[null,null,null,null,null,null,null,null,null,null,null,null,"",{"$f":"IF($M1338=\"\",\"\",IFERROR(VLOOKUP($M1338,PartnerSearch!B$2:G$16000,6,0),\"--\"))","v":""},null,"","","",""]
[null,null,null,null,null,null,null,null,null,null,null,null,"",{"$f":"IF($M1339=\"\",\"\",IFERROR(VLOOKUP($M1339,PartnerSearch!B$2:G$16000,6,0),\"--\"))","v":""},null,"","","",""]
[null,null,null,null,null,null,null,null,null,null,null,null,"",{"$f":"IF($M1340=\"\",\"\",IFERROR(VLOOKUP($M1340,PartnerSearch!B$2:G$16000,6,0),\"--\"))","v":""},null,"","","",""]
[null,null,null,null,null,null,null,null,null,null,null,null,"",{"$f":"IF($M1341=\"\",\"\",IFERROR(VLOOKUP($M1341,PartnerSearch!B$2:G$16000,6,0),\"--\"))","v":""},null,"","","",""]
[null,null,null,null,null,null,null,null,null,null,null,null,"",{"$f":"IF($M1342=\"\",\"\",IFERROR(VLOOKUP($M1342,PartnerSearch!B$2:G$16000,6,0),\"--\"))","v":""},null,"","","",""]
[null,null,null,null,null,null,null,null,null,null,null,null,"",{"$f":"IF($M1343=\"\",\"\",IFERROR(VLOOKUP($M1343,PartnerSearch!B$2:G$16000,6,0),\"--\"))","v":""},null,"","","",""]
[null,null,null,null,null,null,null,null,null,null,null,null,"",{"$f":"IF($M1344=\"\",\"\",IFERROR(VLOOKUP($M1344,PartnerSearch!B$2:G$16000,6,0),\"--\"))","v":""},null,"","","",""]
[null,null,null,null,null,null,null,null,null,null,null,null,"",{"$f":"IF($M1345=\"\",\"\",IFERROR(VLOOKUP($M1345,PartnerSearch!B$2:G$16000,6,0),\"--\"))","v":""},null,"","","",""]
[null,null,null,null,null,null,null,null,null,null,null,null,"",{"$f":"IF($M1346=\"\",\"\",IFERROR(VLOOKUP($M1346,PartnerSearch!B$2:G$16000,6,0),\"--\"))","v":""},null,"","","",""]
[null,null,null,null,null,null,null,null,null,null,null,null,{"$f":"TRIM(SUBSTITUTE(SUBSTITUTE(SUBSTITUTE(SUBSTITUTE(SUBSTITUTE(SUBSTITUTE(SUBSTITUTE(SUBSTITUTE(SUBSTITUTE(SUBSTITUTE(SUBSTITUTE(SUBSTITUTE(SUBSTITUTE(SUBSTITUTE(E1347,\"00000 \",\"\"),\" (Local)\",\"\"),\" (Tribal)\",\"\"),\" (State)\",\"\"),\" (Regional)\",\"\"),\" (Federal/National)\",\"\"),\" (International)\",\"\"),\" (Unknown)\",\"\"),\" (Academic Institution)\",\"\"),\" (Government)\",\"\"),\" (Industry/Business)\",\"\"),\" (NGO)\",\"\"),\" (Other)\",\"\"),\" (Sea Grant Program)\",\"\"))","v":""},{"$f":"IF($M1347=\"\",\"\",IFERROR(VLOOKUP($M1347,PartnerSearch!B$2:G$16000,6,0),\"--\"))","v":""},null,{"$f":"IF(E1347=\"\",\"\",IF(LEFT(E1347&\"x\",5)=\"00000\",\"\",IF(N1347=\"--\",\"NO\",\"yes\")))","v":""},{"$f":"IF(LEFT(E1347&\"x\",5)<>\"00000\",\"\",IF(N1347=\"--\",\"yes\",\"NO\"))","v":""},{"$f":"IF(Q1347=\"\",\"\",IF((ISERROR(SEARCH(\"(Federal/National)\",E1347))*1+ISERROR(SEARCH(\"(International)\",E1347))*1+ISERROR(SEARCH(\"(Local)\",E1347))*1+ISERROR(SEARCH(\"(State)\",E1347))*1+ISERROR(SEARCH(\"(Regional)\",E1347))*1+ISERROR(SEARCH(\"(Tribal)\",E1347))*1+ISERROR(SEARCH(\"(Unknown) (\",E1347))*1)=6,\"yes\",\"NO\"))","v":""},{"$f":"IF(Q1347=\"\",\"\",IF(OR(NOT(ISERROR(SEARCH(\"(Academic Institution)\",E1347))),NOT(ISERROR(SEARCH(\"(Government)\",E1347))),NOT(ISERROR(SEARCH(\"(Industry/Business)\",E1347))),NOT(ISERROR(SEARCH(\"(NGO)\",E1347))),NOT(ISERROR(SEARCH(\"(Sea Grant Program)\",E1347))),NOT(ISERROR(SEARCH(\"(Other)\",E1347))),NOT(AND(NOT(ISERROR(SEARCH(\"(Unknown)\",E1347))),(ISERROR(SEARCH(\") (Unknown)\",E1347)))))),\"yes\",\"NO\"))","v":""}]
[null,null,null,null,null,null,null,null,null,null,null,null,"",{"$f":"IF($M1348=\"\",\"\",IFERROR(VLOOKUP($M1348,PartnerSearch!B$2:G$16000,6,0),\"--\"))","v":""},null,"","","",""]
[null,null,null,null,null,null,null,null,null,null,null,null,"",{"$f":"IF($M1349=\"\",\"\",IFERROR(VLOOKUP($M1349,PartnerSearch!B$2:G$16000,6,0),\"--\"))","v":""},null,"","","",""]
[null,null,null,null,null,null,null,null,null,null,null,null,"",{"$f":"IF($M1350=\"\",\"\",IFERROR(VLOOKUP($M1350,PartnerSearch!B$2:G$16000,6,0),\"--\"))","v":""},null,"","","",""]
[null,null,null,null,null,null,null,null,null,null,null,null,"",{"$f":"IF($M1351=\"\",\"\",IFERROR(VLOOKUP($M1351,PartnerSearch!B$2:G$16000,6,0),\"--\"))","v":""},null,"","","",""]
[null,null,null,null,null,null,null,null,null,null,null,null,"",{"$f":"IF($M1352=\"\",\"\",IFERROR(VLOOKUP($M1352,PartnerSearch!B$2:G$16000,6,0),\"--\"))","v":""},null,"","","",""]
[null,null,null,null,null,null,null,null,null,null,null,null,"",{"$f":"IF($M1353=\"\",\"\",IFERROR(VLOOKUP($M1353,PartnerSearch!B$2:G$16000,6,0),\"--\"))","v":""},null,"","","",""]
[null,null,null,null,null,null,null,null,null,null,null,null,"",{"$f":"IF($M1354=\"\",\"\",IFERROR(VLOOKUP($M1354,PartnerSearch!B$2:G$16000,6,0),\"--\"))","v":""},null,"","","",""]
[null,null,null,null,null,null,null,null,null,null,null,null,"",{"$f":"IF($M1355=\"\",\"\",IFERROR(VLOOKUP($M1355,PartnerSearch!B$2:G$16000,6,0),\"--\"))","v":""},null,"","","",""]
[null,null,null,null,null,null,null,null,null,null,null,null,"",{"$f":"IF($M1356=\"\",\"\",IFERROR(VLOOKUP($M1356,PartnerSearch!B$2:G$16000,6,0),\"--\"))","v":""},null,"","","",""]
[null,null,null,null,null,null,null,null,null,null,null,null,"",{"$f":"IF($M1357=\"\",\"\",IFERROR(VLOOKUP($M1357,PartnerSearch!B$2:G$16000,6,0),\"--\"))","v":""},null,"","","",""]
[null,null,null,null,null,null,null,null,null,null,null,null,"",{"$f":"IF($M1358=\"\",\"\",IFERROR(VLOOKUP($M1358,PartnerSearch!B$2:G$16000,6,0),\"--\"))","v":""},null,"","","",""]
[null,null,null,null,null,null,null,null,null,null,null,null,"",{"$f":"IF($M1359=\"\",\"\",IFERROR(VLOOKUP($M1359,PartnerSearch!B$2:G$16000,6,0),\"--\"))","v":""},null,"","","",""]
[null,null,null,null,null,null,null,null,null,null,null,null,"",{"$f":"IF($M1360=\"\",\"\",IFERROR(VLOOKUP($M1360,PartnerSearch!B$2:G$16000,6,0),\"--\"))","v":""},null,"","","",""]
[null,null,null,null,null,null,null,null,null,null,null,null,"",{"$f":"IF($M1361=\"\",\"\",IFERROR(VLOOKUP($M1361,PartnerSearch!B$2:G$16000,6,0),\"--\"))","v":""},null,"","","",""]
[null,null,null,null,null,null,null,null,null,null,null,null,"",{"$f":"IF($M1362=\"\",\"\",IFERROR(VLOOKUP($M1362,PartnerSearch!B$2:G$16000,6,0),\"--\"))","v":""},null,"","","",""]
[null,null,null,null,null,null,null,null,null,null,null,null,"",{"$f":"IF($M1363=\"\",\"\",IFERROR(VLOOKUP($M1363,PartnerSearch!B$2:G$16000,6,0),\"--\"))","v":""},null,"","","",""]
[null,null,null,null,null,null,null,null,null,null,null,null,"",{"$f":"IF($M1364=\"\",\"\",IFERROR(VLOOKUP($M1364,PartnerSearch!B$2:G$16000,6,0),\"--\"))","v":""},null,"","","",""]
[null,null,null,null,null,null,null,null,null,null,null,null,"",{"$f":"IF($M1365=\"\",\"\",IFERROR(VLOOKUP($M1365,PartnerSearch!B$2:G$16000,6,0),\"--\"))","v":""},null,"","","",""]
[null,null,null,null,null,null,null,null,null,null,null,null,"",{"$f":"IF($M1366=\"\",\"\",IFERROR(VLOOKUP($M1366,PartnerSearch!B$2:G$16000,6,0),\"--\"))","v":""},null,"","","",""]
[null,null,null,null,null,null,null,null,null,null,null,null,"",{"$f":"IF($M1367=\"\",\"\",IFERROR(VLOOKUP($M1367,PartnerSearch!B$2:G$16000,6,0),\"--\"))","v":""},null,"","","",""]
[null,null,null,null,null,null,null,null,null,null,null,null,"",{"$f":"IF($M1368=\"\",\"\",IFERROR(VLOOKUP($M1368,PartnerSearch!B$2:G$16000,6,0),\"--\"))","v":""},null,"","","",""]
[null,null,null,null,null,null,null,null,null,null,null,null,"",{"$f":"IF($M1369=\"\",\"\",IFERROR(VLOOKUP($M1369,PartnerSearch!B$2:G$16000,6,0),\"--\"))","v":""},null,"","","",""]
[null,null,null,null,null,null,null,null,null,null,null,null,"",{"$f":"IF($M1370=\"\",\"\",IFERROR(VLOOKUP($M1370,PartnerSearch!B$2:G$16000,6,0),\"--\"))","v":""},null,"","","",""]
[null,null,null,null,null,null,null,null,null,null,null,null,"",{"$f":"IF($M1371=\"\",\"\",IFERROR(VLOOKUP($M1371,PartnerSearch!B$2:G$16000,6,0),\"--\"))","v":""},null,"","","",""]
[null,null,null,null,null,null,null,null,null,null,null,null,"",{"$f":"IF($M1372=\"\",\"\",IFERROR(VLOOKUP($M1372,PartnerSearch!B$2:G$16000,6,0),\"--\"))","v":""},null,"","","",""]
[null,null,null,null,null,null,null,null,null,null,null,null,"",{"$f":"IF($M1373=\"\",\"\",IFERROR(VLOOKUP($M1373,PartnerSearch!B$2:G$16000,6,0),\"--\"))","v":""},null,"","","",""]
[null,null,null,null,null,null,null,null,null,null,null,null,"",{"$f":"IF($M1374=\"\",\"\",IFERROR(VLOOKUP($M1374,PartnerSearch!B$2:G$16000,6,0),\"--\"))","v":""},null,"","","",""]
[null,null,null,null,null,null,null,null,null,null,null,null,"",{"$f":"IF($M1375=\"\",\"\",IFERROR(VLOOKUP($M1375,PartnerSearch!B$2:G$16000,6,0),\"--\"))","v":""},null,"","","",""]
[null,null,null,null,null,null,null,null,null,null,null,null,"",{"$f":"IF($M1376=\"\",\"\",IFERROR(VLOOKUP($M1376,PartnerSearch!B$2:G$16000,6,0),\"--\"))","v":""},null,"","","",""]
[null,null,null,null,null,null,null,null,null,null,null,null,"",{"$f":"IF($M1377=\"\",\"\",IFERROR(VLOOKUP($M1377,PartnerSearch!B$2:G$16000,6,0),\"--\"))","v":""},null,"","","",""]
[null,null,null,null,null,null,null,null,null,null,null,null,"",{"$f":"IF($M1378=\"\",\"\",IFERROR(VLOOKUP($M1378,PartnerSearch!B$2:G$16000,6,0),\"--\"))","v":""},null,"","","",""]
[null,null,null,null,null,null,null,null,null,null,null,null,"",{"$f":"IF($M1379=\"\",\"\",IFERROR(VLOOKUP($M1379,PartnerSearch!B$2:G$16000,6,0),\"--\"))","v":""},null,"","","",""]
[null,null,null,null,null,null,null,null,null,null,null,null,"",{"$f":"IF($M1380=\"\",\"\",IFERROR(VLOOKUP($M1380,PartnerSearch!B$2:G$16000,6,0),\"--\"))","v":""},null,"","","",""]
[null,null,null,null,null,null,null,null,null,null,null,null,"",{"$f":"IF($M1381=\"\",\"\",IFERROR(VLOOKUP($M1381,PartnerSearch!B$2:G$16000,6,0),\"--\"))","v":""},null,"","","",""]
[null,null,null,null,null,null,null,null,null,null,null,null,"",{"$f":"IF($M1382=\"\",\"\",IFERROR(VLOOKUP($M1382,PartnerSearch!B$2:G$16000,6,0),\"--\"))","v":""},null,"","","",""]
[null,null,null,null,null,null,null,null,null,null,null,null,"",{"$f":"IF($M1383=\"\",\"\",IFERROR(VLOOKUP($M1383,PartnerSearch!B$2:G$16000,6,0),\"--\"))","v":""},null,"","","",""]
[null,null,null,null,null,null,null,null,null,null,null,null,"",{"$f":"IF($M1384=\"\",\"\",IFERROR(VLOOKUP($M1384,PartnerSearch!B$2:G$16000,6,0),\"--\"))","v":""},null,"","","",""]
[null,null,null,null,null,null,null,null,null,null,null,null,"",{"$f":"IF($M1385=\"\",\"\",IFERROR(VLOOKUP($M1385,PartnerSearch!B$2:G$16000,6,0),\"--\"))","v":""},null,"","","",""]
[null,null,null,null,null,null,null,null,null,null,null,null,"",{"$f":"IF($M1386=\"\",\"\",IFERROR(VLOOKUP($M1386,PartnerSearch!B$2:G$16000,6,0),\"--\"))","v":""},null,"","","",""]
[null,null,null,null,null,null,null,null,null,null,null,null,"",{"$f":"IF($M1387=\"\",\"\",IFERROR(VLOOKUP($M1387,PartnerSearch!B$2:G$16000,6,0),\"--\"))","v":""},null,"","","",""]
[null,null,null,null,null,null,null,null,null,null,null,null,"",{"$f":"IF($M1388=\"\",\"\",IFERROR(VLOOKUP($M1388,PartnerSearch!B$2:G$16000,6,0),\"--\"))","v":""},null,"","","",""]
[null,null,null,null,null,null,null,null,null,null,null,null,"",{"$f":"IF($M1389=\"\",\"\",IFERROR(VLOOKUP($M1389,PartnerSearch!B$2:G$16000,6,0),\"--\"))","v":""},null,"","","",""]
[null,null,null,null,null,null,null,null,null,null,null,null,"",{"$f":"IF($M1390=\"\",\"\",IFERROR(VLOOKUP($M1390,PartnerSearch!B$2:G$16000,6,0),\"--\"))","v":""},null,"","","",""]
[null,null,null,null,null,null,null,null,null,null,null,null,"",{"$f":"IF($M1391=\"\",\"\",IFERROR(VLOOKUP($M1391,PartnerSearch!B$2:G$16000,6,0),\"--\"))","v":""},null,"","","",""]
[null,null,null,null,null,null,null,null,null,null,null,null,"",{"$f":"IF($M1392=\"\",\"\",IFERROR(VLOOKUP($M1392,PartnerSearch!B$2:G$16000,6,0),\"--\"))","v":""},null,"","","",""]
[null,null,null,null,null,null,null,null,null,null,null,null,"",{"$f":"IF($M1393=\"\",\"\",IFERROR(VLOOKUP($M1393,PartnerSearch!B$2:G$16000,6,0),\"--\"))","v":""},null,"","","",""]
[null,null,null,null,null,null,null,null,null,null,null,null,"",{"$f":"IF($M1394=\"\",\"\",IFERROR(VLOOKUP($M1394,PartnerSearch!B$2:G$16000,6,0),\"--\"))","v":""},null,"","","",""]
[null,null,null,null,null,null,null,null,null,null,null,null,"",{"$f":"IF($M1395=\"\",\"\",IFERROR(VLOOKUP($M1395,PartnerSearch!B$2:G$16000,6,0),\"--\"))","v":""},null,"","","",""]
[null,null,null,null,null,null,null,null,null,null,null,null,"",{"$f":"IF($M1396=\"\",\"\",IFERROR(VLOOKUP($M1396,PartnerSearch!B$2:G$16000,6,0),\"--\"))","v":""},null,"","","",""]
[null,null,null,null,null,null,null,null,null,null,null,null,"",{"$f":"IF($M1397=\"\",\"\",IFERROR(VLOOKUP($M1397,PartnerSearch!B$2:G$16000,6,0),\"--\"))","v":""},null,"","","",""]
[null,null,null,null,null,null,null,null,null,null,null,null,"",{"$f":"IF($M1398=\"\",\"\",IFERROR(VLOOKUP($M1398,PartnerSearch!B$2:G$16000,6,0),\"--\"))","v":""},null,"","","",""]
[null,null,null,null,null,null,null,null,null,null,null,null,"",{"$f":"IF($M1399=\"\",\"\",IFERROR(VLOOKUP($M1399,PartnerSearch!B$2:G$16000,6,0),\"--\"))","v":""},null,"","","",""]
[null,null,null,null,null,null,null,null,null,null,null,null,"",{"$f":"IF($M1400=\"\",\"\",IFERROR(VLOOKUP($M1400,PartnerSearch!B$2:G$16000,6,0),\"--\"))","v":""},null,"","","",""]
[null,null,null,null,null,null,null,null,null,null,null,null,"",{"$f":"IF($M1401=\"\",\"\",IFERROR(VLOOKUP($M1401,PartnerSearch!B$2:G$16000,6,0),\"--\"))","v":""},null,"","","",""]
[null,null,null,null,null,null,null,null,null,null,null,null,"",{"$f":"IF($M1402=\"\",\"\",IFERROR(VLOOKUP($M1402,PartnerSearch!B$2:G$16000,6,0),\"--\"))","v":""},null,"","","",""]
[null,null,null,null,null,null,null,null,null,null,null,null,"",{"$f":"IF($M1403=\"\",\"\",IFERROR(VLOOKUP($M1403,PartnerSearch!B$2:G$16000,6,0),\"--\"))","v":""},null,"","","",""]
[null,null,null,null,null,null,null,null,null,null,null,null,"",{"$f":"IF($M1404=\"\",\"\",IFERROR(VLOOKUP($M1404,PartnerSearch!B$2:G$16000,6,0),\"--\"))","v":""},null,"","","",""]
[null,null,null,null,null,null,null,null,null,null,null,null,"",{"$f":"IF($M1405=\"\",\"\",IFERROR(VLOOKUP($M1405,PartnerSearch!B$2:G$16000,6,0),\"--\"))","v":""},null,"","","",""]
[null,null,null,null,null,null,null,null,null,null,null,null,"",{"$f":"IF($M1406=\"\",\"\",IFERROR(VLOOKUP($M1406,PartnerSearch!B$2:G$16000,6,0),\"--\"))","v":""},null,"","","",""]
[null,null,null,null,null,null,null,null,null,null,null,null,"",{"$f":"IF($M1407=\"\",\"\",IFERROR(VLOOKUP($M1407,PartnerSearch!B$2:G$16000,6,0),\"--\"))","v":""},null,"","","",""]
[null,null,null,null,null,null,null,null,null,null,null,null,"",{"$f":"IF($M1408=\"\",\"\",IFERROR(VLOOKUP($M1408,PartnerSearch!B$2:G$16000,6,0),\"--\"))","v":""},null,"","","",""]
[null,null,null,null,null,null,null,null,null,null,null,null,"",{"$f":"IF($M1409=\"\",\"\",IFERROR(VLOOKUP($M1409,PartnerSearch!B$2:G$16000,6,0),\"--\"))","v":""},null,"","","",""]
[null,null,null,null,null,null,null,null,null,null,null,null,"",{"$f":"IF($M1410=\"\",\"\",IFERROR(VLOOKUP($M1410,PartnerSearch!B$2:G$16000,6,0),\"--\"))","v":""},null,"","","",""]
[null,null,null,null,null,null,null,null,null,null,null,null,{"$f":"TRIM(SUBSTITUTE(SUBSTITUTE(SUBSTITUTE(SUBSTITUTE(SUBSTITUTE(SUBSTITUTE(SUBSTITUTE(SUBSTITUTE(SUBSTITUTE(SUBSTITUTE(SUBSTITUTE(SUBSTITUTE(SUBSTITUTE(SUBSTITUTE(E1411,\"00000 \",\"\"),\" (Local)\",\"\"),\" (Tribal)\",\"\"),\" (State)\",\"\"),\" (Regional)\",\"\"),\" (Federal/National)\",\"\"),\" (International)\",\"\"),\" (Unknown)\",\"\"),\" (Academic Institution)\",\"\"),\" (Government)\",\"\"),\" (Industry/Business)\",\"\"),\" (NGO)\",\"\"),\" (Other)\",\"\"),\" (Sea Grant Program)\",\"\"))","v":""},{"$f":"IF($M1411=\"\",\"\",IFERROR(VLOOKUP($M1411,PartnerSearch!B$2:G$16000,6,0),\"--\"))","v":""},null,{"$f":"IF(E1411=\"\",\"\",IF(LEFT(E1411&\"x\",5)=\"00000\",\"\",IF(N1411=\"--\",\"NO\",\"yes\")))","v":""},{"$f":"IF(LEFT(E1411&\"x\",5)<>\"00000\",\"\",IF(N1411=\"--\",\"yes\",\"NO\"))","v":""},{"$f":"IF(Q1411=\"\",\"\",IF((ISERROR(SEARCH(\"(Federal/National)\",E1411))*1+ISERROR(SEARCH(\"(International)\",E1411))*1+ISERROR(SEARCH(\"(Local)\",E1411))*1+ISERROR(SEARCH(\"(State)\",E1411))*1+ISERROR(SEARCH(\"(Regional)\",E1411))*1+ISERROR(SEARCH(\"(Tribal)\",E1411))*1+ISERROR(SEARCH(\"(Unknown) (\",E1411))*1)=6,\"yes\",\"NO\"))","v":""},{"$f":"IF(Q1411=\"\",\"\",IF(OR(NOT(ISERROR(SEARCH(\"(Academic Institution)\",E1411))),NOT(ISERROR(SEARCH(\"(Government)\",E1411))),NOT(ISERROR(SEARCH(\"(Industry/Business)\",E1411))),NOT(ISERROR(SEARCH(\"(NGO)\",E1411))),NOT(ISERROR(SEARCH(\"(Sea Grant Program)\",E1411))),NOT(ISERROR(SEARCH(\"(Other)\",E1411))),NOT(AND(NOT(ISERROR(SEARCH(\"(Unknown)\",E1411))),(ISERROR(SEARCH(\") (Unknown)\",E1411)))))),\"yes\",\"NO\"))","v":""}]
[null,null,null,null,null,null,null,null,null,null,null,null,"",{"$f":"IF($M1412=\"\",\"\",IFERROR(VLOOKUP($M1412,PartnerSearch!B$2:G$16000,6,0),\"--\"))","v":""},null,"","","",""]
[null,null,null,null,null,null,null,null,null,null,null,null,"",{"$f":"IF($M1413=\"\",\"\",IFERROR(VLOOKUP($M1413,PartnerSearch!B$2:G$16000,6,0),\"--\"))","v":""},null,"","","",""]
[null,null,null,null,null,null,null,null,null,null,null,null,"",{"$f":"IF($M1414=\"\",\"\",IFERROR(VLOOKUP($M1414,PartnerSearch!B$2:G$16000,6,0),\"--\"))","v":""},null,"","","",""]
[null,null,null,null,null,null,null,null,null,null,null,null,"",{"$f":"IF($M1415=\"\",\"\",IFERROR(VLOOKUP($M1415,PartnerSearch!B$2:G$16000,6,0),\"--\"))","v":""},null,"","","",""]
[null,null,null,null,null,null,null,null,null,null,null,null,"",{"$f":"IF($M1416=\"\",\"\",IFERROR(VLOOKUP($M1416,PartnerSearch!B$2:G$16000,6,0),\"--\"))","v":""},null,"","","",""]
[null,null,null,null,null,null,null,null,null,null,null,null,"",{"$f":"IF($M1417=\"\",\"\",IFERROR(VLOOKUP($M1417,PartnerSearch!B$2:G$16000,6,0),\"--\"))","v":""},null,"","","",""]
[null,null,null,null,null,null,null,null,null,null,null,null,"",{"$f":"IF($M1418=\"\",\"\",IFERROR(VLOOKUP($M1418,PartnerSearch!B$2:G$16000,6,0),\"--\"))","v":""},null,"","","",""]
[null,null,null,null,null,null,null,null,null,null,null,null,"",{"$f":"IF($M1419=\"\",\"\",IFERROR(VLOOKUP($M1419,PartnerSearch!B$2:G$16000,6,0),\"--\"))","v":""},null,"","","",""]
[null,null,null,null,null,null,null,null,null,null,null,null,"",{"$f":"IF($M1420=\"\",\"\",IFERROR(VLOOKUP($M1420,PartnerSearch!B$2:G$16000,6,0),\"--\"))","v":""},null,"","","",""]
[null,null,null,null,null,null,null,null,null,null,null,null,"",{"$f":"IF($M1421=\"\",\"\",IFERROR(VLOOKUP($M1421,PartnerSearch!B$2:G$16000,6,0),\"--\"))","v":""},null,"","","",""]
[null,null,null,null,null,null,null,null,null,null,null,null,"",{"$f":"IF($M1422=\"\",\"\",IFERROR(VLOOKUP($M1422,PartnerSearch!B$2:G$16000,6,0),\"--\"))","v":""},null,"","","",""]
[null,null,null,null,null,null,null,null,null,null,null,null,"",{"$f":"IF($M1423=\"\",\"\",IFERROR(VLOOKUP($M1423,PartnerSearch!B$2:G$16000,6,0),\"--\"))","v":""},null,"","","",""]
[null,null,null,null,null,null,null,null,null,null,null,null,"",{"$f":"IF($M1424=\"\",\"\",IFERROR(VLOOKUP($M1424,PartnerSearch!B$2:G$16000,6,0),\"--\"))","v":""},null,"","","",""]
[null,null,null,null,null,null,null,null,null,null,null,null,"",{"$f":"IF($M1425=\"\",\"\",IFERROR(VLOOKUP($M1425,PartnerSearch!B$2:G$16000,6,0),\"--\"))","v":""},null,"","","",""]
[null,null,null,null,null,null,null,null,null,null,null,null,"",{"$f":"IF($M1426=\"\",\"\",IFERROR(VLOOKUP($M1426,PartnerSearch!B$2:G$16000,6,0),\"--\"))","v":""},null,"","","",""]
[null,null,null,null,null,null,null,null,null,null,null,null,"",{"$f":"IF($M1427=\"\",\"\",IFERROR(VLOOKUP($M1427,PartnerSearch!B$2:G$16000,6,0),\"--\"))","v":""},null,"","","",""]
[null,null,null,null,null,null,null,null,null,null,null,null,"",{"$f":"IF($M1428=\"\",\"\",IFERROR(VLOOKUP($M1428,PartnerSearch!B$2:G$16000,6,0),\"--\"))","v":""},null,"","","",""]
[null,null,null,null,null,null,null,null,null,null,null,null,"",{"$f":"IF($M1429=\"\",\"\",IFERROR(VLOOKUP($M1429,PartnerSearch!B$2:G$16000,6,0),\"--\"))","v":""},null,"","","",""]
[null,null,null,null,null,null,null,null,null,null,null,null,"",{"$f":"IF($M1430=\"\",\"\",IFERROR(VLOOKUP($M1430,PartnerSearch!B$2:G$16000,6,0),\"--\"))","v":""},null,"","","",""]
[null,null,null,null,null,null,null,null,null,null,null,null,"",{"$f":"IF($M1431=\"\",\"\",IFERROR(VLOOKUP($M1431,PartnerSearch!B$2:G$16000,6,0),\"--\"))","v":""},null,"","","",""]
[null,null,null,null,null,null,null,null,null,null,null,null,"",{"$f":"IF($M1432=\"\",\"\",IFERROR(VLOOKUP($M1432,PartnerSearch!B$2:G$16000,6,0),\"--\"))","v":""},null,"","","",""]
[null,null,null,null,null,null,null,null,null,null,null,null,"",{"$f":"IF($M1433=\"\",\"\",IFERROR(VLOOKUP($M1433,PartnerSearch!B$2:G$16000,6,0),\"--\"))","v":""},null,"","","",""]
[null,null,null,null,null,null,null,null,null,null,null,null,"",{"$f":"IF($M1434=\"\",\"\",IFERROR(VLOOKUP($M1434,PartnerSearch!B$2:G$16000,6,0),\"--\"))","v":""},null,"","","",""]
[null,null,null,null,null,null,null,null,null,null,null,null,"",{"$f":"IF($M1435=\"\",\"\",IFERROR(VLOOKUP($M1435,PartnerSearch!B$2:G$16000,6,0),\"--\"))","v":""},null,"","","",""]
[null,null,null,null,null,null,null,null,null,null,null,null,"",{"$f":"IF($M1436=\"\",\"\",IFERROR(VLOOKUP($M1436,PartnerSearch!B$2:G$16000,6,0),\"--\"))","v":""},null,"","","",""]
[null,null,null,null,null,null,null,null,null,null,null,null,"",{"$f":"IF($M1437=\"\",\"\",IFERROR(VLOOKUP($M1437,PartnerSearch!B$2:G$16000,6,0),\"--\"))","v":""},null,"","","",""]
[null,null,null,null,null,null,null,null,null,null,null,null,"",{"$f":"IF($M1438=\"\",\"\",IFERROR(VLOOKUP($M1438,PartnerSearch!B$2:G$16000,6,0),\"--\"))","v":""},null,"","","",""]
[null,null,null,null,null,null,null,null,null,null,null,null,"",{"$f":"IF($M1439=\"\",\"\",IFERROR(VLOOKUP($M1439,PartnerSearch!B$2:G$16000,6,0),\"--\"))","v":""},null,"","","",""]
[null,null,null,null,null,null,null,null,null,null,null,null,"",{"$f":"IF($M1440=\"\",\"\",IFERROR(VLOOKUP($M1440,PartnerSearch!B$2:G$16000,6,0),\"--\"))","v":""},null,"","","",""]
[null,null,null,null,null,null,null,null,null,null,null,null,"",{"$f":"IF($M1441=\"\",\"\",IFERROR(VLOOKUP($M1441,PartnerSearch!B$2:G$16000,6,0),\"--\"))","v":""},null,"","","",""]
[null,null,null,null,null,null,null,null,null,null,null,null,"",{"$f":"IF($M1442=\"\",\"\",IFERROR(VLOOKUP($M1442,PartnerSearch!B$2:G$16000,6,0),\"--\"))","v":""},null,"","","",""]
[null,null,null,null,null,null,null,null,null,null,null,null,"",{"$f":"IF($M1443=\"\",\"\",IFERROR(VLOOKUP($M1443,PartnerSearch!B$2:G$16000,6,0),\"--\"))","v":""},null,"","","",""]
[null,null,null,null,null,null,null,null,null,null,null,null,"",{"$f":"IF($M1444=\"\",\"\",IFERROR(VLOOKUP($M1444,PartnerSearch!B$2:G$16000,6,0),\"--\"))","v":""},null,"","","",""]
[null,null,null,null,null,null,null,null,null,null,null,null,"",{"$f":"IF($M1445=\"\",\"\",IFERROR(VLOOKUP($M1445,PartnerSearch!B$2:G$16000,6,0),\"--\"))","v":""},null,"","","",""]
[null,null,null,null,null,null,null,null,null,null,null,null,"",{"$f":"IF($M1446=\"\",\"\",IFERROR(VLOOKUP($M1446,PartnerSearch!B$2:G$16000,6,0),\"--\"))","v":""},null,"","","",""]
[null,null,null,null,null,null,null,null,null,null,null,null,"",{"$f":"IF($M1447=\"\",\"\",IFERROR(VLOOKUP($M1447,PartnerSearch!B$2:G$16000,6,0),\"--\"))","v":""},null,"","","",""]
[null,null,null,null,null,null,null,null,null,null,null,null,"",{"$f":"IF($M1448=\"\",\"\",IFERROR(VLOOKUP($M1448,PartnerSearch!B$2:G$16000,6,0),\"--\"))","v":""},null,"","","",""]
[null,null,null,null,null,null,null,null,null,null,null,null,"",{"$f":"IF($M1449=\"\",\"\",IFERROR(VLOOKUP($M1449,PartnerSearch!B$2:G$16000,6,0),\"--\"))","v":""},null,"","","",""]
[null,null,null,null,null,null,null,null,null,null,null,null,"",{"$f":"IF($M1450=\"\",\"\",IFERROR(VLOOKUP($M1450,PartnerSearch!B$2:G$16000,6,0),\"--\"))","v":""},null,"","","",""]
[null,null,null,null,null,null,null,null,null,null,null,null,"",{"$f":"IF($M1451=\"\",\"\",IFERROR(VLOOKUP($M1451,PartnerSearch!B$2:G$16000,6,0),\"--\"))","v":""},null,"","","",""]
[null,null,null,null,null,null,null,null,null,null,null,null,"",{"$f":"IF($M1452=\"\",\"\",IFERROR(VLOOKUP($M1452,PartnerSearch!B$2:G$16000,6,0),\"--\"))","v":""},null,"","","",""]
[null,null,null,null,null,null,null,null,null,null,null,null,"",{"$f":"IF($M1453=\"\",\"\",IFERROR(VLOOKUP($M1453,PartnerSearch!B$2:G$16000,6,0),\"--\"))","v":""},null,"","","",""]
[null,null,null,null,null,null,null,null,null,null,null,null,"",{"$f":"IF($M1454=\"\",\"\",IFERROR(VLOOKUP($M1454,PartnerSearch!B$2:G$16000,6,0),\"--\"))","v":""},null,"","","",""]
[null,null,null,null,null,null,null,null,null,null,null,null,"",{"$f":"IF($M1455=\"\",\"\",IFERROR(VLOOKUP($M1455,PartnerSearch!B$2:G$16000,6,0),\"--\"))","v":""},null,"","","",""]
[null,null,null,null,null,null,null,null,null,null,null,null,"",{"$f":"IF($M1456=\"\",\"\",IFERROR(VLOOKUP($M1456,PartnerSearch!B$2:G$16000,6,0),\"--\"))","v":""},null,"","","",""]
[null,null,null,null,null,null,null,null,null,null,null,null,"",{"$f":"IF($M1457=\"\",\"\",IFERROR(VLOOKUP($M1457,PartnerSearch!B$2:G$16000,6,0),\"--\"))","v":""},null,"","","",""]
[null,null,null,null,null,null,null,null,null,null,null,null,"",{"$f":"IF($M1458=\"\",\"\",IFERROR(VLOOKUP($M1458,PartnerSearch!B$2:G$16000,6,0),\"--\"))","v":""},null,"","","",""]
[null,null,null,null,null,null,null,null,null,null,null,null,"",{"$f":"IF($M1459=\"\",\"\",IFERROR(VLOOKUP($M1459,PartnerSearch!B$2:G$16000,6,0),\"--\"))","v":""},null,"","","",""]
[null,null,null,null,null,null,null,null,null,null,null,null,"",{"$f":"IF($M1460=\"\",\"\",IFERROR(VLOOKUP($M1460,PartnerSearch!B$2:G$16000,6,0),\"--\"))","v":""},null,"","","",""]
[null,null,null,null,null,null,null,null,null,null,null,null,"",{"$f":"IF($M1461=\"\",\"\",IFERROR(VLOOKUP($M1461,PartnerSearch!B$2:G$16000,6,0),\"--\"))","v":""},null,"","","",""]
[null,null,null,null,null,null,null,null,null,null,null,null,"",{"$f":"IF($M1462=\"\",\"\",IFERROR(VLOOKUP($M1462,PartnerSearch!B$2:G$16000,6,0),\"--\"))","v":""},null,"","","",""]
[null,null,null,null,null,null,null,null,null,null,null,null,"",{"$f":"IF($M1463=\"\",\"\",IFERROR(VLOOKUP($M1463,PartnerSearch!B$2:G$16000,6,0),\"--\"))","v":""},null,"","","",""]
[null,null,null,null,null,null,null,null,null,null,null,null,"",{"$f":"IF($M1464=\"\",\"\",IFERROR(VLOOKUP($M1464,PartnerSearch!B$2:G$16000,6,0),\"--\"))","v":""},null,"","","",""]
[null,null,null,null,null,null,null,null,null,null,null,null,"",{"$f":"IF($M1465=\"\",\"\",IFERROR(VLOOKUP($M1465,PartnerSearch!B$2:G$16000,6,0),\"--\"))","v":""},null,"","","",""]
[null,null,null,null,null,null,null,null,null,null,null,null,"",{"$f":"IF($M1466=\"\",\"\",IFERROR(VLOOKUP($M1466,PartnerSearch!B$2:G$16000,6,0),\"--\"))","v":""},null,"","","",""]
[null,null,null,null,null,null,null,null,null,null,null,null,"",{"$f":"IF($M1467=\"\",\"\",IFERROR(VLOOKUP($M1467,PartnerSearch!B$2:G$16000,6,0),\"--\"))","v":""},null,"","","",""]
[null,null,null,null,null,null,null,null,null,null,null,null,"",{"$f":"IF($M1468=\"\",\"\",IFERROR(VLOOKUP($M1468,PartnerSearch!B$2:G$16000,6,0),\"--\"))","v":""},null,"","","",""]
[null,null,null,null,null,null,null,null,null,null,null,null,"",{"$f":"IF($M1469=\"\",\"\",IFERROR(VLOOKUP($M1469,PartnerSearch!B$2:G$16000,6,0),\"--\"))","v":""},null,"","","",""]
[null,null,null,null,null,null,null,null,null,null,null,null,"",{"$f":"IF($M1470=\"\",\"\",IFERROR(VLOOKUP($M1470,PartnerSearch!B$2:G$16000,6,0),\"--\"))","v":""},null,"","","",""]
[null,null,null,null,null,null,null,null,null,null,null,null,"",{"$f":"IF($M1471=\"\",\"\",IFERROR(VLOOKUP($M1471,PartnerSearch!B$2:G$16000,6,0),\"--\"))","v":""},null,"","","",""]
[null,null,null,null,null,null,null,null,null,null,null,null,"",{"$f":"IF($M1472=\"\",\"\",IFERROR(VLOOKUP($M1472,PartnerSearch!B$2:G$16000,6,0),\"--\"))","v":""},null,"","","",""]
[null,null,null,null,null,null,null,null,null,null,null,null,"",{"$f":"IF($M1473=\"\",\"\",IFERROR(VLOOKUP($M1473,PartnerSearch!B$2:G$16000,6,0),\"--\"))","v":""},null,"","","",""]
[null,null,null,null,null,null,null,null,null,null,null,null,"",{"$f":"IF($M1474=\"\",\"\",IFERROR(VLOOKUP($M1474,PartnerSearch!B$2:G$16000,6,0),\"--\"))","v":""},null,"","","",""]
[null,null,null,null,null,null,null,null,null,null,null,null,{"$f":"TRIM(SUBSTITUTE(SUBSTITUTE(SUBSTITUTE(SUBSTITUTE(SUBSTITUTE(SUBSTITUTE(SUBSTITUTE(SUBSTITUTE(SUBSTITUTE(SUBSTITUTE(SUBSTITUTE(SUBSTITUTE(SUBSTITUTE(SUBSTITUTE(E1475,\"00000 \",\"\"),\" (Local)\",\"\"),\" (Tribal)\",\"\"),\" (State)\",\"\"),\" (Regional)\",\"\"),\" (Federal/National)\",\"\"),\" (International)\",\"\"),\" (Unknown)\",\"\"),\" (Academic Institution)\",\"\"),\" (Government)\",\"\"),\" (Industry/Business)\",\"\"),\" (NGO)\",\"\"),\" (Other)\",\"\"),\" (Sea Grant Program)\",\"\"))","v":""},{"$f":"IF($M1475=\"\",\"\",IFERROR(VLOOKUP($M1475,PartnerSearch!B$2:G$16000,6,0),\"--\"))","v":""},null,{"$f":"IF(E1475=\"\",\"\",IF(LEFT(E1475&\"x\",5)=\"00000\",\"\",IF(N1475=\"--\",\"NO\",\"yes\")))","v":""},{"$f":"IF(LEFT(E1475&\"x\",5)<>\"00000\",\"\",IF(N1475=\"--\",\"yes\",\"NO\"))","v":""},{"$f":"IF(Q1475=\"\",\"\",IF((ISERROR(SEARCH(\"(Federal/National)\",E1475))*1+ISERROR(SEARCH(\"(International)\",E1475))*1+ISERROR(SEARCH(\"(Local)\",E1475))*1+ISERROR(SEARCH(\"(State)\",E1475))*1+ISERROR(SEARCH(\"(Regional)\",E1475))*1+ISERROR(SEARCH(\"(Tribal)\",E1475))*1+ISERROR(SEARCH(\"(Unknown) (\",E1475))*1)=6,\"yes\",\"NO\"))","v":""},{"$f":"IF(Q1475=\"\",\"\",IF(OR(NOT(ISERROR(SEARCH(\"(Academic Institution)\",E1475))),NOT(ISERROR(SEARCH(\"(Government)\",E1475))),NOT(ISERROR(SEARCH(\"(Industry/Business)\",E1475))),NOT(ISERROR(SEARCH(\"(NGO)\",E1475))),NOT(ISERROR(SEARCH(\"(Sea Grant Program)\",E1475))),NOT(ISERROR(SEARCH(\"(Other)\",E1475))),NOT(AND(NOT(ISERROR(SEARCH(\"(Unknown)\",E1475))),(ISERROR(SEARCH(\") (Unknown)\",E1475)))))),\"yes\",\"NO\"))","v":""}]
[null,null,null,null,null,null,null,null,null,null,null,null,"",{"$f":"IF($M1476=\"\",\"\",IFERROR(VLOOKUP($M1476,PartnerSearch!B$2:G$16000,6,0),\"--\"))","v":""},null,"","","",""]
[null,null,null,null,null,null,null,null,null,null,null,null,"",{"$f":"IF($M1477=\"\",\"\",IFERROR(VLOOKUP($M1477,PartnerSearch!B$2:G$16000,6,0),\"--\"))","v":""},null,"","","",""]
[null,null,null,null,null,null,null,null,null,null,null,null,"",{"$f":"IF($M1478=\"\",\"\",IFERROR(VLOOKUP($M1478,PartnerSearch!B$2:G$16000,6,0),\"--\"))","v":""},null,"","","",""]
[null,null,null,null,null,null,null,null,null,null,null,null,"",{"$f":"IF($M1479=\"\",\"\",IFERROR(VLOOKUP($M1479,PartnerSearch!B$2:G$16000,6,0),\"--\"))","v":""},null,"","","",""]
[null,null,null,null,null,null,null,null,null,null,null,null,"",{"$f":"IF($M1480=\"\",\"\",IFERROR(VLOOKUP($M1480,PartnerSearch!B$2:G$16000,6,0),\"--\"))","v":""},null,"","","",""]
[null,null,null,null,null,null,null,null,null,null,null,null,"",{"$f":"IF($M1481=\"\",\"\",IFERROR(VLOOKUP($M1481,PartnerSearch!B$2:G$16000,6,0),\"--\"))","v":""},null,"","","",""]
[null,null,null,null,null,null,null,null,null,null,null,null,"",{"$f":"IF($M1482=\"\",\"\",IFERROR(VLOOKUP($M1482,PartnerSearch!B$2:G$16000,6,0),\"--\"))","v":""},null,"","","",""]
[null,null,null,null,null,null,null,null,null,null,null,null,"",{"$f":"IF($M1483=\"\",\"\",IFERROR(VLOOKUP($M1483,PartnerSearch!B$2:G$16000,6,0),\"--\"))","v":""},null,"","","",""]
[null,null,null,null,null,null,null,null,null,null,null,null,"",{"$f":"IF($M1484=\"\",\"\",IFERROR(VLOOKUP($M1484,PartnerSearch!B$2:G$16000,6,0),\"--\"))","v":""},null,"","","",""]
[null,null,null,null,null,null,null,null,null,null,null,null,"",{"$f":"IF($M1485=\"\",\"\",IFERROR(VLOOKUP($M1485,PartnerSearch!B$2:G$16000,6,0),\"--\"))","v":""},null,"","","",""]
[null,null,null,null,null,null,null,null,null,null,null,null,"",{"$f":"IF($M1486=\"\",\"\",IFERROR(VLOOKUP($M1486,PartnerSearch!B$2:G$16000,6,0),\"--\"))","v":""},null,"","","",""]
[null,null,null,null,null,null,null,null,null,null,null,null,"",{"$f":"IF($M1487=\"\",\"\",IFERROR(VLOOKUP($M1487,PartnerSearch!B$2:G$16000,6,0),\"--\"))","v":""},null,"","","",""]
[null,null,null,null,null,null,null,null,null,null,null,null,"",{"$f":"IF($M1488=\"\",\"\",IFERROR(VLOOKUP($M1488,PartnerSearch!B$2:G$16000,6,0),\"--\"))","v":""},null,"","","",""]
[null,null,null,null,null,null,null,null,null,null,null,null,"",{"$f":"IF($M1489=\"\",\"\",IFERROR(VLOOKUP($M1489,PartnerSearch!B$2:G$16000,6,0),\"--\"))","v":""},null,"","","",""]
[null,null,null,null,null,null,null,null,null,null,null,null,"",{"$f":"IF($M1490=\"\",\"\",IFERROR(VLOOKUP($M1490,PartnerSearch!B$2:G$16000,6,0),\"--\"))","v":""},null,"","","",""]
[null,null,null,null,null,null,null,null,null,null,null,null,"",{"$f":"IF($M1491=\"\",\"\",IFERROR(VLOOKUP($M1491,PartnerSearch!B$2:G$16000,6,0),\"--\"))","v":""},null,"","","",""]
[null,null,null,null,null,null,null,null,null,null,null,null,"",{"$f":"IF($M1492=\"\",\"\",IFERROR(VLOOKUP($M1492,PartnerSearch!B$2:G$16000,6,0),\"--\"))","v":""},null,"","","",""]
[null,null,null,null,null,null,null,null,null,null,null,null,"",{"$f":"IF($M1493=\"\",\"\",IFERROR(VLOOKUP($M1493,PartnerSearch!B$2:G$16000,6,0),\"--\"))","v":""},null,"","","",""]
[null,null,null,null,null,null,null,null,null,null,null,null,"",{"$f":"IF($M1494=\"\",\"\",IFERROR(VLOOKUP($M1494,PartnerSearch!B$2:G$16000,6,0),\"--\"))","v":""},null,"","","",""]
[null,null,null,null,null,null,null,null,null,null,null,null,"",{"$f":"IF($M1495=\"\",\"\",IFERROR(VLOOKUP($M1495,PartnerSearch!B$2:G$16000,6,0),\"--\"))","v":""},null,"","","",""]
[null,null,null,null,null,null,null,null,null,null,null,null,"",{"$f":"IF($M1496=\"\",\"\",IFERROR(VLOOKUP($M1496,PartnerSearch!B$2:G$16000,6,0),\"--\"))","v":""},null,"","","",""]
[null,null,null,null,null,null,null,null,null,null,null,null,"",{"$f":"IF($M1497=\"\",\"\",IFERROR(VLOOKUP($M1497,PartnerSearch!B$2:G$16000,6,0),\"--\"))","v":""},null,"","","",""]
[null,null,null,null,null,null,null,null,null,null,null,null,"",{"$f":"IF($M1498=\"\",\"\",IFERROR(VLOOKUP($M1498,PartnerSearch!B$2:G$16000,6,0),\"--\"))","v":""},null,"","","",""]
[null,null,null,null,null,null,null,null,null,null,null,null,"",{"$f":"IF($M1499=\"\",\"\",IFERROR(VLOOKUP($M1499,PartnerSearch!B$2:G$16000,6,0),\"--\"))","v":""},null,"","","",""]
[null,null,null,null,null,null,null,null,null,null,null,null,"",{"$f":"IF($M1500=\"\",\"\",IFERROR(VLOOKUP($M1500,PartnerSearch!B$2:G$16000,6,0),\"--\"))","v":""},null,"","","",""]
[null,null,null,null,null,null,null,null,null,null,null,null,"",{"$f":"IF($M1501=\"\",\"\",IFERROR(VLOOKUP($M1501,PartnerSearch!B$2:G$16000,6,0),\"--\"))","v":""},null,"","","",""]
[null,null,null,null,null,null,null,null,null,null,null,null,"",{"$f":"IF($M1502=\"\",\"\",IFERROR(VLOOKUP($M1502,PartnerSearch!B$2:G$16000,6,0),\"--\"))","v":""},null,"","","",""]
[null,null,null,null,null,null,null,null,null,null,null,null,"",{"$f":"IF($M1503=\"\",\"\",IFERROR(VLOOKUP($M1503,PartnerSearch!B$2:G$16000,6,0),\"--\"))","v":""},null,"","","",""]
[null,null,null,null,null,null,null,null,null,null,null,null,"",{"$f":"IF($M1504=\"\",\"\",IFERROR(VLOOKUP($M1504,PartnerSearch!B$2:G$16000,6,0),\"--\"))","v":""},null,"","","",""]
[null,null,null,null,null,null,null,null,null,null,null,null,"",{"$f":"IF($M1505=\"\",\"\",IFERROR(VLOOKUP($M1505,PartnerSearch!B$2:G$16000,6,0),\"--\"))","v":""},null,"","","",""]
[null,null,null,null,null,null,null,null,null,null,null,null,"",{"$f":"IF($M1506=\"\",\"\",IFERROR(VLOOKUP($M1506,PartnerSearch!B$2:G$16000,6,0),\"--\"))","v":""},null,"","","",""]
[null,null,null,null,null,null,null,null,null,null,null,null,"",{"$f":"IF($M1507=\"\",\"\",IFERROR(VLOOKUP($M1507,PartnerSearch!B$2:G$16000,6,0),\"--\"))","v":""},null,"","","",""]
[null,null,null,null,null,null,null,null,null,null,null,null,"",{"$f":"IF($M1508=\"\",\"\",IFERROR(VLOOKUP($M1508,PartnerSearch!B$2:G$16000,6,0),\"--\"))","v":""},null,"","","",""]
[null,null,null,null,null,null,null,null,null,null,null,null,"",{"$f":"IF($M1509=\"\",\"\",IFERROR(VLOOKUP($M1509,PartnerSearch!B$2:G$16000,6,0),\"--\"))","v":""},null,"","","",""]
[null,null,null,null,null,null,null,null,null,null,null,null,"",{"$f":"IF($M1510=\"\",\"\",IFERROR(VLOOKUP($M1510,PartnerSearch!B$2:G$16000,6,0),\"--\"))","v":""},null,"","","",""]
[null,null,null,null,null,null,null,null,null,null,null,null,"",{"$f":"IF($M1511=\"\",\"\",IFERROR(VLOOKUP($M1511,PartnerSearch!B$2:G$16000,6,0),\"--\"))","v":""},null,"","","",""]
[null,null,null,null,null,null,null,null,null,null,null,null,"",{"$f":"IF($M1512=\"\",\"\",IFERROR(VLOOKUP($M1512,PartnerSearch!B$2:G$16000,6,0),\"--\"))","v":""},null,"","","",""]
[null,null,null,null,null,null,null,null,null,null,null,null,"",{"$f":"IF($M1513=\"\",\"\",IFERROR(VLOOKUP($M1513,PartnerSearch!B$2:G$16000,6,0),\"--\"))","v":""},null,"","","",""]
[null,null,null,null,null,null,null,null,null,null,null,null,"",{"$f":"IF($M1514=\"\",\"\",IFERROR(VLOOKUP($M1514,PartnerSearch!B$2:G$16000,6,0),\"--\"))","v":""},null,"","","",""]
[null,null,null,null,null,null,null,null,null,null,null,null,"",{"$f":"IF($M1515=\"\",\"\",IFERROR(VLOOKUP($M1515,PartnerSearch!B$2:G$16000,6,0),\"--\"))","v":""},null,"","","",""]
[null,null,null,null,null,null,null,null,null,null,null,null,"",{"$f":"IF($M1516=\"\",\"\",IFERROR(VLOOKUP($M1516,PartnerSearch!B$2:G$16000,6,0),\"--\"))","v":""},null,"","","",""]
[null,null,null,null,null,null,null,null,null,null,null,null,"",{"$f":"IF($M1517=\"\",\"\",IFERROR(VLOOKUP($M1517,PartnerSearch!B$2:G$16000,6,0),\"--\"))","v":""},null,"","","",""]
[null,null,null,null,null,null,null,null,null,null,null,null,"",{"$f":"IF($M1518=\"\",\"\",IFERROR(VLOOKUP($M1518,PartnerSearch!B$2:G$16000,6,0),\"--\"))","v":""},null,"","","",""]
[null,null,null,null,null,null,null,null,null,null,null,null,"",{"$f":"IF($M1519=\"\",\"\",IFERROR(VLOOKUP($M1519,PartnerSearch!B$2:G$16000,6,0),\"--\"))","v":""},null,"","","",""]
[null,null,null,null,null,null,null,null,null,null,null,null,"",{"$f":"IF($M1520=\"\",\"\",IFERROR(VLOOKUP($M1520,PartnerSearch!B$2:G$16000,6,0),\"--\"))","v":""},null,"","","",""]
[null,null,null,null,null,null,null,null,null,null,null,null,"",{"$f":"IF($M1521=\"\",\"\",IFERROR(VLOOKUP($M1521,PartnerSearch!B$2:G$16000,6,0),\"--\"))","v":""},null,"","","",""]
[null,null,null,null,null,null,null,null,null,null,null,null,"",{"$f":"IF($M1522=\"\",\"\",IFERROR(VLOOKUP($M1522,PartnerSearch!B$2:G$16000,6,0),\"--\"))","v":""},null,"","","",""]
[null,null,null,null,null,null,null,null,null,null,null,null,"",{"$f":"IF($M1523=\"\",\"\",IFERROR(VLOOKUP($M1523,PartnerSearch!B$2:G$16000,6,0),\"--\"))","v":""},null,"","","",""]
[null,null,null,null,null,null,null,null,null,null,null,null,"",{"$f":"IF($M1524=\"\",\"\",IFERROR(VLOOKUP($M1524,PartnerSearch!B$2:G$16000,6,0),\"--\"))","v":""},null,"","","",""]
[null,null,null,null,null,null,null,null,null,null,null,null,"",{"$f":"IF($M1525=\"\",\"\",IFERROR(VLOOKUP($M1525,PartnerSearch!B$2:G$16000,6,0),\"--\"))","v":""},null,"","","",""]
[null,null,null,null,null,null,null,null,null,null,null,null,"",{"$f":"IF($M1526=\"\",\"\",IFERROR(VLOOKUP($M1526,PartnerSearch!B$2:G$16000,6,0),\"--\"))","v":""},null,"","","",""]
[null,null,null,null,null,null,null,null,null,null,null,null,"",{"$f":"IF($M1527=\"\",\"\",IFERROR(VLOOKUP($M1527,PartnerSearch!B$2:G$16000,6,0),\"--\"))","v":""},null,"","","",""]
[null,null,null,null,null,null,null,null,null,null,null,null,"",{"$f":"IF($M1528=\"\",\"\",IFERROR(VLOOKUP($M1528,PartnerSearch!B$2:G$16000,6,0),\"--\"))","v":""},null,"","","",""]
[null,null,null,null,null,null,null,null,null,null,null,null,"",{"$f":"IF($M1529=\"\",\"\",IFERROR(VLOOKUP($M1529,PartnerSearch!B$2:G$16000,6,0),\"--\"))","v":""},null,"","","",""]
[null,null,null,null,null,null,null,null,null,null,null,null,"",{"$f":"IF($M1530=\"\",\"\",IFERROR(VLOOKUP($M1530,PartnerSearch!B$2:G$16000,6,0),\"--\"))","v":""},null,"","","",""]
[null,null,null,null,null,null,null,null,null,null,null,null,"",{"$f":"IF($M1531=\"\",\"\",IFERROR(VLOOKUP($M1531,PartnerSearch!B$2:G$16000,6,0),\"--\"))","v":""},null,"","","",""]
[null,null,null,null,null,null,null,null,null,null,null,null,"",{"$f":"IF($M1532=\"\",\"\",IFERROR(VLOOKUP($M1532,PartnerSearch!B$2:G$16000,6,0),\"--\"))","v":""},null,"","","",""]
[null,null,null,null,null,null,null,null,null,null,null,null,"",{"$f":"IF($M1533=\"\",\"\",IFERROR(VLOOKUP($M1533,PartnerSearch!B$2:G$16000,6,0),\"--\"))","v":""},null,"","","",""]
[null,null,null,null,null,null,null,null,null,null,null,null,"",{"$f":"IF($M1534=\"\",\"\",IFERROR(VLOOKUP($M1534,PartnerSearch!B$2:G$16000,6,0),\"--\"))","v":""},null,"","","",""]
[null,null,null,null,null,null,null,null,null,null,null,null,"",{"$f":"IF($M1535=\"\",\"\",IFERROR(VLOOKUP($M1535,PartnerSearch!B$2:G$16000,6,0),\"--\"))","v":""},null,"","","",""]
[null,null,null,null,null,null,null,null,null,null,null,null,"",{"$f":"IF($M1536=\"\",\"\",IFERROR(VLOOKUP($M1536,PartnerSearch!B$2:G$16000,6,0),\"--\"))","v":""},null,"","","",""]
[null,null,null,null,null,null,null,null,null,null,null,null,"",{"$f":"IF($M1537=\"\",\"\",IFERROR(VLOOKUP($M1537,PartnerSearch!B$2:G$16000,6,0),\"--\"))","v":""},null,"","","",""]
[null,null,null,null,null,null,null,null,null,null,null,null,"",{"$f":"IF($M1538=\"\",\"\",IFERROR(VLOOKUP($M1538,PartnerSearch!B$2:G$16000,6,0),\"--\"))","v":""},null,"","","",""]
[null,null,null,null,null,null,null,null,null,null,null,null,{"$f":"TRIM(SUBSTITUTE(SUBSTITUTE(SUBSTITUTE(SUBSTITUTE(SUBSTITUTE(SUBSTITUTE(SUBSTITUTE(SUBSTITUTE(SUBSTITUTE(SUBSTITUTE(SUBSTITUTE(SUBSTITUTE(SUBSTITUTE(SUBSTITUTE(E1539,\"00000 \",\"\"),\" (Local)\",\"\"),\" (Tribal)\",\"\"),\" (State)\",\"\"),\" (Regional)\",\"\"),\" (Federal/National)\",\"\"),\" (International)\",\"\"),\" (Unknown)\",\"\"),\" (Academic Institution)\",\"\"),\" (Government)\",\"\"),\" (Industry/Business)\",\"\"),\" (NGO)\",\"\"),\" (Other)\",\"\"),\" (Sea Grant Program)\",\"\"))","v":""},{"$f":"IF($M1539=\"\",\"\",IFERROR(VLOOKUP($M1539,PartnerSearch!B$2:G$16000,6,0),\"--\"))","v":""},null,{"$f":"IF(E1539=\"\",\"\",IF(LEFT(E1539&\"x\",5)=\"00000\",\"\",IF(N1539=\"--\",\"NO\",\"yes\")))","v":""},{"$f":"IF(LEFT(E1539&\"x\",5)<>\"00000\",\"\",IF(N1539=\"--\",\"yes\",\"NO\"))","v":""},{"$f":"IF(Q1539=\"\",\"\",IF((ISERROR(SEARCH(\"(Federal/National)\",E1539))*1+ISERROR(SEARCH(\"(International)\",E1539))*1+ISERROR(SEARCH(\"(Local)\",E1539))*1+ISERROR(SEARCH(\"(State)\",E1539))*1+ISERROR(SEARCH(\"(Regional)\",E1539))*1+ISERROR(SEARCH(\"(Tribal)\",E1539))*1+ISERROR(SEARCH(\"(Unknown) (\",E1539))*1)=6,\"yes\",\"NO\"))","v":""},{"$f":"IF(Q1539=\"\",\"\",IF(OR(NOT(ISERROR(SEARCH(\"(Academic Institution)\",E1539))),NOT(ISERROR(SEARCH(\"(Government)\",E1539))),NOT(ISERROR(SEARCH(\"(Industry/Business)\",E1539))),NOT(ISERROR(SEARCH(\"(NGO)\",E1539))),NOT(ISERROR(SEARCH(\"(Sea Grant Program)\",E1539))),NOT(ISERROR(SEARCH(\"(Other)\",E1539))),NOT(AND(NOT(ISERROR(SEARCH(\"(Unknown)\",E1539))),(ISERROR(SEARCH(\") (Unknown)\",E1539)))))),\"yes\",\"NO\"))","v":""}]
[null,null,null,null,null,null,null,null,null,null,null,null,"",{"$f":"IF($M1540=\"\",\"\",IFERROR(VLOOKUP($M1540,PartnerSearch!B$2:G$16000,6,0),\"--\"))","v":""},null,"","","",""]
[null,null,null,null,null,null,null,null,null,null,null,null,"",{"$f":"IF($M1541=\"\",\"\",IFERROR(VLOOKUP($M1541,PartnerSearch!B$2:G$16000,6,0),\"--\"))","v":""},null,"","","",""]
[null,null,null,null,null,null,null,null,null,null,null,null,"",{"$f":"IF($M1542=\"\",\"\",IFERROR(VLOOKUP($M1542,PartnerSearch!B$2:G$16000,6,0),\"--\"))","v":""},null,"","","",""]
[null,null,null,null,null,null,null,null,null,null,null,null,"",{"$f":"IF($M1543=\"\",\"\",IFERROR(VLOOKUP($M1543,PartnerSearch!B$2:G$16000,6,0),\"--\"))","v":""},null,"","","",""]
[null,null,null,null,null,null,null,null,null,null,null,null,"",{"$f":"IF($M1544=\"\",\"\",IFERROR(VLOOKUP($M1544,PartnerSearch!B$2:G$16000,6,0),\"--\"))","v":""},null,"","","",""]
[null,null,null,null,null,null,null,null,null,null,null,null,"",{"$f":"IF($M1545=\"\",\"\",IFERROR(VLOOKUP($M1545,PartnerSearch!B$2:G$16000,6,0),\"--\"))","v":""},null,"","","",""]
[null,null,null,null,null,null,null,null,null,null,null,null,"",{"$f":"IF($M1546=\"\",\"\",IFERROR(VLOOKUP($M1546,PartnerSearch!B$2:G$16000,6,0),\"--\"))","v":""},null,"","","",""]
[null,null,null,null,null,null,null,null,null,null,null,null,"",{"$f":"IF($M1547=\"\",\"\",IFERROR(VLOOKUP($M1547,PartnerSearch!B$2:G$16000,6,0),\"--\"))","v":""},null,"","","",""]
[null,null,null,null,null,null,null,null,null,null,null,null,"",{"$f":"IF($M1548=\"\",\"\",IFERROR(VLOOKUP($M1548,PartnerSearch!B$2:G$16000,6,0),\"--\"))","v":""},null,"","","",""]
[null,null,null,null,null,null,null,null,null,null,null,null,"",{"$f":"IF($M1549=\"\",\"\",IFERROR(VLOOKUP($M1549,PartnerSearch!B$2:G$16000,6,0),\"--\"))","v":""},null,"","","",""]
[null,null,null,null,null,null,null,null,null,null,null,null,"",{"$f":"IF($M1550=\"\",\"\",IFERROR(VLOOKUP($M1550,PartnerSearch!B$2:G$16000,6,0),\"--\"))","v":""},null,"","","",""]
[null,null,null,null,null,null,null,null,null,null,null,null,"",{"$f":"IF($M1551=\"\",\"\",IFERROR(VLOOKUP($M1551,PartnerSearch!B$2:G$16000,6,0),\"--\"))","v":""},null,"","","",""]
[null,null,null,null,null,null,null,null,null,null,null,null,"",{"$f":"IF($M1552=\"\",\"\",IFERROR(VLOOKUP($M1552,PartnerSearch!B$2:G$16000,6,0),\"--\"))","v":""},null,"","","",""]
[null,null,null,null,null,null,null,null,null,null,null,null,"",{"$f":"IF($M1553=\"\",\"\",IFERROR(VLOOKUP($M1553,PartnerSearch!B$2:G$16000,6,0),\"--\"))","v":""},null,"","","",""]
[null,null,null,null,null,null,null,null,null,null,null,null,"",{"$f":"IF($M1554=\"\",\"\",IFERROR(VLOOKUP($M1554,PartnerSearch!B$2:G$16000,6,0),\"--\"))","v":""},null,"","","",""]
[null,null,null,null,null,null,null,null,null,null,null,null,"",{"$f":"IF($M1555=\"\",\"\",IFERROR(VLOOKUP($M1555,PartnerSearch!B$2:G$16000,6,0),\"--\"))","v":""},null,"","","",""]
[null,null,null,null,null,null,null,null,null,null,null,null,"",{"$f":"IF($M1556=\"\",\"\",IFERROR(VLOOKUP($M1556,PartnerSearch!B$2:G$16000,6,0),\"--\"))","v":""},null,"","","",""]
[null,null,null,null,null,null,null,null,null,null,null,null,"",{"$f":"IF($M1557=\"\",\"\",IFERROR(VLOOKUP($M1557,PartnerSearch!B$2:G$16000,6,0),\"--\"))","v":""},null,"","","",""]
[null,null,null,null,null,null,null,null,null,null,null,null,"",{"$f":"IF($M1558=\"\",\"\",IFERROR(VLOOKUP($M1558,PartnerSearch!B$2:G$16000,6,0),\"--\"))","v":""},null,"","","",""]
[null,null,null,null,null,null,null,null,null,null,null,null,"",{"$f":"IF($M1559=\"\",\"\",IFERROR(VLOOKUP($M1559,PartnerSearch!B$2:G$16000,6,0),\"--\"))","v":""},null,"","","",""]
[null,null,null,null,null,null,null,null,null,null,null,null,"",{"$f":"IF($M1560=\"\",\"\",IFERROR(VLOOKUP($M1560,PartnerSearch!B$2:G$16000,6,0),\"--\"))","v":""},null,"","","",""]
[null,null,null,null,null,null,null,null,null,null,null,null,"",{"$f":"IF($M1561=\"\",\"\",IFERROR(VLOOKUP($M1561,PartnerSearch!B$2:G$16000,6,0),\"--\"))","v":""},null,"","","",""]
[null,null,null,null,null,null,null,null,null,null,null,null,"",{"$f":"IF($M1562=\"\",\"\",IFERROR(VLOOKUP($M1562,PartnerSearch!B$2:G$16000,6,0),\"--\"))","v":""},null,"","","",""]
[null,null,null,null,null,null,null,null,null,null,null,null,"",{"$f":"IF($M1563=\"\",\"\",IFERROR(VLOOKUP($M1563,PartnerSearch!B$2:G$16000,6,0),\"--\"))","v":""},null,"","","",""]
[null,null,null,null,null,null,null,null,null,null,null,null,"",{"$f":"IF($M1564=\"\",\"\",IFERROR(VLOOKUP($M1564,PartnerSearch!B$2:G$16000,6,0),\"--\"))","v":""},null,"","","",""]
[null,null,null,null,null,null,null,null,null,null,null,null,"",{"$f":"IF($M1565=\"\",\"\",IFERROR(VLOOKUP($M1565,PartnerSearch!B$2:G$16000,6,0),\"--\"))","v":""},null,"","","",""]
[null,null,null,null,null,null,null,null,null,null,null,null,"",{"$f":"IF($M1566=\"\",\"\",IFERROR(VLOOKUP($M1566,PartnerSearch!B$2:G$16000,6,0),\"--\"))","v":""},null,"","","",""]
[null,null,null,null,null,null,null,null,null,null,null,null,"",{"$f":"IF($M1567=\"\",\"\",IFERROR(VLOOKUP($M1567,PartnerSearch!B$2:G$16000,6,0),\"--\"))","v":""},null,"","","",""]
[null,null,null,null,null,null,null,null,null,null,null,null,"",{"$f":"IF($M1568=\"\",\"\",IFERROR(VLOOKUP($M1568,PartnerSearch!B$2:G$16000,6,0),\"--\"))","v":""},null,"","","",""]
[null,null,null,null,null,null,null,null,null,null,null,null,"",{"$f":"IF($M1569=\"\",\"\",IFERROR(VLOOKUP($M1569,PartnerSearch!B$2:G$16000,6,0),\"--\"))","v":""},null,"","","",""]
[null,null,null,null,null,null,null,null,null,null,null,null,"",{"$f":"IF($M1570=\"\",\"\",IFERROR(VLOOKUP($M1570,PartnerSearch!B$2:G$16000,6,0),\"--\"))","v":""},null,"","","",""]
[null,null,null,null,null,null,null,null,null,null,null,null,"",{"$f":"IF($M1571=\"\",\"\",IFERROR(VLOOKUP($M1571,PartnerSearch!B$2:G$16000,6,0),\"--\"))","v":""},null,"","","",""]
[null,null,null,null,null,null,null,null,null,null,null,null,"",{"$f":"IF($M1572=\"\",\"\",IFERROR(VLOOKUP($M1572,PartnerSearch!B$2:G$16000,6,0),\"--\"))","v":""},null,"","","",""]
[null,null,null,null,null,null,null,null,null,null,null,null,"",{"$f":"IF($M1573=\"\",\"\",IFERROR(VLOOKUP($M1573,PartnerSearch!B$2:G$16000,6,0),\"--\"))","v":""},null,"","","",""]
[null,null,null,null,null,null,null,null,null,null,null,null,"",{"$f":"IF($M1574=\"\",\"\",IFERROR(VLOOKUP($M1574,PartnerSearch!B$2:G$16000,6,0),\"--\"))","v":""},null,"","","",""]
[null,null,null,null,null,null,null,null,null,null,null,null,"",{"$f":"IF($M1575=\"\",\"\",IFERROR(VLOOKUP($M1575,PartnerSearch!B$2:G$16000,6,0),\"--\"))","v":""},null,"","","",""]
[null,null,null,null,null,null,null,null,null,null,null,null,"",{"$f":"IF($M1576=\"\",\"\",IFERROR(VLOOKUP($M1576,PartnerSearch!B$2:G$16000,6,0),\"--\"))","v":""},null,"","","",""]
[null,null,null,null,null,null,null,null,null,null,null,null,"",{"$f":"IF($M1577=\"\",\"\",IFERROR(VLOOKUP($M1577,PartnerSearch!B$2:G$16000,6,0),\"--\"))","v":""},null,"","","",""]
[null,null,null,null,null,null,null,null,null,null,null,null,"",{"$f":"IF($M1578=\"\",\"\",IFERROR(VLOOKUP($M1578,PartnerSearch!B$2:G$16000,6,0),\"--\"))","v":""},null,"","","",""]
[null,null,null,null,null,null,null,null,null,null,null,null,"",{"$f":"IF($M1579=\"\",\"\",IFERROR(VLOOKUP($M1579,PartnerSearch!B$2:G$16000,6,0),\"--\"))","v":""},null,"","","",""]
[null,null,null,null,null,null,null,null,null,null,null,null,"",{"$f":"IF($M1580=\"\",\"\",IFERROR(VLOOKUP($M1580,PartnerSearch!B$2:G$16000,6,0),\"--\"))","v":""},null,"","","",""]
[null,null,null,null,null,null,null,null,null,null,null,null,"",{"$f":"IF($M1581=\"\",\"\",IFERROR(VLOOKUP($M1581,PartnerSearch!B$2:G$16000,6,0),\"--\"))","v":""},null,"","","",""]
[null,null,null,null,null,null,null,null,null,null,null,null,"",{"$f":"IF($M1582=\"\",\"\",IFERROR(VLOOKUP($M1582,PartnerSearch!B$2:G$16000,6,0),\"--\"))","v":""},null,"","","",""]
[null,null,null,null,null,null,null,null,null,null,null,null,"",{"$f":"IF($M1583=\"\",\"\",IFERROR(VLOOKUP($M1583,PartnerSearch!B$2:G$16000,6,0),\"--\"))","v":""},null,"","","",""]
[null,null,null,null,null,null,null,null,null,null,null,null,"",{"$f":"IF($M1584=\"\",\"\",IFERROR(VLOOKUP($M1584,PartnerSearch!B$2:G$16000,6,0),\"--\"))","v":""},null,"","","",""]
[null,null,null,null,null,null,null,null,null,null,null,null,"",{"$f":"IF($M1585=\"\",\"\",IFERROR(VLOOKUP($M1585,PartnerSearch!B$2:G$16000,6,0),\"--\"))","v":""},null,"","","",""]
[null,null,null,null,null,null,null,null,null,null,null,null,"",{"$f":"IF($M1586=\"\",\"\",IFERROR(VLOOKUP($M1586,PartnerSearch!B$2:G$16000,6,0),\"--\"))","v":""},null,"","","",""]
[null,null,null,null,null,null,null,null,null,null,null,null,"",{"$f":"IF($M1587=\"\",\"\",IFERROR(VLOOKUP($M1587,PartnerSearch!B$2:G$16000,6,0),\"--\"))","v":""},null,"","","",""]
[null,null,null,null,null,null,null,null,null,null,null,null,"",{"$f":"IF($M1588=\"\",\"\",IFERROR(VLOOKUP($M1588,PartnerSearch!B$2:G$16000,6,0),\"--\"))","v":""},null,"","","",""]
[null,null,null,null,null,null,null,null,null,null,null,null,"",{"$f":"IF($M1589=\"\",\"\",IFERROR(VLOOKUP($M1589,PartnerSearch!B$2:G$16000,6,0),\"--\"))","v":""},null,"","","",""]
[null,null,null,null,null,null,null,null,null,null,null,null,"",{"$f":"IF($M1590=\"\",\"\",IFERROR(VLOOKUP($M1590,PartnerSearch!B$2:G$16000,6,0),\"--\"))","v":""},null,"","","",""]
[null,null,null,null,null,null,null,null,null,null,null,null,"",{"$f":"IF($M1591=\"\",\"\",IFERROR(VLOOKUP($M1591,PartnerSearch!B$2:G$16000,6,0),\"--\"))","v":""},null,"","","",""]
[null,null,null,null,null,null,null,null,null,null,null,null,"",{"$f":"IF($M1592=\"\",\"\",IFERROR(VLOOKUP($M1592,PartnerSearch!B$2:G$16000,6,0),\"--\"))","v":""},null,"","","",""]
[null,null,null,null,null,null,null,null,null,null,null,null,"",{"$f":"IF($M1593=\"\",\"\",IFERROR(VLOOKUP($M1593,PartnerSearch!B$2:G$16000,6,0),\"--\"))","v":""},null,"","","",""]
[null,null,null,null,null,null,null,null,null,null,null,null,"",{"$f":"IF($M1594=\"\",\"\",IFERROR(VLOOKUP($M1594,PartnerSearch!B$2:G$16000,6,0),\"--\"))","v":""},null,"","","",""]
[null,null,null,null,null,null,null,null,null,null,null,null,"",{"$f":"IF($M1595=\"\",\"\",IFERROR(VLOOKUP($M1595,PartnerSearch!B$2:G$16000,6,0),\"--\"))","v":""},null,"","","",""]
[null,null,null,null,null,null,null,null,null,null,null,null,"",{"$f":"IF($M1596=\"\",\"\",IFERROR(VLOOKUP($M1596,PartnerSearch!B$2:G$16000,6,0),\"--\"))","v":""},null,"","","",""]
[null,null,null,null,null,null,null,null,null,null,null,null,"",{"$f":"IF($M1597=\"\",\"\",IFERROR(VLOOKUP($M1597,PartnerSearch!B$2:G$16000,6,0),\"--\"))","v":""},null,"","","",""]
[null,null,null,null,null,null,null,null,null,null,null,null,"",{"$f":"IF($M1598=\"\",\"\",IFERROR(VLOOKUP($M1598,PartnerSearch!B$2:G$16000,6,0),\"--\"))","v":""},null,"","","",""]
[null,null,null,null,null,null,null,null,null,null,null,null,"",{"$f":"IF($M1599=\"\",\"\",IFERROR(VLOOKUP($M1599,PartnerSearch!B$2:G$16000,6,0),\"--\"))","v":""},null,"","","",""]
[null,null,null,null,null,null,null,null,null,null,null,null,"",{"$f":"IF($M1600=\"\",\"\",IFERROR(VLOOKUP($M1600,PartnerSearch!B$2:G$16000,6,0),\"--\"))","v":""},null,"","","",""]
[null,null,null,null,null,null,null,null,null,null,null,null,"",{"$f":"IF($M1601=\"\",\"\",IFERROR(VLOOKUP($M1601,PartnerSearch!B$2:G$16000,6,0),\"--\"))","v":""},null,"","","",""]
[null,null,null,null,null,null,null,null,null,null,null,null,"",{"$f":"IF($M1602=\"\",\"\",IFERROR(VLOOKUP($M1602,PartnerSearch!B$2:G$16000,6,0),\"--\"))","v":""},null,"","","",""]
[null,null,null,null,null,null,null,null,null,null,null,null,{"$f":"TRIM(SUBSTITUTE(SUBSTITUTE(SUBSTITUTE(SUBSTITUTE(SUBSTITUTE(SUBSTITUTE(SUBSTITUTE(SUBSTITUTE(SUBSTITUTE(SUBSTITUTE(SUBSTITUTE(SUBSTITUTE(SUBSTITUTE(SUBSTITUTE(E1603,\"00000 \",\"\"),\" (Local)\",\"\"),\" (Tribal)\",\"\"),\" (State)\",\"\"),\" (Regional)\",\"\"),\" (Federal/National)\",\"\"),\" (International)\",\"\"),\" (Unknown)\",\"\"),\" (Academic Institution)\",\"\"),\" (Government)\",\"\"),\" (Industry/Business)\",\"\"),\" (NGO)\",\"\"),\" (Other)\",\"\"),\" (Sea Grant Program)\",\"\"))","v":""},{"$f":"IF($M1603=\"\",\"\",IFERROR(VLOOKUP($M1603,PartnerSearch!B$2:G$16000,6,0),\"--\"))","v":""},null,{"$f":"IF(E1603=\"\",\"\",IF(LEFT(E1603&\"x\",5)=\"00000\",\"\",IF(N1603=\"--\",\"NO\",\"yes\")))","v":""},{"$f":"IF(LEFT(E1603&\"x\",5)<>\"00000\",\"\",IF(N1603=\"--\",\"yes\",\"NO\"))","v":""},{"$f":"IF(Q1603=\"\",\"\",IF((ISERROR(SEARCH(\"(Federal/National)\",E1603))*1+ISERROR(SEARCH(\"(International)\",E1603))*1+ISERROR(SEARCH(\"(Local)\",E1603))*1+ISERROR(SEARCH(\"(State)\",E1603))*1+ISERROR(SEARCH(\"(Regional)\",E1603))*1+ISERROR(SEARCH(\"(Tribal)\",E1603))*1+ISERROR(SEARCH(\"(Unknown) (\",E1603))*1)=6,\"yes\",\"NO\"))","v":""},{"$f":"IF(Q1603=\"\",\"\",IF(OR(NOT(ISERROR(SEARCH(\"(Academic Institution)\",E1603))),NOT(ISERROR(SEARCH(\"(Government)\",E1603))),NOT(ISERROR(SEARCH(\"(Industry/Business)\",E1603))),NOT(ISERROR(SEARCH(\"(NGO)\",E1603))),NOT(ISERROR(SEARCH(\"(Sea Grant Program)\",E1603))),NOT(ISERROR(SEARCH(\"(Other)\",E1603))),NOT(AND(NOT(ISERROR(SEARCH(\"(Unknown)\",E1603))),(ISERROR(SEARCH(\") (Unknown)\",E1603)))))),\"yes\",\"NO\"))","v":""}]
[null,null,null,null,null,null,null,null,null,null,null,null,"",{"$f":"IF($M1604=\"\",\"\",IFERROR(VLOOKUP($M1604,PartnerSearch!B$2:G$16000,6,0),\"--\"))","v":""},null,"","","",""]
[null,null,null,null,null,null,null,null,null,null,null,null,"",{"$f":"IF($M1605=\"\",\"\",IFERROR(VLOOKUP($M1605,PartnerSearch!B$2:G$16000,6,0),\"--\"))","v":""},null,"","","",""]
[null,null,null,null,null,null,null,null,null,null,null,null,"",{"$f":"IF($M1606=\"\",\"\",IFERROR(VLOOKUP($M1606,PartnerSearch!B$2:G$16000,6,0),\"--\"))","v":""},null,"","","",""]
[null,null,null,null,null,null,null,null,null,null,null,null,"",{"$f":"IF($M1607=\"\",\"\",IFERROR(VLOOKUP($M1607,PartnerSearch!B$2:G$16000,6,0),\"--\"))","v":""},null,"","","",""]
[null,null,null,null,null,null,null,null,null,null,null,null,"",{"$f":"IF($M1608=\"\",\"\",IFERROR(VLOOKUP($M1608,PartnerSearch!B$2:G$16000,6,0),\"--\"))","v":""},null,"","","",""]
[null,null,null,null,null,null,null,null,null,null,null,null,"",{"$f":"IF($M1609=\"\",\"\",IFERROR(VLOOKUP($M1609,PartnerSearch!B$2:G$16000,6,0),\"--\"))","v":""},null,"","","",""]
[null,null,null,null,null,null,null,null,null,null,null,null,"",{"$f":"IF($M1610=\"\",\"\",IFERROR(VLOOKUP($M1610,PartnerSearch!B$2:G$16000,6,0),\"--\"))","v":""},null,"","","",""]
[null,null,null,null,null,null,null,null,null,null,null,null,"",{"$f":"IF($M1611=\"\",\"\",IFERROR(VLOOKUP($M1611,PartnerSearch!B$2:G$16000,6,0),\"--\"))","v":""},null,"","","",""]
[null,null,null,null,null,null,null,null,null,null,null,null,"",{"$f":"IF($M1612=\"\",\"\",IFERROR(VLOOKUP($M1612,PartnerSearch!B$2:G$16000,6,0),\"--\"))","v":""},null,"","","",""]
[null,null,null,null,null,null,null,null,null,null,null,null,"",{"$f":"IF($M1613=\"\",\"\",IFERROR(VLOOKUP($M1613,PartnerSearch!B$2:G$16000,6,0),\"--\"))","v":""},null,"","","",""]
[null,null,null,null,null,null,null,null,null,null,null,null,"",{"$f":"IF($M1614=\"\",\"\",IFERROR(VLOOKUP($M1614,PartnerSearch!B$2:G$16000,6,0),\"--\"))","v":""},null,"","","",""]
[null,null,null,null,null,null,null,null,null,null,null,null,"",{"$f":"IF($M1615=\"\",\"\",IFERROR(VLOOKUP($M1615,PartnerSearch!B$2:G$16000,6,0),\"--\"))","v":""},null,"","","",""]
[null,null,null,null,null,null,null,null,null,null,null,null,"",{"$f":"IF($M1616=\"\",\"\",IFERROR(VLOOKUP($M1616,PartnerSearch!B$2:G$16000,6,0),\"--\"))","v":""},null,"","","",""]
[null,null,null,null,null,null,null,null,null,null,null,null,"",{"$f":"IF($M1617=\"\",\"\",IFERROR(VLOOKUP($M1617,PartnerSearch!B$2:G$16000,6,0),\"--\"))","v":""},null,"","","",""]
[null,null,null,null,null,null,null,null,null,null,null,null,"",{"$f":"IF($M1618=\"\",\"\",IFERROR(VLOOKUP($M1618,PartnerSearch!B$2:G$16000,6,0),\"--\"))","v":""},null,"","","",""]
[null,null,null,null,null,null,null,null,null,null,null,null,"",{"$f":"IF($M1619=\"\",\"\",IFERROR(VLOOKUP($M1619,PartnerSearch!B$2:G$16000,6,0),\"--\"))","v":""},null,"","","",""]
[null,null,null,null,null,null,null,null,null,null,null,null,"",{"$f":"IF($M1620=\"\",\"\",IFERROR(VLOOKUP($M1620,PartnerSearch!B$2:G$16000,6,0),\"--\"))","v":""},null,"","","",""]
[null,null,null,null,null,null,null,null,null,null,null,null,"",{"$f":"IF($M1621=\"\",\"\",IFERROR(VLOOKUP($M1621,PartnerSearch!B$2:G$16000,6,0),\"--\"))","v":""},null,"","","",""]
[null,null,null,null,null,null,null,null,null,null,null,null,"",{"$f":"IF($M1622=\"\",\"\",IFERROR(VLOOKUP($M1622,PartnerSearch!B$2:G$16000,6,0),\"--\"))","v":""},null,"","","",""]
[null,null,null,null,null,null,null,null,null,null,null,null,"",{"$f":"IF($M1623=\"\",\"\",IFERROR(VLOOKUP($M1623,PartnerSearch!B$2:G$16000,6,0),\"--\"))","v":""},null,"","","",""]
[null,null,null,null,null,null,null,null,null,null,null,null,"",{"$f":"IF($M1624=\"\",\"\",IFERROR(VLOOKUP($M1624,PartnerSearch!B$2:G$16000,6,0),\"--\"))","v":""},null,"","","",""]
[null,null,null,null,null,null,null,null,null,null,null,null,"",{"$f":"IF($M1625=\"\",\"\",IFERROR(VLOOKUP($M1625,PartnerSearch!B$2:G$16000,6,0),\"--\"))","v":""},null,"","","",""]
[null,null,null,null,null,null,null,null,null,null,null,null,"",{"$f":"IF($M1626=\"\",\"\",IFERROR(VLOOKUP($M1626,PartnerSearch!B$2:G$16000,6,0),\"--\"))","v":""},null,"","","",""]
[null,null,null,null,null,null,null,null,null,null,null,null,"",{"$f":"IF($M1627=\"\",\"\",IFERROR(VLOOKUP($M1627,PartnerSearch!B$2:G$16000,6,0),\"--\"))","v":""},null,"","","",""]
[null,null,null,null,null,null,null,null,null,null,null,null,"",{"$f":"IF($M1628=\"\",\"\",IFERROR(VLOOKUP($M1628,PartnerSearch!B$2:G$16000,6,0),\"--\"))","v":""},null,"","","",""]
[null,null,null,null,null,null,null,null,null,null,null,null,"",{"$f":"IF($M1629=\"\",\"\",IFERROR(VLOOKUP($M1629,PartnerSearch!B$2:G$16000,6,0),\"--\"))","v":""},null,"","","",""]
[null,null,null,null,null,null,null,null,null,null,null,null,"",{"$f":"IF($M1630=\"\",\"\",IFERROR(VLOOKUP($M1630,PartnerSearch!B$2:G$16000,6,0),\"--\"))","v":""},null,"","","",""]
[null,null,null,null,null,null,null,null,null,null,null,null,"",{"$f":"IF($M1631=\"\",\"\",IFERROR(VLOOKUP($M1631,PartnerSearch!B$2:G$16000,6,0),\"--\"))","v":""},null,"","","",""]
[null,null,null,null,null,null,null,null,null,null,null,null,"",{"$f":"IF($M1632=\"\",\"\",IFERROR(VLOOKUP($M1632,PartnerSearch!B$2:G$16000,6,0),\"--\"))","v":""},null,"","","",""]
[null,null,null,null,null,null,null,null,null,null,null,null,"",{"$f":"IF($M1633=\"\",\"\",IFERROR(VLOOKUP($M1633,PartnerSearch!B$2:G$16000,6,0),\"--\"))","v":""},null,"","","",""]
[null,null,null,null,null,null,null,null,null,null,null,null,"",{"$f":"IF($M1634=\"\",\"\",IFERROR(VLOOKUP($M1634,PartnerSearch!B$2:G$16000,6,0),\"--\"))","v":""},null,"","","",""]
[null,null,null,null,null,null,null,null,null,null,null,null,"",{"$f":"IF($M1635=\"\",\"\",IFERROR(VLOOKUP($M1635,PartnerSearch!B$2:G$16000,6,0),\"--\"))","v":""},null,"","","",""]
[null,null,null,null,null,null,null,null,null,null,null,null,"",{"$f":"IF($M1636=\"\",\"\",IFERROR(VLOOKUP($M1636,PartnerSearch!B$2:G$16000,6,0),\"--\"))","v":""},null,"","","",""]
[null,null,null,null,null,null,null,null,null,null,null,null,"",{"$f":"IF($M1637=\"\",\"\",IFERROR(VLOOKUP($M1637,PartnerSearch!B$2:G$16000,6,0),\"--\"))","v":""},null,"","","",""]
[null,null,null,null,null,null,null,null,null,null,null,null,"",{"$f":"IF($M1638=\"\",\"\",IFERROR(VLOOKUP($M1638,PartnerSearch!B$2:G$16000,6,0),\"--\"))","v":""},null,"","","",""]
[null,null,null,null,null,null,null,null,null,null,null,null,"",{"$f":"IF($M1639=\"\",\"\",IFERROR(VLOOKUP($M1639,PartnerSearch!B$2:G$16000,6,0),\"--\"))","v":""},null,"","","",""]
[null,null,null,null,null,null,null,null,null,null,null,null,"",{"$f":"IF($M1640=\"\",\"\",IFERROR(VLOOKUP($M1640,PartnerSearch!B$2:G$16000,6,0),\"--\"))","v":""},null,"","","",""]
[null,null,null,null,null,null,null,null,null,null,null,null,"",{"$f":"IF($M1641=\"\",\"\",IFERROR(VLOOKUP($M1641,PartnerSearch!B$2:G$16000,6,0),\"--\"))","v":""},null,"","","",""]
[null,null,null,null,null,null,null,null,null,null,null,null,"",{"$f":"IF($M1642=\"\",\"\",IFERROR(VLOOKUP($M1642,PartnerSearch!B$2:G$16000,6,0),\"--\"))","v":""},null,"","","",""]
[null,null,null,null,null,null,null,null,null,null,null,null,"",{"$f":"IF($M1643=\"\",\"\",IFERROR(VLOOKUP($M1643,PartnerSearch!B$2:G$16000,6,0),\"--\"))","v":""},null,"","","",""]
[null,null,null,null,null,null,null,null,null,null,null,null,"",{"$f":"IF($M1644=\"\",\"\",IFERROR(VLOOKUP($M1644,PartnerSearch!B$2:G$16000,6,0),\"--\"))","v":""},null,"","","",""]
[null,null,null,null,null,null,null,null,null,null,null,null,"",{"$f":"IF($M1645=\"\",\"\",IFERROR(VLOOKUP($M1645,PartnerSearch!B$2:G$16000,6,0),\"--\"))","v":""},null,"","","",""]
[null,null,null,null,null,null,null,null,null,null,null,null,"",{"$f":"IF($M1646=\"\",\"\",IFERROR(VLOOKUP($M1646,PartnerSearch!B$2:G$16000,6,0),\"--\"))","v":""},null,"","","",""]
[null,null,null,null,null,null,null,null,null,null,null,null,"",{"$f":"IF($M1647=\"\",\"\",IFERROR(VLOOKUP($M1647,PartnerSearch!B$2:G$16000,6,0),\"--\"))","v":""},null,"","","",""]
[null,null,null,null,null,null,null,null,null,null,null,null,"",{"$f":"IF($M1648=\"\",\"\",IFERROR(VLOOKUP($M1648,PartnerSearch!B$2:G$16000,6,0),\"--\"))","v":""},null,"","","",""]
[null,null,null,null,null,null,null,null,null,null,null,null,"",{"$f":"IF($M1649=\"\",\"\",IFERROR(VLOOKUP($M1649,PartnerSearch!B$2:G$16000,6,0),\"--\"))","v":""},null,"","","",""]
[null,null,null,null,null,null,null,null,null,null,null,null,"",{"$f":"IF($M1650=\"\",\"\",IFERROR(VLOOKUP($M1650,PartnerSearch!B$2:G$16000,6,0),\"--\"))","v":""},null,"","","",""]
[null,null,null,null,null,null,null,null,null,null,null,null,"",{"$f":"IF($M1651=\"\",\"\",IFERROR(VLOOKUP($M1651,PartnerSearch!B$2:G$16000,6,0),\"--\"))","v":""},null,"","","",""]
[null,null,null,null,null,null,null,null,null,null,null,null,"",{"$f":"IF($M1652=\"\",\"\",IFERROR(VLOOKUP($M1652,PartnerSearch!B$2:G$16000,6,0),\"--\"))","v":""},null,"","","",""]
[null,null,null,null,null,null,null,null,null,null,null,null,"",{"$f":"IF($M1653=\"\",\"\",IFERROR(VLOOKUP($M1653,PartnerSearch!B$2:G$16000,6,0),\"--\"))","v":""},null,"","","",""]
[null,null,null,null,null,null,null,null,null,null,null,null,"",{"$f":"IF($M1654=\"\",\"\",IFERROR(VLOOKUP($M1654,PartnerSearch!B$2:G$16000,6,0),\"--\"))","v":""},null,"","","",""]
[null,null,null,null,null,null,null,null,null,null,null,null,"",{"$f":"IF($M1655=\"\",\"\",IFERROR(VLOOKUP($M1655,PartnerSearch!B$2:G$16000,6,0),\"--\"))","v":""},null,"","","",""]
[null,null,null,null,null,null,null,null,null,null,null,null,"",{"$f":"IF($M1656=\"\",\"\",IFERROR(VLOOKUP($M1656,PartnerSearch!B$2:G$16000,6,0),\"--\"))","v":""},null,"","","",""]
[null,null,null,null,null,null,null,null,null,null,null,null,"",{"$f":"IF($M1657=\"\",\"\",IFERROR(VLOOKUP($M1657,PartnerSearch!B$2:G$16000,6,0),\"--\"))","v":""},null,"","","",""]
[null,null,null,null,null,null,null,null,null,null,null,null,"",{"$f":"IF($M1658=\"\",\"\",IFERROR(VLOOKUP($M1658,PartnerSearch!B$2:G$16000,6,0),\"--\"))","v":""},null,"","","",""]
[null,null,null,null,null,null,null,null,null,null,null,null,"",{"$f":"IF($M1659=\"\",\"\",IFERROR(VLOOKUP($M1659,PartnerSearch!B$2:G$16000,6,0),\"--\"))","v":""},null,"","","",""]
[null,null,null,null,null,null,null,null,null,null,null,null,"",{"$f":"IF($M1660=\"\",\"\",IFERROR(VLOOKUP($M1660,PartnerSearch!B$2:G$16000,6,0),\"--\"))","v":""},null,"","","",""]
[null,null,null,null,null,null,null,null,null,null,null,null,"",{"$f":"IF($M1661=\"\",\"\",IFERROR(VLOOKUP($M1661,PartnerSearch!B$2:G$16000,6,0),\"--\"))","v":""},null,"","","",""]
[null,null,null,null,null,null,null,null,null,null,null,null,"",{"$f":"IF($M1662=\"\",\"\",IFERROR(VLOOKUP($M1662,PartnerSearch!B$2:G$16000,6,0),\"--\"))","v":""},null,"","","",""]
[null,null,null,null,null,null,null,null,null,null,null,null,"",{"$f":"IF($M1663=\"\",\"\",IFERROR(VLOOKUP($M1663,PartnerSearch!B$2:G$16000,6,0),\"--\"))","v":""},null,"","","",""]
[null,null,null,null,null,null,null,null,null,null,null,null,"",{"$f":"IF($M1664=\"\",\"\",IFERROR(VLOOKUP($M1664,PartnerSearch!B$2:G$16000,6,0),\"--\"))","v":""},null,"","","",""]
[null,null,null,null,null,null,null,null,null,null,null,null,"",{"$f":"IF($M1665=\"\",\"\",IFERROR(VLOOKUP($M1665,PartnerSearch!B$2:G$16000,6,0),\"--\"))","v":""},null,"","","",""]
[null,null,null,null,null,null,null,null,null,null,null,null,"",{"$f":"IF($M1666=\"\",\"\",IFERROR(VLOOKUP($M1666,PartnerSearch!B$2:G$16000,6,0),\"--\"))","v":""},null,"","","",""]
[null,null,null,null,null,null,null,null,null,null,null,null,{"$f":"TRIM(SUBSTITUTE(SUBSTITUTE(SUBSTITUTE(SUBSTITUTE(SUBSTITUTE(SUBSTITUTE(SUBSTITUTE(SUBSTITUTE(SUBSTITUTE(SUBSTITUTE(SUBSTITUTE(SUBSTITUTE(SUBSTITUTE(SUBSTITUTE(E1667,\"00000 \",\"\"),\" (Local)\",\"\"),\" (Tribal)\",\"\"),\" (State)\",\"\"),\" (Regional)\",\"\"),\" (Federal/National)\",\"\"),\" (International)\",\"\"),\" (Unknown)\",\"\"),\" (Academic Institution)\",\"\"),\" (Government)\",\"\"),\" (Industry/Business)\",\"\"),\" (NGO)\",\"\"),\" (Other)\",\"\"),\" (Sea Grant Program)\",\"\"))","v":""},{"$f":"IF($M1667=\"\",\"\",IFERROR(VLOOKUP($M1667,PartnerSearch!B$2:G$16000,6,0),\"--\"))","v":""},null,{"$f":"IF(E1667=\"\",\"\",IF(LEFT(E1667&\"x\",5)=\"00000\",\"\",IF(N1667=\"--\",\"NO\",\"yes\")))","v":""},{"$f":"IF(LEFT(E1667&\"x\",5)<>\"00000\",\"\",IF(N1667=\"--\",\"yes\",\"NO\"))","v":""},{"$f":"IF(Q1667=\"\",\"\",IF((ISERROR(SEARCH(\"(Federal/National)\",E1667))*1+ISERROR(SEARCH(\"(International)\",E1667))*1+ISERROR(SEARCH(\"(Local)\",E1667))*1+ISERROR(SEARCH(\"(State)\",E1667))*1+ISERROR(SEARCH(\"(Regional)\",E1667))*1+ISERROR(SEARCH(\"(Tribal)\",E1667))*1+ISERROR(SEARCH(\"(Unknown) (\",E1667))*1)=6,\"yes\",\"NO\"))","v":""},{"$f":"IF(Q1667=\"\",\"\",IF(OR(NOT(ISERROR(SEARCH(\"(Academic Institution)\",E1667))),NOT(ISERROR(SEARCH(\"(Government)\",E1667))),NOT(ISERROR(SEARCH(\"(Industry/Business)\",E1667))),NOT(ISERROR(SEARCH(\"(NGO)\",E1667))),NOT(ISERROR(SEARCH(\"(Sea Grant Program)\",E1667))),NOT(ISERROR(SEARCH(\"(Other)\",E1667))),NOT(AND(NOT(ISERROR(SEARCH(\"(Unknown)\",E1667))),(ISERROR(SEARCH(\") (Unknown)\",E1667)))))),\"yes\",\"NO\"))","v":""}]
[null,null,null,null,null,null,null,null,null,null,null,null,"",{"$f":"IF($M1668=\"\",\"\",IFERROR(VLOOKUP($M1668,PartnerSearch!B$2:G$16000,6,0),\"--\"))","v":""},null,"","","",""]
[null,null,null,null,null,null,null,null,null,null,null,null,"",{"$f":"IF($M1669=\"\",\"\",IFERROR(VLOOKUP($M1669,PartnerSearch!B$2:G$16000,6,0),\"--\"))","v":""},null,"","","",""]
[null,null,null,null,null,null,null,null,null,null,null,null,"",{"$f":"IF($M1670=\"\",\"\",IFERROR(VLOOKUP($M1670,PartnerSearch!B$2:G$16000,6,0),\"--\"))","v":""},null,"","","",""]
[null,null,null,null,null,null,null,null,null,null,null,null,"",{"$f":"IF($M1671=\"\",\"\",IFERROR(VLOOKUP($M1671,PartnerSearch!B$2:G$16000,6,0),\"--\"))","v":""},null,"","","",""]
[null,null,null,null,null,null,null,null,null,null,null,null,"",{"$f":"IF($M1672=\"\",\"\",IFERROR(VLOOKUP($M1672,PartnerSearch!B$2:G$16000,6,0),\"--\"))","v":""},null,"","","",""]
[null,null,null,null,null,null,null,null,null,null,null,null,"",{"$f":"IF($M1673=\"\",\"\",IFERROR(VLOOKUP($M1673,PartnerSearch!B$2:G$16000,6,0),\"--\"))","v":""},null,"","","",""]
[null,null,null,null,null,null,null,null,null,null,null,null,"",{"$f":"IF($M1674=\"\",\"\",IFERROR(VLOOKUP($M1674,PartnerSearch!B$2:G$16000,6,0),\"--\"))","v":""},null,"","","",""]
[null,null,null,null,null,null,null,null,null,null,null,null,"",{"$f":"IF($M1675=\"\",\"\",IFERROR(VLOOKUP($M1675,PartnerSearch!B$2:G$16000,6,0),\"--\"))","v":""},null,"","","",""]
[null,null,null,null,null,null,null,null,null,null,null,null,"",{"$f":"IF($M1676=\"\",\"\",IFERROR(VLOOKUP($M1676,PartnerSearch!B$2:G$16000,6,0),\"--\"))","v":""},null,"","","",""]
[null,null,null,null,null,null,null,null,null,null,null,null,"",{"$f":"IF($M1677=\"\",\"\",IFERROR(VLOOKUP($M1677,PartnerSearch!B$2:G$16000,6,0),\"--\"))","v":""},null,"","","",""]
[null,null,null,null,null,null,null,null,null,null,null,null,"",{"$f":"IF($M1678=\"\",\"\",IFERROR(VLOOKUP($M1678,PartnerSearch!B$2:G$16000,6,0),\"--\"))","v":""},null,"","","",""]
[null,null,null,null,null,null,null,null,null,null,null,null,"",{"$f":"IF($M1679=\"\",\"\",IFERROR(VLOOKUP($M1679,PartnerSearch!B$2:G$16000,6,0),\"--\"))","v":""},null,"","","",""]
[null,null,null,null,null,null,null,null,null,null,null,null,"",{"$f":"IF($M1680=\"\",\"\",IFERROR(VLOOKUP($M1680,PartnerSearch!B$2:G$16000,6,0),\"--\"))","v":""},null,"","","",""]
[null,null,null,null,null,null,null,null,null,null,null,null,"",{"$f":"IF($M1681=\"\",\"\",IFERROR(VLOOKUP($M1681,PartnerSearch!B$2:G$16000,6,0),\"--\"))","v":""},null,"","","",""]
[null,null,null,null,null,null,null,null,null,null,null,null,"",{"$f":"IF($M1682=\"\",\"\",IFERROR(VLOOKUP($M1682,PartnerSearch!B$2:G$16000,6,0),\"--\"))","v":""},null,"","","",""]
[null,null,null,null,null,null,null,null,null,null,null,null,"",{"$f":"IF($M1683=\"\",\"\",IFERROR(VLOOKUP($M1683,PartnerSearch!B$2:G$16000,6,0),\"--\"))","v":""},null,"","","",""]
[null,null,null,null,null,null,null,null,null,null,null,null,"",{"$f":"IF($M1684=\"\",\"\",IFERROR(VLOOKUP($M1684,PartnerSearch!B$2:G$16000,6,0),\"--\"))","v":""},null,"","","",""]
[null,null,null,null,null,null,null,null,null,null,null,null,"",{"$f":"IF($M1685=\"\",\"\",IFERROR(VLOOKUP($M1685,PartnerSearch!B$2:G$16000,6,0),\"--\"))","v":""},null,"","","",""]
[null,null,null,null,null,null,null,null,null,null,null,null,"",{"$f":"IF($M1686=\"\",\"\",IFERROR(VLOOKUP($M1686,PartnerSearch!B$2:G$16000,6,0),\"--\"))","v":""},null,"","","",""]
[null,null,null,null,null,null,null,null,null,null,null,null,"",{"$f":"IF($M1687=\"\",\"\",IFERROR(VLOOKUP($M1687,PartnerSearch!B$2:G$16000,6,0),\"--\"))","v":""},null,"","","",""]
[null,null,null,null,null,null,null,null,null,null,null,null,"",{"$f":"IF($M1688=\"\",\"\",IFERROR(VLOOKUP($M1688,PartnerSearch!B$2:G$16000,6,0),\"--\"))","v":""},null,"","","",""]
[null,null,null,null,null,null,null,null,null,null,null,null,"",{"$f":"IF($M1689=\"\",\"\",IFERROR(VLOOKUP($M1689,PartnerSearch!B$2:G$16000,6,0),\"--\"))","v":""},null,"","","",""]
[null,null,null,null,null,null,null,null,null,null,null,null,"",{"$f":"IF($M1690=\"\",\"\",IFERROR(VLOOKUP($M1690,PartnerSearch!B$2:G$16000,6,0),\"--\"))","v":""},null,"","","",""]
[null,null,null,null,null,null,null,null,null,null,null,null,"",{"$f":"IF($M1691=\"\",\"\",IFERROR(VLOOKUP($M1691,PartnerSearch!B$2:G$16000,6,0),\"--\"))","v":""},null,"","","",""]
[null,null,null,null,null,null,null,null,null,null,null,null,"",{"$f":"IF($M1692=\"\",\"\",IFERROR(VLOOKUP($M1692,PartnerSearch!B$2:G$16000,6,0),\"--\"))","v":""},null,"","","",""]
[null,null,null,null,null,null,null,null,null,null,null,null,"",{"$f":"IF($M1693=\"\",\"\",IFERROR(VLOOKUP($M1693,PartnerSearch!B$2:G$16000,6,0),\"--\"))","v":""},null,"","","",""]
[null,null,null,null,null,null,null,null,null,null,null,null,"",{"$f":"IF($M1694=\"\",\"\",IFERROR(VLOOKUP($M1694,PartnerSearch!B$2:G$16000,6,0),\"--\"))","v":""},null,"","","",""]
[null,null,null,null,null,null,null,null,null,null,null,null,"",{"$f":"IF($M1695=\"\",\"\",IFERROR(VLOOKUP($M1695,PartnerSearch!B$2:G$16000,6,0),\"--\"))","v":""},null,"","","",""]
[null,null,null,null,null,null,null,null,null,null,null,null,"",{"$f":"IF($M1696=\"\",\"\",IFERROR(VLOOKUP($M1696,PartnerSearch!B$2:G$16000,6,0),\"--\"))","v":""},null,"","","",""]
[null,null,null,null,null,null,null,null,null,null,null,null,"",{"$f":"IF($M1697=\"\",\"\",IFERROR(VLOOKUP($M1697,PartnerSearch!B$2:G$16000,6,0),\"--\"))","v":""},null,"","","",""]
[null,null,null,null,null,null,null,null,null,null,null,null,"",{"$f":"IF($M1698=\"\",\"\",IFERROR(VLOOKUP($M1698,PartnerSearch!B$2:G$16000,6,0),\"--\"))","v":""},null,"","","",""]
[null,null,null,null,null,null,null,null,null,null,null,null,"",{"$f":"IF($M1699=\"\",\"\",IFERROR(VLOOKUP($M1699,PartnerSearch!B$2:G$16000,6,0),\"--\"))","v":""},null,"","","",""]
[null,null,null,null,null,null,null,null,null,null,null,null,"",{"$f":"IF($M1700=\"\",\"\",IFERROR(VLOOKUP($M1700,PartnerSearch!B$2:G$16000,6,0),\"--\"))","v":""},null,"","","",""]
[null,null,null,null,null,null,null,null,null,null,null,null,"",{"$f":"IF($M1701=\"\",\"\",IFERROR(VLOOKUP($M1701,PartnerSearch!B$2:G$16000,6,0),\"--\"))","v":""},null,"","","",""]
[null,null,null,null,null,null,null,null,null,null,null,null,"",{"$f":"IF($M1702=\"\",\"\",IFERROR(VLOOKUP($M1702,PartnerSearch!B$2:G$16000,6,0),\"--\"))","v":""},null,"","","",""]
[null,null,null,null,null,null,null,null,null,null,null,null,"",{"$f":"IF($M1703=\"\",\"\",IFERROR(VLOOKUP($M1703,PartnerSearch!B$2:G$16000,6,0),\"--\"))","v":""},null,"","","",""]
[null,null,null,null,null,null,null,null,null,null,null,null,"",{"$f":"IF($M1704=\"\",\"\",IFERROR(VLOOKUP($M1704,PartnerSearch!B$2:G$16000,6,0),\"--\"))","v":""},null,"","","",""]
[null,null,null,null,null,null,null,null,null,null,null,null,"",{"$f":"IF($M1705=\"\",\"\",IFERROR(VLOOKUP($M1705,PartnerSearch!B$2:G$16000,6,0),\"--\"))","v":""},null,"","","",""]
[null,null,null,null,null,null,null,null,null,null,null,null,"",{"$f":"IF($M1706=\"\",\"\",IFERROR(VLOOKUP($M1706,PartnerSearch!B$2:G$16000,6,0),\"--\"))","v":""},null,"","","",""]
[null,null,null,null,null,null,null,null,null,null,null,null,"",{"$f":"IF($M1707=\"\",\"\",IFERROR(VLOOKUP($M1707,PartnerSearch!B$2:G$16000,6,0),\"--\"))","v":""},null,"","","",""]
[null,null,null,null,null,null,null,null,null,null,null,null,"",{"$f":"IF($M1708=\"\",\"\",IFERROR(VLOOKUP($M1708,PartnerSearch!B$2:G$16000,6,0),\"--\"))","v":""},null,"","","",""]
[null,null,null,null,null,null,null,null,null,null,null,null,"",{"$f":"IF($M1709=\"\",\"\",IFERROR(VLOOKUP($M1709,PartnerSearch!B$2:G$16000,6,0),\"--\"))","v":""},null,"","","",""]
[null,null,null,null,null,null,null,null,null,null,null,null,"",{"$f":"IF($M1710=\"\",\"\",IFERROR(VLOOKUP($M1710,PartnerSearch!B$2:G$16000,6,0),\"--\"))","v":""},null,"","","",""]
[null,null,null,null,null,null,null,null,null,null,null,null,"",{"$f":"IF($M1711=\"\",\"\",IFERROR(VLOOKUP($M1711,PartnerSearch!B$2:G$16000,6,0),\"--\"))","v":""},null,"","","",""]
[null,null,null,null,null,null,null,null,null,null,null,null,"",{"$f":"IF($M1712=\"\",\"\",IFERROR(VLOOKUP($M1712,PartnerSearch!B$2:G$16000,6,0),\"--\"))","v":""},null,"","","",""]
[null,null,null,null,null,null,null,null,null,null,null,null,"",{"$f":"IF($M1713=\"\",\"\",IFERROR(VLOOKUP($M1713,PartnerSearch!B$2:G$16000,6,0),\"--\"))","v":""},null,"","","",""]
[null,null,null,null,null,null,null,null,null,null,null,null,"",{"$f":"IF($M1714=\"\",\"\",IFERROR(VLOOKUP($M1714,PartnerSearch!B$2:G$16000,6,0),\"--\"))","v":""},null,"","","",""]
[null,null,null,null,null,null,null,null,null,null,null,null,"",{"$f":"IF($M1715=\"\",\"\",IFERROR(VLOOKUP($M1715,PartnerSearch!B$2:G$16000,6,0),\"--\"))","v":""},null,"","","",""]
[null,null,null,null,null,null,null,null,null,null,null,null,"",{"$f":"IF($M1716=\"\",\"\",IFERROR(VLOOKUP($M1716,PartnerSearch!B$2:G$16000,6,0),\"--\"))","v":""},null,"","","",""]
[null,null,null,null,null,null,null,null,null,null,null,null,"",{"$f":"IF($M1717=\"\",\"\",IFERROR(VLOOKUP($M1717,PartnerSearch!B$2:G$16000,6,0),\"--\"))","v":""},null,"","","",""]
[null,null,null,null,null,null,null,null,null,null,null,null,"",{"$f":"IF($M1718=\"\",\"\",IFERROR(VLOOKUP($M1718,PartnerSearch!B$2:G$16000,6,0),\"--\"))","v":""},null,"","","",""]
[null,null,null,null,null,null,null,null,null,null,null,null,"",{"$f":"IF($M1719=\"\",\"\",IFERROR(VLOOKUP($M1719,PartnerSearch!B$2:G$16000,6,0),\"--\"))","v":""},null,"","","",""]
[null,null,null,null,null,null,null,null,null,null,null,null,"",{"$f":"IF($M1720=\"\",\"\",IFERROR(VLOOKUP($M1720,PartnerSearch!B$2:G$16000,6,0),\"--\"))","v":""},null,"","","",""]
[null,null,null,null,null,null,null,null,null,null,null,null,"",{"$f":"IF($M1721=\"\",\"\",IFERROR(VLOOKUP($M1721,PartnerSearch!B$2:G$16000,6,0),\"--\"))","v":""},null,"","","",""]
[null,null,null,null,null,null,null,null,null,null,null,null,"",{"$f":"IF($M1722=\"\",\"\",IFERROR(VLOOKUP($M1722,PartnerSearch!B$2:G$16000,6,0),\"--\"))","v":""},null,"","","",""]
[null,null,null,null,null,null,null,null,null,null,null,null,"",{"$f":"IF($M1723=\"\",\"\",IFERROR(VLOOKUP($M1723,PartnerSearch!B$2:G$16000,6,0),\"--\"))","v":""},null,"","","",""]
[null,null,null,null,null,null,null,null,null,null,null,null,"",{"$f":"IF($M1724=\"\",\"\",IFERROR(VLOOKUP($M1724,PartnerSearch!B$2:G$16000,6,0),\"--\"))","v":""},null,"","","",""]
[null,null,null,null,null,null,null,null,null,null,null,null,"",{"$f":"IF($M1725=\"\",\"\",IFERROR(VLOOKUP($M1725,PartnerSearch!B$2:G$16000,6,0),\"--\"))","v":""},null,"","","",""]
[null,null,null,null,null,null,null,null,null,null,null,null,"",{"$f":"IF($M1726=\"\",\"\",IFERROR(VLOOKUP($M1726,PartnerSearch!B$2:G$16000,6,0),\"--\"))","v":""},null,"","","",""]
[null,null,null,null,null,null,null,null,null,null,null,null,"",{"$f":"IF($M1727=\"\",\"\",IFERROR(VLOOKUP($M1727,PartnerSearch!B$2:G$16000,6,0),\"--\"))","v":""},null,"","","",""]
[null,null,null,null,null,null,null,null,null,null,null,null,"",{"$f":"IF($M1728=\"\",\"\",IFERROR(VLOOKUP($M1728,PartnerSearch!B$2:G$16000,6,0),\"--\"))","v":""},null,"","","",""]
[null,null,null,null,null,null,null,null,null,null,null,null,"",{"$f":"IF($M1729=\"\",\"\",IFERROR(VLOOKUP($M1729,PartnerSearch!B$2:G$16000,6,0),\"--\"))","v":""},null,"","","",""]
[null,null,null,null,null,null,null,null,null,null,null,null,"",{"$f":"IF($M1730=\"\",\"\",IFERROR(VLOOKUP($M1730,PartnerSearch!B$2:G$16000,6,0),\"--\"))","v":""},null,"","","",""]
[null,null,null,null,null,null,null,null,null,null,null,null,{"$f":"TRIM(SUBSTITUTE(SUBSTITUTE(SUBSTITUTE(SUBSTITUTE(SUBSTITUTE(SUBSTITUTE(SUBSTITUTE(SUBSTITUTE(SUBSTITUTE(SUBSTITUTE(SUBSTITUTE(SUBSTITUTE(SUBSTITUTE(SUBSTITUTE(E1731,\"00000 \",\"\"),\" (Local)\",\"\"),\" (Tribal)\",\"\"),\" (State)\",\"\"),\" (Regional)\",\"\"),\" (Federal/National)\",\"\"),\" (International)\",\"\"),\" (Unknown)\",\"\"),\" (Academic Institution)\",\"\"),\" (Government)\",\"\"),\" (Industry/Business)\",\"\"),\" (NGO)\",\"\"),\" (Other)\",\"\"),\" (Sea Grant Program)\",\"\"))","v":""},{"$f":"IF($M1731=\"\",\"\",IFERROR(VLOOKUP($M1731,PartnerSearch!B$2:G$16000,6,0),\"--\"))","v":""},null,{"$f":"IF(E1731=\"\",\"\",IF(LEFT(E1731&\"x\",5)=\"00000\",\"\",IF(N1731=\"--\",\"NO\",\"yes\")))","v":""},{"$f":"IF(LEFT(E1731&\"x\",5)<>\"00000\",\"\",IF(N1731=\"--\",\"yes\",\"NO\"))","v":""},{"$f":"IF(Q1731=\"\",\"\",IF((ISERROR(SEARCH(\"(Federal/National)\",E1731))*1+ISERROR(SEARCH(\"(International)\",E1731))*1+ISERROR(SEARCH(\"(Local)\",E1731))*1+ISERROR(SEARCH(\"(State)\",E1731))*1+ISERROR(SEARCH(\"(Regional)\",E1731))*1+ISERROR(SEARCH(\"(Tribal)\",E1731))*1+ISERROR(SEARCH(\"(Unknown) (\",E1731))*1)=6,\"yes\",\"NO\"))","v":""},{"$f":"IF(Q1731=\"\",\"\",IF(OR(NOT(ISERROR(SEARCH(\"(Academic Institution)\",E1731))),NOT(ISERROR(SEARCH(\"(Government)\",E1731))),NOT(ISERROR(SEARCH(\"(Industry/Business)\",E1731))),NOT(ISERROR(SEARCH(\"(NGO)\",E1731))),NOT(ISERROR(SEARCH(\"(Sea Grant Program)\",E1731))),NOT(ISERROR(SEARCH(\"(Other)\",E1731))),NOT(AND(NOT(ISERROR(SEARCH(\"(Unknown)\",E1731))),(ISERROR(SEARCH(\") (Unknown)\",E1731)))))),\"yes\",\"NO\"))","v":""}]
[null,null,null,null,null,null,null,null,null,null,null,null,"",{"$f":"IF($M1732=\"\",\"\",IFERROR(VLOOKUP($M1732,PartnerSearch!B$2:G$16000,6,0),\"--\"))","v":""},null,"","","",""]
[null,null,null,null,null,null,null,null,null,null,null,null,"",{"$f":"IF($M1733=\"\",\"\",IFERROR(VLOOKUP($M1733,PartnerSearch!B$2:G$16000,6,0),\"--\"))","v":""},null,"","","",""]
[null,null,null,null,null,null,null,null,null,null,null,null,"",{"$f":"IF($M1734=\"\",\"\",IFERROR(VLOOKUP($M1734,PartnerSearch!B$2:G$16000,6,0),\"--\"))","v":""},null,"","","",""]
[null,null,null,null,null,null,null,null,null,null,null,null,"",{"$f":"IF($M1735=\"\",\"\",IFERROR(VLOOKUP($M1735,PartnerSearch!B$2:G$16000,6,0),\"--\"))","v":""},null,"","","",""]
[null,null,null,null,null,null,null,null,null,null,null,null,"",{"$f":"IF($M1736=\"\",\"\",IFERROR(VLOOKUP($M1736,PartnerSearch!B$2:G$16000,6,0),\"--\"))","v":""},null,"","","",""]
[null,null,null,null,null,null,null,null,null,null,null,null,"",{"$f":"IF($M1737=\"\",\"\",IFERROR(VLOOKUP($M1737,PartnerSearch!B$2:G$16000,6,0),\"--\"))","v":""},null,"","","",""]
[null,null,null,null,null,null,null,null,null,null,null,null,"",{"$f":"IF($M1738=\"\",\"\",IFERROR(VLOOKUP($M1738,PartnerSearch!B$2:G$16000,6,0),\"--\"))","v":""},null,"","","",""]
[null,null,null,null,null,null,null,null,null,null,null,null,"",{"$f":"IF($M1739=\"\",\"\",IFERROR(VLOOKUP($M1739,PartnerSearch!B$2:G$16000,6,0),\"--\"))","v":""},null,"","","",""]
[null,null,null,null,null,null,null,null,null,null,null,null,"",{"$f":"IF($M1740=\"\",\"\",IFERROR(VLOOKUP($M1740,PartnerSearch!B$2:G$16000,6,0),\"--\"))","v":""},null,"","","",""]
[null,null,null,null,null,null,null,null,null,null,null,null,"",{"$f":"IF($M1741=\"\",\"\",IFERROR(VLOOKUP($M1741,PartnerSearch!B$2:G$16000,6,0),\"--\"))","v":""},null,"","","",""]
[null,null,null,null,null,null,null,null,null,null,null,null,"",{"$f":"IF($M1742=\"\",\"\",IFERROR(VLOOKUP($M1742,PartnerSearch!B$2:G$16000,6,0),\"--\"))","v":""},null,"","","",""]
[null,null,null,null,null,null,null,null,null,null,null,null,"",{"$f":"IF($M1743=\"\",\"\",IFERROR(VLOOKUP($M1743,PartnerSearch!B$2:G$16000,6,0),\"--\"))","v":""},null,"","","",""]
[null,null,null,null,null,null,null,null,null,null,null,null,"",{"$f":"IF($M1744=\"\",\"\",IFERROR(VLOOKUP($M1744,PartnerSearch!B$2:G$16000,6,0),\"--\"))","v":""},null,"","","",""]
[null,null,null,null,null,null,null,null,null,null,null,null,"",{"$f":"IF($M1745=\"\",\"\",IFERROR(VLOOKUP($M1745,PartnerSearch!B$2:G$16000,6,0),\"--\"))","v":""},null,"","","",""]
[null,null,null,null,null,null,null,null,null,null,null,null,"",{"$f":"IF($M1746=\"\",\"\",IFERROR(VLOOKUP($M1746,PartnerSearch!B$2:G$16000,6,0),\"--\"))","v":""},null,"","","",""]
[null,null,null,null,null,null,null,null,null,null,null,null,"",{"$f":"IF($M1747=\"\",\"\",IFERROR(VLOOKUP($M1747,PartnerSearch!B$2:G$16000,6,0),\"--\"))","v":""},null,"","","",""]
[null,null,null,null,null,null,null,null,null,null,null,null,"",{"$f":"IF($M1748=\"\",\"\",IFERROR(VLOOKUP($M1748,PartnerSearch!B$2:G$16000,6,0),\"--\"))","v":""},null,"","","",""]
[null,null,null,null,null,null,null,null,null,null,null,null,"",{"$f":"IF($M1749=\"\",\"\",IFERROR(VLOOKUP($M1749,PartnerSearch!B$2:G$16000,6,0),\"--\"))","v":""},null,"","","",""]
[null,null,null,null,null,null,null,null,null,null,null,null,"",{"$f":"IF($M1750=\"\",\"\",IFERROR(VLOOKUP($M1750,PartnerSearch!B$2:G$16000,6,0),\"--\"))","v":""},null,"","","",""]
[null,null,null,null,null,null,null,null,null,null,null,null,"",{"$f":"IF($M1751=\"\",\"\",IFERROR(VLOOKUP($M1751,PartnerSearch!B$2:G$16000,6,0),\"--\"))","v":""},null,"","","",""]
[null,null,null,null,null,null,null,null,null,null,null,null,"",{"$f":"IF($M1752=\"\",\"\",IFERROR(VLOOKUP($M1752,PartnerSearch!B$2:G$16000,6,0),\"--\"))","v":""},null,"","","",""]
[null,null,null,null,null,null,null,null,null,null,null,null,"",{"$f":"IF($M1753=\"\",\"\",IFERROR(VLOOKUP($M1753,PartnerSearch!B$2:G$16000,6,0),\"--\"))","v":""},null,"","","",""]
[null,null,null,null,null,null,null,null,null,null,null,null,"",{"$f":"IF($M1754=\"\",\"\",IFERROR(VLOOKUP($M1754,PartnerSearch!B$2:G$16000,6,0),\"--\"))","v":""},null,"","","",""]
[null,null,null,null,null,null,null,null,null,null,null,null,"",{"$f":"IF($M1755=\"\",\"\",IFERROR(VLOOKUP($M1755,PartnerSearch!B$2:G$16000,6,0),\"--\"))","v":""},null,"","","",""]
[null,null,null,null,null,null,null,null,null,null,null,null,"",{"$f":"IF($M1756=\"\",\"\",IFERROR(VLOOKUP($M1756,PartnerSearch!B$2:G$16000,6,0),\"--\"))","v":""},null,"","","",""]
[null,null,null,null,null,null,null,null,null,null,null,null,"",{"$f":"IF($M1757=\"\",\"\",IFERROR(VLOOKUP($M1757,PartnerSearch!B$2:G$16000,6,0),\"--\"))","v":""},null,"","","",""]
[null,null,null,null,null,null,null,null,null,null,null,null,"",{"$f":"IF($M1758=\"\",\"\",IFERROR(VLOOKUP($M1758,PartnerSearch!B$2:G$16000,6,0),\"--\"))","v":""},null,"","","",""]
[null,null,null,null,null,null,null,null,null,null,null,null,"",{"$f":"IF($M1759=\"\",\"\",IFERROR(VLOOKUP($M1759,PartnerSearch!B$2:G$16000,6,0),\"--\"))","v":""},null,"","","",""]
[null,null,null,null,null,null,null,null,null,null,null,null,"",{"$f":"IF($M1760=\"\",\"\",IFERROR(VLOOKUP($M1760,PartnerSearch!B$2:G$16000,6,0),\"--\"))","v":""},null,"","","",""]
[null,null,null,null,null,null,null,null,null,null,null,null,"",{"$f":"IF($M1761=\"\",\"\",IFERROR(VLOOKUP($M1761,PartnerSearch!B$2:G$16000,6,0),\"--\"))","v":""},null,"","","",""]
[null,null,null,null,null,null,null,null,null,null,null,null,"",{"$f":"IF($M1762=\"\",\"\",IFERROR(VLOOKUP($M1762,PartnerSearch!B$2:G$16000,6,0),\"--\"))","v":""},null,"","","",""]
[null,null,null,null,null,null,null,null,null,null,null,null,"",{"$f":"IF($M1763=\"\",\"\",IFERROR(VLOOKUP($M1763,PartnerSearch!B$2:G$16000,6,0),\"--\"))","v":""},null,"","","",""]
[null,null,null,null,null,null,null,null,null,null,null,null,"",{"$f":"IF($M1764=\"\",\"\",IFERROR(VLOOKUP($M1764,PartnerSearch!B$2:G$16000,6,0),\"--\"))","v":""},null,"","","",""]
[null,null,null,null,null,null,null,null,null,null,null,null,"",{"$f":"IF($M1765=\"\",\"\",IFERROR(VLOOKUP($M1765,PartnerSearch!B$2:G$16000,6,0),\"--\"))","v":""},null,"","","",""]
[null,null,null,null,null,null,null,null,null,null,null,null,"",{"$f":"IF($M1766=\"\",\"\",IFERROR(VLOOKUP($M1766,PartnerSearch!B$2:G$16000,6,0),\"--\"))","v":""},null,"","","",""]
[null,null,null,null,null,null,null,null,null,null,null,null,"",{"$f":"IF($M1767=\"\",\"\",IFERROR(VLOOKUP($M1767,PartnerSearch!B$2:G$16000,6,0),\"--\"))","v":""},null,"","","",""]
[null,null,null,null,null,null,null,null,null,null,null,null,"",{"$f":"IF($M1768=\"\",\"\",IFERROR(VLOOKUP($M1768,PartnerSearch!B$2:G$16000,6,0),\"--\"))","v":""},null,"","","",""]
[null,null,null,null,null,null,null,null,null,null,null,null,"",{"$f":"IF($M1769=\"\",\"\",IFERROR(VLOOKUP($M1769,PartnerSearch!B$2:G$16000,6,0),\"--\"))","v":""},null,"","","",""]
[null,null,null,null,null,null,null,null,null,null,null,null,"",{"$f":"IF($M1770=\"\",\"\",IFERROR(VLOOKUP($M1770,PartnerSearch!B$2:G$16000,6,0),\"--\"))","v":""},null,"","","",""]
[null,null,null,null,null,null,null,null,null,null,null,null,"",{"$f":"IF($M1771=\"\",\"\",IFERROR(VLOOKUP($M1771,PartnerSearch!B$2:G$16000,6,0),\"--\"))","v":""},null,"","","",""]
[null,null,null,null,null,null,null,null,null,null,null,null,"",{"$f":"IF($M1772=\"\",\"\",IFERROR(VLOOKUP($M1772,PartnerSearch!B$2:G$16000,6,0),\"--\"))","v":""},null,"","","",""]
[null,null,null,null,null,null,null,null,null,null,null,null,"",{"$f":"IF($M1773=\"\",\"\",IFERROR(VLOOKUP($M1773,PartnerSearch!B$2:G$16000,6,0),\"--\"))","v":""},null,"","","",""]
[null,null,null,null,null,null,null,null,null,null,null,null,"",{"$f":"IF($M1774=\"\",\"\",IFERROR(VLOOKUP($M1774,PartnerSearch!B$2:G$16000,6,0),\"--\"))","v":""},null,"","","",""]
[null,null,null,null,null,null,null,null,null,null,null,null,"",{"$f":"IF($M1775=\"\",\"\",IFERROR(VLOOKUP($M1775,PartnerSearch!B$2:G$16000,6,0),\"--\"))","v":""},null,"","","",""]
[null,null,null,null,null,null,null,null,null,null,null,null,"",{"$f":"IF($M1776=\"\",\"\",IFERROR(VLOOKUP($M1776,PartnerSearch!B$2:G$16000,6,0),\"--\"))","v":""},null,"","","",""]
[null,null,null,null,null,null,null,null,null,null,null,null,"",{"$f":"IF($M1777=\"\",\"\",IFERROR(VLOOKUP($M1777,PartnerSearch!B$2:G$16000,6,0),\"--\"))","v":""},null,"","","",""]
[null,null,null,null,null,null,null,null,null,null,null,null,"",{"$f":"IF($M1778=\"\",\"\",IFERROR(VLOOKUP($M1778,PartnerSearch!B$2:G$16000,6,0),\"--\"))","v":""},null,"","","",""]
[null,null,null,null,null,null,null,null,null,null,null,null,"",{"$f":"IF($M1779=\"\",\"\",IFERROR(VLOOKUP($M1779,PartnerSearch!B$2:G$16000,6,0),\"--\"))","v":""},null,"","","",""]
[null,null,null,null,null,null,null,null,null,null,null,null,"",{"$f":"IF($M1780=\"\",\"\",IFERROR(VLOOKUP($M1780,PartnerSearch!B$2:G$16000,6,0),\"--\"))","v":""},null,"","","",""]
[null,null,null,null,null,null,null,null,null,null,null,null,"",{"$f":"IF($M1781=\"\",\"\",IFERROR(VLOOKUP($M1781,PartnerSearch!B$2:G$16000,6,0),\"--\"))","v":""},null,"","","",""]
[null,null,null,null,null,null,null,null,null,null,null,null,"",{"$f":"IF($M1782=\"\",\"\",IFERROR(VLOOKUP($M1782,PartnerSearch!B$2:G$16000,6,0),\"--\"))","v":""},null,"","","",""]
[null,null,null,null,null,null,null,null,null,null,null,null,"",{"$f":"IF($M1783=\"\",\"\",IFERROR(VLOOKUP($M1783,PartnerSearch!B$2:G$16000,6,0),\"--\"))","v":""},null,"","","",""]
[null,null,null,null,null,null,null,null,null,null,null,null,"",{"$f":"IF($M1784=\"\",\"\",IFERROR(VLOOKUP($M1784,PartnerSearch!B$2:G$16000,6,0),\"--\"))","v":""},null,"","","",""]
[null,null,null,null,null,null,null,null,null,null,null,null,"",{"$f":"IF($M1785=\"\",\"\",IFERROR(VLOOKUP($M1785,PartnerSearch!B$2:G$16000,6,0),\"--\"))","v":""},null,"","","",""]
[null,null,null,null,null,null,null,null,null,null,null,null,"",{"$f":"IF($M1786=\"\",\"\",IFERROR(VLOOKUP($M1786,PartnerSearch!B$2:G$16000,6,0),\"--\"))","v":""},null,"","","",""]
[null,null,null,null,null,null,null,null,null,null,null,null,"",{"$f":"IF($M1787=\"\",\"\",IFERROR(VLOOKUP($M1787,PartnerSearch!B$2:G$16000,6,0),\"--\"))","v":""},null,"","","",""]
[null,null,null,null,null,null,null,null,null,null,null,null,"",{"$f":"IF($M1788=\"\",\"\",IFERROR(VLOOKUP($M1788,PartnerSearch!B$2:G$16000,6,0),\"--\"))","v":""},null,"","","",""]
[null,null,null,null,null,null,null,null,null,null,null,null,"",{"$f":"IF($M1789=\"\",\"\",IFERROR(VLOOKUP($M1789,PartnerSearch!B$2:G$16000,6,0),\"--\"))","v":""},null,"","","",""]
[null,null,null,null,null,null,null,null,null,null,null,null,"",{"$f":"IF($M1790=\"\",\"\",IFERROR(VLOOKUP($M1790,PartnerSearch!B$2:G$16000,6,0),\"--\"))","v":""},null,"","","",""]
[null,null,null,null,null,null,null,null,null,null,null,null,"",{"$f":"IF($M1791=\"\",\"\",IFERROR(VLOOKUP($M1791,PartnerSearch!B$2:G$16000,6,0),\"--\"))","v":""},null,"","","",""]
[null,null,null,null,null,null,null,null,null,null,null,null,"",{"$f":"IF($M1792=\"\",\"\",IFERROR(VLOOKUP($M1792,PartnerSearch!B$2:G$16000,6,0),\"--\"))","v":""},null,"","","",""]
[null,null,null,null,null,null,null,null,null,null,null,null,"",{"$f":"IF($M1793=\"\",\"\",IFERROR(VLOOKUP($M1793,PartnerSearch!B$2:G$16000,6,0),\"--\"))","v":""},null,"","","",""]
[null,null,null,null,null,null,null,null,null,null,null,null,"",{"$f":"IF($M1794=\"\",\"\",IFERROR(VLOOKUP($M1794,PartnerSearch!B$2:G$16000,6,0),\"--\"))","v":""},null,"","","",""]
[null,null,null,null,null,null,null,null,null,null,null,null,{"$f":"TRIM(SUBSTITUTE(SUBSTITUTE(SUBSTITUTE(SUBSTITUTE(SUBSTITUTE(SUBSTITUTE(SUBSTITUTE(SUBSTITUTE(SUBSTITUTE(SUBSTITUTE(SUBSTITUTE(SUBSTITUTE(SUBSTITUTE(SUBSTITUTE(E1795,\"00000 \",\"\"),\" (Local)\",\"\"),\" (Tribal)\",\"\"),\" (State)\",\"\"),\" (Regional)\",\"\"),\" (Federal/National)\",\"\"),\" (International)\",\"\"),\" (Unknown)\",\"\"),\" (Academic Institution)\",\"\"),\" (Government)\",\"\"),\" (Industry/Business)\",\"\"),\" (NGO)\",\"\"),\" (Other)\",\"\"),\" (Sea Grant Program)\",\"\"))","v":""},{"$f":"IF($M1795=\"\",\"\",IFERROR(VLOOKUP($M1795,PartnerSearch!B$2:G$16000,6,0),\"--\"))","v":""},null,{"$f":"IF(E1795=\"\",\"\",IF(LEFT(E1795&\"x\",5)=\"00000\",\"\",IF(N1795=\"--\",\"NO\",\"yes\")))","v":""},{"$f":"IF(LEFT(E1795&\"x\",5)<>\"00000\",\"\",IF(N1795=\"--\",\"yes\",\"NO\"))","v":""},{"$f":"IF(Q1795=\"\",\"\",IF((ISERROR(SEARCH(\"(Federal/National)\",E1795))*1+ISERROR(SEARCH(\"(International)\",E1795))*1+ISERROR(SEARCH(\"(Local)\",E1795))*1+ISERROR(SEARCH(\"(State)\",E1795))*1+ISERROR(SEARCH(\"(Regional)\",E1795))*1+ISERROR(SEARCH(\"(Tribal)\",E1795))*1+ISERROR(SEARCH(\"(Unknown) (\",E1795))*1)=6,\"yes\",\"NO\"))","v":""},{"$f":"IF(Q1795=\"\",\"\",IF(OR(NOT(ISERROR(SEARCH(\"(Academic Institution)\",E1795))),NOT(ISERROR(SEARCH(\"(Government)\",E1795))),NOT(ISERROR(SEARCH(\"(Industry/Business)\",E1795))),NOT(ISERROR(SEARCH(\"(NGO)\",E1795))),NOT(ISERROR(SEARCH(\"(Sea Grant Program)\",E1795))),NOT(ISERROR(SEARCH(\"(Other)\",E1795))),NOT(AND(NOT(ISERROR(SEARCH(\"(Unknown)\",E1795))),(ISERROR(SEARCH(\") (Unknown)\",E1795)))))),\"yes\",\"NO\"))","v":""}]
[null,null,null,null,null,null,null,null,null,null,null,null,"",{"$f":"IF($M1796=\"\",\"\",IFERROR(VLOOKUP($M1796,PartnerSearch!B$2:G$16000,6,0),\"--\"))","v":""},null,"","","",""]
[null,null,null,null,null,null,null,null,null,null,null,null,"",{"$f":"IF($M1797=\"\",\"\",IFERROR(VLOOKUP($M1797,PartnerSearch!B$2:G$16000,6,0),\"--\"))","v":""},null,"","","",""]
[null,null,null,null,null,null,null,null,null,null,null,null,"",{"$f":"IF($M1798=\"\",\"\",IFERROR(VLOOKUP($M1798,PartnerSearch!B$2:G$16000,6,0),\"--\"))","v":""},null,"","","",""]
[null,null,null,null,null,null,null,null,null,null,null,null,"",{"$f":"IF($M1799=\"\",\"\",IFERROR(VLOOKUP($M1799,PartnerSearch!B$2:G$16000,6,0),\"--\"))","v":""},null,"","","",""]
[null,null,null,null,null,null,null,null,null,null,null,null,"",{"$f":"IF($M1800=\"\",\"\",IFERROR(VLOOKUP($M1800,PartnerSearch!B$2:G$16000,6,0),\"--\"))","v":""},null,"","","",""]
[null,null,null,null,null,null,null,null,null,null,null,null,"",{"$f":"IF($M1801=\"\",\"\",IFERROR(VLOOKUP($M1801,PartnerSearch!B$2:G$16000,6,0),\"--\"))","v":""},null,"","","",""]
[null,null,null,null,null,null,null,null,null,null,null,null,"",{"$f":"IF($M1802=\"\",\"\",IFERROR(VLOOKUP($M1802,PartnerSearch!B$2:G$16000,6,0),\"--\"))","v":""},null,"","","",""]
[null,null,null,null,null,null,null,null,null,null,null,null,"",{"$f":"IF($M1803=\"\",\"\",IFERROR(VLOOKUP($M1803,PartnerSearch!B$2:G$16000,6,0),\"--\"))","v":""},null,"","","",""]
[null,null,null,null,null,null,null,null,null,null,null,null,"",{"$f":"IF($M1804=\"\",\"\",IFERROR(VLOOKUP($M1804,PartnerSearch!B$2:G$16000,6,0),\"--\"))","v":""},null,"","","",""]
[null,null,null,null,null,null,null,null,null,null,null,null,"",{"$f":"IF($M1805=\"\",\"\",IFERROR(VLOOKUP($M1805,PartnerSearch!B$2:G$16000,6,0),\"--\"))","v":""},null,"","","",""]
[null,null,null,null,null,null,null,null,null,null,null,null,"",{"$f":"IF($M1806=\"\",\"\",IFERROR(VLOOKUP($M1806,PartnerSearch!B$2:G$16000,6,0),\"--\"))","v":""},null,"","","",""]
[null,null,null,null,null,null,null,null,null,null,null,null,"",{"$f":"IF($M1807=\"\",\"\",IFERROR(VLOOKUP($M1807,PartnerSearch!B$2:G$16000,6,0),\"--\"))","v":""},null,"","","",""]
[null,null,null,null,null,null,null,null,null,null,null,null,"",{"$f":"IF($M1808=\"\",\"\",IFERROR(VLOOKUP($M1808,PartnerSearch!B$2:G$16000,6,0),\"--\"))","v":""},null,"","","",""]
[null,null,null,null,null,null,null,null,null,null,null,null,"",{"$f":"IF($M1809=\"\",\"\",IFERROR(VLOOKUP($M1809,PartnerSearch!B$2:G$16000,6,0),\"--\"))","v":""},null,"","","",""]
[null,null,null,null,null,null,null,null,null,null,null,null,"",{"$f":"IF($M1810=\"\",\"\",IFERROR(VLOOKUP($M1810,PartnerSearch!B$2:G$16000,6,0),\"--\"))","v":""},null,"","","",""]
[null,null,null,null,null,null,null,null,null,null,null,null,"",{"$f":"IF($M1811=\"\",\"\",IFERROR(VLOOKUP($M1811,PartnerSearch!B$2:G$16000,6,0),\"--\"))","v":""},null,"","","",""]
[null,null,null,null,null,null,null,null,null,null,null,null,"",{"$f":"IF($M1812=\"\",\"\",IFERROR(VLOOKUP($M1812,PartnerSearch!B$2:G$16000,6,0),\"--\"))","v":""},null,"","","",""]
[null,null,null,null,null,null,null,null,null,null,null,null,"",{"$f":"IF($M1813=\"\",\"\",IFERROR(VLOOKUP($M1813,PartnerSearch!B$2:G$16000,6,0),\"--\"))","v":""},null,"","","",""]
[null,null,null,null,null,null,null,null,null,null,null,null,"",{"$f":"IF($M1814=\"\",\"\",IFERROR(VLOOKUP($M1814,PartnerSearch!B$2:G$16000,6,0),\"--\"))","v":""},null,"","","",""]
[null,null,null,null,null,null,null,null,null,null,null,null,"",{"$f":"IF($M1815=\"\",\"\",IFERROR(VLOOKUP($M1815,PartnerSearch!B$2:G$16000,6,0),\"--\"))","v":""},null,"","","",""]
[null,null,null,null,null,null,null,null,null,null,null,null,"",{"$f":"IF($M1816=\"\",\"\",IFERROR(VLOOKUP($M1816,PartnerSearch!B$2:G$16000,6,0),\"--\"))","v":""},null,"","","",""]
[null,null,null,null,null,null,null,null,null,null,null,null,"",{"$f":"IF($M1817=\"\",\"\",IFERROR(VLOOKUP($M1817,PartnerSearch!B$2:G$16000,6,0),\"--\"))","v":""},null,"","","",""]
[null,null,null,null,null,null,null,null,null,null,null,null,"",{"$f":"IF($M1818=\"\",\"\",IFERROR(VLOOKUP($M1818,PartnerSearch!B$2:G$16000,6,0),\"--\"))","v":""},null,"","","",""]
[null,null,null,null,null,null,null,null,null,null,null,null,"",{"$f":"IF($M1819=\"\",\"\",IFERROR(VLOOKUP($M1819,PartnerSearch!B$2:G$16000,6,0),\"--\"))","v":""},null,"","","",""]
[null,null,null,null,null,null,null,null,null,null,null,null,"",{"$f":"IF($M1820=\"\",\"\",IFERROR(VLOOKUP($M1820,PartnerSearch!B$2:G$16000,6,0),\"--\"))","v":""},null,"","","",""]
[null,null,null,null,null,null,null,null,null,null,null,null,"",{"$f":"IF($M1821=\"\",\"\",IFERROR(VLOOKUP($M1821,PartnerSearch!B$2:G$16000,6,0),\"--\"))","v":""},null,"","","",""]
[null,null,null,null,null,null,null,null,null,null,null,null,"",{"$f":"IF($M1822=\"\",\"\",IFERROR(VLOOKUP($M1822,PartnerSearch!B$2:G$16000,6,0),\"--\"))","v":""},null,"","","",""]
[null,null,null,null,null,null,null,null,null,null,null,null,"",{"$f":"IF($M1823=\"\",\"\",IFERROR(VLOOKUP($M1823,PartnerSearch!B$2:G$16000,6,0),\"--\"))","v":""},null,"","","",""]
[null,null,null,null,null,null,null,null,null,null,null,null,"",{"$f":"IF($M1824=\"\",\"\",IFERROR(VLOOKUP($M1824,PartnerSearch!B$2:G$16000,6,0),\"--\"))","v":""},null,"","","",""]
[null,null,null,null,null,null,null,null,null,null,null,null,"",{"$f":"IF($M1825=\"\",\"\",IFERROR(VLOOKUP($M1825,PartnerSearch!B$2:G$16000,6,0),\"--\"))","v":""},null,"","","",""]
[null,null,null,null,null,null,null,null,null,null,null,null,"",{"$f":"IF($M1826=\"\",\"\",IFERROR(VLOOKUP($M1826,PartnerSearch!B$2:G$16000,6,0),\"--\"))","v":""},null,"","","",""]
[null,null,null,null,null,null,null,null,null,null,null,null,"",{"$f":"IF($M1827=\"\",\"\",IFERROR(VLOOKUP($M1827,PartnerSearch!B$2:G$16000,6,0),\"--\"))","v":""},null,"","","",""]
[null,null,null,null,null,null,null,null,null,null,null,null,"",{"$f":"IF($M1828=\"\",\"\",IFERROR(VLOOKUP($M1828,PartnerSearch!B$2:G$16000,6,0),\"--\"))","v":""},null,"","","",""]
[null,null,null,null,null,null,null,null,null,null,null,null,"",{"$f":"IF($M1829=\"\",\"\",IFERROR(VLOOKUP($M1829,PartnerSearch!B$2:G$16000,6,0),\"--\"))","v":""},null,"","","",""]
[null,null,null,null,null,null,null,null,null,null,null,null,"",{"$f":"IF($M1830=\"\",\"\",IFERROR(VLOOKUP($M1830,PartnerSearch!B$2:G$16000,6,0),\"--\"))","v":""},null,"","","",""]
[null,null,null,null,null,null,null,null,null,null,null,null,"",{"$f":"IF($M1831=\"\",\"\",IFERROR(VLOOKUP($M1831,PartnerSearch!B$2:G$16000,6,0),\"--\"))","v":""},null,"","","",""]
[null,null,null,null,null,null,null,null,null,null,null,null,"",{"$f":"IF($M1832=\"\",\"\",IFERROR(VLOOKUP($M1832,PartnerSearch!B$2:G$16000,6,0),\"--\"))","v":""},null,"","","",""]
[null,null,null,null,null,null,null,null,null,null,null,null,"",{"$f":"IF($M1833=\"\",\"\",IFERROR(VLOOKUP($M1833,PartnerSearch!B$2:G$16000,6,0),\"--\"))","v":""},null,"","","",""]
[null,null,null,null,null,null,null,null,null,null,null,null,"",{"$f":"IF($M1834=\"\",\"\",IFERROR(VLOOKUP($M1834,PartnerSearch!B$2:G$16000,6,0),\"--\"))","v":""},null,"","","",""]
[null,null,null,null,null,null,null,null,null,null,null,null,"",{"$f":"IF($M1835=\"\",\"\",IFERROR(VLOOKUP($M1835,PartnerSearch!B$2:G$16000,6,0),\"--\"))","v":""},null,"","","",""]
[null,null,null,null,null,null,null,null,null,null,null,null,"",{"$f":"IF($M1836=\"\",\"\",IFERROR(VLOOKUP($M1836,PartnerSearch!B$2:G$16000,6,0),\"--\"))","v":""},null,"","","",""]
[null,null,null,null,null,null,null,null,null,null,null,null,"",{"$f":"IF($M1837=\"\",\"\",IFERROR(VLOOKUP($M1837,PartnerSearch!B$2:G$16000,6,0),\"--\"))","v":""},null,"","","",""]
[null,null,null,null,null,null,null,null,null,null,null,null,"",{"$f":"IF($M1838=\"\",\"\",IFERROR(VLOOKUP($M1838,PartnerSearch!B$2:G$16000,6,0),\"--\"))","v":""},null,"","","",""]
[null,null,null,null,null,null,null,null,null,null,null,null,"",{"$f":"IF($M1839=\"\",\"\",IFERROR(VLOOKUP($M1839,PartnerSearch!B$2:G$16000,6,0),\"--\"))","v":""},null,"","","",""]
[null,null,null,null,null,null,null,null,null,null,null,null,"",{"$f":"IF($M1840=\"\",\"\",IFERROR(VLOOKUP($M1840,PartnerSearch!B$2:G$16000,6,0),\"--\"))","v":""},null,"","","",""]
[null,null,null,null,null,null,null,null,null,null,null,null,"",{"$f":"IF($M1841=\"\",\"\",IFERROR(VLOOKUP($M1841,PartnerSearch!B$2:G$16000,6,0),\"--\"))","v":""},null,"","","",""]
[null,null,null,null,null,null,null,null,null,null,null,null,"",{"$f":"IF($M1842=\"\",\"\",IFERROR(VLOOKUP($M1842,PartnerSearch!B$2:G$16000,6,0),\"--\"))","v":""},null,"","","",""]
[null,null,null,null,null,null,null,null,null,null,null,null,"",{"$f":"IF($M1843=\"\",\"\",IFERROR(VLOOKUP($M1843,PartnerSearch!B$2:G$16000,6,0),\"--\"))","v":""},null,"","","",""]
[null,null,null,null,null,null,null,null,null,null,null,null,"",{"$f":"IF($M1844=\"\",\"\",IFERROR(VLOOKUP($M1844,PartnerSearch!B$2:G$16000,6,0),\"--\"))","v":""},null,"","","",""]
[null,null,null,null,null,null,null,null,null,null,null,null,"",{"$f":"IF($M1845=\"\",\"\",IFERROR(VLOOKUP($M1845,PartnerSearch!B$2:G$16000,6,0),\"--\"))","v":""},null,"","","",""]
[null,null,null,null,null,null,null,null,null,null,null,null,"",{"$f":"IF($M1846=\"\",\"\",IFERROR(VLOOKUP($M1846,PartnerSearch!B$2:G$16000,6,0),\"--\"))","v":""},null,"","","",""]
[null,null,null,null,null,null,null,null,null,null,null,null,"",{"$f":"IF($M1847=\"\",\"\",IFERROR(VLOOKUP($M1847,PartnerSearch!B$2:G$16000,6,0),\"--\"))","v":""},null,"","","",""]
[null,null,null,null,null,null,null,null,null,null,null,null,"",{"$f":"IF($M1848=\"\",\"\",IFERROR(VLOOKUP($M1848,PartnerSearch!B$2:G$16000,6,0),\"--\"))","v":""},null,"","","",""]
[null,null,null,null,null,null,null,null,null,null,null,null,"",{"$f":"IF($M1849=\"\",\"\",IFERROR(VLOOKUP($M1849,PartnerSearch!B$2:G$16000,6,0),\"--\"))","v":""},null,"","","",""]
[null,null,null,null,null,null,null,null,null,null,null,null,"",{"$f":"IF($M1850=\"\",\"\",IFERROR(VLOOKUP($M1850,PartnerSearch!B$2:G$16000,6,0),\"--\"))","v":""},null,"","","",""]
[null,null,null,null,null,null,null,null,null,null,null,null,"",{"$f":"IF($M1851=\"\",\"\",IFERROR(VLOOKUP($M1851,PartnerSearch!B$2:G$16000,6,0),\"--\"))","v":""},null,"","","",""]
[null,null,null,null,null,null,null,null,null,null,null,null,"",{"$f":"IF($M1852=\"\",\"\",IFERROR(VLOOKUP($M1852,PartnerSearch!B$2:G$16000,6,0),\"--\"))","v":""},null,"","","",""]
[null,null,null,null,null,null,null,null,null,null,null,null,"",{"$f":"IF($M1853=\"\",\"\",IFERROR(VLOOKUP($M1853,PartnerSearch!B$2:G$16000,6,0),\"--\"))","v":""},null,"","","",""]
[null,null,null,null,null,null,null,null,null,null,null,null,"",{"$f":"IF($M1854=\"\",\"\",IFERROR(VLOOKUP($M1854,PartnerSearch!B$2:G$16000,6,0),\"--\"))","v":""},null,"","","",""]
[null,null,null,null,null,null,null,null,null,null,null,null,"",{"$f":"IF($M1855=\"\",\"\",IFERROR(VLOOKUP($M1855,PartnerSearch!B$2:G$16000,6,0),\"--\"))","v":""},null,"","","",""]
[null,null,null,null,null,null,null,null,null,null,null,null,"",{"$f":"IF($M1856=\"\",\"\",IFERROR(VLOOKUP($M1856,PartnerSearch!B$2:G$16000,6,0),\"--\"))","v":""},null,"","","",""]
[null,null,null,null,null,null,null,null,null,null,null,null,"",{"$f":"IF($M1857=\"\",\"\",IFERROR(VLOOKUP($M1857,PartnerSearch!B$2:G$16000,6,0),\"--\"))","v":""},null,"","","",""]
[null,null,null,null,null,null,null,null,null,null,null,null,"",{"$f":"IF($M1858=\"\",\"\",IFERROR(VLOOKUP($M1858,PartnerSearch!B$2:G$16000,6,0),\"--\"))","v":""},null,"","","",""]
[null,null,null,null,null,null,null,null,null,null,null,null,{"$f":"TRIM(SUBSTITUTE(SUBSTITUTE(SUBSTITUTE(SUBSTITUTE(SUBSTITUTE(SUBSTITUTE(SUBSTITUTE(SUBSTITUTE(SUBSTITUTE(SUBSTITUTE(SUBSTITUTE(SUBSTITUTE(SUBSTITUTE(SUBSTITUTE(E1859,\"00000 \",\"\"),\" (Local)\",\"\"),\" (Tribal)\",\"\"),\" (State)\",\"\"),\" (Regional)\",\"\"),\" (Federal/National)\",\"\"),\" (International)\",\"\"),\" (Unknown)\",\"\"),\" (Academic Institution)\",\"\"),\" (Government)\",\"\"),\" (Industry/Business)\",\"\"),\" (NGO)\",\"\"),\" (Other)\",\"\"),\" (Sea Grant Program)\",\"\"))","v":""},{"$f":"IF($M1859=\"\",\"\",IFERROR(VLOOKUP($M1859,PartnerSearch!B$2:G$16000,6,0),\"--\"))","v":""},null,{"$f":"IF(E1859=\"\",\"\",IF(LEFT(E1859&\"x\",5)=\"00000\",\"\",IF(N1859=\"--\",\"NO\",\"yes\")))","v":""},{"$f":"IF(LEFT(E1859&\"x\",5)<>\"00000\",\"\",IF(N1859=\"--\",\"yes\",\"NO\"))","v":""},{"$f":"IF(Q1859=\"\",\"\",IF((ISERROR(SEARCH(\"(Federal/National)\",E1859))*1+ISERROR(SEARCH(\"(International)\",E1859))*1+ISERROR(SEARCH(\"(Local)\",E1859))*1+ISERROR(SEARCH(\"(State)\",E1859))*1+ISERROR(SEARCH(\"(Regional)\",E1859))*1+ISERROR(SEARCH(\"(Tribal)\",E1859))*1+ISERROR(SEARCH(\"(Unknown) (\",E1859))*1)=6,\"yes\",\"NO\"))","v":""},{"$f":"IF(Q1859=\"\",\"\",IF(OR(NOT(ISERROR(SEARCH(\"(Academic Institution)\",E1859))),NOT(ISERROR(SEARCH(\"(Government)\",E1859))),NOT(ISERROR(SEARCH(\"(Industry/Business)\",E1859))),NOT(ISERROR(SEARCH(\"(NGO)\",E1859))),NOT(ISERROR(SEARCH(\"(Sea Grant Program)\",E1859))),NOT(ISERROR(SEARCH(\"(Other)\",E1859))),NOT(AND(NOT(ISERROR(SEARCH(\"(Unknown)\",E1859))),(ISERROR(SEARCH(\") (Unknown)\",E1859)))))),\"yes\",\"NO\"))","v":""}]
[null,null,null,null,null,null,null,null,null,null,null,null,"",{"$f":"IF($M1860=\"\",\"\",IFERROR(VLOOKUP($M1860,PartnerSearch!B$2:G$16000,6,0),\"--\"))","v":""},null,"","","",""]
[null,null,null,null,null,null,null,null,null,null,null,null,"",{"$f":"IF($M1861=\"\",\"\",IFERROR(VLOOKUP($M1861,PartnerSearch!B$2:G$16000,6,0),\"--\"))","v":""},null,"","","",""]
[null,null,null,null,null,null,null,null,null,null,null,null,"",{"$f":"IF($M1862=\"\",\"\",IFERROR(VLOOKUP($M1862,PartnerSearch!B$2:G$16000,6,0),\"--\"))","v":""},null,"","","",""]
[null,null,null,null,null,null,null,null,null,null,null,null,"",{"$f":"IF($M1863=\"\",\"\",IFERROR(VLOOKUP($M1863,PartnerSearch!B$2:G$16000,6,0),\"--\"))","v":""},null,"","","",""]
[null,null,null,null,null,null,null,null,null,null,null,null,"",{"$f":"IF($M1864=\"\",\"\",IFERROR(VLOOKUP($M1864,PartnerSearch!B$2:G$16000,6,0),\"--\"))","v":""},null,"","","",""]
[null,null,null,null,null,null,null,null,null,null,null,null,"",{"$f":"IF($M1865=\"\",\"\",IFERROR(VLOOKUP($M1865,PartnerSearch!B$2:G$16000,6,0),\"--\"))","v":""},null,"","","",""]
[null,null,null,null,null,null,null,null,null,null,null,null,"",{"$f":"IF($M1866=\"\",\"\",IFERROR(VLOOKUP($M1866,PartnerSearch!B$2:G$16000,6,0),\"--\"))","v":""},null,"","","",""]
[null,null,null,null,null,null,null,null,null,null,null,null,"",{"$f":"IF($M1867=\"\",\"\",IFERROR(VLOOKUP($M1867,PartnerSearch!B$2:G$16000,6,0),\"--\"))","v":""},null,"","","",""]
[null,null,null,null,null,null,null,null,null,null,null,null,"",{"$f":"IF($M1868=\"\",\"\",IFERROR(VLOOKUP($M1868,PartnerSearch!B$2:G$16000,6,0),\"--\"))","v":""},null,"","","",""]
[null,null,null,null,null,null,null,null,null,null,null,null,"",{"$f":"IF($M1869=\"\",\"\",IFERROR(VLOOKUP($M1869,PartnerSearch!B$2:G$16000,6,0),\"--\"))","v":""},null,"","","",""]
[null,null,null,null,null,null,null,null,null,null,null,null,"",{"$f":"IF($M1870=\"\",\"\",IFERROR(VLOOKUP($M1870,PartnerSearch!B$2:G$16000,6,0),\"--\"))","v":""},null,"","","",""]
[null,null,null,null,null,null,null,null,null,null,null,null,"",{"$f":"IF($M1871=\"\",\"\",IFERROR(VLOOKUP($M1871,PartnerSearch!B$2:G$16000,6,0),\"--\"))","v":""},null,"","","",""]
[null,null,null,null,null,null,null,null,null,null,null,null,"",{"$f":"IF($M1872=\"\",\"\",IFERROR(VLOOKUP($M1872,PartnerSearch!B$2:G$16000,6,0),\"--\"))","v":""},null,"","","",""]
[null,null,null,null,null,null,null,null,null,null,null,null,"",{"$f":"IF($M1873=\"\",\"\",IFERROR(VLOOKUP($M1873,PartnerSearch!B$2:G$16000,6,0),\"--\"))","v":""},null,"","","",""]
[null,null,null,null,null,null,null,null,null,null,null,null,"",{"$f":"IF($M1874=\"\",\"\",IFERROR(VLOOKUP($M1874,PartnerSearch!B$2:G$16000,6,0),\"--\"))","v":""},null,"","","",""]
[null,null,null,null,null,null,null,null,null,null,null,null,"",{"$f":"IF($M1875=\"\",\"\",IFERROR(VLOOKUP($M1875,PartnerSearch!B$2:G$16000,6,0),\"--\"))","v":""},null,"","","",""]
[null,null,null,null,null,null,null,null,null,null,null,null,"",{"$f":"IF($M1876=\"\",\"\",IFERROR(VLOOKUP($M1876,PartnerSearch!B$2:G$16000,6,0),\"--\"))","v":""},null,"","","",""]
[null,null,null,null,null,null,null,null,null,null,null,null,"",{"$f":"IF($M1877=\"\",\"\",IFERROR(VLOOKUP($M1877,PartnerSearch!B$2:G$16000,6,0),\"--\"))","v":""},null,"","","",""]
[null,null,null,null,null,null,null,null,null,null,null,null,"",{"$f":"IF($M1878=\"\",\"\",IFERROR(VLOOKUP($M1878,PartnerSearch!B$2:G$16000,6,0),\"--\"))","v":""},null,"","","",""]
[null,null,null,null,null,null,null,null,null,null,null,null,"",{"$f":"IF($M1879=\"\",\"\",IFERROR(VLOOKUP($M1879,PartnerSearch!B$2:G$16000,6,0),\"--\"))","v":""},null,"","","",""]
[null,null,null,null,null,null,null,null,null,null,null,null,"",{"$f":"IF($M1880=\"\",\"\",IFERROR(VLOOKUP($M1880,PartnerSearch!B$2:G$16000,6,0),\"--\"))","v":""},null,"","","",""]
[null,null,null,null,null,null,null,null,null,null,null,null,"",{"$f":"IF($M1881=\"\",\"\",IFERROR(VLOOKUP($M1881,PartnerSearch!B$2:G$16000,6,0),\"--\"))","v":""},null,"","","",""]
[null,null,null,null,null,null,null,null,null,null,null,null,"",{"$f":"IF($M1882=\"\",\"\",IFERROR(VLOOKUP($M1882,PartnerSearch!B$2:G$16000,6,0),\"--\"))","v":""},null,"","","",""]
[null,null,null,null,null,null,null,null,null,null,null,null,"",{"$f":"IF($M1883=\"\",\"\",IFERROR(VLOOKUP($M1883,PartnerSearch!B$2:G$16000,6,0),\"--\"))","v":""},null,"","","",""]
[null,null,null,null,null,null,null,null,null,null,null,null,"",{"$f":"IF($M1884=\"\",\"\",IFERROR(VLOOKUP($M1884,PartnerSearch!B$2:G$16000,6,0),\"--\"))","v":""},null,"","","",""]
[null,null,null,null,null,null,null,null,null,null,null,null,"",{"$f":"IF($M1885=\"\",\"\",IFERROR(VLOOKUP($M1885,PartnerSearch!B$2:G$16000,6,0),\"--\"))","v":""},null,"","","",""]
[null,null,null,null,null,null,null,null,null,null,null,null,"",{"$f":"IF($M1886=\"\",\"\",IFERROR(VLOOKUP($M1886,PartnerSearch!B$2:G$16000,6,0),\"--\"))","v":""},null,"","","",""]
[null,null,null,null,null,null,null,null,null,null,null,null,"",{"$f":"IF($M1887=\"\",\"\",IFERROR(VLOOKUP($M1887,PartnerSearch!B$2:G$16000,6,0),\"--\"))","v":""},null,"","","",""]
[null,null,null,null,null,null,null,null,null,null,null,null,"",{"$f":"IF($M1888=\"\",\"\",IFERROR(VLOOKUP($M1888,PartnerSearch!B$2:G$16000,6,0),\"--\"))","v":""},null,"","","",""]
[null,null,null,null,null,null,null,null,null,null,null,null,"",{"$f":"IF($M1889=\"\",\"\",IFERROR(VLOOKUP($M1889,PartnerSearch!B$2:G$16000,6,0),\"--\"))","v":""},null,"","","",""]
[null,null,null,null,null,null,null,null,null,null,null,null,"",{"$f":"IF($M1890=\"\",\"\",IFERROR(VLOOKUP($M1890,PartnerSearch!B$2:G$16000,6,0),\"--\"))","v":""},null,"","","",""]
[null,null,null,null,null,null,null,null,null,null,null,null,"",{"$f":"IF($M1891=\"\",\"\",IFERROR(VLOOKUP($M1891,PartnerSearch!B$2:G$16000,6,0),\"--\"))","v":""},null,"","","",""]
[null,null,null,null,null,null,null,null,null,null,null,null,"",{"$f":"IF($M1892=\"\",\"\",IFERROR(VLOOKUP($M1892,PartnerSearch!B$2:G$16000,6,0),\"--\"))","v":""},null,"","","",""]
[null,null,null,null,null,null,null,null,null,null,null,null,"",{"$f":"IF($M1893=\"\",\"\",IFERROR(VLOOKUP($M1893,PartnerSearch!B$2:G$16000,6,0),\"--\"))","v":""},null,"","","",""]
[null,null,null,null,null,null,null,null,null,null,null,null,"",{"$f":"IF($M1894=\"\",\"\",IFERROR(VLOOKUP($M1894,PartnerSearch!B$2:G$16000,6,0),\"--\"))","v":""},null,"","","",""]
[null,null,null,null,null,null,null,null,null,null,null,null,"",{"$f":"IF($M1895=\"\",\"\",IFERROR(VLOOKUP($M1895,PartnerSearch!B$2:G$16000,6,0),\"--\"))","v":""},null,"","","",""]
[null,null,null,null,null,null,null,null,null,null,null,null,"",{"$f":"IF($M1896=\"\",\"\",IFERROR(VLOOKUP($M1896,PartnerSearch!B$2:G$16000,6,0),\"--\"))","v":""},null,"","","",""]
[null,null,null,null,null,null,null,null,null,null,null,null,"",{"$f":"IF($M1897=\"\",\"\",IFERROR(VLOOKUP($M1897,PartnerSearch!B$2:G$16000,6,0),\"--\"))","v":""},null,"","","",""]
[null,null,null,null,null,null,null,null,null,null,null,null,"",{"$f":"IF($M1898=\"\",\"\",IFERROR(VLOOKUP($M1898,PartnerSearch!B$2:G$16000,6,0),\"--\"))","v":""},null,"","","",""]
[null,null,null,null,null,null,null,null,null,null,null,null,"",{"$f":"IF($M1899=\"\",\"\",IFERROR(VLOOKUP($M1899,PartnerSearch!B$2:G$16000,6,0),\"--\"))","v":""},null,"","","",""]
[null,null,null,null,null,null,null,null,null,null,null,null,"",{"$f":"IF($M1900=\"\",\"\",IFERROR(VLOOKUP($M1900,PartnerSearch!B$2:G$16000,6,0),\"--\"))","v":""},null,"","","",""]
[null,null,null,null,null,null,null,null,null,null,null,null,"",{"$f":"IF($M1901=\"\",\"\",IFERROR(VLOOKUP($M1901,PartnerSearch!B$2:G$16000,6,0),\"--\"))","v":""},null,"","","",""]
[null,null,null,null,null,null,null,null,null,null,null,null,"",{"$f":"IF($M1902=\"\",\"\",IFERROR(VLOOKUP($M1902,PartnerSearch!B$2:G$16000,6,0),\"--\"))","v":""},null,"","","",""]
[null,null,null,null,null,null,null,null,null,null,null,null,"",{"$f":"IF($M1903=\"\",\"\",IFERROR(VLOOKUP($M1903,PartnerSearch!B$2:G$16000,6,0),\"--\"))","v":""},null,"","","",""]
[null,null,null,null,null,null,null,null,null,null,null,null,"",{"$f":"IF($M1904=\"\",\"\",IFERROR(VLOOKUP($M1904,PartnerSearch!B$2:G$16000,6,0),\"--\"))","v":""},null,"","","",""]
[null,null,null,null,null,null,null,null,null,null,null,null,"",{"$f":"IF($M1905=\"\",\"\",IFERROR(VLOOKUP($M1905,PartnerSearch!B$2:G$16000,6,0),\"--\"))","v":""},null,"","","",""]
[null,null,null,null,null,null,null,null,null,null,null,null,"",{"$f":"IF($M1906=\"\",\"\",IFERROR(VLOOKUP($M1906,PartnerSearch!B$2:G$16000,6,0),\"--\"))","v":""},null,"","","",""]
[null,null,null,null,null,null,null,null,null,null,null,null,"",{"$f":"IF($M1907=\"\",\"\",IFERROR(VLOOKUP($M1907,PartnerSearch!B$2:G$16000,6,0),\"--\"))","v":""},null,"","","",""]
[null,null,null,null,null,null,null,null,null,null,null,null,"",{"$f":"IF($M1908=\"\",\"\",IFERROR(VLOOKUP($M1908,PartnerSearch!B$2:G$16000,6,0),\"--\"))","v":""},null,"","","",""]
[null,null,null,null,null,null,null,null,null,null,null,null,"",{"$f":"IF($M1909=\"\",\"\",IFERROR(VLOOKUP($M1909,PartnerSearch!B$2:G$16000,6,0),\"--\"))","v":""},null,"","","",""]
[null,null,null,null,null,null,null,null,null,null,null,null,"",{"$f":"IF($M1910=\"\",\"\",IFERROR(VLOOKUP($M1910,PartnerSearch!B$2:G$16000,6,0),\"--\"))","v":""},null,"","","",""]
[null,null,null,null,null,null,null,null,null,null,null,null,"",{"$f":"IF($M1911=\"\",\"\",IFERROR(VLOOKUP($M1911,PartnerSearch!B$2:G$16000,6,0),\"--\"))","v":""},null,"","","",""]
[null,null,null,null,null,null,null,null,null,null,null,null,"",{"$f":"IF($M1912=\"\",\"\",IFERROR(VLOOKUP($M1912,PartnerSearch!B$2:G$16000,6,0),\"--\"))","v":""},null,"","","",""]
[null,null,null,null,null,null,null,null,null,null,null,null,"",{"$f":"IF($M1913=\"\",\"\",IFERROR(VLOOKUP($M1913,PartnerSearch!B$2:G$16000,6,0),\"--\"))","v":""},null,"","","",""]
[null,null,null,null,null,null,null,null,null,null,null,null,"",{"$f":"IF($M1914=\"\",\"\",IFERROR(VLOOKUP($M1914,PartnerSearch!B$2:G$16000,6,0),\"--\"))","v":""},null,"","","",""]
[null,null,null,null,null,null,null,null,null,null,null,null,"",{"$f":"IF($M1915=\"\",\"\",IFERROR(VLOOKUP($M1915,PartnerSearch!B$2:G$16000,6,0),\"--\"))","v":""},null,"","","",""]
[null,null,null,null,null,null,null,null,null,null,null,null,"",{"$f":"IF($M1916=\"\",\"\",IFERROR(VLOOKUP($M1916,PartnerSearch!B$2:G$16000,6,0),\"--\"))","v":""},null,"","","",""]
[null,null,null,null,null,null,null,null,null,null,null,null,"",{"$f":"IF($M1917=\"\",\"\",IFERROR(VLOOKUP($M1917,PartnerSearch!B$2:G$16000,6,0),\"--\"))","v":""},null,"","","",""]
[null,null,null,null,null,null,null,null,null,null,null,null,"",{"$f":"IF($M1918=\"\",\"\",IFERROR(VLOOKUP($M1918,PartnerSearch!B$2:G$16000,6,0),\"--\"))","v":""},null,"","","",""]
[null,null,null,null,null,null,null,null,null,null,null,null,"",{"$f":"IF($M1919=\"\",\"\",IFERROR(VLOOKUP($M1919,PartnerSearch!B$2:G$16000,6,0),\"--\"))","v":""},null,"","","",""]
[null,null,null,null,null,null,null,null,null,null,null,null,"",{"$f":"IF($M1920=\"\",\"\",IFERROR(VLOOKUP($M1920,PartnerSearch!B$2:G$16000,6,0),\"--\"))","v":""},null,"","","",""]
[null,null,null,null,null,null,null,null,null,null,null,null,"",{"$f":"IF($M1921=\"\",\"\",IFERROR(VLOOKUP($M1921,PartnerSearch!B$2:G$16000,6,0),\"--\"))","v":""},null,"","","",""]
[null,null,null,null,null,null,null,null,null,null,null,null,"",{"$f":"IF($M1922=\"\",\"\",IFERROR(VLOOKUP($M1922,PartnerSearch!B$2:G$16000,6,0),\"--\"))","v":""},null,"","","",""]
[null,null,null,null,null,null,null,null,null,null,null,null,{"$f":"TRIM(SUBSTITUTE(SUBSTITUTE(SUBSTITUTE(SUBSTITUTE(SUBSTITUTE(SUBSTITUTE(SUBSTITUTE(SUBSTITUTE(SUBSTITUTE(SUBSTITUTE(SUBSTITUTE(SUBSTITUTE(SUBSTITUTE(SUBSTITUTE(E1923,\"00000 \",\"\"),\" (Local)\",\"\"),\" (Tribal)\",\"\"),\" (State)\",\"\"),\" (Regional)\",\"\"),\" (Federal/National)\",\"\"),\" (International)\",\"\"),\" (Unknown)\",\"\"),\" (Academic Institution)\",\"\"),\" (Government)\",\"\"),\" (Industry/Business)\",\"\"),\" (NGO)\",\"\"),\" (Other)\",\"\"),\" (Sea Grant Program)\",\"\"))","v":""},{"$f":"IF($M1923=\"\",\"\",IFERROR(VLOOKUP($M1923,PartnerSearch!B$2:G$16000,6,0),\"--\"))","v":""},null,{"$f":"IF(E1923=\"\",\"\",IF(LEFT(E1923&\"x\",5)=\"00000\",\"\",IF(N1923=\"--\",\"NO\",\"yes\")))","v":""},{"$f":"IF(LEFT(E1923&\"x\",5)<>\"00000\",\"\",IF(N1923=\"--\",\"yes\",\"NO\"))","v":""},{"$f":"IF(Q1923=\"\",\"\",IF((ISERROR(SEARCH(\"(Federal/National)\",E1923))*1+ISERROR(SEARCH(\"(International)\",E1923))*1+ISERROR(SEARCH(\"(Local)\",E1923))*1+ISERROR(SEARCH(\"(State)\",E1923))*1+ISERROR(SEARCH(\"(Regional)\",E1923))*1+ISERROR(SEARCH(\"(Tribal)\",E1923))*1+ISERROR(SEARCH(\"(Unknown) (\",E1923))*1)=6,\"yes\",\"NO\"))","v":""},{"$f":"IF(Q1923=\"\",\"\",IF(OR(NOT(ISERROR(SEARCH(\"(Academic Institution)\",E1923))),NOT(ISERROR(SEARCH(\"(Government)\",E1923))),NOT(ISERROR(SEARCH(\"(Industry/Business)\",E1923))),NOT(ISERROR(SEARCH(\"(NGO)\",E1923))),NOT(ISERROR(SEARCH(\"(Sea Grant Program)\",E1923))),NOT(ISERROR(SEARCH(\"(Other)\",E1923))),NOT(AND(NOT(ISERROR(SEARCH(\"(Unknown)\",E1923))),(ISERROR(SEARCH(\") (Unknown)\",E1923)))))),\"yes\",\"NO\"))","v":""}]
[null,null,null,null,null,null,null,null,null,null,null,null,"",{"$f":"IF($M1924=\"\",\"\",IFERROR(VLOOKUP($M1924,PartnerSearch!B$2:G$16000,6,0),\"--\"))","v":""},null,"","","",""]
[null,null,null,null,null,null,null,null,null,null,null,null,"",{"$f":"IF($M1925=\"\",\"\",IFERROR(VLOOKUP($M1925,PartnerSearch!B$2:G$16000,6,0),\"--\"))","v":""},null,"","","",""]
[null,null,null,null,null,null,null,null,null,null,null,null,"",{"$f":"IF($M1926=\"\",\"\",IFERROR(VLOOKUP($M1926,PartnerSearch!B$2:G$16000,6,0),\"--\"))","v":""},null,"","","",""]
[null,null,null,null,null,null,null,null,null,null,null,null,"",{"$f":"IF($M1927=\"\",\"\",IFERROR(VLOOKUP($M1927,PartnerSearch!B$2:G$16000,6,0),\"--\"))","v":""},null,"","","",""]
[null,null,null,null,null,null,null,null,null,null,null,null,"",{"$f":"IF($M1928=\"\",\"\",IFERROR(VLOOKUP($M1928,PartnerSearch!B$2:G$16000,6,0),\"--\"))","v":""},null,"","","",""]
[null,null,null,null,null,null,null,null,null,null,null,null,"",{"$f":"IF($M1929=\"\",\"\",IFERROR(VLOOKUP($M1929,PartnerSearch!B$2:G$16000,6,0),\"--\"))","v":""},null,"","","",""]
[null,null,null,null,null,null,null,null,null,null,null,null,"",{"$f":"IF($M1930=\"\",\"\",IFERROR(VLOOKUP($M1930,PartnerSearch!B$2:G$16000,6,0),\"--\"))","v":""},null,"","","",""]
[null,null,null,null,null,null,null,null,null,null,null,null,"",{"$f":"IF($M1931=\"\",\"\",IFERROR(VLOOKUP($M1931,PartnerSearch!B$2:G$16000,6,0),\"--\"))","v":""},null,"","","",""]
[null,null,null,null,null,null,null,null,null,null,null,null,"",{"$f":"IF($M1932=\"\",\"\",IFERROR(VLOOKUP($M1932,PartnerSearch!B$2:G$16000,6,0),\"--\"))","v":""},null,"","","",""]
[null,null,null,null,null,null,null,null,null,null,null,null,"",{"$f":"IF($M1933=\"\",\"\",IFERROR(VLOOKUP($M1933,PartnerSearch!B$2:G$16000,6,0),\"--\"))","v":""},null,"","","",""]
[null,null,null,null,null,null,null,null,null,null,null,null,"",{"$f":"IF($M1934=\"\",\"\",IFERROR(VLOOKUP($M1934,PartnerSearch!B$2:G$16000,6,0),\"--\"))","v":""},null,"","","",""]
[null,null,null,null,null,null,null,null,null,null,null,null,"",{"$f":"IF($M1935=\"\",\"\",IFERROR(VLOOKUP($M1935,PartnerSearch!B$2:G$16000,6,0),\"--\"))","v":""},null,"","","",""]
[null,null,null,null,null,null,null,null,null,null,null,null,"",{"$f":"IF($M1936=\"\",\"\",IFERROR(VLOOKUP($M1936,PartnerSearch!B$2:G$16000,6,0),\"--\"))","v":""},null,"","","",""]
[null,null,null,null,null,null,null,null,null,null,null,null,"",{"$f":"IF($M1937=\"\",\"\",IFERROR(VLOOKUP($M1937,PartnerSearch!B$2:G$16000,6,0),\"--\"))","v":""},null,"","","",""]
[null,null,null,null,null,null,null,null,null,null,null,null,"",{"$f":"IF($M1938=\"\",\"\",IFERROR(VLOOKUP($M1938,PartnerSearch!B$2:G$16000,6,0),\"--\"))","v":""},null,"","","",""]
[null,null,null,null,null,null,null,null,null,null,null,null,"",{"$f":"IF($M1939=\"\",\"\",IFERROR(VLOOKUP($M1939,PartnerSearch!B$2:G$16000,6,0),\"--\"))","v":""},null,"","","",""]
[null,null,null,null,null,null,null,null,null,null,null,null,"",{"$f":"IF($M1940=\"\",\"\",IFERROR(VLOOKUP($M1940,PartnerSearch!B$2:G$16000,6,0),\"--\"))","v":""},null,"","","",""]
[null,null,null,null,null,null,null,null,null,null,null,null,"",{"$f":"IF($M1941=\"\",\"\",IFERROR(VLOOKUP($M1941,PartnerSearch!B$2:G$16000,6,0),\"--\"))","v":""},null,"","","",""]
[null,null,null,null,null,null,null,null,null,null,null,null,"",{"$f":"IF($M1942=\"\",\"\",IFERROR(VLOOKUP($M1942,PartnerSearch!B$2:G$16000,6,0),\"--\"))","v":""},null,"","","",""]
[null,null,null,null,null,null,null,null,null,null,null,null,"",{"$f":"IF($M1943=\"\",\"\",IFERROR(VLOOKUP($M1943,PartnerSearch!B$2:G$16000,6,0),\"--\"))","v":""},null,"","","",""]
[null,null,null,null,null,null,null,null,null,null,null,null,"",{"$f":"IF($M1944=\"\",\"\",IFERROR(VLOOKUP($M1944,PartnerSearch!B$2:G$16000,6,0),\"--\"))","v":""},null,"","","",""]
[null,null,null,null,null,null,null,null,null,null,null,null,"",{"$f":"IF($M1945=\"\",\"\",IFERROR(VLOOKUP($M1945,PartnerSearch!B$2:G$16000,6,0),\"--\"))","v":""},null,"","","",""]
[null,null,null,null,null,null,null,null,null,null,null,null,"",{"$f":"IF($M1946=\"\",\"\",IFERROR(VLOOKUP($M1946,PartnerSearch!B$2:G$16000,6,0),\"--\"))","v":""},null,"","","",""]
[null,null,null,null,null,null,null,null,null,null,null,null,"",{"$f":"IF($M1947=\"\",\"\",IFERROR(VLOOKUP($M1947,PartnerSearch!B$2:G$16000,6,0),\"--\"))","v":""},null,"","","",""]
[null,null,null,null,null,null,null,null,null,null,null,null,"",{"$f":"IF($M1948=\"\",\"\",IFERROR(VLOOKUP($M1948,PartnerSearch!B$2:G$16000,6,0),\"--\"))","v":""},null,"","","",""]
[null,null,null,null,null,null,null,null,null,null,null,null,"",{"$f":"IF($M1949=\"\",\"\",IFERROR(VLOOKUP($M1949,PartnerSearch!B$2:G$16000,6,0),\"--\"))","v":""},null,"","","",""]
[null,null,null,null,null,null,null,null,null,null,null,null,"",{"$f":"IF($M1950=\"\",\"\",IFERROR(VLOOKUP($M1950,PartnerSearch!B$2:G$16000,6,0),\"--\"))","v":""},null,"","","",""]
[null,null,null,null,null,null,null,null,null,null,null,null,"",{"$f":"IF($M1951=\"\",\"\",IFERROR(VLOOKUP($M1951,PartnerSearch!B$2:G$16000,6,0),\"--\"))","v":""},null,"","","",""]
[null,null,null,null,null,null,null,null,null,null,null,null,"",{"$f":"IF($M1952=\"\",\"\",IFERROR(VLOOKUP($M1952,PartnerSearch!B$2:G$16000,6,0),\"--\"))","v":""},null,"","","",""]
[null,null,null,null,null,null,null,null,null,null,null,null,"",{"$f":"IF($M1953=\"\",\"\",IFERROR(VLOOKUP($M1953,PartnerSearch!B$2:G$16000,6,0),\"--\"))","v":""},null,"","","",""]
[null,null,null,null,null,null,null,null,null,null,null,null,"",{"$f":"IF($M1954=\"\",\"\",IFERROR(VLOOKUP($M1954,PartnerSearch!B$2:G$16000,6,0),\"--\"))","v":""},null,"","","",""]
[null,null,null,null,null,null,null,null,null,null,null,null,"",{"$f":"IF($M1955=\"\",\"\",IFERROR(VLOOKUP($M1955,PartnerSearch!B$2:G$16000,6,0),\"--\"))","v":""},null,"","","",""]
[null,null,null,null,null,null,null,null,null,null,null,null,"",{"$f":"IF($M1956=\"\",\"\",IFERROR(VLOOKUP($M1956,PartnerSearch!B$2:G$16000,6,0),\"--\"))","v":""},null,"","","",""]
[null,null,null,null,null,null,null,null,null,null,null,null,"",{"$f":"IF($M1957=\"\",\"\",IFERROR(VLOOKUP($M1957,PartnerSearch!B$2:G$16000,6,0),\"--\"))","v":""},null,"","","",""]
[null,null,null,null,null,null,null,null,null,null,null,null,"",{"$f":"IF($M1958=\"\",\"\",IFERROR(VLOOKUP($M1958,PartnerSearch!B$2:G$16000,6,0),\"--\"))","v":""},null,"","","",""]
[null,null,null,null,null,null,null,null,null,null,null,null,"",{"$f":"IF($M1959=\"\",\"\",IFERROR(VLOOKUP($M1959,PartnerSearch!B$2:G$16000,6,0),\"--\"))","v":""},null,"","","",""]
[null,null,null,null,null,null,null,null,null,null,null,null,"",{"$f":"IF($M1960=\"\",\"\",IFERROR(VLOOKUP($M1960,PartnerSearch!B$2:G$16000,6,0),\"--\"))","v":""},null,"","","",""]
[null,null,null,null,null,null,null,null,null,null,null,null,"",{"$f":"IF($M1961=\"\",\"\",IFERROR(VLOOKUP($M1961,PartnerSearch!B$2:G$16000,6,0),\"--\"))","v":""},null,"","","",""]
[null,null,null,null,null,null,null,null,null,null,null,null,"",{"$f":"IF($M1962=\"\",\"\",IFERROR(VLOOKUP($M1962,PartnerSearch!B$2:G$16000,6,0),\"--\"))","v":""},null,"","","",""]
[null,null,null,null,null,null,null,null,null,null,null,null,"",{"$f":"IF($M1963=\"\",\"\",IFERROR(VLOOKUP($M1963,PartnerSearch!B$2:G$16000,6,0),\"--\"))","v":""},null,"","","",""]
[null,null,null,null,null,null,null,null,null,null,null,null,"",{"$f":"IF($M1964=\"\",\"\",IFERROR(VLOOKUP($M1964,PartnerSearch!B$2:G$16000,6,0),\"--\"))","v":""},null,"","","",""]
[null,null,null,null,null,null,null,null,null,null,null,null,"",{"$f":"IF($M1965=\"\",\"\",IFERROR(VLOOKUP($M1965,PartnerSearch!B$2:G$16000,6,0),\"--\"))","v":""},null,"","","",""]
[null,null,null,null,null,null,null,null,null,null,null,null,"",{"$f":"IF($M1966=\"\",\"\",IFERROR(VLOOKUP($M1966,PartnerSearch!B$2:G$16000,6,0),\"--\"))","v":""},null,"","","",""]
[null,null,null,null,null,null,null,null,null,null,null,null,"",{"$f":"IF($M1967=\"\",\"\",IFERROR(VLOOKUP($M1967,PartnerSearch!B$2:G$16000,6,0),\"--\"))","v":""},null,"","","",""]
[null,null,null,null,null,null,null,null,null,null,null,null,"",{"$f":"IF($M1968=\"\",\"\",IFERROR(VLOOKUP($M1968,PartnerSearch!B$2:G$16000,6,0),\"--\"))","v":""},null,"","","",""]
[null,null,null,null,null,null,null,null,null,null,null,null,"",{"$f":"IF($M1969=\"\",\"\",IFERROR(VLOOKUP($M1969,PartnerSearch!B$2:G$16000,6,0),\"--\"))","v":""},null,"","","",""]
[null,null,null,null,null,null,null,null,null,null,null,null,"",{"$f":"IF($M1970=\"\",\"\",IFERROR(VLOOKUP($M1970,PartnerSearch!B$2:G$16000,6,0),\"--\"))","v":""},null,"","","",""]
[null,null,null,null,null,null,null,null,null,null,null,null,"",{"$f":"IF($M1971=\"\",\"\",IFERROR(VLOOKUP($M1971,PartnerSearch!B$2:G$16000,6,0),\"--\"))","v":""},null,"","","",""]
[null,null,null,null,null,null,null,null,null,null,null,null,"",{"$f":"IF($M1972=\"\",\"\",IFERROR(VLOOKUP($M1972,PartnerSearch!B$2:G$16000,6,0),\"--\"))","v":""},null,"","","",""]
[null,null,null,null,null,null,null,null,null,null,null,null,"",{"$f":"IF($M1973=\"\",\"\",IFERROR(VLOOKUP($M1973,PartnerSearch!B$2:G$16000,6,0),\"--\"))","v":""},null,"","","",""]
[null,null,null,null,null,null,null,null,null,null,null,null,"",{"$f":"IF($M1974=\"\",\"\",IFERROR(VLOOKUP($M1974,PartnerSearch!B$2:G$16000,6,0),\"--\"))","v":""},null,"","","",""]
[null,null,null,null,null,null,null,null,null,null,null,null,"",{"$f":"IF($M1975=\"\",\"\",IFERROR(VLOOKUP($M1975,PartnerSearch!B$2:G$16000,6,0),\"--\"))","v":""},null,"","","",""]
[null,null,null,null,null,null,null,null,null,null,null,null,"",{"$f":"IF($M1976=\"\",\"\",IFERROR(VLOOKUP($M1976,PartnerSearch!B$2:G$16000,6,0),\"--\"))","v":""},null,"","","",""]
[null,null,null,null,null,null,null,null,null,null,null,null,"",{"$f":"IF($M1977=\"\",\"\",IFERROR(VLOOKUP($M1977,PartnerSearch!B$2:G$16000,6,0),\"--\"))","v":""},null,"","","",""]
[null,null,null,null,null,null,null,null,null,null,null,null,"",{"$f":"IF($M1978=\"\",\"\",IFERROR(VLOOKUP($M1978,PartnerSearch!B$2:G$16000,6,0),\"--\"))","v":""},null,"","","",""]
[null,null,null,null,null,null,null,null,null,null,null,null,"",{"$f":"IF($M1979=\"\",\"\",IFERROR(VLOOKUP($M1979,PartnerSearch!B$2:G$16000,6,0),\"--\"))","v":""},null,"","","",""]
[null,null,null,null,null,null,null,null,null,null,null,null,"",{"$f":"IF($M1980=\"\",\"\",IFERROR(VLOOKUP($M1980,PartnerSearch!B$2:G$16000,6,0),\"--\"))","v":""},null,"","","",""]
[null,null,null,null,null,null,null,null,null,null,null,null,"",{"$f":"IF($M1981=\"\",\"\",IFERROR(VLOOKUP($M1981,PartnerSearch!B$2:G$16000,6,0),\"--\"))","v":""},null,"","","",""]
[null,null,null,null,null,null,null,null,null,null,null,null,"",{"$f":"IF($M1982=\"\",\"\",IFERROR(VLOOKUP($M1982,PartnerSearch!B$2:G$16000,6,0),\"--\"))","v":""},null,"","","",""]
[null,null,null,null,null,null,null,null,null,null,null,null,"",{"$f":"IF($M1983=\"\",\"\",IFERROR(VLOOKUP($M1983,PartnerSearch!B$2:G$16000,6,0),\"--\"))","v":""},null,"","","",""]
[null,null,null,null,null,null,null,null,null,null,null,null,"",{"$f":"IF($M1984=\"\",\"\",IFERROR(VLOOKUP($M1984,PartnerSearch!B$2:G$16000,6,0),\"--\"))","v":""},null,"","","",""]
[null,null,null,null,null,null,null,null,null,null,null,null,"",{"$f":"IF($M1985=\"\",\"\",IFERROR(VLOOKUP($M1985,PartnerSearch!B$2:G$16000,6,0),\"--\"))","v":""},null,"","","",""]
[null,null,null,null,null,null,null,null,null,null,null,null,"",{"$f":"IF($M1986=\"\",\"\",IFERROR(VLOOKUP($M1986,PartnerSearch!B$2:G$16000,6,0),\"--\"))","v":""},null,"","","",""]
[null,null,null,null,null,null,null,null,null,null,null,null,{"$f":"TRIM(SUBSTITUTE(SUBSTITUTE(SUBSTITUTE(SUBSTITUTE(SUBSTITUTE(SUBSTITUTE(SUBSTITUTE(SUBSTITUTE(SUBSTITUTE(SUBSTITUTE(SUBSTITUTE(SUBSTITUTE(SUBSTITUTE(SUBSTITUTE(E1987,\"00000 \",\"\"),\" (Local)\",\"\"),\" (Tribal)\",\"\"),\" (State)\",\"\"),\" (Regional)\",\"\"),\" (Federal/National)\",\"\"),\" (International)\",\"\"),\" (Unknown)\",\"\"),\" (Academic Institution)\",\"\"),\" (Government)\",\"\"),\" (Industry/Business)\",\"\"),\" (NGO)\",\"\"),\" (Other)\",\"\"),\" (Sea Grant Program)\",\"\"))","v":""},{"$f":"IF($M1987=\"\",\"\",IFERROR(VLOOKUP($M1987,PartnerSearch!B$2:G$16000,6,0),\"--\"))","v":""},null,{"$f":"IF(E1987=\"\",\"\",IF(LEFT(E1987&\"x\",5)=\"00000\",\"\",IF(N1987=\"--\",\"NO\",\"yes\")))","v":""},{"$f":"IF(LEFT(E1987&\"x\",5)<>\"00000\",\"\",IF(N1987=\"--\",\"yes\",\"NO\"))","v":""},{"$f":"IF(Q1987=\"\",\"\",IF((ISERROR(SEARCH(\"(Federal/National)\",E1987))*1+ISERROR(SEARCH(\"(International)\",E1987))*1+ISERROR(SEARCH(\"(Local)\",E1987))*1+ISERROR(SEARCH(\"(State)\",E1987))*1+ISERROR(SEARCH(\"(Regional)\",E1987))*1+ISERROR(SEARCH(\"(Tribal)\",E1987))*1+ISERROR(SEARCH(\"(Unknown) (\",E1987))*1)=6,\"yes\",\"NO\"))","v":""},{"$f":"IF(Q1987=\"\",\"\",IF(OR(NOT(ISERROR(SEARCH(\"(Academic Institution)\",E1987))),NOT(ISERROR(SEARCH(\"(Government)\",E1987))),NOT(ISERROR(SEARCH(\"(Industry/Business)\",E1987))),NOT(ISERROR(SEARCH(\"(NGO)\",E1987))),NOT(ISERROR(SEARCH(\"(Sea Grant Program)\",E1987))),NOT(ISERROR(SEARCH(\"(Other)\",E1987))),NOT(AND(NOT(ISERROR(SEARCH(\"(Unknown)\",E1987))),(ISERROR(SEARCH(\") (Unknown)\",E1987)))))),\"yes\",\"NO\"))","v":""}]
[null,null,null,null,null,null,null,null,null,null,null,null,"",{"$f":"IF($M1988=\"\",\"\",IFERROR(VLOOKUP($M1988,PartnerSearch!B$2:G$16000,6,0),\"--\"))","v":""},null,"","","",""]
[null,null,null,null,null,null,null,null,null,null,null,null,"",{"$f":"IF($M1989=\"\",\"\",IFERROR(VLOOKUP($M1989,PartnerSearch!B$2:G$16000,6,0),\"--\"))","v":""},null,"","","",""]
[null,null,null,null,null,null,null,null,null,null,null,null,"",{"$f":"IF($M1990=\"\",\"\",IFERROR(VLOOKUP($M1990,PartnerSearch!B$2:G$16000,6,0),\"--\"))","v":""},null,"","","",""]
[null,null,null,null,null,null,null,null,null,null,null,null,"",{"$f":"IF($M1991=\"\",\"\",IFERROR(VLOOKUP($M1991,PartnerSearch!B$2:G$16000,6,0),\"--\"))","v":""},null,"","","",""]
[null,null,null,null,null,null,null,null,null,null,null,null,"",{"$f":"IF($M1992=\"\",\"\",IFERROR(VLOOKUP($M1992,PartnerSearch!B$2:G$16000,6,0),\"--\"))","v":""},null,"","","",""]
[null,null,null,null,null,null,null,null,null,null,null,null,"",{"$f":"IF($M1993=\"\",\"\",IFERROR(VLOOKUP($M1993,PartnerSearch!B$2:G$16000,6,0),\"--\"))","v":""},null,"","","",""]
[null,null,null,null,null,null,null,null,null,null,null,null,"",{"$f":"IF($M1994=\"\",\"\",IFERROR(VLOOKUP($M1994,PartnerSearch!B$2:G$16000,6,0),\"--\"))","v":""},null,"","","",""]
[null,null,null,null,null,null,null,null,null,null,null,null,"",{"$f":"IF($M1995=\"\",\"\",IFERROR(VLOOKUP($M1995,PartnerSearch!B$2:G$16000,6,0),\"--\"))","v":""},null,"","","",""]
[null,null,null,null,null,null,null,null,null,null,null,null,"",{"$f":"IF($M1996=\"\",\"\",IFERROR(VLOOKUP($M1996,PartnerSearch!B$2:G$16000,6,0),\"--\"))","v":""},null,"","","",""]
[null,null,null,null,null,null,null,null,null,null,null,null,"",{"$f":"IF($M1997=\"\",\"\",IFERROR(VLOOKUP($M1997,PartnerSearch!B$2:G$16000,6,0),\"--\"))","v":""},null,"","","",""]
[null,null,null,null,null,null,null,null,null,null,null,null,"",{"$f":"IF($M1998=\"\",\"\",IFERROR(VLOOKUP($M1998,PartnerSearch!B$2:G$16000,6,0),\"--\"))","v":""},null,"","","",""]
[null,null,null,null,null,null,null,null,null,null,null,null,"",{"$f":"IF($M1999=\"\",\"\",IFERROR(VLOOKUP($M1999,PartnerSearch!B$2:G$16000,6,0),\"--\"))","v":""},null,"","","",""]
[null,null,null,null,null,null,null,null,null,null,null,null,"",{"$f":"IF($M2000=\"\",\"\",IFERROR(VLOOKUP($M2000,PartnerSearch!B$2:G$16000,6,0),\"--\"))","v":""},null,"","","",""]
[null,null,null,null,null,null,null,null,null,null,null,null,"",{"$f":"IF($M2001=\"\",\"\",IFERROR(VLOOKUP($M2001,PartnerSearch!B$2:G$16000,6,0),\"--\"))","v":""},null,"","","",""]
[null,null,null,null,null,null,null,null,null,null,null,null,"",{"$f":"IF($M2002=\"\",\"\",IFERROR(VLOOKUP($M2002,PartnerSearch!B$2:G$16000,6,0),\"--\"))","v":""},null,"","","",""]
[null,null,null,null,null,null,null,null,null,null,null,null,"",{"$f":"IF($M2003=\"\",\"\",IFERROR(VLOOKUP($M2003,PartnerSearch!B$2:G$16000,6,0),\"--\"))","v":""},null,"","","",""]
[null,null,null,null,null,null,null,null,null,null,null,null,"",{"$f":"IF($M2004=\"\",\"\",IFERROR(VLOOKUP($M2004,PartnerSearch!B$2:G$16000,6,0),\"--\"))","v":""},null,"","","",""]
[null,null,null,null,null,null,null,null,null,null,null,null,"",{"$f":"IF($M2005=\"\",\"\",IFERROR(VLOOKUP($M2005,PartnerSearch!B$2:G$16000,6,0),\"--\"))","v":""},null,"","","",""]
[null,null,null,null,null,null,null,null,null,null,null,null,"",{"$f":"IF($M2006=\"\",\"\",IFERROR(VLOOKUP($M2006,PartnerSearch!B$2:G$16000,6,0),\"--\"))","v":""},null,"","","",""]
[null,null,null,null,null,null,null,null,null,null,null,null,"",{"$f":"IF($M2007=\"\",\"\",IFERROR(VLOOKUP($M2007,PartnerSearch!B$2:G$16000,6,0),\"--\"))","v":""},null,"","","",""]
[null,null,null,null,null,null,null,null,null,null,null,null,"",{"$f":"IF($M2008=\"\",\"\",IFERROR(VLOOKUP($M2008,PartnerSearch!B$2:G$16000,6,0),\"--\"))","v":""},null,"","","",""]
[null,null,null,null,null,null,null,null,null,null,null,null,"",{"$f":"IF($M2009=\"\",\"\",IFERROR(VLOOKUP($M2009,PartnerSearch!B$2:G$16000,6,0),\"--\"))","v":""},null,"","","",""]
[null,null,null,null,null,null,null,null,null,null,null,null,"",{"$f":"IF($M2010=\"\",\"\",IFERROR(VLOOKUP($M2010,PartnerSearch!B$2:G$16000,6,0),\"--\"))","v":""},null,"","","",""]
[null,null,null,null,null,null,null,null,null,null,null,null,"",{"$f":"IF($M2011=\"\",\"\",IFERROR(VLOOKUP($M2011,PartnerSearch!B$2:G$16000,6,0),\"--\"))","v":""},null,"","","",""]
[null,null,null,null,null,null,null,null,null,null,null,null,"",{"$f":"IF($M2012=\"\",\"\",IFERROR(VLOOKUP($M2012,PartnerSearch!B$2:G$16000,6,0),\"--\"))","v":""},null,"","","",""]
[null,null,null,null,null,null,null,null,null,null,null,null,"",{"$f":"IF($M2013=\"\",\"\",IFERROR(VLOOKUP($M2013,PartnerSearch!B$2:G$16000,6,0),\"--\"))","v":""},null,"","","",""]
[null,null,null,null,null,null,null,null,null,null,null,null,"",{"$f":"IF($M2014=\"\",\"\",IFERROR(VLOOKUP($M2014,PartnerSearch!B$2:G$16000,6,0),\"--\"))","v":""},null,"","","",""]
[null,null,null,null,null,null,null,null,null,null,null,null,"",{"$f":"IF($M2015=\"\",\"\",IFERROR(VLOOKUP($M2015,PartnerSearch!B$2:G$16000,6,0),\"--\"))","v":""},null,"","","",""]
[null,null,null,null,null,null,null,null,null,null,null,null,"",{"$f":"IF($M2016=\"\",\"\",IFERROR(VLOOKUP($M2016,PartnerSearch!B$2:G$16000,6,0),\"--\"))","v":""},null,"","","",""]
[null,null,null,null,null,null,null,null,null,null,null,null,"",{"$f":"IF($M2017=\"\",\"\",IFERROR(VLOOKUP($M2017,PartnerSearch!B$2:G$16000,6,0),\"--\"))","v":""},null,"","","",""]
[null,null,null,null,null,null,null,null,null,null,null,null,"",{"$f":"IF($M2018=\"\",\"\",IFERROR(VLOOKUP($M2018,PartnerSearch!B$2:G$16000,6,0),\"--\"))","v":""},null,"","","",""]
[null,null,null,null,null,null,null,null,null,null,null,null,"",{"$f":"IF($M2019=\"\",\"\",IFERROR(VLOOKUP($M2019,PartnerSearch!B$2:G$16000,6,0),\"--\"))","v":""},null,"","","",""]
[null,null,null,null,null,null,null,null,null,null,null,null,"",{"$f":"IF($M2020=\"\",\"\",IFERROR(VLOOKUP($M2020,PartnerSearch!B$2:G$16000,6,0),\"--\"))","v":""},null,"","","",""]
[null,null,null,null,null,null,null,null,null,null,null,null,"",{"$f":"IF($M2021=\"\",\"\",IFERROR(VLOOKUP($M2021,PartnerSearch!B$2:G$16000,6,0),\"--\"))","v":""},null,"","","",""]
[null,null,null,null,null,null,null,null,null,null,null,null,"",{"$f":"IF($M2022=\"\",\"\",IFERROR(VLOOKUP($M2022,PartnerSearch!B$2:G$16000,6,0),\"--\"))","v":""},null,"","","",""]
[null,null,null,null,null,null,null,null,null,null,null,null,"",{"$f":"IF($M2023=\"\",\"\",IFERROR(VLOOKUP($M2023,PartnerSearch!B$2:G$16000,6,0),\"--\"))","v":""},null,"","","",""]
[null,null,null,null,null,null,null,null,null,null,null,null,"",{"$f":"IF($M2024=\"\",\"\",IFERROR(VLOOKUP($M2024,PartnerSearch!B$2:G$16000,6,0),\"--\"))","v":""},null,"","","",""]
[null,null,null,null,null,null,null,null,null,null,null,null,"",{"$f":"IF($M2025=\"\",\"\",IFERROR(VLOOKUP($M2025,PartnerSearch!B$2:G$16000,6,0),\"--\"))","v":""},null,"","","",""]
[null,null,null,null,null,null,null,null,null,null,null,null,"",{"$f":"IF($M2026=\"\",\"\",IFERROR(VLOOKUP($M2026,PartnerSearch!B$2:G$16000,6,0),\"--\"))","v":""},null,"","","",""]
[null,null,null,null,null,null,null,null,null,null,null,null,"",{"$f":"IF($M2027=\"\",\"\",IFERROR(VLOOKUP($M2027,PartnerSearch!B$2:G$16000,6,0),\"--\"))","v":""},null,"","","",""]
[null,null,null,null,null,null,null,null,null,null,null,null,"",{"$f":"IF($M2028=\"\",\"\",IFERROR(VLOOKUP($M2028,PartnerSearch!B$2:G$16000,6,0),\"--\"))","v":""},null,"","","",""]
[null,null,null,null,null,null,null,null,null,null,null,null,"",{"$f":"IF($M2029=\"\",\"\",IFERROR(VLOOKUP($M2029,PartnerSearch!B$2:G$16000,6,0),\"--\"))","v":""},null,"","","",""]
[null,null,null,null,null,null,null,null,null,null,null,null,"",{"$f":"IF($M2030=\"\",\"\",IFERROR(VLOOKUP($M2030,PartnerSearch!B$2:G$16000,6,0),\"--\"))","v":""},null,"","","",""]
[null,null,null,null,null,null,null,null,null,null,null,null,"",{"$f":"IF($M2031=\"\",\"\",IFERROR(VLOOKUP($M2031,PartnerSearch!B$2:G$16000,6,0),\"--\"))","v":""},null,"","","",""]
[null,null,null,null,null,null,null,null,null,null,null,null,"",{"$f":"IF($M2032=\"\",\"\",IFERROR(VLOOKUP($M2032,PartnerSearch!B$2:G$16000,6,0),\"--\"))","v":""},null,"","","",""]
[null,null,null,null,null,null,null,null,null,null,null,null,"",{"$f":"IF($M2033=\"\",\"\",IFERROR(VLOOKUP($M2033,PartnerSearch!B$2:G$16000,6,0),\"--\"))","v":""},null,"","","",""]
[null,null,null,null,null,null,null,null,null,null,null,null,"",{"$f":"IF($M2034=\"\",\"\",IFERROR(VLOOKUP($M2034,PartnerSearch!B$2:G$16000,6,0),\"--\"))","v":""},null,"","","",""]
[null,null,null,null,null,null,null,null,null,null,null,null,"",{"$f":"IF($M2035=\"\",\"\",IFERROR(VLOOKUP($M2035,PartnerSearch!B$2:G$16000,6,0),\"--\"))","v":""},null,"","","",""]
[null,null,null,null,null,null,null,null,null,null,null,null,"",{"$f":"IF($M2036=\"\",\"\",IFERROR(VLOOKUP($M2036,PartnerSearch!B$2:G$16000,6,0),\"--\"))","v":""},null,"","","",""]
[null,null,null,null,null,null,null,null,null,null,null,null,"",{"$f":"IF($M2037=\"\",\"\",IFERROR(VLOOKUP($M2037,PartnerSearch!B$2:G$16000,6,0),\"--\"))","v":""},null,"","","",""]
[null,null,null,null,null,null,null,null,null,null,null,null,"",{"$f":"IF($M2038=\"\",\"\",IFERROR(VLOOKUP($M2038,PartnerSearch!B$2:G$16000,6,0),\"--\"))","v":""},null,"","","",""]
[null,null,null,null,null,null,null,null,null,null,null,null,"",{"$f":"IF($M2039=\"\",\"\",IFERROR(VLOOKUP($M2039,PartnerSearch!B$2:G$16000,6,0),\"--\"))","v":""},null,"","","",""]
[null,null,null,null,null,null,null,null,null,null,null,null,"",{"$f":"IF($M2040=\"\",\"\",IFERROR(VLOOKUP($M2040,PartnerSearch!B$2:G$16000,6,0),\"--\"))","v":""},null,"","","",""]
[null,null,null,null,null,null,null,null,null,null,null,null,"",{"$f":"IF($M2041=\"\",\"\",IFERROR(VLOOKUP($M2041,PartnerSearch!B$2:G$16000,6,0),\"--\"))","v":""},null,"","","",""]
[null,null,null,null,null,null,null,null,null,null,null,null,"",{"$f":"IF($M2042=\"\",\"\",IFERROR(VLOOKUP($M2042,PartnerSearch!B$2:G$16000,6,0),\"--\"))","v":""},null,"","","",""]
[null,null,null,null,null,null,null,null,null,null,null,null,"",{"$f":"IF($M2043=\"\",\"\",IFERROR(VLOOKUP($M2043,PartnerSearch!B$2:G$16000,6,0),\"--\"))","v":""},null,"","","",""]
[null,null,null,null,null,null,null,null,null,null,null,null,"",{"$f":"IF($M2044=\"\",\"\",IFERROR(VLOOKUP($M2044,PartnerSearch!B$2:G$16000,6,0),\"--\"))","v":""},null,"","","",""]
[null,null,null,null,null,null,null,null,null,null,null,null,"",{"$f":"IF($M2045=\"\",\"\",IFERROR(VLOOKUP($M2045,PartnerSearch!B$2:G$16000,6,0),\"--\"))","v":""},null,"","","",""]
[null,null,null,null,null,null,null,null,null,null,null,null,"",{"$f":"IF($M2046=\"\",\"\",IFERROR(VLOOKUP($M2046,PartnerSearch!B$2:G$16000,6,0),\"--\"))","v":""},null,"","","",""]
[null,null,null,null,null,null,null,null,null,null,null,null,"",{"$f":"IF($M2047=\"\",\"\",IFERROR(VLOOKUP($M2047,PartnerSearch!B$2:G$16000,6,0),\"--\"))","v":""},null,"","","",""]
[null,null,null,null,null,null,null,null,null,null,null,null,"",{"$f":"IF($M2048=\"\",\"\",IFERROR(VLOOKUP($M2048,PartnerSearch!B$2:G$16000,6,0),\"--\"))","v":""},null,"","","",""]
[null,null,null,null,null,null,null,null,null,null,null,null,"",{"$f":"IF($M2049=\"\",\"\",IFERROR(VLOOKUP($M2049,PartnerSearch!B$2:G$16000,6,0),\"--\"))","v":""},null,"","","",""]
[null,null,null,null,null,null,null,null,null,null,null,null,"",{"$f":"IF($M2050=\"\",\"\",IFERROR(VLOOKUP($M2050,PartnerSearch!B$2:G$16000,6,0),\"--\"))","v":""},null,"","","",""]
[null,null,null,null,null,null,null,null,null,null,null,null,{"$f":"TRIM(SUBSTITUTE(SUBSTITUTE(SUBSTITUTE(SUBSTITUTE(SUBSTITUTE(SUBSTITUTE(SUBSTITUTE(SUBSTITUTE(SUBSTITUTE(SUBSTITUTE(SUBSTITUTE(SUBSTITUTE(SUBSTITUTE(SUBSTITUTE(E2051,\"00000 \",\"\"),\" (Local)\",\"\"),\" (Tribal)\",\"\"),\" (State)\",\"\"),\" (Regional)\",\"\"),\" (Federal/National)\",\"\"),\" (International)\",\"\"),\" (Unknown)\",\"\"),\" (Academic Institution)\",\"\"),\" (Government)\",\"\"),\" (Industry/Business)\",\"\"),\" (NGO)\",\"\"),\" (Other)\",\"\"),\" (Sea Grant Program)\",\"\"))","v":""},{"$f":"IF($M2051=\"\",\"\",IFERROR(VLOOKUP($M2051,PartnerSearch!B$2:G$16000,6,0),\"--\"))","v":""},null,{"$f":"IF(E2051=\"\",\"\",IF(LEFT(E2051&\"x\",5)=\"00000\",\"\",IF(N2051=\"--\",\"NO\",\"yes\")))","v":""},{"$f":"IF(LEFT(E2051&\"x\",5)<>\"00000\",\"\",IF(N2051=\"--\",\"yes\",\"NO\"))","v":""},{"$f":"IF(Q2051=\"\",\"\",IF((ISERROR(SEARCH(\"(Federal/National)\",E2051))*1+ISERROR(SEARCH(\"(International)\",E2051))*1+ISERROR(SEARCH(\"(Local)\",E2051))*1+ISERROR(SEARCH(\"(State)\",E2051))*1+ISERROR(SEARCH(\"(Regional)\",E2051))*1+ISERROR(SEARCH(\"(Tribal)\",E2051))*1+ISERROR(SEARCH(\"(Unknown) (\",E2051))*1)=6,\"yes\",\"NO\"))","v":""},{"$f":"IF(Q2051=\"\",\"\",IF(OR(NOT(ISERROR(SEARCH(\"(Academic Institution)\",E2051))),NOT(ISERROR(SEARCH(\"(Government)\",E2051))),NOT(ISERROR(SEARCH(\"(Industry/Business)\",E2051))),NOT(ISERROR(SEARCH(\"(NGO)\",E2051))),NOT(ISERROR(SEARCH(\"(Sea Grant Program)\",E2051))),NOT(ISERROR(SEARCH(\"(Other)\",E2051))),NOT(AND(NOT(ISERROR(SEARCH(\"(Unknown)\",E2051))),(ISERROR(SEARCH(\") (Unknown)\",E2051)))))),\"yes\",\"NO\"))","v":""}]
[null,null,null,null,null,null,null,null,null,null,null,null,"",{"$f":"IF($M2052=\"\",\"\",IFERROR(VLOOKUP($M2052,PartnerSearch!B$2:G$16000,6,0),\"--\"))","v":""},null,"","","",""]
[null,null,null,null,null,null,null,null,null,null,null,null,"",{"$f":"IF($M2053=\"\",\"\",IFERROR(VLOOKUP($M2053,PartnerSearch!B$2:G$16000,6,0),\"--\"))","v":""},null,"","","",""]
[null,null,null,null,null,null,null,null,null,null,null,null,"",{"$f":"IF($M2054=\"\",\"\",IFERROR(VLOOKUP($M2054,PartnerSearch!B$2:G$16000,6,0),\"--\"))","v":""},null,"","","",""]
[null,null,null,null,null,null,null,null,null,null,null,null,"",{"$f":"IF($M2055=\"\",\"\",IFERROR(VLOOKUP($M2055,PartnerSearch!B$2:G$16000,6,0),\"--\"))","v":""},null,"","","",""]
[null,null,null,null,null,null,null,null,null,null,null,null,"",{"$f":"IF($M2056=\"\",\"\",IFERROR(VLOOKUP($M2056,PartnerSearch!B$2:G$16000,6,0),\"--\"))","v":""},null,"","","",""]
[null,null,null,null,null,null,null,null,null,null,null,null,"",{"$f":"IF($M2057=\"\",\"\",IFERROR(VLOOKUP($M2057,PartnerSearch!B$2:G$16000,6,0),\"--\"))","v":""},null,"","","",""]
[null,null,null,null,null,null,null,null,null,null,null,null,"",{"$f":"IF($M2058=\"\",\"\",IFERROR(VLOOKUP($M2058,PartnerSearch!B$2:G$16000,6,0),\"--\"))","v":""},null,"","","",""]
[null,null,null,null,null,null,null,null,null,null,null,null,"",{"$f":"IF($M2059=\"\",\"\",IFERROR(VLOOKUP($M2059,PartnerSearch!B$2:G$16000,6,0),\"--\"))","v":""},null,"","","",""]
[null,null,null,null,null,null,null,null,null,null,null,null,"",{"$f":"IF($M2060=\"\",\"\",IFERROR(VLOOKUP($M2060,PartnerSearch!B$2:G$16000,6,0),\"--\"))","v":""},null,"","","",""]
[null,null,null,null,null,null,null,null,null,null,null,null,"",{"$f":"IF($M2061=\"\",\"\",IFERROR(VLOOKUP($M2061,PartnerSearch!B$2:G$16000,6,0),\"--\"))","v":""},null,"","","",""]
[null,null,null,null,null,null,null,null,null,null,null,null,"",{"$f":"IF($M2062=\"\",\"\",IFERROR(VLOOKUP($M2062,PartnerSearch!B$2:G$16000,6,0),\"--\"))","v":""},null,"","","",""]
[null,null,null,null,null,null,null,null,null,null,null,null,"",{"$f":"IF($M2063=\"\",\"\",IFERROR(VLOOKUP($M2063,PartnerSearch!B$2:G$16000,6,0),\"--\"))","v":""},null,"","","",""]
[null,null,null,null,null,null,null,null,null,null,null,null,"",{"$f":"IF($M2064=\"\",\"\",IFERROR(VLOOKUP($M2064,PartnerSearch!B$2:G$16000,6,0),\"--\"))","v":""},null,"","","",""]
[null,null,null,null,null,null,null,null,null,null,null,null,"",{"$f":"IF($M2065=\"\",\"\",IFERROR(VLOOKUP($M2065,PartnerSearch!B$2:G$16000,6,0),\"--\"))","v":""},null,"","","",""]
[null,null,null,null,null,null,null,null,null,null,null,null,"",{"$f":"IF($M2066=\"\",\"\",IFERROR(VLOOKUP($M2066,PartnerSearch!B$2:G$16000,6,0),\"--\"))","v":""},null,"","","",""]
[null,null,null,null,null,null,null,null,null,null,null,null,"",{"$f":"IF($M2067=\"\",\"\",IFERROR(VLOOKUP($M2067,PartnerSearch!B$2:G$16000,6,0),\"--\"))","v":""},null,"","","",""]
[null,null,null,null,null,null,null,null,null,null,null,null,"",{"$f":"IF($M2068=\"\",\"\",IFERROR(VLOOKUP($M2068,PartnerSearch!B$2:G$16000,6,0),\"--\"))","v":""},null,"","","",""]
[null,null,null,null,null,null,null,null,null,null,null,null,"",{"$f":"IF($M2069=\"\",\"\",IFERROR(VLOOKUP($M2069,PartnerSearch!B$2:G$16000,6,0),\"--\"))","v":""},null,"","","",""]
[null,null,null,null,null,null,null,null,null,null,null,null,"",{"$f":"IF($M2070=\"\",\"\",IFERROR(VLOOKUP($M2070,PartnerSearch!B$2:G$16000,6,0),\"--\"))","v":""},null,"","","",""]
[null,null,null,null,null,null,null,null,null,null,null,null,"",{"$f":"IF($M2071=\"\",\"\",IFERROR(VLOOKUP($M2071,PartnerSearch!B$2:G$16000,6,0),\"--\"))","v":""},null,"","","",""]
[null,null,null,null,null,null,null,null,null,null,null,null,"",{"$f":"IF($M2072=\"\",\"\",IFERROR(VLOOKUP($M2072,PartnerSearch!B$2:G$16000,6,0),\"--\"))","v":""},null,"","","",""]
[null,null,null,null,null,null,null,null,null,null,null,null,"",{"$f":"IF($M2073=\"\",\"\",IFERROR(VLOOKUP($M2073,PartnerSearch!B$2:G$16000,6,0),\"--\"))","v":""},null,"","","",""]
[null,null,null,null,null,null,null,null,null,null,null,null,"",{"$f":"IF($M2074=\"\",\"\",IFERROR(VLOOKUP($M2074,PartnerSearch!B$2:G$16000,6,0),\"--\"))","v":""},null,"","","",""]
[null,null,null,null,null,null,null,null,null,null,null,null,"",{"$f":"IF($M2075=\"\",\"\",IFERROR(VLOOKUP($M2075,PartnerSearch!B$2:G$16000,6,0),\"--\"))","v":""},null,"","","",""]
[null,null,null,null,null,null,null,null,null,null,null,null,"",{"$f":"IF($M2076=\"\",\"\",IFERROR(VLOOKUP($M2076,PartnerSearch!B$2:G$16000,6,0),\"--\"))","v":""},null,"","","",""]
[null,null,null,null,null,null,null,null,null,null,null,null,"",{"$f":"IF($M2077=\"\",\"\",IFERROR(VLOOKUP($M2077,PartnerSearch!B$2:G$16000,6,0),\"--\"))","v":""},null,"","","",""]
[null,null,null,null,null,null,null,null,null,null,null,null,"",{"$f":"IF($M2078=\"\",\"\",IFERROR(VLOOKUP($M2078,PartnerSearch!B$2:G$16000,6,0),\"--\"))","v":""},null,"","","",""]
[null,null,null,null,null,null,null,null,null,null,null,null,"",{"$f":"IF($M2079=\"\",\"\",IFERROR(VLOOKUP($M2079,PartnerSearch!B$2:G$16000,6,0),\"--\"))","v":""},null,"","","",""]
[null,null,null,null,null,null,null,null,null,null,null,null,"",{"$f":"IF($M2080=\"\",\"\",IFERROR(VLOOKUP($M2080,PartnerSearch!B$2:G$16000,6,0),\"--\"))","v":""},null,"","","",""]
[null,null,null,null,null,null,null,null,null,null,null,null,"",{"$f":"IF($M2081=\"\",\"\",IFERROR(VLOOKUP($M2081,PartnerSearch!B$2:G$16000,6,0),\"--\"))","v":""},null,"","","",""]
[null,null,null,null,null,null,null,null,null,null,null,null,"",{"$f":"IF($M2082=\"\",\"\",IFERROR(VLOOKUP($M2082,PartnerSearch!B$2:G$16000,6,0),\"--\"))","v":""},null,"","","",""]
[null,null,null,null,null,null,null,null,null,null,null,null,"",{"$f":"IF($M2083=\"\",\"\",IFERROR(VLOOKUP($M2083,PartnerSearch!B$2:G$16000,6,0),\"--\"))","v":""},null,"","","",""]
[null,null,null,null,null,null,null,null,null,null,null,null,"",{"$f":"IF($M2084=\"\",\"\",IFERROR(VLOOKUP($M2084,PartnerSearch!B$2:G$16000,6,0),\"--\"))","v":""},null,"","","",""]
[null,null,null,null,null,null,null,null,null,null,null,null,"",{"$f":"IF($M2085=\"\",\"\",IFERROR(VLOOKUP($M2085,PartnerSearch!B$2:G$16000,6,0),\"--\"))","v":""},null,"","","",""]
[null,null,null,null,null,null,null,null,null,null,null,null,"",{"$f":"IF($M2086=\"\",\"\",IFERROR(VLOOKUP($M2086,PartnerSearch!B$2:G$16000,6,0),\"--\"))","v":""},null,"","","",""]
[null,null,null,null,null,null,null,null,null,null,null,null,"",{"$f":"IF($M2087=\"\",\"\",IFERROR(VLOOKUP($M2087,PartnerSearch!B$2:G$16000,6,0),\"--\"))","v":""},null,"","","",""]
[null,null,null,null,null,null,null,null,null,null,null,null,"",{"$f":"IF($M2088=\"\",\"\",IFERROR(VLOOKUP($M2088,PartnerSearch!B$2:G$16000,6,0),\"--\"))","v":""},null,"","","",""]
[null,null,null,null,null,null,null,null,null,null,null,null,"",{"$f":"IF($M2089=\"\",\"\",IFERROR(VLOOKUP($M2089,PartnerSearch!B$2:G$16000,6,0),\"--\"))","v":""},null,"","","",""]
[null,null,null,null,null,null,null,null,null,null,null,null,"",{"$f":"IF($M2090=\"\",\"\",IFERROR(VLOOKUP($M2090,PartnerSearch!B$2:G$16000,6,0),\"--\"))","v":""},null,"","","",""]
[null,null,null,null,null,null,null,null,null,null,null,null,"",{"$f":"IF($M2091=\"\",\"\",IFERROR(VLOOKUP($M2091,PartnerSearch!B$2:G$16000,6,0),\"--\"))","v":""},null,"","","",""]
[null,null,null,null,null,null,null,null,null,null,null,null,"",{"$f":"IF($M2092=\"\",\"\",IFERROR(VLOOKUP($M2092,PartnerSearch!B$2:G$16000,6,0),\"--\"))","v":""},null,"","","",""]
[null,null,null,null,null,null,null,null,null,null,null,null,"",{"$f":"IF($M2093=\"\",\"\",IFERROR(VLOOKUP($M2093,PartnerSearch!B$2:G$16000,6,0),\"--\"))","v":""},null,"","","",""]
[null,null,null,null,null,null,null,null,null,null,null,null,"",{"$f":"IF($M2094=\"\",\"\",IFERROR(VLOOKUP($M2094,PartnerSearch!B$2:G$16000,6,0),\"--\"))","v":""},null,"","","",""]
[null,null,null,null,null,null,null,null,null,null,null,null,"",{"$f":"IF($M2095=\"\",\"\",IFERROR(VLOOKUP($M2095,PartnerSearch!B$2:G$16000,6,0),\"--\"))","v":""},null,"","","",""]
[null,null,null,null,null,null,null,null,null,null,null,null,"",{"$f":"IF($M2096=\"\",\"\",IFERROR(VLOOKUP($M2096,PartnerSearch!B$2:G$16000,6,0),\"--\"))","v":""},null,"","","",""]
[null,null,null,null,null,null,null,null,null,null,null,null,"",{"$f":"IF($M2097=\"\",\"\",IFERROR(VLOOKUP($M2097,PartnerSearch!B$2:G$16000,6,0),\"--\"))","v":""},null,"","","",""]
[null,null,null,null,null,null,null,null,null,null,null,null,"",{"$f":"IF($M2098=\"\",\"\",IFERROR(VLOOKUP($M2098,PartnerSearch!B$2:G$16000,6,0),\"--\"))","v":""},null,"","","",""]
[null,null,null,null,null,null,null,null,null,null,null,null,"",{"$f":"IF($M2099=\"\",\"\",IFERROR(VLOOKUP($M2099,PartnerSearch!B$2:G$16000,6,0),\"--\"))","v":""},null,"","","",""]
[null,null,null,null,null,null,null,null,null,null,null,null,"",{"$f":"IF($M2100=\"\",\"\",IFERROR(VLOOKUP($M2100,PartnerSearch!B$2:G$16000,6,0),\"--\"))","v":""},null,"","","",""]
[null,null,null,null,null,null,null,null,null,null,null,null,"",{"$f":"IF($M2101=\"\",\"\",IFERROR(VLOOKUP($M2101,PartnerSearch!B$2:G$16000,6,0),\"--\"))","v":""},null,"","","",""]
[null,null,null,null,null,null,null,null,null,null,null,null,"",{"$f":"IF($M2102=\"\",\"\",IFERROR(VLOOKUP($M2102,PartnerSearch!B$2:G$16000,6,0),\"--\"))","v":""},null,"","","",""]
[null,null,null,null,null,null,null,null,null,null,null,null,"",{"$f":"IF($M2103=\"\",\"\",IFERROR(VLOOKUP($M2103,PartnerSearch!B$2:G$16000,6,0),\"--\"))","v":""},null,"","","",""]
[null,null,null,null,null,null,null,null,null,null,null,null,"",{"$f":"IF($M2104=\"\",\"\",IFERROR(VLOOKUP($M2104,PartnerSearch!B$2:G$16000,6,0),\"--\"))","v":""},null,"","","",""]
[null,null,null,null,null,null,null,null,null,null,null,null,"",{"$f":"IF($M2105=\"\",\"\",IFERROR(VLOOKUP($M2105,PartnerSearch!B$2:G$16000,6,0),\"--\"))","v":""},null,"","","",""]
[null,null,null,null,null,null,null,null,null,null,null,null,"",{"$f":"IF($M2106=\"\",\"\",IFERROR(VLOOKUP($M2106,PartnerSearch!B$2:G$16000,6,0),\"--\"))","v":""},null,"","","",""]
[null,null,null,null,null,null,null,null,null,null,null,null,"",{"$f":"IF($M2107=\"\",\"\",IFERROR(VLOOKUP($M2107,PartnerSearch!B$2:G$16000,6,0),\"--\"))","v":""},null,"","","",""]
[null,null,null,null,null,null,null,null,null,null,null,null,"",{"$f":"IF($M2108=\"\",\"\",IFERROR(VLOOKUP($M2108,PartnerSearch!B$2:G$16000,6,0),\"--\"))","v":""},null,"","","",""]
[null,null,null,null,null,null,null,null,null,null,null,null,"",{"$f":"IF($M2109=\"\",\"\",IFERROR(VLOOKUP($M2109,PartnerSearch!B$2:G$16000,6,0),\"--\"))","v":""},null,"","","",""]
[null,null,null,null,null,null,null,null,null,null,null,null,"",{"$f":"IF($M2110=\"\",\"\",IFERROR(VLOOKUP($M2110,PartnerSearch!B$2:G$16000,6,0),\"--\"))","v":""},null,"","","",""]
[null,null,null,null,null,null,null,null,null,null,null,null,"",{"$f":"IF($M2111=\"\",\"\",IFERROR(VLOOKUP($M2111,PartnerSearch!B$2:G$16000,6,0),\"--\"))","v":""},null,"","","",""]
[null,null,null,null,null,null,null,null,null,null,null,null,"",{"$f":"IF($M2112=\"\",\"\",IFERROR(VLOOKUP($M2112,PartnerSearch!B$2:G$16000,6,0),\"--\"))","v":""},null,"","","",""]
[null,null,null,null,null,null,null,null,null,null,null,null,"",{"$f":"IF($M2113=\"\",\"\",IFERROR(VLOOKUP($M2113,PartnerSearch!B$2:G$16000,6,0),\"--\"))","v":""},null,"","","",""]
[null,null,null,null,null,null,null,null,null,null,null,null,"",{"$f":"IF($M2114=\"\",\"\",IFERROR(VLOOKUP($M2114,PartnerSearch!B$2:G$16000,6,0),\"--\"))","v":""},null,"","","",""]
[null,null,null,null,null,null,null,null,null,null,null,null,{"$f":"TRIM(SUBSTITUTE(SUBSTITUTE(SUBSTITUTE(SUBSTITUTE(SUBSTITUTE(SUBSTITUTE(SUBSTITUTE(SUBSTITUTE(SUBSTITUTE(SUBSTITUTE(SUBSTITUTE(SUBSTITUTE(SUBSTITUTE(SUBSTITUTE(E2115,\"00000 \",\"\"),\" (Local)\",\"\"),\" (Tribal)\",\"\"),\" (State)\",\"\"),\" (Regional)\",\"\"),\" (Federal/National)\",\"\"),\" (International)\",\"\"),\" (Unknown)\",\"\"),\" (Academic Institution)\",\"\"),\" (Government)\",\"\"),\" (Industry/Business)\",\"\"),\" (NGO)\",\"\"),\" (Other)\",\"\"),\" (Sea Grant Program)\",\"\"))","v":""},{"$f":"IF($M2115=\"\",\"\",IFERROR(VLOOKUP($M2115,PartnerSearch!B$2:G$16000,6,0),\"--\"))","v":""},null,{"$f":"IF(E2115=\"\",\"\",IF(LEFT(E2115&\"x\",5)=\"00000\",\"\",IF(N2115=\"--\",\"NO\",\"yes\")))","v":""},{"$f":"IF(LEFT(E2115&\"x\",5)<>\"00000\",\"\",IF(N2115=\"--\",\"yes\",\"NO\"))","v":""},{"$f":"IF(Q2115=\"\",\"\",IF((ISERROR(SEARCH(\"(Federal/National)\",E2115))*1+ISERROR(SEARCH(\"(International)\",E2115))*1+ISERROR(SEARCH(\"(Local)\",E2115))*1+ISERROR(SEARCH(\"(State)\",E2115))*1+ISERROR(SEARCH(\"(Regional)\",E2115))*1+ISERROR(SEARCH(\"(Tribal)\",E2115))*1+ISERROR(SEARCH(\"(Unknown) (\",E2115))*1)=6,\"yes\",\"NO\"))","v":""},{"$f":"IF(Q2115=\"\",\"\",IF(OR(NOT(ISERROR(SEARCH(\"(Academic Institution)\",E2115))),NOT(ISERROR(SEARCH(\"(Government)\",E2115))),NOT(ISERROR(SEARCH(\"(Industry/Business)\",E2115))),NOT(ISERROR(SEARCH(\"(NGO)\",E2115))),NOT(ISERROR(SEARCH(\"(Sea Grant Program)\",E2115))),NOT(ISERROR(SEARCH(\"(Other)\",E2115))),NOT(AND(NOT(ISERROR(SEARCH(\"(Unknown)\",E2115))),(ISERROR(SEARCH(\") (Unknown)\",E2115)))))),\"yes\",\"NO\"))","v":""}]
[null,null,null,null,null,null,null,null,null,null,null,null,"",{"$f":"IF($M2116=\"\",\"\",IFERROR(VLOOKUP($M2116,PartnerSearch!B$2:G$16000,6,0),\"--\"))","v":""},null,"","","",""]
[null,null,null,null,null,null,null,null,null,null,null,null,"",{"$f":"IF($M2117=\"\",\"\",IFERROR(VLOOKUP($M2117,PartnerSearch!B$2:G$16000,6,0),\"--\"))","v":""},null,"","","",""]
[null,null,null,null,null,null,null,null,null,null,null,null,"",{"$f":"IF($M2118=\"\",\"\",IFERROR(VLOOKUP($M2118,PartnerSearch!B$2:G$16000,6,0),\"--\"))","v":""},null,"","","",""]
[null,null,null,null,null,null,null,null,null,null,null,null,"",{"$f":"IF($M2119=\"\",\"\",IFERROR(VLOOKUP($M2119,PartnerSearch!B$2:G$16000,6,0),\"--\"))","v":""},null,"","","",""]
[null,null,null,null,null,null,null,null,null,null,null,null,"",{"$f":"IF($M2120=\"\",\"\",IFERROR(VLOOKUP($M2120,PartnerSearch!B$2:G$16000,6,0),\"--\"))","v":""},null,"","","",""]
[null,null,null,null,null,null,null,null,null,null,null,null,"",{"$f":"IF($M2121=\"\",\"\",IFERROR(VLOOKUP($M2121,PartnerSearch!B$2:G$16000,6,0),\"--\"))","v":""},null,"","","",""]
[null,null,null,null,null,null,null,null,null,null,null,null,"",{"$f":"IF($M2122=\"\",\"\",IFERROR(VLOOKUP($M2122,PartnerSearch!B$2:G$16000,6,0),\"--\"))","v":""},null,"","","",""]
[null,null,null,null,null,null,null,null,null,null,null,null,"",{"$f":"IF($M2123=\"\",\"\",IFERROR(VLOOKUP($M2123,PartnerSearch!B$2:G$16000,6,0),\"--\"))","v":""},null,"","","",""]
[null,null,null,null,null,null,null,null,null,null,null,null,"",{"$f":"IF($M2124=\"\",\"\",IFERROR(VLOOKUP($M2124,PartnerSearch!B$2:G$16000,6,0),\"--\"))","v":""},null,"","","",""]
[null,null,null,null,null,null,null,null,null,null,null,null,"",{"$f":"IF($M2125=\"\",\"\",IFERROR(VLOOKUP($M2125,PartnerSearch!B$2:G$16000,6,0),\"--\"))","v":""},null,"","","",""]
[null,null,null,null,null,null,null,null,null,null,null,null,"",{"$f":"IF($M2126=\"\",\"\",IFERROR(VLOOKUP($M2126,PartnerSearch!B$2:G$16000,6,0),\"--\"))","v":""},null,"","","",""]
[null,null,null,null,null,null,null,null,null,null,null,null,"",{"$f":"IF($M2127=\"\",\"\",IFERROR(VLOOKUP($M2127,PartnerSearch!B$2:G$16000,6,0),\"--\"))","v":""},null,"","","",""]
[null,null,null,null,null,null,null,null,null,null,null,null,"",{"$f":"IF($M2128=\"\",\"\",IFERROR(VLOOKUP($M2128,PartnerSearch!B$2:G$16000,6,0),\"--\"))","v":""},null,"","","",""]
[null,null,null,null,null,null,null,null,null,null,null,null,"",{"$f":"IF($M2129=\"\",\"\",IFERROR(VLOOKUP($M2129,PartnerSearch!B$2:G$16000,6,0),\"--\"))","v":""},null,"","","",""]
[null,null,null,null,null,null,null,null,null,null,null,null,"",{"$f":"IF($M2130=\"\",\"\",IFERROR(VLOOKUP($M2130,PartnerSearch!B$2:G$16000,6,0),\"--\"))","v":""},null,"","","",""]
[null,null,null,null,null,null,null,null,null,null,null,null,"",{"$f":"IF($M2131=\"\",\"\",IFERROR(VLOOKUP($M2131,PartnerSearch!B$2:G$16000,6,0),\"--\"))","v":""},null,"","","",""]
[null,null,null,null,null,null,null,null,null,null,null,null,"",{"$f":"IF($M2132=\"\",\"\",IFERROR(VLOOKUP($M2132,PartnerSearch!B$2:G$16000,6,0),\"--\"))","v":""},null,"","","",""]
[null,null,null,null,null,null,null,null,null,null,null,null,"",{"$f":"IF($M2133=\"\",\"\",IFERROR(VLOOKUP($M2133,PartnerSearch!B$2:G$16000,6,0),\"--\"))","v":""},null,"","","",""]
[null,null,null,null,null,null,null,null,null,null,null,null,"",{"$f":"IF($M2134=\"\",\"\",IFERROR(VLOOKUP($M2134,PartnerSearch!B$2:G$16000,6,0),\"--\"))","v":""},null,"","","",""]
[null,null,null,null,null,null,null,null,null,null,null,null,"",{"$f":"IF($M2135=\"\",\"\",IFERROR(VLOOKUP($M2135,PartnerSearch!B$2:G$16000,6,0),\"--\"))","v":""},null,"","","",""]
[null,null,null,null,null,null,null,null,null,null,null,null,"",{"$f":"IF($M2136=\"\",\"\",IFERROR(VLOOKUP($M2136,PartnerSearch!B$2:G$16000,6,0),\"--\"))","v":""},null,"","","",""]
[null,null,null,null,null,null,null,null,null,null,null,null,"",{"$f":"IF($M2137=\"\",\"\",IFERROR(VLOOKUP($M2137,PartnerSearch!B$2:G$16000,6,0),\"--\"))","v":""},null,"","","",""]
[null,null,null,null,null,null,null,null,null,null,null,null,"",{"$f":"IF($M2138=\"\",\"\",IFERROR(VLOOKUP($M2138,PartnerSearch!B$2:G$16000,6,0),\"--\"))","v":""},null,"","","",""]
[null,null,null,null,null,null,null,null,null,null,null,null,"",{"$f":"IF($M2139=\"\",\"\",IFERROR(VLOOKUP($M2139,PartnerSearch!B$2:G$16000,6,0),\"--\"))","v":""},null,"","","",""]
[null,null,null,null,null,null,null,null,null,null,null,null,"",{"$f":"IF($M2140=\"\",\"\",IFERROR(VLOOKUP($M2140,PartnerSearch!B$2:G$16000,6,0),\"--\"))","v":""},null,"","","",""]
[null,null,null,null,null,null,null,null,null,null,null,null,"",{"$f":"IF($M2141=\"\",\"\",IFERROR(VLOOKUP($M2141,PartnerSearch!B$2:G$16000,6,0),\"--\"))","v":""},null,"","","",""]
[null,null,null,null,null,null,null,null,null,null,null,null,"",{"$f":"IF($M2142=\"\",\"\",IFERROR(VLOOKUP($M2142,PartnerSearch!B$2:G$16000,6,0),\"--\"))","v":""},null,"","","",""]
[null,null,null,null,null,null,null,null,null,null,null,null,"",{"$f":"IF($M2143=\"\",\"\",IFERROR(VLOOKUP($M2143,PartnerSearch!B$2:G$16000,6,0),\"--\"))","v":""},null,"","","",""]
[null,null,null,null,null,null,null,null,null,null,null,null,"",{"$f":"IF($M2144=\"\",\"\",IFERROR(VLOOKUP($M2144,PartnerSearch!B$2:G$16000,6,0),\"--\"))","v":""},null,"","","",""]
[null,null,null,null,null,null,null,null,null,null,null,null,"",{"$f":"IF($M2145=\"\",\"\",IFERROR(VLOOKUP($M2145,PartnerSearch!B$2:G$16000,6,0),\"--\"))","v":""},null,"","","",""]
[null,null,null,null,null,null,null,null,null,null,null,null,"",{"$f":"IF($M2146=\"\",\"\",IFERROR(VLOOKUP($M2146,PartnerSearch!B$2:G$16000,6,0),\"--\"))","v":""},null,"","","",""]
[null,null,null,null,null,null,null,null,null,null,null,null,"",{"$f":"IF($M2147=\"\",\"\",IFERROR(VLOOKUP($M2147,PartnerSearch!B$2:G$16000,6,0),\"--\"))","v":""},null,"","","",""]
[null,null,null,null,null,null,null,null,null,null,null,null,"",{"$f":"IF($M2148=\"\",\"\",IFERROR(VLOOKUP($M2148,PartnerSearch!B$2:G$16000,6,0),\"--\"))","v":""},null,"","","",""]
[null,null,null,null,null,null,null,null,null,null,null,null,"",{"$f":"IF($M2149=\"\",\"\",IFERROR(VLOOKUP($M2149,PartnerSearch!B$2:G$16000,6,0),\"--\"))","v":""},null,"","","",""]
[null,null,null,null,null,null,null,null,null,null,null,null,"",{"$f":"IF($M2150=\"\",\"\",IFERROR(VLOOKUP($M2150,PartnerSearch!B$2:G$16000,6,0),\"--\"))","v":""},null,"","","",""]
[null,null,null,null,null,null,null,null,null,null,null,null,"",{"$f":"IF($M2151=\"\",\"\",IFERROR(VLOOKUP($M2151,PartnerSearch!B$2:G$16000,6,0),\"--\"))","v":""},null,"","","",""]
[null,null,null,null,null,null,null,null,null,null,null,null,"",{"$f":"IF($M2152=\"\",\"\",IFERROR(VLOOKUP($M2152,PartnerSearch!B$2:G$16000,6,0),\"--\"))","v":""},null,"","","",""]
[null,null,null,null,null,null,null,null,null,null,null,null,"",{"$f":"IF($M2153=\"\",\"\",IFERROR(VLOOKUP($M2153,PartnerSearch!B$2:G$16000,6,0),\"--\"))","v":""},null,"","","",""]
[null,null,null,null,null,null,null,null,null,null,null,null,"",{"$f":"IF($M2154=\"\",\"\",IFERROR(VLOOKUP($M2154,PartnerSearch!B$2:G$16000,6,0),\"--\"))","v":""},null,"","","",""]
[null,null,null,null,null,null,null,null,null,null,null,null,"",{"$f":"IF($M2155=\"\",\"\",IFERROR(VLOOKUP($M2155,PartnerSearch!B$2:G$16000,6,0),\"--\"))","v":""},null,"","","",""]
[null,null,null,null,null,null,null,null,null,null,null,null,"",{"$f":"IF($M2156=\"\",\"\",IFERROR(VLOOKUP($M2156,PartnerSearch!B$2:G$16000,6,0),\"--\"))","v":""},null,"","","",""]
[null,null,null,null,null,null,null,null,null,null,null,null,"",{"$f":"IF($M2157=\"\",\"\",IFERROR(VLOOKUP($M2157,PartnerSearch!B$2:G$16000,6,0),\"--\"))","v":""},null,"","","",""]
[null,null,null,null,null,null,null,null,null,null,null,null,"",{"$f":"IF($M2158=\"\",\"\",IFERROR(VLOOKUP($M2158,PartnerSearch!B$2:G$16000,6,0),\"--\"))","v":""},null,"","","",""]
[null,null,null,null,null,null,null,null,null,null,null,null,"",{"$f":"IF($M2159=\"\",\"\",IFERROR(VLOOKUP($M2159,PartnerSearch!B$2:G$16000,6,0),\"--\"))","v":""},null,"","","",""]
[null,null,null,null,null,null,null,null,null,null,null,null,"",{"$f":"IF($M2160=\"\",\"\",IFERROR(VLOOKUP($M2160,PartnerSearch!B$2:G$16000,6,0),\"--\"))","v":""},null,"","","",""]
[null,null,null,null,null,null,null,null,null,null,null,null,"",{"$f":"IF($M2161=\"\",\"\",IFERROR(VLOOKUP($M2161,PartnerSearch!B$2:G$16000,6,0),\"--\"))","v":""},null,"","","",""]
[null,null,null,null,null,null,null,null,null,null,null,null,"",{"$f":"IF($M2162=\"\",\"\",IFERROR(VLOOKUP($M2162,PartnerSearch!B$2:G$16000,6,0),\"--\"))","v":""},null,"","","",""]
[null,null,null,null,null,null,null,null,null,null,null,null,"",{"$f":"IF($M2163=\"\",\"\",IFERROR(VLOOKUP($M2163,PartnerSearch!B$2:G$16000,6,0),\"--\"))","v":""},null,"","","",""]
[null,null,null,null,null,null,null,null,null,null,null,null,"",{"$f":"IF($M2164=\"\",\"\",IFERROR(VLOOKUP($M2164,PartnerSearch!B$2:G$16000,6,0),\"--\"))","v":""},null,"","","",""]
[null,null,null,null,null,null,null,null,null,null,null,null,"",{"$f":"IF($M2165=\"\",\"\",IFERROR(VLOOKUP($M2165,PartnerSearch!B$2:G$16000,6,0),\"--\"))","v":""},null,"","","",""]
[null,null,null,null,null,null,null,null,null,null,null,null,"",{"$f":"IF($M2166=\"\",\"\",IFERROR(VLOOKUP($M2166,PartnerSearch!B$2:G$16000,6,0),\"--\"))","v":""},null,"","","",""]
[null,null,null,null,null,null,null,null,null,null,null,null,"",{"$f":"IF($M2167=\"\",\"\",IFERROR(VLOOKUP($M2167,PartnerSearch!B$2:G$16000,6,0),\"--\"))","v":""},null,"","","",""]
[null,null,null,null,null,null,null,null,null,null,null,null,"",{"$f":"IF($M2168=\"\",\"\",IFERROR(VLOOKUP($M2168,PartnerSearch!B$2:G$16000,6,0),\"--\"))","v":""},null,"","","",""]
[null,null,null,null,null,null,null,null,null,null,null,null,"",{"$f":"IF($M2169=\"\",\"\",IFERROR(VLOOKUP($M2169,PartnerSearch!B$2:G$16000,6,0),\"--\"))","v":""},null,"","","",""]
[null,null,null,null,null,null,null,null,null,null,null,null,"",{"$f":"IF($M2170=\"\",\"\",IFERROR(VLOOKUP($M2170,PartnerSearch!B$2:G$16000,6,0),\"--\"))","v":""},null,"","","",""]
[null,null,null,null,null,null,null,null,null,null,null,null,"",{"$f":"IF($M2171=\"\",\"\",IFERROR(VLOOKUP($M2171,PartnerSearch!B$2:G$16000,6,0),\"--\"))","v":""},null,"","","",""]
[null,null,null,null,null,null,null,null,null,null,null,null,"",{"$f":"IF($M2172=\"\",\"\",IFERROR(VLOOKUP($M2172,PartnerSearch!B$2:G$16000,6,0),\"--\"))","v":""},null,"","","",""]
[null,null,null,null,null,null,null,null,null,null,null,null,"",{"$f":"IF($M2173=\"\",\"\",IFERROR(VLOOKUP($M2173,PartnerSearch!B$2:G$16000,6,0),\"--\"))","v":""},null,"","","",""]
[null,null,null,null,null,null,null,null,null,null,null,null,"",{"$f":"IF($M2174=\"\",\"\",IFERROR(VLOOKUP($M2174,PartnerSearch!B$2:G$16000,6,0),\"--\"))","v":""},null,"","","",""]
[null,null,null,null,null,null,null,null,null,null,null,null,"",{"$f":"IF($M2175=\"\",\"\",IFERROR(VLOOKUP($M2175,PartnerSearch!B$2:G$16000,6,0),\"--\"))","v":""},null,"","","",""]
[null,null,null,null,null,null,null,null,null,null,null,null,"",{"$f":"IF($M2176=\"\",\"\",IFERROR(VLOOKUP($M2176,PartnerSearch!B$2:G$16000,6,0),\"--\"))","v":""},null,"","","",""]
[null,null,null,null,null,null,null,null,null,null,null,null,"",{"$f":"IF($M2177=\"\",\"\",IFERROR(VLOOKUP($M2177,PartnerSearch!B$2:G$16000,6,0),\"--\"))","v":""},null,"","","",""]
[null,null,null,null,null,null,null,null,null,null,null,null,"",{"$f":"IF($M2178=\"\",\"\",IFERROR(VLOOKUP($M2178,PartnerSearch!B$2:G$16000,6,0),\"--\"))","v":""},null,"","","",""]
[null,null,null,null,null,null,null,null,null,null,null,null,{"$f":"TRIM(SUBSTITUTE(SUBSTITUTE(SUBSTITUTE(SUBSTITUTE(SUBSTITUTE(SUBSTITUTE(SUBSTITUTE(SUBSTITUTE(SUBSTITUTE(SUBSTITUTE(SUBSTITUTE(SUBSTITUTE(SUBSTITUTE(SUBSTITUTE(E2179,\"00000 \",\"\"),\" (Local)\",\"\"),\" (Tribal)\",\"\"),\" (State)\",\"\"),\" (Regional)\",\"\"),\" (Federal/National)\",\"\"),\" (International)\",\"\"),\" (Unknown)\",\"\"),\" (Academic Institution)\",\"\"),\" (Government)\",\"\"),\" (Industry/Business)\",\"\"),\" (NGO)\",\"\"),\" (Other)\",\"\"),\" (Sea Grant Program)\",\"\"))","v":""},{"$f":"IF($M2179=\"\",\"\",IFERROR(VLOOKUP($M2179,PartnerSearch!B$2:G$16000,6,0),\"--\"))","v":""},null,{"$f":"IF(E2179=\"\",\"\",IF(LEFT(E2179&\"x\",5)=\"00000\",\"\",IF(N2179=\"--\",\"NO\",\"yes\")))","v":""},{"$f":"IF(LEFT(E2179&\"x\",5)<>\"00000\",\"\",IF(N2179=\"--\",\"yes\",\"NO\"))","v":""},{"$f":"IF(Q2179=\"\",\"\",IF((ISERROR(SEARCH(\"(Federal/National)\",E2179))*1+ISERROR(SEARCH(\"(International)\",E2179))*1+ISERROR(SEARCH(\"(Local)\",E2179))*1+ISERROR(SEARCH(\"(State)\",E2179))*1+ISERROR(SEARCH(\"(Regional)\",E2179))*1+ISERROR(SEARCH(\"(Tribal)\",E2179))*1+ISERROR(SEARCH(\"(Unknown) (\",E2179))*1)=6,\"yes\",\"NO\"))","v":""},{"$f":"IF(Q2179=\"\",\"\",IF(OR(NOT(ISERROR(SEARCH(\"(Academic Institution)\",E2179))),NOT(ISERROR(SEARCH(\"(Government)\",E2179))),NOT(ISERROR(SEARCH(\"(Industry/Business)\",E2179))),NOT(ISERROR(SEARCH(\"(NGO)\",E2179))),NOT(ISERROR(SEARCH(\"(Sea Grant Program)\",E2179))),NOT(ISERROR(SEARCH(\"(Other)\",E2179))),NOT(AND(NOT(ISERROR(SEARCH(\"(Unknown)\",E2179))),(ISERROR(SEARCH(\") (Unknown)\",E2179)))))),\"yes\",\"NO\"))","v":""}]
[null,null,null,null,null,null,null,null,null,null,null,null,"",{"$f":"IF($M2180=\"\",\"\",IFERROR(VLOOKUP($M2180,PartnerSearch!B$2:G$16000,6,0),\"--\"))","v":""},null,"","","",""]
[null,null,null,null,null,null,null,null,null,null,null,null,"",{"$f":"IF($M2181=\"\",\"\",IFERROR(VLOOKUP($M2181,PartnerSearch!B$2:G$16000,6,0),\"--\"))","v":""},null,"","","",""]
[null,null,null,null,null,null,null,null,null,null,null,null,"",{"$f":"IF($M2182=\"\",\"\",IFERROR(VLOOKUP($M2182,PartnerSearch!B$2:G$16000,6,0),\"--\"))","v":""},null,"","","",""]
[null,null,null,null,null,null,null,null,null,null,null,null,"",{"$f":"IF($M2183=\"\",\"\",IFERROR(VLOOKUP($M2183,PartnerSearch!B$2:G$16000,6,0),\"--\"))","v":""},null,"","","",""]
[null,null,null,null,null,null,null,null,null,null,null,null,"",{"$f":"IF($M2184=\"\",\"\",IFERROR(VLOOKUP($M2184,PartnerSearch!B$2:G$16000,6,0),\"--\"))","v":""},null,"","","",""]
[null,null,null,null,null,null,null,null,null,null,null,null,"",{"$f":"IF($M2185=\"\",\"\",IFERROR(VLOOKUP($M2185,PartnerSearch!B$2:G$16000,6,0),\"--\"))","v":""},null,"","","",""]
[null,null,null,null,null,null,null,null,null,null,null,null,"",{"$f":"IF($M2186=\"\",\"\",IFERROR(VLOOKUP($M2186,PartnerSearch!B$2:G$16000,6,0),\"--\"))","v":""},null,"","","",""]
[null,null,null,null,null,null,null,null,null,null,null,null,"",{"$f":"IF($M2187=\"\",\"\",IFERROR(VLOOKUP($M2187,PartnerSearch!B$2:G$16000,6,0),\"--\"))","v":""},null,"","","",""]
[null,null,null,null,null,null,null,null,null,null,null,null,"",{"$f":"IF($M2188=\"\",\"\",IFERROR(VLOOKUP($M2188,PartnerSearch!B$2:G$16000,6,0),\"--\"))","v":""},null,"","","",""]
[null,null,null,null,null,null,null,null,null,null,null,null,"",{"$f":"IF($M2189=\"\",\"\",IFERROR(VLOOKUP($M2189,PartnerSearch!B$2:G$16000,6,0),\"--\"))","v":""},null,"","","",""]
[null,null,null,null,null,null,null,null,null,null,null,null,"",{"$f":"IF($M2190=\"\",\"\",IFERROR(VLOOKUP($M2190,PartnerSearch!B$2:G$16000,6,0),\"--\"))","v":""},null,"","","",""]
[null,null,null,null,null,null,null,null,null,null,null,null,"",{"$f":"IF($M2191=\"\",\"\",IFERROR(VLOOKUP($M2191,PartnerSearch!B$2:G$16000,6,0),\"--\"))","v":""},null,"","","",""]
[null,null,null,null,null,null,null,null,null,null,null,null,"",{"$f":"IF($M2192=\"\",\"\",IFERROR(VLOOKUP($M2192,PartnerSearch!B$2:G$16000,6,0),\"--\"))","v":""},null,"","","",""]
[null,null,null,null,null,null,null,null,null,null,null,null,"",{"$f":"IF($M2193=\"\",\"\",IFERROR(VLOOKUP($M2193,PartnerSearch!B$2:G$16000,6,0),\"--\"))","v":""},null,"","","",""]
[null,null,null,null,null,null,null,null,null,null,null,null,"",{"$f":"IF($M2194=\"\",\"\",IFERROR(VLOOKUP($M2194,PartnerSearch!B$2:G$16000,6,0),\"--\"))","v":""},null,"","","",""]
[null,null,null,null,null,null,null,null,null,null,null,null,"",{"$f":"IF($M2195=\"\",\"\",IFERROR(VLOOKUP($M2195,PartnerSearch!B$2:G$16000,6,0),\"--\"))","v":""},null,"","","",""]
[null,null,null,null,null,null,null,null,null,null,null,null,"",{"$f":"IF($M2196=\"\",\"\",IFERROR(VLOOKUP($M2196,PartnerSearch!B$2:G$16000,6,0),\"--\"))","v":""},null,"","","",""]
[null,null,null,null,null,null,null,null,null,null,null,null,"",{"$f":"IF($M2197=\"\",\"\",IFERROR(VLOOKUP($M2197,PartnerSearch!B$2:G$16000,6,0),\"--\"))","v":""},null,"","","",""]
[null,null,null,null,null,null,null,null,null,null,null,null,"",{"$f":"IF($M2198=\"\",\"\",IFERROR(VLOOKUP($M2198,PartnerSearch!B$2:G$16000,6,0),\"--\"))","v":""},null,"","","",""]
[null,null,null,null,null,null,null,null,null,null,null,null,"",{"$f":"IF($M2199=\"\",\"\",IFERROR(VLOOKUP($M2199,PartnerSearch!B$2:G$16000,6,0),\"--\"))","v":""},null,"","","",""]
[null,null,null,null,null,null,null,null,null,null,null,null,"",{"$f":"IF($M2200=\"\",\"\",IFERROR(VLOOKUP($M2200,PartnerSearch!B$2:G$16000,6,0),\"--\"))","v":""},null,"","","",""]
[null,null,null,null,null,null,null,null,null,null,null,null,"",{"$f":"IF($M2201=\"\",\"\",IFERROR(VLOOKUP($M2201,PartnerSearch!B$2:G$16000,6,0),\"--\"))","v":""},null,"","","",""]
[null,null,null,null,null,null,null,null,null,null,null,null,"",{"$f":"IF($M2202=\"\",\"\",IFERROR(VLOOKUP($M2202,PartnerSearch!B$2:G$16000,6,0),\"--\"))","v":""},null,"","","",""]
[null,null,null,null,null,null,null,null,null,null,null,null,"",{"$f":"IF($M2203=\"\",\"\",IFERROR(VLOOKUP($M2203,PartnerSearch!B$2:G$16000,6,0),\"--\"))","v":""},null,"","","",""]
[null,null,null,null,null,null,null,null,null,null,null,null,"",{"$f":"IF($M2204=\"\",\"\",IFERROR(VLOOKUP($M2204,PartnerSearch!B$2:G$16000,6,0),\"--\"))","v":""},null,"","","",""]
[null,null,null,null,null,null,null,null,null,null,null,null,"",{"$f":"IF($M2205=\"\",\"\",IFERROR(VLOOKUP($M2205,PartnerSearch!B$2:G$16000,6,0),\"--\"))","v":""},null,"","","",""]
[null,null,null,null,null,null,null,null,null,null,null,null,"",{"$f":"IF($M2206=\"\",\"\",IFERROR(VLOOKUP($M2206,PartnerSearch!B$2:G$16000,6,0),\"--\"))","v":""},null,"","","",""]
[null,null,null,null,null,null,null,null,null,null,null,null,"",{"$f":"IF($M2207=\"\",\"\",IFERROR(VLOOKUP($M2207,PartnerSearch!B$2:G$16000,6,0),\"--\"))","v":""},null,"","","",""]
[null,null,null,null,null,null,null,null,null,null,null,null,"",{"$f":"IF($M2208=\"\",\"\",IFERROR(VLOOKUP($M2208,PartnerSearch!B$2:G$16000,6,0),\"--\"))","v":""},null,"","","",""]
[null,null,null,null,null,null,null,null,null,null,null,null,"",{"$f":"IF($M2209=\"\",\"\",IFERROR(VLOOKUP($M2209,PartnerSearch!B$2:G$16000,6,0),\"--\"))","v":""},null,"","","",""]
[null,null,null,null,null,null,null,null,null,null,null,null,"",{"$f":"IF($M2210=\"\",\"\",IFERROR(VLOOKUP($M2210,PartnerSearch!B$2:G$16000,6,0),\"--\"))","v":""},null,"","","",""]
[null,null,null,null,null,null,null,null,null,null,null,null,"",{"$f":"IF($M2211=\"\",\"\",IFERROR(VLOOKUP($M2211,PartnerSearch!B$2:G$16000,6,0),\"--\"))","v":""},null,"","","",""]
[null,null,null,null,null,null,null,null,null,null,null,null,"",{"$f":"IF($M2212=\"\",\"\",IFERROR(VLOOKUP($M2212,PartnerSearch!B$2:G$16000,6,0),\"--\"))","v":""},null,"","","",""]
[null,null,null,null,null,null,null,null,null,null,null,null,"",{"$f":"IF($M2213=\"\",\"\",IFERROR(VLOOKUP($M2213,PartnerSearch!B$2:G$16000,6,0),\"--\"))","v":""},null,"","","",""]
[null,null,null,null,null,null,null,null,null,null,null,null,"",{"$f":"IF($M2214=\"\",\"\",IFERROR(VLOOKUP($M2214,PartnerSearch!B$2:G$16000,6,0),\"--\"))","v":""},null,"","","",""]
[null,null,null,null,null,null,null,null,null,null,null,null,"",{"$f":"IF($M2215=\"\",\"\",IFERROR(VLOOKUP($M2215,PartnerSearch!B$2:G$16000,6,0),\"--\"))","v":""},null,"","","",""]
[null,null,null,null,null,null,null,null,null,null,null,null,"",{"$f":"IF($M2216=\"\",\"\",IFERROR(VLOOKUP($M2216,PartnerSearch!B$2:G$16000,6,0),\"--\"))","v":""},null,"","","",""]
[null,null,null,null,null,null,null,null,null,null,null,null,"",{"$f":"IF($M2217=\"\",\"\",IFERROR(VLOOKUP($M2217,PartnerSearch!B$2:G$16000,6,0),\"--\"))","v":""},null,"","","",""]
[null,null,null,null,null,null,null,null,null,null,null,null,"",{"$f":"IF($M2218=\"\",\"\",IFERROR(VLOOKUP($M2218,PartnerSearch!B$2:G$16000,6,0),\"--\"))","v":""},null,"","","",""]
[null,null,null,null,null,null,null,null,null,null,null,null,"",{"$f":"IF($M2219=\"\",\"\",IFERROR(VLOOKUP($M2219,PartnerSearch!B$2:G$16000,6,0),\"--\"))","v":""},null,"","","",""]
[null,null,null,null,null,null,null,null,null,null,null,null,"",{"$f":"IF($M2220=\"\",\"\",IFERROR(VLOOKUP($M2220,PartnerSearch!B$2:G$16000,6,0),\"--\"))","v":""},null,"","","",""]
[null,null,null,null,null,null,null,null,null,null,null,null,"",{"$f":"IF($M2221=\"\",\"\",IFERROR(VLOOKUP($M2221,PartnerSearch!B$2:G$16000,6,0),\"--\"))","v":""},null,"","","",""]
[null,null,null,null,null,null,null,null,null,null,null,null,"",{"$f":"IF($M2222=\"\",\"\",IFERROR(VLOOKUP($M2222,PartnerSearch!B$2:G$16000,6,0),\"--\"))","v":""},null,"","","",""]
[null,null,null,null,null,null,null,null,null,null,null,null,"",{"$f":"IF($M2223=\"\",\"\",IFERROR(VLOOKUP($M2223,PartnerSearch!B$2:G$16000,6,0),\"--\"))","v":""},null,"","","",""]
[null,null,null,null,null,null,null,null,null,null,null,null,"",{"$f":"IF($M2224=\"\",\"\",IFERROR(VLOOKUP($M2224,PartnerSearch!B$2:G$16000,6,0),\"--\"))","v":""},null,"","","",""]
[null,null,null,null,null,null,null,null,null,null,null,null,"",{"$f":"IF($M2225=\"\",\"\",IFERROR(VLOOKUP($M2225,PartnerSearch!B$2:G$16000,6,0),\"--\"))","v":""},null,"","","",""]
[null,null,null,null,null,null,null,null,null,null,null,null,"",{"$f":"IF($M2226=\"\",\"\",IFERROR(VLOOKUP($M2226,PartnerSearch!B$2:G$16000,6,0),\"--\"))","v":""},null,"","","",""]
[null,null,null,null,null,null,null,null,null,null,null,null,"",{"$f":"IF($M2227=\"\",\"\",IFERROR(VLOOKUP($M2227,PartnerSearch!B$2:G$16000,6,0),\"--\"))","v":""},null,"","","",""]
[null,null,null,null,null,null,null,null,null,null,null,null,"",{"$f":"IF($M2228=\"\",\"\",IFERROR(VLOOKUP($M2228,PartnerSearch!B$2:G$16000,6,0),\"--\"))","v":""},null,"","","",""]
[null,null,null,null,null,null,null,null,null,null,null,null,"",{"$f":"IF($M2229=\"\",\"\",IFERROR(VLOOKUP($M2229,PartnerSearch!B$2:G$16000,6,0),\"--\"))","v":""},null,"","","",""]
[null,null,null,null,null,null,null,null,null,null,null,null,"",{"$f":"IF($M2230=\"\",\"\",IFERROR(VLOOKUP($M2230,PartnerSearch!B$2:G$16000,6,0),\"--\"))","v":""},null,"","","",""]
[null,null,null,null,null,null,null,null,null,null,null,null,"",{"$f":"IF($M2231=\"\",\"\",IFERROR(VLOOKUP($M2231,PartnerSearch!B$2:G$16000,6,0),\"--\"))","v":""},null,"","","",""]
[null,null,null,null,null,null,null,null,null,null,null,null,"",{"$f":"IF($M2232=\"\",\"\",IFERROR(VLOOKUP($M2232,PartnerSearch!B$2:G$16000,6,0),\"--\"))","v":""},null,"","","",""]
[null,null,null,null,null,null,null,null,null,null,null,null,"",{"$f":"IF($M2233=\"\",\"\",IFERROR(VLOOKUP($M2233,PartnerSearch!B$2:G$16000,6,0),\"--\"))","v":""},null,"","","",""]
[null,null,null,null,null,null,null,null,null,null,null,null,"",{"$f":"IF($M2234=\"\",\"\",IFERROR(VLOOKUP($M2234,PartnerSearch!B$2:G$16000,6,0),\"--\"))","v":""},null,"","","",""]
[null,null,null,null,null,null,null,null,null,null,null,null,"",{"$f":"IF($M2235=\"\",\"\",IFERROR(VLOOKUP($M2235,PartnerSearch!B$2:G$16000,6,0),\"--\"))","v":""},null,"","","",""]
[null,null,null,null,null,null,null,null,null,null,null,null,"",{"$f":"IF($M2236=\"\",\"\",IFERROR(VLOOKUP($M2236,PartnerSearch!B$2:G$16000,6,0),\"--\"))","v":""},null,"","","",""]
[null,null,null,null,null,null,null,null,null,null,null,null,"",{"$f":"IF($M2237=\"\",\"\",IFERROR(VLOOKUP($M2237,PartnerSearch!B$2:G$16000,6,0),\"--\"))","v":""},null,"","","",""]
[null,null,null,null,null,null,null,null,null,null,null,null,"",{"$f":"IF($M2238=\"\",\"\",IFERROR(VLOOKUP($M2238,PartnerSearch!B$2:G$16000,6,0),\"--\"))","v":""},null,"","","",""]
[null,null,null,null,null,null,null,null,null,null,null,null,"",{"$f":"IF($M2239=\"\",\"\",IFERROR(VLOOKUP($M2239,PartnerSearch!B$2:G$16000,6,0),\"--\"))","v":""},null,"","","",""]
[null,null,null,null,null,null,null,null,null,null,null,null,"",{"$f":"IF($M2240=\"\",\"\",IFERROR(VLOOKUP($M2240,PartnerSearch!B$2:G$16000,6,0),\"--\"))","v":""},null,"","","",""]
[null,null,null,null,null,null,null,null,null,null,null,null,"",{"$f":"IF($M2241=\"\",\"\",IFERROR(VLOOKUP($M2241,PartnerSearch!B$2:G$16000,6,0),\"--\"))","v":""},null,"","","",""]
[null,null,null,null,null,null,null,null,null,null,null,null,"",{"$f":"IF($M2242=\"\",\"\",IFERROR(VLOOKUP($M2242,PartnerSearch!B$2:G$16000,6,0),\"--\"))","v":""},null,"","","",""]
[null,null,null,null,null,null,null,null,null,null,null,null,{"$f":"TRIM(SUBSTITUTE(SUBSTITUTE(SUBSTITUTE(SUBSTITUTE(SUBSTITUTE(SUBSTITUTE(SUBSTITUTE(SUBSTITUTE(SUBSTITUTE(SUBSTITUTE(SUBSTITUTE(SUBSTITUTE(SUBSTITUTE(SUBSTITUTE(E2243,\"00000 \",\"\"),\" (Local)\",\"\"),\" (Tribal)\",\"\"),\" (State)\",\"\"),\" (Regional)\",\"\"),\" (Federal/National)\",\"\"),\" (International)\",\"\"),\" (Unknown)\",\"\"),\" (Academic Institution)\",\"\"),\" (Government)\",\"\"),\" (Industry/Business)\",\"\"),\" (NGO)\",\"\"),\" (Other)\",\"\"),\" (Sea Grant Program)\",\"\"))","v":""},{"$f":"IF($M2243=\"\",\"\",IFERROR(VLOOKUP($M2243,PartnerSearch!B$2:G$16000,6,0),\"--\"))","v":""},null,{"$f":"IF(E2243=\"\",\"\",IF(LEFT(E2243&\"x\",5)=\"00000\",\"\",IF(N2243=\"--\",\"NO\",\"yes\")))","v":""},{"$f":"IF(LEFT(E2243&\"x\",5)<>\"00000\",\"\",IF(N2243=\"--\",\"yes\",\"NO\"))","v":""},{"$f":"IF(Q2243=\"\",\"\",IF((ISERROR(SEARCH(\"(Federal/National)\",E2243))*1+ISERROR(SEARCH(\"(International)\",E2243))*1+ISERROR(SEARCH(\"(Local)\",E2243))*1+ISERROR(SEARCH(\"(State)\",E2243))*1+ISERROR(SEARCH(\"(Regional)\",E2243))*1+ISERROR(SEARCH(\"(Tribal)\",E2243))*1+ISERROR(SEARCH(\"(Unknown) (\",E2243))*1)=6,\"yes\",\"NO\"))","v":""},{"$f":"IF(Q2243=\"\",\"\",IF(OR(NOT(ISERROR(SEARCH(\"(Academic Institution)\",E2243))),NOT(ISERROR(SEARCH(\"(Government)\",E2243))),NOT(ISERROR(SEARCH(\"(Industry/Business)\",E2243))),NOT(ISERROR(SEARCH(\"(NGO)\",E2243))),NOT(ISERROR(SEARCH(\"(Sea Grant Program)\",E2243))),NOT(ISERROR(SEARCH(\"(Other)\",E2243))),NOT(AND(NOT(ISERROR(SEARCH(\"(Unknown)\",E2243))),(ISERROR(SEARCH(\") (Unknown)\",E2243)))))),\"yes\",\"NO\"))","v":""}]
[null,null,null,null,null,null,null,null,null,null,null,null,"",{"$f":"IF($M2244=\"\",\"\",IFERROR(VLOOKUP($M2244,PartnerSearch!B$2:G$16000,6,0),\"--\"))","v":""},null,"","","",""]
[null,null,null,null,null,null,null,null,null,null,null,null,"",{"$f":"IF($M2245=\"\",\"\",IFERROR(VLOOKUP($M2245,PartnerSearch!B$2:G$16000,6,0),\"--\"))","v":""},null,"","","",""]
[null,null,null,null,null,null,null,null,null,null,null,null,"",{"$f":"IF($M2246=\"\",\"\",IFERROR(VLOOKUP($M2246,PartnerSearch!B$2:G$16000,6,0),\"--\"))","v":""},null,"","","",""]
[null,null,null,null,null,null,null,null,null,null,null,null,"",{"$f":"IF($M2247=\"\",\"\",IFERROR(VLOOKUP($M2247,PartnerSearch!B$2:G$16000,6,0),\"--\"))","v":""},null,"","","",""]
[null,null,null,null,null,null,null,null,null,null,null,null,"",{"$f":"IF($M2248=\"\",\"\",IFERROR(VLOOKUP($M2248,PartnerSearch!B$2:G$16000,6,0),\"--\"))","v":""},null,"","","",""]
[null,null,null,null,null,null,null,null,null,null,null,null,"",{"$f":"IF($M2249=\"\",\"\",IFERROR(VLOOKUP($M2249,PartnerSearch!B$2:G$16000,6,0),\"--\"))","v":""},null,"","","",""]
[null,null,null,null,null,null,null,null,null,null,null,null,"",{"$f":"IF($M2250=\"\",\"\",IFERROR(VLOOKUP($M2250,PartnerSearch!B$2:G$16000,6,0),\"--\"))","v":""},null,"","","",""]
[null,null,null,null,null,null,null,null,null,null,null,null,"",{"$f":"IF($M2251=\"\",\"\",IFERROR(VLOOKUP($M2251,PartnerSearch!B$2:G$16000,6,0),\"--\"))","v":""},null,"","","",""]
[null,null,null,null,null,null,null,null,null,null,null,null,"",{"$f":"IF($M2252=\"\",\"\",IFERROR(VLOOKUP($M2252,PartnerSearch!B$2:G$16000,6,0),\"--\"))","v":""},null,"","","",""]
[null,null,null,null,null,null,null,null,null,null,null,null,"",{"$f":"IF($M2253=\"\",\"\",IFERROR(VLOOKUP($M2253,PartnerSearch!B$2:G$16000,6,0),\"--\"))","v":""},null,"","","",""]
[null,null,null,null,null,null,null,null,null,null,null,null,"",{"$f":"IF($M2254=\"\",\"\",IFERROR(VLOOKUP($M2254,PartnerSearch!B$2:G$16000,6,0),\"--\"))","v":""},null,"","","",""]
[null,null,null,null,null,null,null,null,null,null,null,null,"",{"$f":"IF($M2255=\"\",\"\",IFERROR(VLOOKUP($M2255,PartnerSearch!B$2:G$16000,6,0),\"--\"))","v":""},null,"","","",""]
[null,null,null,null,null,null,null,null,null,null,null,null,"",{"$f":"IF($M2256=\"\",\"\",IFERROR(VLOOKUP($M2256,PartnerSearch!B$2:G$16000,6,0),\"--\"))","v":""},null,"","","",""]
[null,null,null,null,null,null,null,null,null,null,null,null,"",{"$f":"IF($M2257=\"\",\"\",IFERROR(VLOOKUP($M2257,PartnerSearch!B$2:G$16000,6,0),\"--\"))","v":""},null,"","","",""]
[null,null,null,null,null,null,null,null,null,null,null,null,"",{"$f":"IF($M2258=\"\",\"\",IFERROR(VLOOKUP($M2258,PartnerSearch!B$2:G$16000,6,0),\"--\"))","v":""},null,"","","",""]
[null,null,null,null,null,null,null,null,null,null,null,null,"",{"$f":"IF($M2259=\"\",\"\",IFERROR(VLOOKUP($M2259,PartnerSearch!B$2:G$16000,6,0),\"--\"))","v":""},null,"","","",""]
[null,null,null,null,null,null,null,null,null,null,null,null,"",{"$f":"IF($M2260=\"\",\"\",IFERROR(VLOOKUP($M2260,PartnerSearch!B$2:G$16000,6,0),\"--\"))","v":""},null,"","","",""]
[null,null,null,null,null,null,null,null,null,null,null,null,"",{"$f":"IF($M2261=\"\",\"\",IFERROR(VLOOKUP($M2261,PartnerSearch!B$2:G$16000,6,0),\"--\"))","v":""},null,"","","",""]
[null,null,null,null,null,null,null,null,null,null,null,null,"",{"$f":"IF($M2262=\"\",\"\",IFERROR(VLOOKUP($M2262,PartnerSearch!B$2:G$16000,6,0),\"--\"))","v":""},null,"","","",""]
[null,null,null,null,null,null,null,null,null,null,null,null,"",{"$f":"IF($M2263=\"\",\"\",IFERROR(VLOOKUP($M2263,PartnerSearch!B$2:G$16000,6,0),\"--\"))","v":""},null,"","","",""]
[null,null,null,null,null,null,null,null,null,null,null,null,"",{"$f":"IF($M2264=\"\",\"\",IFERROR(VLOOKUP($M2264,PartnerSearch!B$2:G$16000,6,0),\"--\"))","v":""},null,"","","",""]
[null,null,null,null,null,null,null,null,null,null,null,null,"",{"$f":"IF($M2265=\"\",\"\",IFERROR(VLOOKUP($M2265,PartnerSearch!B$2:G$16000,6,0),\"--\"))","v":""},null,"","","",""]
[null,null,null,null,null,null,null,null,null,null,null,null,"",{"$f":"IF($M2266=\"\",\"\",IFERROR(VLOOKUP($M2266,PartnerSearch!B$2:G$16000,6,0),\"--\"))","v":""},null,"","","",""]
[null,null,null,null,null,null,null,null,null,null,null,null,"",{"$f":"IF($M2267=\"\",\"\",IFERROR(VLOOKUP($M2267,PartnerSearch!B$2:G$16000,6,0),\"--\"))","v":""},null,"","","",""]
[null,null,null,null,null,null,null,null,null,null,null,null,"",{"$f":"IF($M2268=\"\",\"\",IFERROR(VLOOKUP($M2268,PartnerSearch!B$2:G$16000,6,0),\"--\"))","v":""},null,"","","",""]
[null,null,null,null,null,null,null,null,null,null,null,null,"",{"$f":"IF($M2269=\"\",\"\",IFERROR(VLOOKUP($M2269,PartnerSearch!B$2:G$16000,6,0),\"--\"))","v":""},null,"","","",""]
[null,null,null,null,null,null,null,null,null,null,null,null,"",{"$f":"IF($M2270=\"\",\"\",IFERROR(VLOOKUP($M2270,PartnerSearch!B$2:G$16000,6,0),\"--\"))","v":""},null,"","","",""]
[null,null,null,null,null,null,null,null,null,null,null,null,"",{"$f":"IF($M2271=\"\",\"\",IFERROR(VLOOKUP($M2271,PartnerSearch!B$2:G$16000,6,0),\"--\"))","v":""},null,"","","",""]
[null,null,null,null,null,null,null,null,null,null,null,null,"",{"$f":"IF($M2272=\"\",\"\",IFERROR(VLOOKUP($M2272,PartnerSearch!B$2:G$16000,6,0),\"--\"))","v":""},null,"","","",""]
[null,null,null,null,null,null,null,null,null,null,null,null,"",{"$f":"IF($M2273=\"\",\"\",IFERROR(VLOOKUP($M2273,PartnerSearch!B$2:G$16000,6,0),\"--\"))","v":""},null,"","","",""]
[null,null,null,null,null,null,null,null,null,null,null,null,"",{"$f":"IF($M2274=\"\",\"\",IFERROR(VLOOKUP($M2274,PartnerSearch!B$2:G$16000,6,0),\"--\"))","v":""},null,"","","",""]
[null,null,null,null,null,null,null,null,null,null,null,null,"",{"$f":"IF($M2275=\"\",\"\",IFERROR(VLOOKUP($M2275,PartnerSearch!B$2:G$16000,6,0),\"--\"))","v":""},null,"","","",""]
[null,null,null,null,null,null,null,null,null,null,null,null,"",{"$f":"IF($M2276=\"\",\"\",IFERROR(VLOOKUP($M2276,PartnerSearch!B$2:G$16000,6,0),\"--\"))","v":""},null,"","","",""]
[null,null,null,null,null,null,null,null,null,null,null,null,"",{"$f":"IF($M2277=\"\",\"\",IFERROR(VLOOKUP($M2277,PartnerSearch!B$2:G$16000,6,0),\"--\"))","v":""},null,"","","",""]
[null,null,null,null,null,null,null,null,null,null,null,null,"",{"$f":"IF($M2278=\"\",\"\",IFERROR(VLOOKUP($M2278,PartnerSearch!B$2:G$16000,6,0),\"--\"))","v":""},null,"","","",""]
[null,null,null,null,null,null,null,null,null,null,null,null,"",{"$f":"IF($M2279=\"\",\"\",IFERROR(VLOOKUP($M2279,PartnerSearch!B$2:G$16000,6,0),\"--\"))","v":""},null,"","","",""]
[null,null,null,null,null,null,null,null,null,null,null,null,"",{"$f":"IF($M2280=\"\",\"\",IFERROR(VLOOKUP($M2280,PartnerSearch!B$2:G$16000,6,0),\"--\"))","v":""},null,"","","",""]
[null,null,null,null,null,null,null,null,null,null,null,null,"",{"$f":"IF($M2281=\"\",\"\",IFERROR(VLOOKUP($M2281,PartnerSearch!B$2:G$16000,6,0),\"--\"))","v":""},null,"","","",""]
[null,null,null,null,null,null,null,null,null,null,null,null,"",{"$f":"IF($M2282=\"\",\"\",IFERROR(VLOOKUP($M2282,PartnerSearch!B$2:G$16000,6,0),\"--\"))","v":""},null,"","","",""]
[null,null,null,null,null,null,null,null,null,null,null,null,"",{"$f":"IF($M2283=\"\",\"\",IFERROR(VLOOKUP($M2283,PartnerSearch!B$2:G$16000,6,0),\"--\"))","v":""},null,"","","",""]
[null,null,null,null,null,null,null,null,null,null,null,null,"",{"$f":"IF($M2284=\"\",\"\",IFERROR(VLOOKUP($M2284,PartnerSearch!B$2:G$16000,6,0),\"--\"))","v":""},null,"","","",""]
[null,null,null,null,null,null,null,null,null,null,null,null,"",{"$f":"IF($M2285=\"\",\"\",IFERROR(VLOOKUP($M2285,PartnerSearch!B$2:G$16000,6,0),\"--\"))","v":""},null,"","","",""]
[null,null,null,null,null,null,null,null,null,null,null,null,"",{"$f":"IF($M2286=\"\",\"\",IFERROR(VLOOKUP($M2286,PartnerSearch!B$2:G$16000,6,0),\"--\"))","v":""},null,"","","",""]
[null,null,null,null,null,null,null,null,null,null,null,null,"",{"$f":"IF($M2287=\"\",\"\",IFERROR(VLOOKUP($M2287,PartnerSearch!B$2:G$16000,6,0),\"--\"))","v":""},null,"","","",""]
[null,null,null,null,null,null,null,null,null,null,null,null,"",{"$f":"IF($M2288=\"\",\"\",IFERROR(VLOOKUP($M2288,PartnerSearch!B$2:G$16000,6,0),\"--\"))","v":""},null,"","","",""]
[null,null,null,null,null,null,null,null,null,null,null,null,"",{"$f":"IF($M2289=\"\",\"\",IFERROR(VLOOKUP($M2289,PartnerSearch!B$2:G$16000,6,0),\"--\"))","v":""},null,"","","",""]
[null,null,null,null,null,null,null,null,null,null,null,null,"",{"$f":"IF($M2290=\"\",\"\",IFERROR(VLOOKUP($M2290,PartnerSearch!B$2:G$16000,6,0),\"--\"))","v":""},null,"","","",""]
[null,null,null,null,null,null,null,null,null,null,null,null,"",{"$f":"IF($M2291=\"\",\"\",IFERROR(VLOOKUP($M2291,PartnerSearch!B$2:G$16000,6,0),\"--\"))","v":""},null,"","","",""]
[null,null,null,null,null,null,null,null,null,null,null,null,"",{"$f":"IF($M2292=\"\",\"\",IFERROR(VLOOKUP($M2292,PartnerSearch!B$2:G$16000,6,0),\"--\"))","v":""},null,"","","",""]
[null,null,null,null,null,null,null,null,null,null,null,null,"",{"$f":"IF($M2293=\"\",\"\",IFERROR(VLOOKUP($M2293,PartnerSearch!B$2:G$16000,6,0),\"--\"))","v":""},null,"","","",""]
[null,null,null,null,null,null,null,null,null,null,null,null,"",{"$f":"IF($M2294=\"\",\"\",IFERROR(VLOOKUP($M2294,PartnerSearch!B$2:G$16000,6,0),\"--\"))","v":""},null,"","","",""]
[null,null,null,null,null,null,null,null,null,null,null,null,"",{"$f":"IF($M2295=\"\",\"\",IFERROR(VLOOKUP($M2295,PartnerSearch!B$2:G$16000,6,0),\"--\"))","v":""},null,"","","",""]
[null,null,null,null,null,null,null,null,null,null,null,null,"",{"$f":"IF($M2296=\"\",\"\",IFERROR(VLOOKUP($M2296,PartnerSearch!B$2:G$16000,6,0),\"--\"))","v":""},null,"","","",""]
[null,null,null,null,null,null,null,null,null,null,null,null,"",{"$f":"IF($M2297=\"\",\"\",IFERROR(VLOOKUP($M2297,PartnerSearch!B$2:G$16000,6,0),\"--\"))","v":""},null,"","","",""]
[null,null,null,null,null,null,null,null,null,null,null,null,"",{"$f":"IF($M2298=\"\",\"\",IFERROR(VLOOKUP($M2298,PartnerSearch!B$2:G$16000,6,0),\"--\"))","v":""},null,"","","",""]
[null,null,null,null,null,null,null,null,null,null,null,null,"",{"$f":"IF($M2299=\"\",\"\",IFERROR(VLOOKUP($M2299,PartnerSearch!B$2:G$16000,6,0),\"--\"))","v":""},null,"","","",""]
[null,null,null,null,null,null,null,null,null,null,null,null,"",{"$f":"IF($M2300=\"\",\"\",IFERROR(VLOOKUP($M2300,PartnerSearch!B$2:G$16000,6,0),\"--\"))","v":""},null,"","","",""]
[null,null,null,null,null,null,null,null,null,null,null,null,"",{"$f":"IF($M2301=\"\",\"\",IFERROR(VLOOKUP($M2301,PartnerSearch!B$2:G$16000,6,0),\"--\"))","v":""},null,"","","",""]
[null,null,null,null,null,null,null,null,null,null,null,null,"",{"$f":"IF($M2302=\"\",\"\",IFERROR(VLOOKUP($M2302,PartnerSearch!B$2:G$16000,6,0),\"--\"))","v":""},null,"","","",""]
[null,null,null,null,null,null,null,null,null,null,null,null,"",{"$f":"IF($M2303=\"\",\"\",IFERROR(VLOOKUP($M2303,PartnerSearch!B$2:G$16000,6,0),\"--\"))","v":""},null,"","","",""]
[null,null,null,null,null,null,null,null,null,null,null,null,"",{"$f":"IF($M2304=\"\",\"\",IFERROR(VLOOKUP($M2304,PartnerSearch!B$2:G$16000,6,0),\"--\"))","v":""},null,"","","",""]
[null,null,null,null,null,null,null,null,null,null,null,null,"",{"$f":"IF($M2305=\"\",\"\",IFERROR(VLOOKUP($M2305,PartnerSearch!B$2:G$16000,6,0),\"--\"))","v":""},null,"","","",""]
[null,null,null,null,null,null,null,null,null,null,null,null,"",{"$f":"IF($M2306=\"\",\"\",IFERROR(VLOOKUP($M2306,PartnerSearch!B$2:G$16000,6,0),\"--\"))","v":""},null,"","","",""]
[null,null,null,null,null,null,null,null,null,null,null,null,{"$f":"TRIM(SUBSTITUTE(SUBSTITUTE(SUBSTITUTE(SUBSTITUTE(SUBSTITUTE(SUBSTITUTE(SUBSTITUTE(SUBSTITUTE(SUBSTITUTE(SUBSTITUTE(SUBSTITUTE(SUBSTITUTE(SUBSTITUTE(SUBSTITUTE(E2307,\"00000 \",\"\"),\" (Local)\",\"\"),\" (Tribal)\",\"\"),\" (State)\",\"\"),\" (Regional)\",\"\"),\" (Federal/National)\",\"\"),\" (International)\",\"\"),\" (Unknown)\",\"\"),\" (Academic Institution)\",\"\"),\" (Government)\",\"\"),\" (Industry/Business)\",\"\"),\" (NGO)\",\"\"),\" (Other)\",\"\"),\" (Sea Grant Program)\",\"\"))","v":""},{"$f":"IF($M2307=\"\",\"\",IFERROR(VLOOKUP($M2307,PartnerSearch!B$2:G$16000,6,0),\"--\"))","v":""},null,{"$f":"IF(E2307=\"\",\"\",IF(LEFT(E2307&\"x\",5)=\"00000\",\"\",IF(N2307=\"--\",\"NO\",\"yes\")))","v":""},{"$f":"IF(LEFT(E2307&\"x\",5)<>\"00000\",\"\",IF(N2307=\"--\",\"yes\",\"NO\"))","v":""},{"$f":"IF(Q2307=\"\",\"\",IF((ISERROR(SEARCH(\"(Federal/National)\",E2307))*1+ISERROR(SEARCH(\"(International)\",E2307))*1+ISERROR(SEARCH(\"(Local)\",E2307))*1+ISERROR(SEARCH(\"(State)\",E2307))*1+ISERROR(SEARCH(\"(Regional)\",E2307))*1+ISERROR(SEARCH(\"(Tribal)\",E2307))*1+ISERROR(SEARCH(\"(Unknown) (\",E2307))*1)=6,\"yes\",\"NO\"))","v":""},{"$f":"IF(Q2307=\"\",\"\",IF(OR(NOT(ISERROR(SEARCH(\"(Academic Institution)\",E2307))),NOT(ISERROR(SEARCH(\"(Government)\",E2307))),NOT(ISERROR(SEARCH(\"(Industry/Business)\",E2307))),NOT(ISERROR(SEARCH(\"(NGO)\",E2307))),NOT(ISERROR(SEARCH(\"(Sea Grant Program)\",E2307))),NOT(ISERROR(SEARCH(\"(Other)\",E2307))),NOT(AND(NOT(ISERROR(SEARCH(\"(Unknown)\",E2307))),(ISERROR(SEARCH(\") (Unknown)\",E2307)))))),\"yes\",\"NO\"))","v":""}]
[null,null,null,null,null,null,null,null,null,null,null,null,"",{"$f":"IF($M2308=\"\",\"\",IFERROR(VLOOKUP($M2308,PartnerSearch!B$2:G$16000,6,0),\"--\"))","v":""},null,"","","",""]
[null,null,null,null,null,null,null,null,null,null,null,null,"",{"$f":"IF($M2309=\"\",\"\",IFERROR(VLOOKUP($M2309,PartnerSearch!B$2:G$16000,6,0),\"--\"))","v":""},null,"","","",""]
[null,null,null,null,null,null,null,null,null,null,null,null,"",{"$f":"IF($M2310=\"\",\"\",IFERROR(VLOOKUP($M2310,PartnerSearch!B$2:G$16000,6,0),\"--\"))","v":""},null,"","","",""]
[null,null,null,null,null,null,null,null,null,null,null,null,"",{"$f":"IF($M2311=\"\",\"\",IFERROR(VLOOKUP($M2311,PartnerSearch!B$2:G$16000,6,0),\"--\"))","v":""},null,"","","",""]
[null,null,null,null,null,null,null,null,null,null,null,null,"",{"$f":"IF($M2312=\"\",\"\",IFERROR(VLOOKUP($M2312,PartnerSearch!B$2:G$16000,6,0),\"--\"))","v":""},null,"","","",""]
[null,null,null,null,null,null,null,null,null,null,null,null,"",{"$f":"IF($M2313=\"\",\"\",IFERROR(VLOOKUP($M2313,PartnerSearch!B$2:G$16000,6,0),\"--\"))","v":""},null,"","","",""]
[null,null,null,null,null,null,null,null,null,null,null,null,"",{"$f":"IF($M2314=\"\",\"\",IFERROR(VLOOKUP($M2314,PartnerSearch!B$2:G$16000,6,0),\"--\"))","v":""},null,"","","",""]
[null,null,null,null,null,null,null,null,null,null,null,null,"",{"$f":"IF($M2315=\"\",\"\",IFERROR(VLOOKUP($M2315,PartnerSearch!B$2:G$16000,6,0),\"--\"))","v":""},null,"","","",""]
[null,null,null,null,null,null,null,null,null,null,null,null,"",{"$f":"IF($M2316=\"\",\"\",IFERROR(VLOOKUP($M2316,PartnerSearch!B$2:G$16000,6,0),\"--\"))","v":""},null,"","","",""]
[null,null,null,null,null,null,null,null,null,null,null,null,"",{"$f":"IF($M2317=\"\",\"\",IFERROR(VLOOKUP($M2317,PartnerSearch!B$2:G$16000,6,0),\"--\"))","v":""},null,"","","",""]
[null,null,null,null,null,null,null,null,null,null,null,null,"",{"$f":"IF($M2318=\"\",\"\",IFERROR(VLOOKUP($M2318,PartnerSearch!B$2:G$16000,6,0),\"--\"))","v":""},null,"","","",""]
[null,null,null,null,null,null,null,null,null,null,null,null,"",{"$f":"IF($M2319=\"\",\"\",IFERROR(VLOOKUP($M2319,PartnerSearch!B$2:G$16000,6,0),\"--\"))","v":""},null,"","","",""]
[null,null,null,null,null,null,null,null,null,null,null,null,"",{"$f":"IF($M2320=\"\",\"\",IFERROR(VLOOKUP($M2320,PartnerSearch!B$2:G$16000,6,0),\"--\"))","v":""},null,"","","",""]
[null,null,null,null,null,null,null,null,null,null,null,null,"",{"$f":"IF($M2321=\"\",\"\",IFERROR(VLOOKUP($M2321,PartnerSearch!B$2:G$16000,6,0),\"--\"))","v":""},null,"","","",""]
[null,null,null,null,null,null,null,null,null,null,null,null,"",{"$f":"IF($M2322=\"\",\"\",IFERROR(VLOOKUP($M2322,PartnerSearch!B$2:G$16000,6,0),\"--\"))","v":""},null,"","","",""]
[null,null,null,null,null,null,null,null,null,null,null,null,"",{"$f":"IF($M2323=\"\",\"\",IFERROR(VLOOKUP($M2323,PartnerSearch!B$2:G$16000,6,0),\"--\"))","v":""},null,"","","",""]
[null,null,null,null,null,null,null,null,null,null,null,null,"",{"$f":"IF($M2324=\"\",\"\",IFERROR(VLOOKUP($M2324,PartnerSearch!B$2:G$16000,6,0),\"--\"))","v":""},null,"","","",""]
[null,null,null,null,null,null,null,null,null,null,null,null,"",{"$f":"IF($M2325=\"\",\"\",IFERROR(VLOOKUP($M2325,PartnerSearch!B$2:G$16000,6,0),\"--\"))","v":""},null,"","","",""]
[null,null,null,null,null,null,null,null,null,null,null,null,"",{"$f":"IF($M2326=\"\",\"\",IFERROR(VLOOKUP($M2326,PartnerSearch!B$2:G$16000,6,0),\"--\"))","v":""},null,"","","",""]
[null,null,null,null,null,null,null,null,null,null,null,null,"",{"$f":"IF($M2327=\"\",\"\",IFERROR(VLOOKUP($M2327,PartnerSearch!B$2:G$16000,6,0),\"--\"))","v":""},null,"","","",""]
[null,null,null,null,null,null,null,null,null,null,null,null,"",{"$f":"IF($M2328=\"\",\"\",IFERROR(VLOOKUP($M2328,PartnerSearch!B$2:G$16000,6,0),\"--\"))","v":""},null,"","","",""]
[null,null,null,null,null,null,null,null,null,null,null,null,"",{"$f":"IF($M2329=\"\",\"\",IFERROR(VLOOKUP($M2329,PartnerSearch!B$2:G$16000,6,0),\"--\"))","v":""},null,"","","",""]
[null,null,null,null,null,null,null,null,null,null,null,null,"",{"$f":"IF($M2330=\"\",\"\",IFERROR(VLOOKUP($M2330,PartnerSearch!B$2:G$16000,6,0),\"--\"))","v":""},null,"","","",""]
[null,null,null,null,null,null,null,null,null,null,null,null,"",{"$f":"IF($M2331=\"\",\"\",IFERROR(VLOOKUP($M2331,PartnerSearch!B$2:G$16000,6,0),\"--\"))","v":""},null,"","","",""]
[null,null,null,null,null,null,null,null,null,null,null,null,"",{"$f":"IF($M2332=\"\",\"\",IFERROR(VLOOKUP($M2332,PartnerSearch!B$2:G$16000,6,0),\"--\"))","v":""},null,"","","",""]
[null,null,null,null,null,null,null,null,null,null,null,null,"",{"$f":"IF($M2333=\"\",\"\",IFERROR(VLOOKUP($M2333,PartnerSearch!B$2:G$16000,6,0),\"--\"))","v":""},null,"","","",""]
[null,null,null,null,null,null,null,null,null,null,null,null,"",{"$f":"IF($M2334=\"\",\"\",IFERROR(VLOOKUP($M2334,PartnerSearch!B$2:G$16000,6,0),\"--\"))","v":""},null,"","","",""]
[null,null,null,null,null,null,null,null,null,null,null,null,"",{"$f":"IF($M2335=\"\",\"\",IFERROR(VLOOKUP($M2335,PartnerSearch!B$2:G$16000,6,0),\"--\"))","v":""},null,"","","",""]
[null,null,null,null,null,null,null,null,null,null,null,null,"",{"$f":"IF($M2336=\"\",\"\",IFERROR(VLOOKUP($M2336,PartnerSearch!B$2:G$16000,6,0),\"--\"))","v":""},null,"","","",""]
[null,null,null,null,null,null,null,null,null,null,null,null,"",{"$f":"IF($M2337=\"\",\"\",IFERROR(VLOOKUP($M2337,PartnerSearch!B$2:G$16000,6,0),\"--\"))","v":""},null,"","","",""]
[null,null,null,null,null,null,null,null,null,null,null,null,"",{"$f":"IF($M2338=\"\",\"\",IFERROR(VLOOKUP($M2338,PartnerSearch!B$2:G$16000,6,0),\"--\"))","v":""},null,"","","",""]
[null,null,null,null,null,null,null,null,null,null,null,null,"",{"$f":"IF($M2339=\"\",\"\",IFERROR(VLOOKUP($M2339,PartnerSearch!B$2:G$16000,6,0),\"--\"))","v":""},null,"","","",""]
[null,null,null,null,null,null,null,null,null,null,null,null,"",{"$f":"IF($M2340=\"\",\"\",IFERROR(VLOOKUP($M2340,PartnerSearch!B$2:G$16000,6,0),\"--\"))","v":""},null,"","","",""]
[null,null,null,null,null,null,null,null,null,null,null,null,"",{"$f":"IF($M2341=\"\",\"\",IFERROR(VLOOKUP($M2341,PartnerSearch!B$2:G$16000,6,0),\"--\"))","v":""},null,"","","",""]
[null,null,null,null,null,null,null,null,null,null,null,null,"",{"$f":"IF($M2342=\"\",\"\",IFERROR(VLOOKUP($M2342,PartnerSearch!B$2:G$16000,6,0),\"--\"))","v":""},null,"","","",""]
[null,null,null,null,null,null,null,null,null,null,null,null,"",{"$f":"IF($M2343=\"\",\"\",IFERROR(VLOOKUP($M2343,PartnerSearch!B$2:G$16000,6,0),\"--\"))","v":""},null,"","","",""]
[null,null,null,null,null,null,null,null,null,null,null,null,"",{"$f":"IF($M2344=\"\",\"\",IFERROR(VLOOKUP($M2344,PartnerSearch!B$2:G$16000,6,0),\"--\"))","v":""},null,"","","",""]
[null,null,null,null,null,null,null,null,null,null,null,null,"",{"$f":"IF($M2345=\"\",\"\",IFERROR(VLOOKUP($M2345,PartnerSearch!B$2:G$16000,6,0),\"--\"))","v":""},null,"","","",""]
[null,null,null,null,null,null,null,null,null,null,null,null,"",{"$f":"IF($M2346=\"\",\"\",IFERROR(VLOOKUP($M2346,PartnerSearch!B$2:G$16000,6,0),\"--\"))","v":""},null,"","","",""]
[null,null,null,null,null,null,null,null,null,null,null,null,"",{"$f":"IF($M2347=\"\",\"\",IFERROR(VLOOKUP($M2347,PartnerSearch!B$2:G$16000,6,0),\"--\"))","v":""},null,"","","",""]
[null,null,null,null,null,null,null,null,null,null,null,null,"",{"$f":"IF($M2348=\"\",\"\",IFERROR(VLOOKUP($M2348,PartnerSearch!B$2:G$16000,6,0),\"--\"))","v":""},null,"","","",""]
[null,null,null,null,null,null,null,null,null,null,null,null,"",{"$f":"IF($M2349=\"\",\"\",IFERROR(VLOOKUP($M2349,PartnerSearch!B$2:G$16000,6,0),\"--\"))","v":""},null,"","","",""]
[null,null,null,null,null,null,null,null,null,null,null,null,"",{"$f":"IF($M2350=\"\",\"\",IFERROR(VLOOKUP($M2350,PartnerSearch!B$2:G$16000,6,0),\"--\"))","v":""},null,"","","",""]
[null,null,null,null,null,null,null,null,null,null,null,null,"",{"$f":"IF($M2351=\"\",\"\",IFERROR(VLOOKUP($M2351,PartnerSearch!B$2:G$16000,6,0),\"--\"))","v":""},null,"","","",""]
[null,null,null,null,null,null,null,null,null,null,null,null,"",{"$f":"IF($M2352=\"\",\"\",IFERROR(VLOOKUP($M2352,PartnerSearch!B$2:G$16000,6,0),\"--\"))","v":""},null,"","","",""]
[null,null,null,null,null,null,null,null,null,null,null,null,"",{"$f":"IF($M2353=\"\",\"\",IFERROR(VLOOKUP($M2353,PartnerSearch!B$2:G$16000,6,0),\"--\"))","v":""},null,"","","",""]
[null,null,null,null,null,null,null,null,null,null,null,null,"",{"$f":"IF($M2354=\"\",\"\",IFERROR(VLOOKUP($M2354,PartnerSearch!B$2:G$16000,6,0),\"--\"))","v":""},null,"","","",""]
[null,null,null,null,null,null,null,null,null,null,null,null,"",{"$f":"IF($M2355=\"\",\"\",IFERROR(VLOOKUP($M2355,PartnerSearch!B$2:G$16000,6,0),\"--\"))","v":""},null,"","","",""]
[null,null,null,null,null,null,null,null,null,null,null,null,"",{"$f":"IF($M2356=\"\",\"\",IFERROR(VLOOKUP($M2356,PartnerSearch!B$2:G$16000,6,0),\"--\"))","v":""},null,"","","",""]
[null,null,null,null,null,null,null,null,null,null,null,null,"",{"$f":"IF($M2357=\"\",\"\",IFERROR(VLOOKUP($M2357,PartnerSearch!B$2:G$16000,6,0),\"--\"))","v":""},null,"","","",""]
[null,null,null,null,null,null,null,null,null,null,null,null,"",{"$f":"IF($M2358=\"\",\"\",IFERROR(VLOOKUP($M2358,PartnerSearch!B$2:G$16000,6,0),\"--\"))","v":""},null,"","","",""]
[null,null,null,null,null,null,null,null,null,null,null,null,"",{"$f":"IF($M2359=\"\",\"\",IFERROR(VLOOKUP($M2359,PartnerSearch!B$2:G$16000,6,0),\"--\"))","v":""},null,"","","",""]
[null,null,null,null,null,null,null,null,null,null,null,null,"",{"$f":"IF($M2360=\"\",\"\",IFERROR(VLOOKUP($M2360,PartnerSearch!B$2:G$16000,6,0),\"--\"))","v":""},null,"","","",""]
[null,null,null,null,null,null,null,null,null,null,null,null,"",{"$f":"IF($M2361=\"\",\"\",IFERROR(VLOOKUP($M2361,PartnerSearch!B$2:G$16000,6,0),\"--\"))","v":""},null,"","","",""]
[null,null,null,null,null,null,null,null,null,null,null,null,"",{"$f":"IF($M2362=\"\",\"\",IFERROR(VLOOKUP($M2362,PartnerSearch!B$2:G$16000,6,0),\"--\"))","v":""},null,"","","",""]
[null,null,null,null,null,null,null,null,null,null,null,null,"",{"$f":"IF($M2363=\"\",\"\",IFERROR(VLOOKUP($M2363,PartnerSearch!B$2:G$16000,6,0),\"--\"))","v":""},null,"","","",""]
[null,null,null,null,null,null,null,null,null,null,null,null,"",{"$f":"IF($M2364=\"\",\"\",IFERROR(VLOOKUP($M2364,PartnerSearch!B$2:G$16000,6,0),\"--\"))","v":""},null,"","","",""]
[null,null,null,null,null,null,null,null,null,null,null,null,"",{"$f":"IF($M2365=\"\",\"\",IFERROR(VLOOKUP($M2365,PartnerSearch!B$2:G$16000,6,0),\"--\"))","v":""},null,"","","",""]
[null,null,null,null,null,null,null,null,null,null,null,null,"",{"$f":"IF($M2366=\"\",\"\",IFERROR(VLOOKUP($M2366,PartnerSearch!B$2:G$16000,6,0),\"--\"))","v":""},null,"","","",""]
[null,null,null,null,null,null,null,null,null,null,null,null,"",{"$f":"IF($M2367=\"\",\"\",IFERROR(VLOOKUP($M2367,PartnerSearch!B$2:G$16000,6,0),\"--\"))","v":""},null,"","","",""]
[null,null,null,null,null,null,null,null,null,null,null,null,"",{"$f":"IF($M2368=\"\",\"\",IFERROR(VLOOKUP($M2368,PartnerSearch!B$2:G$16000,6,0),\"--\"))","v":""},null,"","","",""]
[null,null,null,null,null,null,null,null,null,null,null,null,"",{"$f":"IF($M2369=\"\",\"\",IFERROR(VLOOKUP($M2369,PartnerSearch!B$2:G$16000,6,0),\"--\"))","v":""},null,"","","",""]
[null,null,null,null,null,null,null,null,null,null,null,null,"",{"$f":"IF($M2370=\"\",\"\",IFERROR(VLOOKUP($M2370,PartnerSearch!B$2:G$16000,6,0),\"--\"))","v":""},null,"","","",""]
[null,null,null,null,null,null,null,null,null,null,null,null,{"$f":"TRIM(SUBSTITUTE(SUBSTITUTE(SUBSTITUTE(SUBSTITUTE(SUBSTITUTE(SUBSTITUTE(SUBSTITUTE(SUBSTITUTE(SUBSTITUTE(SUBSTITUTE(SUBSTITUTE(SUBSTITUTE(SUBSTITUTE(SUBSTITUTE(E2371,\"00000 \",\"\"),\" (Local)\",\"\"),\" (Tribal)\",\"\"),\" (State)\",\"\"),\" (Regional)\",\"\"),\" (Federal/National)\",\"\"),\" (International)\",\"\"),\" (Unknown)\",\"\"),\" (Academic Institution)\",\"\"),\" (Government)\",\"\"),\" (Industry/Business)\",\"\"),\" (NGO)\",\"\"),\" (Other)\",\"\"),\" (Sea Grant Program)\",\"\"))","v":""},{"$f":"IF($M2371=\"\",\"\",IFERROR(VLOOKUP($M2371,PartnerSearch!B$2:G$16000,6,0),\"--\"))","v":""},null,{"$f":"IF(E2371=\"\",\"\",IF(LEFT(E2371&\"x\",5)=\"00000\",\"\",IF(N2371=\"--\",\"NO\",\"yes\")))","v":""},{"$f":"IF(LEFT(E2371&\"x\",5)<>\"00000\",\"\",IF(N2371=\"--\",\"yes\",\"NO\"))","v":""},{"$f":"IF(Q2371=\"\",\"\",IF((ISERROR(SEARCH(\"(Federal/National)\",E2371))*1+ISERROR(SEARCH(\"(International)\",E2371))*1+ISERROR(SEARCH(\"(Local)\",E2371))*1+ISERROR(SEARCH(\"(State)\",E2371))*1+ISERROR(SEARCH(\"(Regional)\",E2371))*1+ISERROR(SEARCH(\"(Tribal)\",E2371))*1+ISERROR(SEARCH(\"(Unknown) (\",E2371))*1)=6,\"yes\",\"NO\"))","v":""},{"$f":"IF(Q2371=\"\",\"\",IF(OR(NOT(ISERROR(SEARCH(\"(Academic Institution)\",E2371))),NOT(ISERROR(SEARCH(\"(Government)\",E2371))),NOT(ISERROR(SEARCH(\"(Industry/Business)\",E2371))),NOT(ISERROR(SEARCH(\"(NGO)\",E2371))),NOT(ISERROR(SEARCH(\"(Sea Grant Program)\",E2371))),NOT(ISERROR(SEARCH(\"(Other)\",E2371))),NOT(AND(NOT(ISERROR(SEARCH(\"(Unknown)\",E2371))),(ISERROR(SEARCH(\") (Unknown)\",E2371)))))),\"yes\",\"NO\"))","v":""}]
[null,null,null,null,null,null,null,null,null,null,null,null,"",{"$f":"IF($M2372=\"\",\"\",IFERROR(VLOOKUP($M2372,PartnerSearch!B$2:G$16000,6,0),\"--\"))","v":""},null,"","","",""]
[null,null,null,null,null,null,null,null,null,null,null,null,"",{"$f":"IF($M2373=\"\",\"\",IFERROR(VLOOKUP($M2373,PartnerSearch!B$2:G$16000,6,0),\"--\"))","v":""},null,"","","",""]
[null,null,null,null,null,null,null,null,null,null,null,null,"",{"$f":"IF($M2374=\"\",\"\",IFERROR(VLOOKUP($M2374,PartnerSearch!B$2:G$16000,6,0),\"--\"))","v":""},null,"","","",""]
[null,null,null,null,null,null,null,null,null,null,null,null,"",{"$f":"IF($M2375=\"\",\"\",IFERROR(VLOOKUP($M2375,PartnerSearch!B$2:G$16000,6,0),\"--\"))","v":""},null,"","","",""]
[null,null,null,null,null,null,null,null,null,null,null,null,"",{"$f":"IF($M2376=\"\",\"\",IFERROR(VLOOKUP($M2376,PartnerSearch!B$2:G$16000,6,0),\"--\"))","v":""},null,"","","",""]
[null,null,null,null,null,null,null,null,null,null,null,null,"",{"$f":"IF($M2377=\"\",\"\",IFERROR(VLOOKUP($M2377,PartnerSearch!B$2:G$16000,6,0),\"--\"))","v":""},null,"","","",""]
[null,null,null,null,null,null,null,null,null,null,null,null,"",{"$f":"IF($M2378=\"\",\"\",IFERROR(VLOOKUP($M2378,PartnerSearch!B$2:G$16000,6,0),\"--\"))","v":""},null,"","","",""]
[null,null,null,null,null,null,null,null,null,null,null,null,"",{"$f":"IF($M2379=\"\",\"\",IFERROR(VLOOKUP($M2379,PartnerSearch!B$2:G$16000,6,0),\"--\"))","v":""},null,"","","",""]
[null,null,null,null,null,null,null,null,null,null,null,null,"",{"$f":"IF($M2380=\"\",\"\",IFERROR(VLOOKUP($M2380,PartnerSearch!B$2:G$16000,6,0),\"--\"))","v":""},null,"","","",""]
[null,null,null,null,null,null,null,null,null,null,null,null,"",{"$f":"IF($M2381=\"\",\"\",IFERROR(VLOOKUP($M2381,PartnerSearch!B$2:G$16000,6,0),\"--\"))","v":""},null,"","","",""]
[null,null,null,null,null,null,null,null,null,null,null,null,"",{"$f":"IF($M2382=\"\",\"\",IFERROR(VLOOKUP($M2382,PartnerSearch!B$2:G$16000,6,0),\"--\"))","v":""},null,"","","",""]
[null,null,null,null,null,null,null,null,null,null,null,null,"",{"$f":"IF($M2383=\"\",\"\",IFERROR(VLOOKUP($M2383,PartnerSearch!B$2:G$16000,6,0),\"--\"))","v":""},null,"","","",""]
[null,null,null,null,null,null,null,null,null,null,null,null,"",{"$f":"IF($M2384=\"\",\"\",IFERROR(VLOOKUP($M2384,PartnerSearch!B$2:G$16000,6,0),\"--\"))","v":""},null,"","","",""]
[null,null,null,null,null,null,null,null,null,null,null,null,"",{"$f":"IF($M2385=\"\",\"\",IFERROR(VLOOKUP($M2385,PartnerSearch!B$2:G$16000,6,0),\"--\"))","v":""},null,"","","",""]
[null,null,null,null,null,null,null,null,null,null,null,null,"",{"$f":"IF($M2386=\"\",\"\",IFERROR(VLOOKUP($M2386,PartnerSearch!B$2:G$16000,6,0),\"--\"))","v":""},null,"","","",""]
[null,null,null,null,null,null,null,null,null,null,null,null,"",{"$f":"IF($M2387=\"\",\"\",IFERROR(VLOOKUP($M2387,PartnerSearch!B$2:G$16000,6,0),\"--\"))","v":""},null,"","","",""]
[null,null,null,null,null,null,null,null,null,null,null,null,"",{"$f":"IF($M2388=\"\",\"\",IFERROR(VLOOKUP($M2388,PartnerSearch!B$2:G$16000,6,0),\"--\"))","v":""},null,"","","",""]
[null,null,null,null,null,null,null,null,null,null,null,null,"",{"$f":"IF($M2389=\"\",\"\",IFERROR(VLOOKUP($M2389,PartnerSearch!B$2:G$16000,6,0),\"--\"))","v":""},null,"","","",""]
[null,null,null,null,null,null,null,null,null,null,null,null,"",{"$f":"IF($M2390=\"\",\"\",IFERROR(VLOOKUP($M2390,PartnerSearch!B$2:G$16000,6,0),\"--\"))","v":""},null,"","","",""]
[null,null,null,null,null,null,null,null,null,null,null,null,"",{"$f":"IF($M2391=\"\",\"\",IFERROR(VLOOKUP($M2391,PartnerSearch!B$2:G$16000,6,0),\"--\"))","v":""},null,"","","",""]
[null,null,null,null,null,null,null,null,null,null,null,null,"",{"$f":"IF($M2392=\"\",\"\",IFERROR(VLOOKUP($M2392,PartnerSearch!B$2:G$16000,6,0),\"--\"))","v":""},null,"","","",""]
[null,null,null,null,null,null,null,null,null,null,null,null,"",{"$f":"IF($M2393=\"\",\"\",IFERROR(VLOOKUP($M2393,PartnerSearch!B$2:G$16000,6,0),\"--\"))","v":""},null,"","","",""]
[null,null,null,null,null,null,null,null,null,null,null,null,"",{"$f":"IF($M2394=\"\",\"\",IFERROR(VLOOKUP($M2394,PartnerSearch!B$2:G$16000,6,0),\"--\"))","v":""},null,"","","",""]
[null,null,null,null,null,null,null,null,null,null,null,null,"",{"$f":"IF($M2395=\"\",\"\",IFERROR(VLOOKUP($M2395,PartnerSearch!B$2:G$16000,6,0),\"--\"))","v":""},null,"","","",""]
[null,null,null,null,null,null,null,null,null,null,null,null,"",{"$f":"IF($M2396=\"\",\"\",IFERROR(VLOOKUP($M2396,PartnerSearch!B$2:G$16000,6,0),\"--\"))","v":""},null,"","","",""]
[null,null,null,null,null,null,null,null,null,null,null,null,"",{"$f":"IF($M2397=\"\",\"\",IFERROR(VLOOKUP($M2397,PartnerSearch!B$2:G$16000,6,0),\"--\"))","v":""},null,"","","",""]
[null,null,null,null,null,null,null,null,null,null,null,null,"",{"$f":"IF($M2398=\"\",\"\",IFERROR(VLOOKUP($M2398,PartnerSearch!B$2:G$16000,6,0),\"--\"))","v":""},null,"","","",""]
[null,null,null,null,null,null,null,null,null,null,null,null,"",{"$f":"IF($M2399=\"\",\"\",IFERROR(VLOOKUP($M2399,PartnerSearch!B$2:G$16000,6,0),\"--\"))","v":""},null,"","","",""]
[null,null,null,null,null,null,null,null,null,null,null,null,"",{"$f":"IF($M2400=\"\",\"\",IFERROR(VLOOKUP($M2400,PartnerSearch!B$2:G$16000,6,0),\"--\"))","v":""},null,"","","",""]
[null,null,null,null,null,null,null,null,null,null,null,null,"",{"$f":"IF($M2401=\"\",\"\",IFERROR(VLOOKUP($M2401,PartnerSearch!B$2:G$16000,6,0),\"--\"))","v":""},null,"","","",""]
[null,null,null,null,null,null,null,null,null,null,null,null,"",{"$f":"IF($M2402=\"\",\"\",IFERROR(VLOOKUP($M2402,PartnerSearch!B$2:G$16000,6,0),\"--\"))","v":""},null,"","","",""]
[null,null,null,null,null,null,null,null,null,null,null,null,"",{"$f":"IF($M2403=\"\",\"\",IFERROR(VLOOKUP($M2403,PartnerSearch!B$2:G$16000,6,0),\"--\"))","v":""},null,"","","",""]
[null,null,null,null,null,null,null,null,null,null,null,null,"",{"$f":"IF($M2404=\"\",\"\",IFERROR(VLOOKUP($M2404,PartnerSearch!B$2:G$16000,6,0),\"--\"))","v":""},null,"","","",""]
[null,null,null,null,null,null,null,null,null,null,null,null,"",{"$f":"IF($M2405=\"\",\"\",IFERROR(VLOOKUP($M2405,PartnerSearch!B$2:G$16000,6,0),\"--\"))","v":""},null,"","","",""]
[null,null,null,null,null,null,null,null,null,null,null,null,"",{"$f":"IF($M2406=\"\",\"\",IFERROR(VLOOKUP($M2406,PartnerSearch!B$2:G$16000,6,0),\"--\"))","v":""},null,"","","",""]
[null,null,null,null,null,null,null,null,null,null,null,null,"",{"$f":"IF($M2407=\"\",\"\",IFERROR(VLOOKUP($M2407,PartnerSearch!B$2:G$16000,6,0),\"--\"))","v":""},null,"","","",""]
[null,null,null,null,null,null,null,null,null,null,null,null,"",{"$f":"IF($M2408=\"\",\"\",IFERROR(VLOOKUP($M2408,PartnerSearch!B$2:G$16000,6,0),\"--\"))","v":""},null,"","","",""]
[null,null,null,null,null,null,null,null,null,null,null,null,"",{"$f":"IF($M2409=\"\",\"\",IFERROR(VLOOKUP($M2409,PartnerSearch!B$2:G$16000,6,0),\"--\"))","v":""},null,"","","",""]
[null,null,null,null,null,null,null,null,null,null,null,null,"",{"$f":"IF($M2410=\"\",\"\",IFERROR(VLOOKUP($M2410,PartnerSearch!B$2:G$16000,6,0),\"--\"))","v":""},null,"","","",""]
[null,null,null,null,null,null,null,null,null,null,null,null,"",{"$f":"IF($M2411=\"\",\"\",IFERROR(VLOOKUP($M2411,PartnerSearch!B$2:G$16000,6,0),\"--\"))","v":""},null,"","","",""]
[null,null,null,null,null,null,null,null,null,null,null,null,"",{"$f":"IF($M2412=\"\",\"\",IFERROR(VLOOKUP($M2412,PartnerSearch!B$2:G$16000,6,0),\"--\"))","v":""},null,"","","",""]
[null,null,null,null,null,null,null,null,null,null,null,null,"",{"$f":"IF($M2413=\"\",\"\",IFERROR(VLOOKUP($M2413,PartnerSearch!B$2:G$16000,6,0),\"--\"))","v":""},null,"","","",""]
[null,null,null,null,null,null,null,null,null,null,null,null,"",{"$f":"IF($M2414=\"\",\"\",IFERROR(VLOOKUP($M2414,PartnerSearch!B$2:G$16000,6,0),\"--\"))","v":""},null,"","","",""]
[null,null,null,null,null,null,null,null,null,null,null,null,"",{"$f":"IF($M2415=\"\",\"\",IFERROR(VLOOKUP($M2415,PartnerSearch!B$2:G$16000,6,0),\"--\"))","v":""},null,"","","",""]
[null,null,null,null,null,null,null,null,null,null,null,null,"",{"$f":"IF($M2416=\"\",\"\",IFERROR(VLOOKUP($M2416,PartnerSearch!B$2:G$16000,6,0),\"--\"))","v":""},null,"","","",""]
[null,null,null,null,null,null,null,null,null,null,null,null,"",{"$f":"IF($M2417=\"\",\"\",IFERROR(VLOOKUP($M2417,PartnerSearch!B$2:G$16000,6,0),\"--\"))","v":""},null,"","","",""]
[null,null,null,null,null,null,null,null,null,null,null,null,"",{"$f":"IF($M2418=\"\",\"\",IFERROR(VLOOKUP($M2418,PartnerSearch!B$2:G$16000,6,0),\"--\"))","v":""},null,"","","",""]
[null,null,null,null,null,null,null,null,null,null,null,null,"",{"$f":"IF($M2419=\"\",\"\",IFERROR(VLOOKUP($M2419,PartnerSearch!B$2:G$16000,6,0),\"--\"))","v":""},null,"","","",""]
[null,null,null,null,null,null,null,null,null,null,null,null,"",{"$f":"IF($M2420=\"\",\"\",IFERROR(VLOOKUP($M2420,PartnerSearch!B$2:G$16000,6,0),\"--\"))","v":""},null,"","","",""]
[null,null,null,null,null,null,null,null,null,null,null,null,"",{"$f":"IF($M2421=\"\",\"\",IFERROR(VLOOKUP($M2421,PartnerSearch!B$2:G$16000,6,0),\"--\"))","v":""},null,"","","",""]
[null,null,null,null,null,null,null,null,null,null,null,null,"",{"$f":"IF($M2422=\"\",\"\",IFERROR(VLOOKUP($M2422,PartnerSearch!B$2:G$16000,6,0),\"--\"))","v":""},null,"","","",""]
[null,null,null,null,null,null,null,null,null,null,null,null,"",{"$f":"IF($M2423=\"\",\"\",IFERROR(VLOOKUP($M2423,PartnerSearch!B$2:G$16000,6,0),\"--\"))","v":""},null,"","","",""]
[null,null,null,null,null,null,null,null,null,null,null,null,"",{"$f":"IF($M2424=\"\",\"\",IFERROR(VLOOKUP($M2424,PartnerSearch!B$2:G$16000,6,0),\"--\"))","v":""},null,"","","",""]
[null,null,null,null,null,null,null,null,null,null,null,null,"",{"$f":"IF($M2425=\"\",\"\",IFERROR(VLOOKUP($M2425,PartnerSearch!B$2:G$16000,6,0),\"--\"))","v":""},null,"","","",""]
[null,null,null,null,null,null,null,null,null,null,null,null,"",{"$f":"IF($M2426=\"\",\"\",IFERROR(VLOOKUP($M2426,PartnerSearch!B$2:G$16000,6,0),\"--\"))","v":""},null,"","","",""]
[null,null,null,null,null,null,null,null,null,null,null,null,"",{"$f":"IF($M2427=\"\",\"\",IFERROR(VLOOKUP($M2427,PartnerSearch!B$2:G$16000,6,0),\"--\"))","v":""},null,"","","",""]
[null,null,null,null,null,null,null,null,null,null,null,null,"",{"$f":"IF($M2428=\"\",\"\",IFERROR(VLOOKUP($M2428,PartnerSearch!B$2:G$16000,6,0),\"--\"))","v":""},null,"","","",""]
[null,null,null,null,null,null,null,null,null,null,null,null,"",{"$f":"IF($M2429=\"\",\"\",IFERROR(VLOOKUP($M2429,PartnerSearch!B$2:G$16000,6,0),\"--\"))","v":""},null,"","","",""]
[null,null,null,null,null,null,null,null,null,null,null,null,"",{"$f":"IF($M2430=\"\",\"\",IFERROR(VLOOKUP($M2430,PartnerSearch!B$2:G$16000,6,0),\"--\"))","v":""},null,"","","",""]
[null,null,null,null,null,null,null,null,null,null,null,null,"",{"$f":"IF($M2431=\"\",\"\",IFERROR(VLOOKUP($M2431,PartnerSearch!B$2:G$16000,6,0),\"--\"))","v":""},null,"","","",""]
[null,null,null,null,null,null,null,null,null,null,null,null,"",{"$f":"IF($M2432=\"\",\"\",IFERROR(VLOOKUP($M2432,PartnerSearch!B$2:G$16000,6,0),\"--\"))","v":""},null,"","","",""]
[null,null,null,null,null,null,null,null,null,null,null,null,"",{"$f":"IF($M2433=\"\",\"\",IFERROR(VLOOKUP($M2433,PartnerSearch!B$2:G$16000,6,0),\"--\"))","v":""},null,"","","",""]
[null,null,null,null,null,null,null,null,null,null,null,null,"",{"$f":"IF($M2434=\"\",\"\",IFERROR(VLOOKUP($M2434,PartnerSearch!B$2:G$16000,6,0),\"--\"))","v":""},null,"","","",""]
[null,null,null,null,null,null,null,null,null,null,null,null,{"$f":"TRIM(SUBSTITUTE(SUBSTITUTE(SUBSTITUTE(SUBSTITUTE(SUBSTITUTE(SUBSTITUTE(SUBSTITUTE(SUBSTITUTE(SUBSTITUTE(SUBSTITUTE(SUBSTITUTE(SUBSTITUTE(SUBSTITUTE(SUBSTITUTE(E2435,\"00000 \",\"\"),\" (Local)\",\"\"),\" (Tribal)\",\"\"),\" (State)\",\"\"),\" (Regional)\",\"\"),\" (Federal/National)\",\"\"),\" (International)\",\"\"),\" (Unknown)\",\"\"),\" (Academic Institution)\",\"\"),\" (Government)\",\"\"),\" (Industry/Business)\",\"\"),\" (NGO)\",\"\"),\" (Other)\",\"\"),\" (Sea Grant Program)\",\"\"))","v":""},{"$f":"IF($M2435=\"\",\"\",IFERROR(VLOOKUP($M2435,PartnerSearch!B$2:G$16000,6,0),\"--\"))","v":""},null,{"$f":"IF(E2435=\"\",\"\",IF(LEFT(E2435&\"x\",5)=\"00000\",\"\",IF(N2435=\"--\",\"NO\",\"yes\")))","v":""},{"$f":"IF(LEFT(E2435&\"x\",5)<>\"00000\",\"\",IF(N2435=\"--\",\"yes\",\"NO\"))","v":""},{"$f":"IF(Q2435=\"\",\"\",IF((ISERROR(SEARCH(\"(Federal/National)\",E2435))*1+ISERROR(SEARCH(\"(International)\",E2435))*1+ISERROR(SEARCH(\"(Local)\",E2435))*1+ISERROR(SEARCH(\"(State)\",E2435))*1+ISERROR(SEARCH(\"(Regional)\",E2435))*1+ISERROR(SEARCH(\"(Tribal)\",E2435))*1+ISERROR(SEARCH(\"(Unknown) (\",E2435))*1)=6,\"yes\",\"NO\"))","v":""},{"$f":"IF(Q2435=\"\",\"\",IF(OR(NOT(ISERROR(SEARCH(\"(Academic Institution)\",E2435))),NOT(ISERROR(SEARCH(\"(Government)\",E2435))),NOT(ISERROR(SEARCH(\"(Industry/Business)\",E2435))),NOT(ISERROR(SEARCH(\"(NGO)\",E2435))),NOT(ISERROR(SEARCH(\"(Sea Grant Program)\",E2435))),NOT(ISERROR(SEARCH(\"(Other)\",E2435))),NOT(AND(NOT(ISERROR(SEARCH(\"(Unknown)\",E2435))),(ISERROR(SEARCH(\") (Unknown)\",E2435)))))),\"yes\",\"NO\"))","v":""}]
[null,null,null,null,null,null,null,null,null,null,null,null,"",{"$f":"IF($M2436=\"\",\"\",IFERROR(VLOOKUP($M2436,PartnerSearch!B$2:G$16000,6,0),\"--\"))","v":""},null,"","","",""]
[null,null,null,null,null,null,null,null,null,null,null,null,"",{"$f":"IF($M2437=\"\",\"\",IFERROR(VLOOKUP($M2437,PartnerSearch!B$2:G$16000,6,0),\"--\"))","v":""},null,"","","",""]
[null,null,null,null,null,null,null,null,null,null,null,null,"",{"$f":"IF($M2438=\"\",\"\",IFERROR(VLOOKUP($M2438,PartnerSearch!B$2:G$16000,6,0),\"--\"))","v":""},null,"","","",""]
[null,null,null,null,null,null,null,null,null,null,null,null,"",{"$f":"IF($M2439=\"\",\"\",IFERROR(VLOOKUP($M2439,PartnerSearch!B$2:G$16000,6,0),\"--\"))","v":""},null,"","","",""]
[null,null,null,null,null,null,null,null,null,null,null,null,"",{"$f":"IF($M2440=\"\",\"\",IFERROR(VLOOKUP($M2440,PartnerSearch!B$2:G$16000,6,0),\"--\"))","v":""},null,"","","",""]
[null,null,null,null,null,null,null,null,null,null,null,null,"",{"$f":"IF($M2441=\"\",\"\",IFERROR(VLOOKUP($M2441,PartnerSearch!B$2:G$16000,6,0),\"--\"))","v":""},null,"","","",""]
[null,null,null,null,null,null,null,null,null,null,null,null,"",{"$f":"IF($M2442=\"\",\"\",IFERROR(VLOOKUP($M2442,PartnerSearch!B$2:G$16000,6,0),\"--\"))","v":""},null,"","","",""]
[null,null,null,null,null,null,null,null,null,null,null,null,"",{"$f":"IF($M2443=\"\",\"\",IFERROR(VLOOKUP($M2443,PartnerSearch!B$2:G$16000,6,0),\"--\"))","v":""},null,"","","",""]
[null,null,null,null,null,null,null,null,null,null,null,null,"",{"$f":"IF($M2444=\"\",\"\",IFERROR(VLOOKUP($M2444,PartnerSearch!B$2:G$16000,6,0),\"--\"))","v":""},null,"","","",""]
[null,null,null,null,null,null,null,null,null,null,null,null,"",{"$f":"IF($M2445=\"\",\"\",IFERROR(VLOOKUP($M2445,PartnerSearch!B$2:G$16000,6,0),\"--\"))","v":""},null,"","","",""]
[null,null,null,null,null,null,null,null,null,null,null,null,"",{"$f":"IF($M2446=\"\",\"\",IFERROR(VLOOKUP($M2446,PartnerSearch!B$2:G$16000,6,0),\"--\"))","v":""},null,"","","",""]
[null,null,null,null,null,null,null,null,null,null,null,null,"",{"$f":"IF($M2447=\"\",\"\",IFERROR(VLOOKUP($M2447,PartnerSearch!B$2:G$16000,6,0),\"--\"))","v":""},null,"","","",""]
[null,null,null,null,null,null,null,null,null,null,null,null,"",{"$f":"IF($M2448=\"\",\"\",IFERROR(VLOOKUP($M2448,PartnerSearch!B$2:G$16000,6,0),\"--\"))","v":""},null,"","","",""]
[null,null,null,null,null,null,null,null,null,null,null,null,"",{"$f":"IF($M2449=\"\",\"\",IFERROR(VLOOKUP($M2449,PartnerSearch!B$2:G$16000,6,0),\"--\"))","v":""},null,"","","",""]
[null,null,null,null,null,null,null,null,null,null,null,null,"",{"$f":"IF($M2450=\"\",\"\",IFERROR(VLOOKUP($M2450,PartnerSearch!B$2:G$16000,6,0),\"--\"))","v":""},null,"","","",""]
[null,null,null,null,null,null,null,null,null,null,null,null,"",{"$f":"IF($M2451=\"\",\"\",IFERROR(VLOOKUP($M2451,PartnerSearch!B$2:G$16000,6,0),\"--\"))","v":""},null,"","","",""]
[null,null,null,null,null,null,null,null,null,null,null,null,"",{"$f":"IF($M2452=\"\",\"\",IFERROR(VLOOKUP($M2452,PartnerSearch!B$2:G$16000,6,0),\"--\"))","v":""},null,"","","",""]
[null,null,null,null,null,null,null,null,null,null,null,null,"",{"$f":"IF($M2453=\"\",\"\",IFERROR(VLOOKUP($M2453,PartnerSearch!B$2:G$16000,6,0),\"--\"))","v":""},null,"","","",""]
[null,null,null,null,null,null,null,null,null,null,null,null,"",{"$f":"IF($M2454=\"\",\"\",IFERROR(VLOOKUP($M2454,PartnerSearch!B$2:G$16000,6,0),\"--\"))","v":""},null,"","","",""]
[null,null,null,null,null,null,null,null,null,null,null,null,"",{"$f":"IF($M2455=\"\",\"\",IFERROR(VLOOKUP($M2455,PartnerSearch!B$2:G$16000,6,0),\"--\"))","v":""},null,"","","",""]
[null,null,null,null,null,null,null,null,null,null,null,null,"",{"$f":"IF($M2456=\"\",\"\",IFERROR(VLOOKUP($M2456,PartnerSearch!B$2:G$16000,6,0),\"--\"))","v":""},null,"","","",""]
[null,null,null,null,null,null,null,null,null,null,null,null,"",{"$f":"IF($M2457=\"\",\"\",IFERROR(VLOOKUP($M2457,PartnerSearch!B$2:G$16000,6,0),\"--\"))","v":""},null,"","","",""]
[null,null,null,null,null,null,null,null,null,null,null,null,"",{"$f":"IF($M2458=\"\",\"\",IFERROR(VLOOKUP($M2458,PartnerSearch!B$2:G$16000,6,0),\"--\"))","v":""},null,"","","",""]
[null,null,null,null,null,null,null,null,null,null,null,null,"",{"$f":"IF($M2459=\"\",\"\",IFERROR(VLOOKUP($M2459,PartnerSearch!B$2:G$16000,6,0),\"--\"))","v":""},null,"","","",""]
[null,null,null,null,null,null,null,null,null,null,null,null,"",{"$f":"IF($M2460=\"\",\"\",IFERROR(VLOOKUP($M2460,PartnerSearch!B$2:G$16000,6,0),\"--\"))","v":""},null,"","","",""]
[null,null,null,null,null,null,null,null,null,null,null,null,"",{"$f":"IF($M2461=\"\",\"\",IFERROR(VLOOKUP($M2461,PartnerSearch!B$2:G$16000,6,0),\"--\"))","v":""},null,"","","",""]
[null,null,null,null,null,null,null,null,null,null,null,null,"",{"$f":"IF($M2462=\"\",\"\",IFERROR(VLOOKUP($M2462,PartnerSearch!B$2:G$16000,6,0),\"--\"))","v":""},null,"","","",""]
[null,null,null,null,null,null,null,null,null,null,null,null,"",{"$f":"IF($M2463=\"\",\"\",IFERROR(VLOOKUP($M2463,PartnerSearch!B$2:G$16000,6,0),\"--\"))","v":""},null,"","","",""]
[null,null,null,null,null,null,null,null,null,null,null,null,"",{"$f":"IF($M2464=\"\",\"\",IFERROR(VLOOKUP($M2464,PartnerSearch!B$2:G$16000,6,0),\"--\"))","v":""},null,"","","",""]
[null,null,null,null,null,null,null,null,null,null,null,null,"",{"$f":"IF($M2465=\"\",\"\",IFERROR(VLOOKUP($M2465,PartnerSearch!B$2:G$16000,6,0),\"--\"))","v":""},null,"","","",""]
[null,null,null,null,null,null,null,null,null,null,null,null,"",{"$f":"IF($M2466=\"\",\"\",IFERROR(VLOOKUP($M2466,PartnerSearch!B$2:G$16000,6,0),\"--\"))","v":""},null,"","","",""]
[null,null,null,null,null,null,null,null,null,null,null,null,"",{"$f":"IF($M2467=\"\",\"\",IFERROR(VLOOKUP($M2467,PartnerSearch!B$2:G$16000,6,0),\"--\"))","v":""},null,"","","",""]
[null,null,null,null,null,null,null,null,null,null,null,null,"",{"$f":"IF($M2468=\"\",\"\",IFERROR(VLOOKUP($M2468,PartnerSearch!B$2:G$16000,6,0),\"--\"))","v":""},null,"","","",""]
[null,null,null,null,null,null,null,null,null,null,null,null,"",{"$f":"IF($M2469=\"\",\"\",IFERROR(VLOOKUP($M2469,PartnerSearch!B$2:G$16000,6,0),\"--\"))","v":""},null,"","","",""]
[null,null,null,null,null,null,null,null,null,null,null,null,"",{"$f":"IF($M2470=\"\",\"\",IFERROR(VLOOKUP($M2470,PartnerSearch!B$2:G$16000,6,0),\"--\"))","v":""},null,"","","",""]
[null,null,null,null,null,null,null,null,null,null,null,null,"",{"$f":"IF($M2471=\"\",\"\",IFERROR(VLOOKUP($M2471,PartnerSearch!B$2:G$16000,6,0),\"--\"))","v":""},null,"","","",""]
[null,null,null,null,null,null,null,null,null,null,null,null,"",{"$f":"IF($M2472=\"\",\"\",IFERROR(VLOOKUP($M2472,PartnerSearch!B$2:G$16000,6,0),\"--\"))","v":""},null,"","","",""]
[null,null,null,null,null,null,null,null,null,null,null,null,"",{"$f":"IF($M2473=\"\",\"\",IFERROR(VLOOKUP($M2473,PartnerSearch!B$2:G$16000,6,0),\"--\"))","v":""},null,"","","",""]
[null,null,null,null,null,null,null,null,null,null,null,null,"",{"$f":"IF($M2474=\"\",\"\",IFERROR(VLOOKUP($M2474,PartnerSearch!B$2:G$16000,6,0),\"--\"))","v":""},null,"","","",""]
[null,null,null,null,null,null,null,null,null,null,null,null,"",{"$f":"IF($M2475=\"\",\"\",IFERROR(VLOOKUP($M2475,PartnerSearch!B$2:G$16000,6,0),\"--\"))","v":""},null,"","","",""]
[null,null,null,null,null,null,null,null,null,null,null,null,"",{"$f":"IF($M2476=\"\",\"\",IFERROR(VLOOKUP($M2476,PartnerSearch!B$2:G$16000,6,0),\"--\"))","v":""},null,"","","",""]
[null,null,null,null,null,null,null,null,null,null,null,null,"",{"$f":"IF($M2477=\"\",\"\",IFERROR(VLOOKUP($M2477,PartnerSearch!B$2:G$16000,6,0),\"--\"))","v":""},null,"","","",""]
[null,null,null,null,null,null,null,null,null,null,null,null,"",{"$f":"IF($M2478=\"\",\"\",IFERROR(VLOOKUP($M2478,PartnerSearch!B$2:G$16000,6,0),\"--\"))","v":""},null,"","","",""]
[null,null,null,null,null,null,null,null,null,null,null,null,"",{"$f":"IF($M2479=\"\",\"\",IFERROR(VLOOKUP($M2479,PartnerSearch!B$2:G$16000,6,0),\"--\"))","v":""},null,"","","",""]
[null,null,null,null,null,null,null,null,null,null,null,null,"",{"$f":"IF($M2480=\"\",\"\",IFERROR(VLOOKUP($M2480,PartnerSearch!B$2:G$16000,6,0),\"--\"))","v":""},null,"","","",""]
[null,null,null,null,null,null,null,null,null,null,null,null,"",{"$f":"IF($M2481=\"\",\"\",IFERROR(VLOOKUP($M2481,PartnerSearch!B$2:G$16000,6,0),\"--\"))","v":""},null,"","","",""]
[null,null,null,null,null,null,null,null,null,null,null,null,"",{"$f":"IF($M2482=\"\",\"\",IFERROR(VLOOKUP($M2482,PartnerSearch!B$2:G$16000,6,0),\"--\"))","v":""},null,"","","",""]
[null,null,null,null,null,null,null,null,null,null,null,null,"",{"$f":"IF($M2483=\"\",\"\",IFERROR(VLOOKUP($M2483,PartnerSearch!B$2:G$16000,6,0),\"--\"))","v":""},null,"","","",""]
[null,null,null,null,null,null,null,null,null,null,null,null,"",{"$f":"IF($M2484=\"\",\"\",IFERROR(VLOOKUP($M2484,PartnerSearch!B$2:G$16000,6,0),\"--\"))","v":""},null,"","","",""]
[null,null,null,null,null,null,null,null,null,null,null,null,"",{"$f":"IF($M2485=\"\",\"\",IFERROR(VLOOKUP($M2485,PartnerSearch!B$2:G$16000,6,0),\"--\"))","v":""},null,"","","",""]
[null,null,null,null,null,null,null,null,null,null,null,null,"",{"$f":"IF($M2486=\"\",\"\",IFERROR(VLOOKUP($M2486,PartnerSearch!B$2:G$16000,6,0),\"--\"))","v":""},null,"","","",""]
[null,null,null,null,null,null,null,null,null,null,null,null,"",{"$f":"IF($M2487=\"\",\"\",IFERROR(VLOOKUP($M2487,PartnerSearch!B$2:G$16000,6,0),\"--\"))","v":""},null,"","","",""]
[null,null,null,null,null,null,null,null,null,null,null,null,"",{"$f":"IF($M2488=\"\",\"\",IFERROR(VLOOKUP($M2488,PartnerSearch!B$2:G$16000,6,0),\"--\"))","v":""},null,"","","",""]
[null,null,null,null,null,null,null,null,null,null,null,null,"",{"$f":"IF($M2489=\"\",\"\",IFERROR(VLOOKUP($M2489,PartnerSearch!B$2:G$16000,6,0),\"--\"))","v":""},null,"","","",""]
[null,null,null,null,null,null,null,null,null,null,null,null,"",{"$f":"IF($M2490=\"\",\"\",IFERROR(VLOOKUP($M2490,PartnerSearch!B$2:G$16000,6,0),\"--\"))","v":""},null,"","","",""]
[null,null,null,null,null,null,null,null,null,null,null,null,"",{"$f":"IF($M2491=\"\",\"\",IFERROR(VLOOKUP($M2491,PartnerSearch!B$2:G$16000,6,0),\"--\"))","v":""},null,"","","",""]
[null,null,null,null,null,null,null,null,null,null,null,null,"",{"$f":"IF($M2492=\"\",\"\",IFERROR(VLOOKUP($M2492,PartnerSearch!B$2:G$16000,6,0),\"--\"))","v":""},null,"","","",""]
[null,null,null,null,null,null,null,null,null,null,null,null,"",{"$f":"IF($M2493=\"\",\"\",IFERROR(VLOOKUP($M2493,PartnerSearch!B$2:G$16000,6,0),\"--\"))","v":""},null,"","","",""]
[null,null,null,null,null,null,null,null,null,null,null,null,"",{"$f":"IF($M2494=\"\",\"\",IFERROR(VLOOKUP($M2494,PartnerSearch!B$2:G$16000,6,0),\"--\"))","v":""},null,"","","",""]
[null,null,null,null,null,null,null,null,null,null,null,null,"",{"$f":"IF($M2495=\"\",\"\",IFERROR(VLOOKUP($M2495,PartnerSearch!B$2:G$16000,6,0),\"--\"))","v":""},null,"","","",""]
[null,null,null,null,null,null,null,null,null,null,null,null,"",{"$f":"IF($M2496=\"\",\"\",IFERROR(VLOOKUP($M2496,PartnerSearch!B$2:G$16000,6,0),\"--\"))","v":""},null,"","","",""]
[null,null,null,null,null,null,null,null,null,null,null,null,"",{"$f":"IF($M2497=\"\",\"\",IFERROR(VLOOKUP($M2497,PartnerSearch!B$2:G$16000,6,0),\"--\"))","v":""},null,"","","",""]
[null,null,null,null,null,null,null,null,null,null,null,null,"",{"$f":"IF($M2498=\"\",\"\",IFERROR(VLOOKUP($M2498,PartnerSearch!B$2:G$16000,6,0),\"--\"))","v":""},null,"","","",""]
[null,null,null,null,null,null,null,null,null,null,null,null,{"$f":"TRIM(SUBSTITUTE(SUBSTITUTE(SUBSTITUTE(SUBSTITUTE(SUBSTITUTE(SUBSTITUTE(SUBSTITUTE(SUBSTITUTE(SUBSTITUTE(SUBSTITUTE(SUBSTITUTE(SUBSTITUTE(SUBSTITUTE(SUBSTITUTE(E2499,\"00000 \",\"\"),\" (Local)\",\"\"),\" (Tribal)\",\"\"),\" (State)\",\"\"),\" (Regional)\",\"\"),\" (Federal/National)\",\"\"),\" (International)\",\"\"),\" (Unknown)\",\"\"),\" (Academic Institution)\",\"\"),\" (Government)\",\"\"),\" (Industry/Business)\",\"\"),\" (NGO)\",\"\"),\" (Other)\",\"\"),\" (Sea Grant Program)\",\"\"))","v":""},{"$f":"IF($M2499=\"\",\"\",IFERROR(VLOOKUP($M2499,PartnerSearch!B$2:G$16000,6,0),\"--\"))","v":""},null,{"$f":"IF(E2499=\"\",\"\",IF(LEFT(E2499&\"x\",5)=\"00000\",\"\",IF(N2499=\"--\",\"NO\",\"yes\")))","v":""},{"$f":"IF(LEFT(E2499&\"x\",5)<>\"00000\",\"\",IF(N2499=\"--\",\"yes\",\"NO\"))","v":""},{"$f":"IF(Q2499=\"\",\"\",IF((ISERROR(SEARCH(\"(Federal/National)\",E2499))*1+ISERROR(SEARCH(\"(International)\",E2499))*1+ISERROR(SEARCH(\"(Local)\",E2499))*1+ISERROR(SEARCH(\"(State)\",E2499))*1+ISERROR(SEARCH(\"(Regional)\",E2499))*1+ISERROR(SEARCH(\"(Tribal)\",E2499))*1+ISERROR(SEARCH(\"(Unknown) (\",E2499))*1)=6,\"yes\",\"NO\"))","v":""},{"$f":"IF(Q2499=\"\",\"\",IF(OR(NOT(ISERROR(SEARCH(\"(Academic Institution)\",E2499))),NOT(ISERROR(SEARCH(\"(Government)\",E2499))),NOT(ISERROR(SEARCH(\"(Industry/Business)\",E2499))),NOT(ISERROR(SEARCH(\"(NGO)\",E2499))),NOT(ISERROR(SEARCH(\"(Sea Grant Program)\",E2499))),NOT(ISERROR(SEARCH(\"(Other)\",E2499))),NOT(AND(NOT(ISERROR(SEARCH(\"(Unknown)\",E2499))),(ISERROR(SEARCH(\") (Unknown)\",E2499)))))),\"yes\",\"NO\"))","v":""}]
[null,null,null,null,null,null,null,null,null,null,null,null,"",{"$f":"IF($M2500=\"\",\"\",IFERROR(VLOOKUP($M2500,PartnerSearch!B$2:G$16000,6,0),\"--\"))","v":""},null,"","","",""]
[null,null,null,null,null,null,null,null,null,null,null,null,"",{"$f":"IF($M2501=\"\",\"\",IFERROR(VLOOKUP($M2501,PartnerSearch!B$2:G$16000,6,0),\"--\"))","v":""},null,"","","",""]
[null,null,null,null,null,null,null,null,null,null,null,null,"",{"$f":"IF($M2502=\"\",\"\",IFERROR(VLOOKUP($M2502,PartnerSearch!B$2:G$16000,6,0),\"--\"))","v":""},null,"","","",""]
[null,null,null,null,null,null,null,null,null,null,null,null,"",{"$f":"IF($M2503=\"\",\"\",IFERROR(VLOOKUP($M2503,PartnerSearch!B$2:G$16000,6,0),\"--\"))","v":""},null,"","","",""]
[null,null,null,null,null,null,null,null,null,null,null,null,"",{"$f":"IF($M2504=\"\",\"\",IFERROR(VLOOKUP($M2504,PartnerSearch!B$2:G$16000,6,0),\"--\"))","v":""},null,"","","",""]
[null,null,null,null,null,null,null,null,null,null,null,null,"",{"$f":"IF($M2505=\"\",\"\",IFERROR(VLOOKUP($M2505,PartnerSearch!B$2:G$16000,6,0),\"--\"))","v":""},null,"","","",""]
[null,null,null,null,null,null,null,null,null,null,null,null,"",{"$f":"IF($M2506=\"\",\"\",IFERROR(VLOOKUP($M2506,PartnerSearch!B$2:G$16000,6,0),\"--\"))","v":""},null,"","","",""]
[null,null,null,null,null,null,null,null,null,null,null,null,"",{"$f":"IF($M2507=\"\",\"\",IFERROR(VLOOKUP($M2507,PartnerSearch!B$2:G$16000,6,0),\"--\"))","v":""},null,"","","",""]
[null,null,null,null,null,null,null,null,null,null,null,null,"",{"$f":"IF($M2508=\"\",\"\",IFERROR(VLOOKUP($M2508,PartnerSearch!B$2:G$16000,6,0),\"--\"))","v":""},null,"","","",""]
[null,null,null,null,null,null,null,null,null,null,null,null,"",{"$f":"IF($M2509=\"\",\"\",IFERROR(VLOOKUP($M2509,PartnerSearch!B$2:G$16000,6,0),\"--\"))","v":""},null,"","","",""]
[null,null,null,null,null,null,null,null,null,null,null,null,"",{"$f":"IF($M2510=\"\",\"\",IFERROR(VLOOKUP($M2510,PartnerSearch!B$2:G$16000,6,0),\"--\"))","v":""},null,"","","",""]
[null,null,null,null,null,null,null,null,null,null,null,null,"",{"$f":"IF($M2511=\"\",\"\",IFERROR(VLOOKUP($M2511,PartnerSearch!B$2:G$16000,6,0),\"--\"))","v":""},null,"","","",""]
[null,null,null,null,null,null,null,null,null,null,null,null,"",{"$f":"IF($M2512=\"\",\"\",IFERROR(VLOOKUP($M2512,PartnerSearch!B$2:G$16000,6,0),\"--\"))","v":""},null,"","","",""]
[null,null,null,null,null,null,null,null,null,null,null,null,"",{"$f":"IF($M2513=\"\",\"\",IFERROR(VLOOKUP($M2513,PartnerSearch!B$2:G$16000,6,0),\"--\"))","v":""},null,"","","",""]
[null,null,null,null,null,null,null,null,null,null,null,null,"",{"$f":"IF($M2514=\"\",\"\",IFERROR(VLOOKUP($M2514,PartnerSearch!B$2:G$16000,6,0),\"--\"))","v":""},null,"","","",""]
[null,null,null,null,null,null,null,null,null,null,null,null,"",{"$f":"IF($M2515=\"\",\"\",IFERROR(VLOOKUP($M2515,PartnerSearch!B$2:G$16000,6,0),\"--\"))","v":""},null,"","","",""]
[null,null,null,null,null,null,null,null,null,null,null,null,"",{"$f":"IF($M2516=\"\",\"\",IFERROR(VLOOKUP($M2516,PartnerSearch!B$2:G$16000,6,0),\"--\"))","v":""},null,"","","",""]
[null,null,null,null,null,null,null,null,null,null,null,null,"",{"$f":"IF($M2517=\"\",\"\",IFERROR(VLOOKUP($M2517,PartnerSearch!B$2:G$16000,6,0),\"--\"))","v":""},null,"","","",""]
[null,null,null,null,null,null,null,null,null,null,null,null,"",{"$f":"IF($M2518=\"\",\"\",IFERROR(VLOOKUP($M2518,PartnerSearch!B$2:G$16000,6,0),\"--\"))","v":""},null,"","","",""]
[null,null,null,null,null,null,null,null,null,null,null,null,"",{"$f":"IF($M2519=\"\",\"\",IFERROR(VLOOKUP($M2519,PartnerSearch!B$2:G$16000,6,0),\"--\"))","v":""},null,"","","",""]
[null,null,null,null,null,null,null,null,null,null,null,null,"",{"$f":"IF($M2520=\"\",\"\",IFERROR(VLOOKUP($M2520,PartnerSearch!B$2:G$16000,6,0),\"--\"))","v":""},null,"","","",""]
[null,null,null,null,null,null,null,null,null,null,null,null,"",{"$f":"IF($M2521=\"\",\"\",IFERROR(VLOOKUP($M2521,PartnerSearch!B$2:G$16000,6,0),\"--\"))","v":""},null,"","","",""]
[null,null,null,null,null,null,null,null,null,null,null,null,"",{"$f":"IF($M2522=\"\",\"\",IFERROR(VLOOKUP($M2522,PartnerSearch!B$2:G$16000,6,0),\"--\"))","v":""},null,"","","",""]
[null,null,null,null,null,null,null,null,null,null,null,null,"",{"$f":"IF($M2523=\"\",\"\",IFERROR(VLOOKUP($M2523,PartnerSearch!B$2:G$16000,6,0),\"--\"))","v":""},null,"","","",""]
[null,null,null,null,null,null,null,null,null,null,null,null,"",{"$f":"IF($M2524=\"\",\"\",IFERROR(VLOOKUP($M2524,PartnerSearch!B$2:G$16000,6,0),\"--\"))","v":""},null,"","","",""]
[null,null,null,null,null,null,null,null,null,null,null,null,"",{"$f":"IF($M2525=\"\",\"\",IFERROR(VLOOKUP($M2525,PartnerSearch!B$2:G$16000,6,0),\"--\"))","v":""},null,"","","",""]
[null,null,null,null,null,null,null,null,null,null,null,null,"",{"$f":"IF($M2526=\"\",\"\",IFERROR(VLOOKUP($M2526,PartnerSearch!B$2:G$16000,6,0),\"--\"))","v":""},null,"","","",""]
[null,null,null,null,null,null,null,null,null,null,null,null,"",{"$f":"IF($M2527=\"\",\"\",IFERROR(VLOOKUP($M2527,PartnerSearch!B$2:G$16000,6,0),\"--\"))","v":""},null,"","","",""]
[null,null,null,null,null,null,null,null,null,null,null,null,"",{"$f":"IF($M2528=\"\",\"\",IFERROR(VLOOKUP($M2528,PartnerSearch!B$2:G$16000,6,0),\"--\"))","v":""},null,"","","",""]
[null,null,null,null,null,null,null,null,null,null,null,null,"",{"$f":"IF($M2529=\"\",\"\",IFERROR(VLOOKUP($M2529,PartnerSearch!B$2:G$16000,6,0),\"--\"))","v":""},null,"","","",""]
[null,null,null,null,null,null,null,null,null,null,null,null,"",{"$f":"IF($M2530=\"\",\"\",IFERROR(VLOOKUP($M2530,PartnerSearch!B$2:G$16000,6,0),\"--\"))","v":""},null,"","","",""]
[null,null,null,null,null,null,null,null,null,null,null,null,"",{"$f":"IF($M2531=\"\",\"\",IFERROR(VLOOKUP($M2531,PartnerSearch!B$2:G$16000,6,0),\"--\"))","v":""},null,"","","",""]
[null,null,null,null,null,null,null,null,null,null,null,null,"",{"$f":"IF($M2532=\"\",\"\",IFERROR(VLOOKUP($M2532,PartnerSearch!B$2:G$16000,6,0),\"--\"))","v":""},null,"","","",""]
[null,null,null,null,null,null,null,null,null,null,null,null,"",{"$f":"IF($M2533=\"\",\"\",IFERROR(VLOOKUP($M2533,PartnerSearch!B$2:G$16000,6,0),\"--\"))","v":""},null,"","","",""]
[null,null,null,null,null,null,null,null,null,null,null,null,"",{"$f":"IF($M2534=\"\",\"\",IFERROR(VLOOKUP($M2534,PartnerSearch!B$2:G$16000,6,0),\"--\"))","v":""},null,"","","",""]
[null,null,null,null,null,null,null,null,null,null,null,null,"",{"$f":"IF($M2535=\"\",\"\",IFERROR(VLOOKUP($M2535,PartnerSearch!B$2:G$16000,6,0),\"--\"))","v":""},null,"","","",""]
[null,null,null,null,null,null,null,null,null,null,null,null,"",{"$f":"IF($M2536=\"\",\"\",IFERROR(VLOOKUP($M2536,PartnerSearch!B$2:G$16000,6,0),\"--\"))","v":""},null,"","","",""]
[null,null,null,null,null,null,null,null,null,null,null,null,"",{"$f":"IF($M2537=\"\",\"\",IFERROR(VLOOKUP($M2537,PartnerSearch!B$2:G$16000,6,0),\"--\"))","v":""},null,"","","",""]
[null,null,null,null,null,null,null,null,null,null,null,null,"",{"$f":"IF($M2538=\"\",\"\",IFERROR(VLOOKUP($M2538,PartnerSearch!B$2:G$16000,6,0),\"--\"))","v":""},null,"","","",""]
[null,null,null,null,null,null,null,null,null,null,null,null,"",{"$f":"IF($M2539=\"\",\"\",IFERROR(VLOOKUP($M2539,PartnerSearch!B$2:G$16000,6,0),\"--\"))","v":""},null,"","","",""]
[null,null,null,null,null,null,null,null,null,null,null,null,"",{"$f":"IF($M2540=\"\",\"\",IFERROR(VLOOKUP($M2540,PartnerSearch!B$2:G$16000,6,0),\"--\"))","v":""},null,"","","",""]
[null,null,null,null,null,null,null,null,null,null,null,null,"",{"$f":"IF($M2541=\"\",\"\",IFERROR(VLOOKUP($M2541,PartnerSearch!B$2:G$16000,6,0),\"--\"))","v":""},null,"","","",""]
[null,null,null,null,null,null,null,null,null,null,null,null,"",{"$f":"IF($M2542=\"\",\"\",IFERROR(VLOOKUP($M2542,PartnerSearch!B$2:G$16000,6,0),\"--\"))","v":""},null,"","","",""]
[null,null,null,null,null,null,null,null,null,null,null,null,"",{"$f":"IF($M2543=\"\",\"\",IFERROR(VLOOKUP($M2543,PartnerSearch!B$2:G$16000,6,0),\"--\"))","v":""},null,"","","",""]
[null,null,null,null,null,null,null,null,null,null,null,null,"",{"$f":"IF($M2544=\"\",\"\",IFERROR(VLOOKUP($M2544,PartnerSearch!B$2:G$16000,6,0),\"--\"))","v":""},null,"","","",""]
[null,null,null,null,null,null,null,null,null,null,null,null,"",{"$f":"IF($M2545=\"\",\"\",IFERROR(VLOOKUP($M2545,PartnerSearch!B$2:G$16000,6,0),\"--\"))","v":""},null,"","","",""]
[null,null,null,null,null,null,null,null,null,null,null,null,"",{"$f":"IF($M2546=\"\",\"\",IFERROR(VLOOKUP($M2546,PartnerSearch!B$2:G$16000,6,0),\"--\"))","v":""},null,"","","",""]
[null,null,null,null,null,null,null,null,null,null,null,null,"",{"$f":"IF($M2547=\"\",\"\",IFERROR(VLOOKUP($M2547,PartnerSearch!B$2:G$16000,6,0),\"--\"))","v":""},null,"","","",""]
[null,null,null,null,null,null,null,null,null,null,null,null,"",{"$f":"IF($M2548=\"\",\"\",IFERROR(VLOOKUP($M2548,PartnerSearch!B$2:G$16000,6,0),\"--\"))","v":""},null,"","","",""]
[null,null,null,null,null,null,null,null,null,null,null,null,"",{"$f":"IF($M2549=\"\",\"\",IFERROR(VLOOKUP($M2549,PartnerSearch!B$2:G$16000,6,0),\"--\"))","v":""},null,"","","",""]
[null,null,null,null,null,null,null,null,null,null,null,null,"",{"$f":"IF($M2550=\"\",\"\",IFERROR(VLOOKUP($M2550,PartnerSearch!B$2:G$16000,6,0),\"--\"))","v":""},null,"","","",""]
[null,null,null,null,null,null,null,null,null,null,null,null,"",{"$f":"IF($M2551=\"\",\"\",IFERROR(VLOOKUP($M2551,PartnerSearch!B$2:G$16000,6,0),\"--\"))","v":""},null,"","","",""]
[null,null,null,null,null,null,null,null,null,null,null,null,"",{"$f":"IF($M2552=\"\",\"\",IFERROR(VLOOKUP($M2552,PartnerSearch!B$2:G$16000,6,0),\"--\"))","v":""},null,"","","",""]
[null,null,null,null,null,null,null,null,null,null,null,null,"",{"$f":"IF($M2553=\"\",\"\",IFERROR(VLOOKUP($M2553,PartnerSearch!B$2:G$16000,6,0),\"--\"))","v":""},null,"","","",""]
[null,null,null,null,null,null,null,null,null,null,null,null,"",{"$f":"IF($M2554=\"\",\"\",IFERROR(VLOOKUP($M2554,PartnerSearch!B$2:G$16000,6,0),\"--\"))","v":""},null,"","","",""]
[null,null,null,null,null,null,null,null,null,null,null,null,"",{"$f":"IF($M2555=\"\",\"\",IFERROR(VLOOKUP($M2555,PartnerSearch!B$2:G$16000,6,0),\"--\"))","v":""},null,"","","",""]
[null,null,null,null,null,null,null,null,null,null,null,null,"",{"$f":"IF($M2556=\"\",\"\",IFERROR(VLOOKUP($M2556,PartnerSearch!B$2:G$16000,6,0),\"--\"))","v":""},null,"","","",""]
[null,null,null,null,null,null,null,null,null,null,null,null,"",{"$f":"IF($M2557=\"\",\"\",IFERROR(VLOOKUP($M2557,PartnerSearch!B$2:G$16000,6,0),\"--\"))","v":""},null,"","","",""]
[null,null,null,null,null,null,null,null,null,null,null,null,"",{"$f":"IF($M2558=\"\",\"\",IFERROR(VLOOKUP($M2558,PartnerSearch!B$2:G$16000,6,0),\"--\"))","v":""},null,"","","",""]
[null,null,null,null,null,null,null,null,null,null,null,null,"",{"$f":"IF($M2559=\"\",\"\",IFERROR(VLOOKUP($M2559,PartnerSearch!B$2:G$16000,6,0),\"--\"))","v":""},null,"","","",""]
[null,null,null,null,null,null,null,null,null,null,null,null,"",{"$f":"IF($M2560=\"\",\"\",IFERROR(VLOOKUP($M2560,PartnerSearch!B$2:G$16000,6,0),\"--\"))","v":""},null,"","","",""]
[null,null,null,null,null,null,null,null,null,null,null,null,"",{"$f":"IF($M2561=\"\",\"\",IFERROR(VLOOKUP($M2561,PartnerSearch!B$2:G$16000,6,0),\"--\"))","v":""},null,"","","",""]
[null,null,null,null,null,null,null,null,null,null,null,null,"",{"$f":"IF($M2562=\"\",\"\",IFERROR(VLOOKUP($M2562,PartnerSearch!B$2:G$16000,6,0),\"--\"))","v":""},null,"","","",""]
[null,null,null,null,null,null,null,null,null,null,null,null,{"$f":"TRIM(SUBSTITUTE(SUBSTITUTE(SUBSTITUTE(SUBSTITUTE(SUBSTITUTE(SUBSTITUTE(SUBSTITUTE(SUBSTITUTE(SUBSTITUTE(SUBSTITUTE(SUBSTITUTE(SUBSTITUTE(SUBSTITUTE(SUBSTITUTE(E2563,\"00000 \",\"\"),\" (Local)\",\"\"),\" (Tribal)\",\"\"),\" (State)\",\"\"),\" (Regional)\",\"\"),\" (Federal/National)\",\"\"),\" (International)\",\"\"),\" (Unknown)\",\"\"),\" (Academic Institution)\",\"\"),\" (Government)\",\"\"),\" (Industry/Business)\",\"\"),\" (NGO)\",\"\"),\" (Other)\",\"\"),\" (Sea Grant Program)\",\"\"))","v":""},{"$f":"IF($M2563=\"\",\"\",IFERROR(VLOOKUP($M2563,PartnerSearch!B$2:G$16000,6,0),\"--\"))","v":""},null,{"$f":"IF(E2563=\"\",\"\",IF(LEFT(E2563&\"x\",5)=\"00000\",\"\",IF(N2563=\"--\",\"NO\",\"yes\")))","v":""},{"$f":"IF(LEFT(E2563&\"x\",5)<>\"00000\",\"\",IF(N2563=\"--\",\"yes\",\"NO\"))","v":""},{"$f":"IF(Q2563=\"\",\"\",IF((ISERROR(SEARCH(\"(Federal/National)\",E2563))*1+ISERROR(SEARCH(\"(International)\",E2563))*1+ISERROR(SEARCH(\"(Local)\",E2563))*1+ISERROR(SEARCH(\"(State)\",E2563))*1+ISERROR(SEARCH(\"(Regional)\",E2563))*1+ISERROR(SEARCH(\"(Tribal)\",E2563))*1+ISERROR(SEARCH(\"(Unknown) (\",E2563))*1)=6,\"yes\",\"NO\"))","v":""},{"$f":"IF(Q2563=\"\",\"\",IF(OR(NOT(ISERROR(SEARCH(\"(Academic Institution)\",E2563))),NOT(ISERROR(SEARCH(\"(Government)\",E2563))),NOT(ISERROR(SEARCH(\"(Industry/Business)\",E2563))),NOT(ISERROR(SEARCH(\"(NGO)\",E2563))),NOT(ISERROR(SEARCH(\"(Sea Grant Program)\",E2563))),NOT(ISERROR(SEARCH(\"(Other)\",E2563))),NOT(AND(NOT(ISERROR(SEARCH(\"(Unknown)\",E2563))),(ISERROR(SEARCH(\") (Unknown)\",E2563)))))),\"yes\",\"NO\"))","v":""}]
[null,null,null,null,null,null,null,null,null,null,null,null,"",{"$f":"IF($M2564=\"\",\"\",IFERROR(VLOOKUP($M2564,PartnerSearch!B$2:G$16000,6,0),\"--\"))","v":""},null,"","","",""]
[null,null,null,null,null,null,null,null,null,null,null,null,"",{"$f":"IF($M2565=\"\",\"\",IFERROR(VLOOKUP($M2565,PartnerSearch!B$2:G$16000,6,0),\"--\"))","v":""},null,"","","",""]
[null,null,null,null,null,null,null,null,null,null,null,null,"",{"$f":"IF($M2566=\"\",\"\",IFERROR(VLOOKUP($M2566,PartnerSearch!B$2:G$16000,6,0),\"--\"))","v":""},null,"","","",""]
[null,null,null,null,null,null,null,null,null,null,null,null,"",{"$f":"IF($M2567=\"\",\"\",IFERROR(VLOOKUP($M2567,PartnerSearch!B$2:G$16000,6,0),\"--\"))","v":""},null,"","","",""]
[null,null,null,null,null,null,null,null,null,null,null,null,"",{"$f":"IF($M2568=\"\",\"\",IFERROR(VLOOKUP($M2568,PartnerSearch!B$2:G$16000,6,0),\"--\"))","v":""},null,"","","",""]
[null,null,null,null,null,null,null,null,null,null,null,null,"",{"$f":"IF($M2569=\"\",\"\",IFERROR(VLOOKUP($M2569,PartnerSearch!B$2:G$16000,6,0),\"--\"))","v":""},null,"","","",""]
[null,null,null,null,null,null,null,null,null,null,null,null,"",{"$f":"IF($M2570=\"\",\"\",IFERROR(VLOOKUP($M2570,PartnerSearch!B$2:G$16000,6,0),\"--\"))","v":""},null,"","","",""]
[null,null,null,null,null,null,null,null,null,null,null,null,"",{"$f":"IF($M2571=\"\",\"\",IFERROR(VLOOKUP($M2571,PartnerSearch!B$2:G$16000,6,0),\"--\"))","v":""},null,"","","",""]
[null,null,null,null,null,null,null,null,null,null,null,null,"",{"$f":"IF($M2572=\"\",\"\",IFERROR(VLOOKUP($M2572,PartnerSearch!B$2:G$16000,6,0),\"--\"))","v":""},null,"","","",""]
[null,null,null,null,null,null,null,null,null,null,null,null,"",{"$f":"IF($M2573=\"\",\"\",IFERROR(VLOOKUP($M2573,PartnerSearch!B$2:G$16000,6,0),\"--\"))","v":""},null,"","","",""]
[null,null,null,null,null,null,null,null,null,null,null,null,"",{"$f":"IF($M2574=\"\",\"\",IFERROR(VLOOKUP($M2574,PartnerSearch!B$2:G$16000,6,0),\"--\"))","v":""},null,"","","",""]
[null,null,null,null,null,null,null,null,null,null,null,null,"",{"$f":"IF($M2575=\"\",\"\",IFERROR(VLOOKUP($M2575,PartnerSearch!B$2:G$16000,6,0),\"--\"))","v":""},null,"","","",""]
[null,null,null,null,null,null,null,null,null,null,null,null,"",{"$f":"IF($M2576=\"\",\"\",IFERROR(VLOOKUP($M2576,PartnerSearch!B$2:G$16000,6,0),\"--\"))","v":""},null,"","","",""]
[null,null,null,null,null,null,null,null,null,null,null,null,"",{"$f":"IF($M2577=\"\",\"\",IFERROR(VLOOKUP($M2577,PartnerSearch!B$2:G$16000,6,0),\"--\"))","v":""},null,"","","",""]
[null,null,null,null,null,null,null,null,null,null,null,null,"",{"$f":"IF($M2578=\"\",\"\",IFERROR(VLOOKUP($M2578,PartnerSearch!B$2:G$16000,6,0),\"--\"))","v":""},null,"","","",""]
[null,null,null,null,null,null,null,null,null,null,null,null,"",{"$f":"IF($M2579=\"\",\"\",IFERROR(VLOOKUP($M2579,PartnerSearch!B$2:G$16000,6,0),\"--\"))","v":""},null,"","","",""]
[null,null,null,null,null,null,null,null,null,null,null,null,"",{"$f":"IF($M2580=\"\",\"\",IFERROR(VLOOKUP($M2580,PartnerSearch!B$2:G$16000,6,0),\"--\"))","v":""},null,"","","",""]
[null,null,null,null,null,null,null,null,null,null,null,null,"",{"$f":"IF($M2581=\"\",\"\",IFERROR(VLOOKUP($M2581,PartnerSearch!B$2:G$16000,6,0),\"--\"))","v":""},null,"","","",""]
[null,null,null,null,null,null,null,null,null,null,null,null,"",{"$f":"IF($M2582=\"\",\"\",IFERROR(VLOOKUP($M2582,PartnerSearch!B$2:G$16000,6,0),\"--\"))","v":""},null,"","","",""]
[null,null,null,null,null,null,null,null,null,null,null,null,"",{"$f":"IF($M2583=\"\",\"\",IFERROR(VLOOKUP($M2583,PartnerSearch!B$2:G$16000,6,0),\"--\"))","v":""},null,"","","",""]
[null,null,null,null,null,null,null,null,null,null,null,null,"",{"$f":"IF($M2584=\"\",\"\",IFERROR(VLOOKUP($M2584,PartnerSearch!B$2:G$16000,6,0),\"--\"))","v":""},null,"","","",""]
[null,null,null,null,null,null,null,null,null,null,null,null,"",{"$f":"IF($M2585=\"\",\"\",IFERROR(VLOOKUP($M2585,PartnerSearch!B$2:G$16000,6,0),\"--\"))","v":""},null,"","","",""]
[null,null,null,null,null,null,null,null,null,null,null,null,"",{"$f":"IF($M2586=\"\",\"\",IFERROR(VLOOKUP($M2586,PartnerSearch!B$2:G$16000,6,0),\"--\"))","v":""},null,"","","",""]
[null,null,null,null,null,null,null,null,null,null,null,null,"",{"$f":"IF($M2587=\"\",\"\",IFERROR(VLOOKUP($M2587,PartnerSearch!B$2:G$16000,6,0),\"--\"))","v":""},null,"","","",""]
[null,null,null,null,null,null,null,null,null,null,null,null,"",{"$f":"IF($M2588=\"\",\"\",IFERROR(VLOOKUP($M2588,PartnerSearch!B$2:G$16000,6,0),\"--\"))","v":""},null,"","","",""]
[null,null,null,null,null,null,null,null,null,null,null,null,"",{"$f":"IF($M2589=\"\",\"\",IFERROR(VLOOKUP($M2589,PartnerSearch!B$2:G$16000,6,0),\"--\"))","v":""},null,"","","",""]
[null,null,null,null,null,null,null,null,null,null,null,null,"",{"$f":"IF($M2590=\"\",\"\",IFERROR(VLOOKUP($M2590,PartnerSearch!B$2:G$16000,6,0),\"--\"))","v":""},null,"","","",""]
[null,null,null,null,null,null,null,null,null,null,null,null,"",{"$f":"IF($M2591=\"\",\"\",IFERROR(VLOOKUP($M2591,PartnerSearch!B$2:G$16000,6,0),\"--\"))","v":""},null,"","","",""]
[null,null,null,null,null,null,null,null,null,null,null,null,"",{"$f":"IF($M2592=\"\",\"\",IFERROR(VLOOKUP($M2592,PartnerSearch!B$2:G$16000,6,0),\"--\"))","v":""},null,"","","",""]
[null,null,null,null,null,null,null,null,null,null,null,null,"",{"$f":"IF($M2593=\"\",\"\",IFERROR(VLOOKUP($M2593,PartnerSearch!B$2:G$16000,6,0),\"--\"))","v":""},null,"","","",""]
[null,null,null,null,null,null,null,null,null,null,null,null,"",{"$f":"IF($M2594=\"\",\"\",IFERROR(VLOOKUP($M2594,PartnerSearch!B$2:G$16000,6,0),\"--\"))","v":""},null,"","","",""]
[null,null,null,null,null,null,null,null,null,null,null,null,"",{"$f":"IF($M2595=\"\",\"\",IFERROR(VLOOKUP($M2595,PartnerSearch!B$2:G$16000,6,0),\"--\"))","v":""},null,"","","",""]
[null,null,null,null,null,null,null,null,null,null,null,null,"",{"$f":"IF($M2596=\"\",\"\",IFERROR(VLOOKUP($M2596,PartnerSearch!B$2:G$16000,6,0),\"--\"))","v":""},null,"","","",""]
[null,null,null,null,null,null,null,null,null,null,null,null,"",{"$f":"IF($M2597=\"\",\"\",IFERROR(VLOOKUP($M2597,PartnerSearch!B$2:G$16000,6,0),\"--\"))","v":""},null,"","","",""]
[null,null,null,null,null,null,null,null,null,null,null,null,"",{"$f":"IF($M2598=\"\",\"\",IFERROR(VLOOKUP($M2598,PartnerSearch!B$2:G$16000,6,0),\"--\"))","v":""},null,"","","",""]
[null,null,null,null,null,null,null,null,null,null,null,null,"",{"$f":"IF($M2599=\"\",\"\",IFERROR(VLOOKUP($M2599,PartnerSearch!B$2:G$16000,6,0),\"--\"))","v":""},null,"","","",""]
[null,null,null,null,null,null,null,null,null,null,null,null,"",{"$f":"IF($M2600=\"\",\"\",IFERROR(VLOOKUP($M2600,PartnerSearch!B$2:G$16000,6,0),\"--\"))","v":""},null,"","","",""]
[null,null,null,null,null,null,null,null,null,null,null,null,{"$f":"TRIM(SUBSTITUTE(SUBSTITUTE(SUBSTITUTE(SUBSTITUTE(SUBSTITUTE(SUBSTITUTE(SUBSTITUTE(SUBSTITUTE(SUBSTITUTE(SUBSTITUTE(SUBSTITUTE(SUBSTITUTE(SUBSTITUTE(SUBSTITUTE(E2601,\"00000 \",\"\"),\" (Local)\",\"\"),\" (Tribal)\",\"\"),\" (State)\",\"\"),\" (Regional)\",\"\"),\" (Federal/National)\",\"\"),\" (International)\",\"\"),\" (Unknown)\",\"\"),\" (Academic Institution)\",\"\"),\" (Government)\",\"\"),\" (Industry/Business)\",\"\"),\" (NGO)\",\"\"),\" (Other)\",\"\"),\" (Sea Grant Program)\",\"\"))","v":""},{"$f":"IF($M2601=\"\",\"\",IFERROR(VLOOKUP($M2601,PartnerSearch!B$2:G$16000,6,0),\"--\"))","v":""},null,"","","",""]
[null,null,null,null,null,null,null,null,null,null,null,null,"",{"$f":"IF($M2602=\"\",\"\",IFERROR(VLOOKUP($M2602,PartnerSearch!B$2:G$16000,6,0),\"--\"))","v":""},null,"","","",""]
[null,null,null,null,null,null,null,null,null,null,null,null,"",{"$f":"IF($M2603=\"\",\"\",IFERROR(VLOOKUP($M2603,PartnerSearch!B$2:G$16000,6,0),\"--\"))","v":""},null,"","","",""]
[null,null,null,null,null,null,null,null,null,null,null,null,"",{"$f":"IF($M2604=\"\",\"\",IFERROR(VLOOKUP($M2604,PartnerSearch!B$2:G$16000,6,0),\"--\"))","v":""},null,"","","",""]
[null,null,null,null,null,null,null,null,null,null,null,null,"",{"$f":"IF($M2605=\"\",\"\",IFERROR(VLOOKUP($M2605,PartnerSearch!B$2:G$16000,6,0),\"--\"))","v":""},null,"","","",""]
[null,null,null,null,null,null,null,null,null,null,null,null,"",{"$f":"IF($M2606=\"\",\"\",IFERROR(VLOOKUP($M2606,PartnerSearch!B$2:G$16000,6,0),\"--\"))","v":""},null,"","","",""]
[null,null,null,null,null,null,null,null,null,null,null,null,"",{"$f":"IF($M2607=\"\",\"\",IFERROR(VLOOKUP($M2607,PartnerSearch!B$2:G$16000,6,0),\"--\"))","v":""},null,"","","",""]
[null,null,null,null,null,null,null,null,null,null,null,null,"",{"$f":"IF($M2608=\"\",\"\",IFERROR(VLOOKUP($M2608,PartnerSearch!B$2:G$16000,6,0),\"--\"))","v":""},null,"","","",""]
[null,null,null,null,null,null,null,null,null,null,null,null,"",{"$f":"IF($M2609=\"\",\"\",IFERROR(VLOOKUP($M2609,PartnerSearch!B$2:G$16000,6,0),\"--\"))","v":""},null,"","","",""]
[null,null,null,null,null,null,null,null,null,null,null,null,"",{"$f":"IF($M2610=\"\",\"\",IFERROR(VLOOKUP($M2610,PartnerSearch!B$2:G$16000,6,0),\"--\"))","v":""},null,"","","",""]
[null,null,null,null,null,null,null,null,null,null,null,null,"",{"$f":"IF($M2611=\"\",\"\",IFERROR(VLOOKUP($M2611,PartnerSearch!B$2:G$16000,6,0),\"--\"))","v":""},null,"","","",""]
[null,null,null,null,null,null,null,null,null,null,null,null,"",{"$f":"IF($M2612=\"\",\"\",IFERROR(VLOOKUP($M2612,PartnerSearch!B$2:G$16000,6,0),\"--\"))","v":""},null,"","","",""]
[null,null,null,null,null,null,null,null,null,null,null,null,"",{"$f":"IF($M2613=\"\",\"\",IFERROR(VLOOKUP($M2613,PartnerSearch!B$2:G$16000,6,0),\"--\"))","v":""},null,"","","",""]
[null,null,null,null,null,null,null,null,null,null,null,null,"",{"$f":"IF($M2614=\"\",\"\",IFERROR(VLOOKUP($M2614,PartnerSearch!B$2:G$16000,6,0),\"--\"))","v":""},null,"","","",""]
[null,null,null,null,null,null,null,null,null,null,null,null,"",{"$f":"IF($M2615=\"\",\"\",IFERROR(VLOOKUP($M2615,PartnerSearch!B$2:G$16000,6,0),\"--\"))","v":""},null,"","","",""]
[null,null,null,null,null,null,null,null,null,null,null,null,"",{"$f":"IF($M2616=\"\",\"\",IFERROR(VLOOKUP($M2616,PartnerSearch!B$2:G$16000,6,0),\"--\"))","v":""},null,"","","",""]
[null,null,null,null,null,null,null,null,null,null,null,null,"",{"$f":"IF($M2617=\"\",\"\",IFERROR(VLOOKUP($M2617,PartnerSearch!B$2:G$16000,6,0),\"--\"))","v":""},null,"","","",""]
[null,null,null,null,null,null,null,null,null,null,null,null,"",{"$f":"IF($M2618=\"\",\"\",IFERROR(VLOOKUP($M2618,PartnerSearch!B$2:G$16000,6,0),\"--\"))","v":""},null,"","","",""]
[null,null,null,null,null,null,null,null,null,null,null,null,"",{"$f":"IF($M2619=\"\",\"\",IFERROR(VLOOKUP($M2619,PartnerSearch!B$2:G$16000,6,0),\"--\"))","v":""},null,"","","",""]
[null,null,null,null,null,null,null,null,null,null,null,null,"",{"$f":"IF($M2620=\"\",\"\",IFERROR(VLOOKUP($M2620,PartnerSearch!B$2:G$16000,6,0),\"--\"))","v":""},null,"","","",""]
[null,null,null,null,null,null,null,null,null,null,null,null,"",{"$f":"IF($M2621=\"\",\"\",IFERROR(VLOOKUP($M2621,PartnerSearch!B$2:G$16000,6,0),\"--\"))","v":""},null,"","","",""]
[null,null,null,null,null,null,null,null,null,null,null,null,"",{"$f":"IF($M2622=\"\",\"\",IFERROR(VLOOKUP($M2622,PartnerSearch!B$2:G$16000,6,0),\"--\"))","v":""},null,"","","",""]
[null,null,null,null,null,null,null,null,null,null,null,null,"",{"$f":"IF($M2623=\"\",\"\",IFERROR(VLOOKUP($M2623,PartnerSearch!B$2:G$16000,6,0),\"--\"))","v":""},null,"","","",""]
[null,null,null,null,null,null,null,null,null,null,null,null,"",{"$f":"IF($M2624=\"\",\"\",IFERROR(VLOOKUP($M2624,PartnerSearch!B$2:G$16000,6,0),\"--\"))","v":""},null,"","","",""]
[null,null,null,null,null,null,null,null,null,null,null,null,"",{"$f":"IF($M2625=\"\",\"\",IFERROR(VLOOKUP($M2625,PartnerSearch!B$2:G$16000,6,0),\"--\"))","v":""},null,"","","",""]
[null,null,null,null,null,null,null,null,null,null,null,null,"",{"$f":"IF($M2626=\"\",\"\",IFERROR(VLOOKUP($M2626,PartnerSearch!B$2:G$16000,6,0),\"--\"))","v":""},null,"","","",""]
[null,null,null,null,null,null,null,null,null,null,null,null,{"$f":"TRIM(SUBSTITUTE(SUBSTITUTE(SUBSTITUTE(SUBSTITUTE(SUBSTITUTE(SUBSTITUTE(SUBSTITUTE(SUBSTITUTE(SUBSTITUTE(SUBSTITUTE(SUBSTITUTE(SUBSTITUTE(SUBSTITUTE(SUBSTITUTE(E2627,\"00000 \",\"\"),\" (Local)\",\"\"),\" (Tribal)\",\"\"),\" (State)\",\"\"),\" (Regional)\",\"\"),\" (Federal/National)\",\"\"),\" (International)\",\"\"),\" (Unknown)\",\"\"),\" (Academic Institution)\",\"\"),\" (Government)\",\"\"),\" (Industry/Business)\",\"\"),\" (NGO)\",\"\"),\" (Other)\",\"\"),\" (Sea Grant Program)\",\"\"))","v":""},{"$f":"IF($M2627=\"\",\"\",IFERROR(VLOOKUP($M2627,PartnerSearch!B$2:G$16000,6,0),\"--\"))","v":""},null,{"$f":"IF(E2627=\"\",\"\",IF(LEFT(E2627&\"x\",5)=\"00000\",\"\",IF(N2627=\"--\",\"NO\",\"yes\")))","v":""},{"$f":"IF(LEFT(E2627&\"x\",5)<>\"00000\",\"\",IF(N2627=\"--\",\"yes\",\"NO\"))","v":""},{"$f":"IF(Q2627=\"\",\"\",IF((ISERROR(SEARCH(\"(Federal/National)\",E2627))*1+ISERROR(SEARCH(\"(International)\",E2627))*1+ISERROR(SEARCH(\"(Local)\",E2627))*1+ISERROR(SEARCH(\"(State)\",E2627))*1+ISERROR(SEARCH(\"(Regional)\",E2627))*1+ISERROR(SEARCH(\"(Tribal)\",E2627))*1+ISERROR(SEARCH(\"(Unknown) (\",E2627))*1)=6,\"yes\",\"NO\"))","v":""},{"$f":"IF(Q2627=\"\",\"\",IF(OR(NOT(ISERROR(SEARCH(\"(Academic Institution)\",E2627))),NOT(ISERROR(SEARCH(\"(Government)\",E2627))),NOT(ISERROR(SEARCH(\"(Industry/Business)\",E2627))),NOT(ISERROR(SEARCH(\"(NGO)\",E2627))),NOT(ISERROR(SEARCH(\"(Sea Grant Program)\",E2627))),NOT(ISERROR(SEARCH(\"(Other)\",E2627))),NOT(AND(NOT(ISERROR(SEARCH(\"(Unknown)\",E2627))),(ISERROR(SEARCH(\") (Unknown)\",E2627)))))),\"yes\",\"NO\"))","v":""}]
[null,null,null,null,null,null,null,null,null,null,null,null,"",{"$f":"IF($M2628=\"\",\"\",IFERROR(VLOOKUP($M2628,PartnerSearch!B$2:G$16000,6,0),\"--\"))","v":""},null,"","","",""]
[null,null,null,null,null,null,null,null,null,null,null,null,"",{"$f":"IF($M2629=\"\",\"\",IFERROR(VLOOKUP($M2629,PartnerSearch!B$2:G$16000,6,0),\"--\"))","v":""},null,"","","",""]
[null,null,null,null,null,null,null,null,null,null,null,null,"",{"$f":"IF($M2630=\"\",\"\",IFERROR(VLOOKUP($M2630,PartnerSearch!B$2:G$16000,6,0),\"--\"))","v":""},null,"","","",""]
[null,null,null,null,null,null,null,null,null,null,null,null,"",{"$f":"IF($M2631=\"\",\"\",IFERROR(VLOOKUP($M2631,PartnerSearch!B$2:G$16000,6,0),\"--\"))","v":""}]
[null,null,null,null,null,null,null,null,null,null,null,null,"",{"$f":"IF($M2632=\"\",\"\",IFERROR(VLOOKUP($M2632,PartnerSearch!B$2:G$16000,6,0),\"--\"))","v":""}]
[null,null,null,null,null,null,null,null,null,null,null,null,"",{"$f":"IF($M2633=\"\",\"\",IFERROR(VLOOKUP($M2633,PartnerSearch!B$2:G$16000,6,0),\"--\"))","v":""}]
[null,null,null,null,null,null,null,null,null,null,null,null,"",{"$f":"IF($M2634=\"\",\"\",IFERROR(VLOOKUP($M2634,PartnerSearch!B$2:G$16000,6,0),\"--\"))","v":""}]
[null,null,null,null,null,null,null,null,null,null,null,null,"",{"$f":"IF($M2635=\"\",\"\",IFERROR(VLOOKUP($M2635,PartnerSearch!B$2:G$16000,6,0),\"--\"))","v":""}]
[null,null,null,null,null,null,null,null,null,null,null,null,"",{"$f":"IF($M2636=\"\",\"\",IFERROR(VLOOKUP($M2636,PartnerSearch!B$2:G$16000,6,0),\"--\"))","v":""}]
[null,null,null,null,null,null,null,null,null,null,null,null,"",{"$f":"IF($M2637=\"\",\"\",IFERROR(VLOOKUP($M2637,PartnerSearch!B$2:G$16000,6,0),\"--\"))","v":""}]
[null,null,null,null,null,null,null,null,null,null,null,null,"",{"$f":"IF($M2638=\"\",\"\",IFERROR(VLOOKUP($M2638,PartnerSearch!B$2:G$16000,6,0),\"--\"))","v":""}]
[null,null,null,null,null,null,null,null,null,null,null,null,"",{"$f":"IF($M2639=\"\",\"\",IFERROR(VLOOKUP($M2639,PartnerSearch!B$2:G$16000,6,0),\"--\"))","v":""}]
[null,null,null,null,null,null,null,null,null,null,null,null,"",{"$f":"IF($M2640=\"\",\"\",IFERROR(VLOOKUP($M2640,PartnerSearch!B$2:G$16000,6,0),\"--\"))","v":""}]
[null,null,null,null,null,null,null,null,null,null,null,null,"",{"$f":"IF($M2641=\"\",\"\",IFERROR(VLOOKUP($M2641,PartnerSearch!B$2:G$16000,6,0),\"--\"))","v":""}]
[null,null,null,null,null,null,null,null,null,null,null,null,"",{"$f":"IF($M2642=\"\",\"\",IFERROR(VLOOKUP($M2642,PartnerSearch!B$2:G$16000,6,0),\"--\"))","v":""}]
[null,null,null,null,null,null,null,null,null,null,null,null,"",{"$f":"IF($M2643=\"\",\"\",IFERROR(VLOOKUP($M2643,PartnerSearch!B$2:G$16000,6,0),\"--\"))","v":""}]
[null,null,null,null,null,null,null,null,null,null,null,null,"",{"$f":"IF($M2644=\"\",\"\",IFERROR(VLOOKUP($M2644,PartnerSearch!B$2:G$16000,6,0),\"--\"))","v":""}]
[null,null,null,null,null,null,null,null,null,null,null,null,"",{"$f":"IF($M2645=\"\",\"\",IFERROR(VLOOKUP($M2645,PartnerSearch!B$2:G$16000,6,0),\"--\"))","v":""}]
[null,null,null,null,null,null,null,null,null,null,null,null,"",{"$f":"IF($M2646=\"\",\"\",IFERROR(VLOOKUP($M2646,PartnerSearch!B$2:G$16000,6,0),\"--\"))","v":""}]
[null,null,null,null,null,null,null,null,null,null,null,null,"",{"$f":"IF($M2647=\"\",\"\",IFERROR(VLOOKUP($M2647,PartnerSearch!B$2:G$16000,6,0),\"--\"))","v":""}]
[null,null,null,null,null,null,null,null,null,null,null,null,"",{"$f":"IF($M2648=\"\",\"\",IFERROR(VLOOKUP($M2648,PartnerSearch!B$2:G$16000,6,0),\"--\"))","v":""}]
[null,null,null,null,null,null,null,null,null,null,null,null,"",{"$f":"IF($M2649=\"\",\"\",IFERROR(VLOOKUP($M2649,PartnerSearch!B$2:G$16000,6,0),\"--\"))","v":""}]
[null,null,null,null,null,null,null,null,null,null,null,null,"",{"$f":"IF($M2650=\"\",\"\",IFERROR(VLOOKUP($M2650,PartnerSearch!B$2:G$16000,6,0),\"--\"))","v":""}]

{"sheet":"F Area validation detail","index":61,"n_rows":351,"n_cols":18,"rows_kept":351,"cut":false,"hidden":false,"merged":[]}
[null,"Back to main validation tab",null,"Project","Focus Area as Entered","Focus Area from lookup table - do they match?","FA ID","# errors\n(in red)",null,null,null,null,null,null,null,null,"# errors",{"$f":"SUM(R2:R350)","v":0}]
[null,null,null,null,null,null,null,null,null,null,null,null,null,null,null,{"$f":"IF($E2=\"\",\"\",VLOOKUP($G2,FocusAreas!$B$158:$C$936,2,0))","v":""},{"$f":"IF($E2=\"\",\"\",VLOOKUP(G2,FocusAreas!$B$11:$B$936,1,0))","v":""},{"$f":"IF(E2=0,\"\",IF(OR(ISERROR(Q2),ISERROR(F2)),1,IF(TRIM(E2)=TRIM(F2),0,1)))","v":""}]
[null,null,null,null,null,null,null,null,null,null,null,null,null,{"$f":"CHAR(34)","v":"\""},null,{"$f":"IF($E3=\"\",\"\",VLOOKUP($G3,FocusAreas!$B$158:$C$936,2,0))","v":""},{"$f":"IF($E3=\"\",\"\",VLOOKUP(G3,FocusAreas!$B$11:$B$936,1,0))","v":""},{"$f":"IF(OR(ISERROR(Q3),ISERROR(F3)),1,IF(TRIM(E3)=TRIM(F3),0,1))","v":0}]
[null,null,null,null,null,null,null,null,null,null,null,null,null,null,null,{"$f":"IF($E4=\"\",\"\",VLOOKUP($G4,FocusAreas!$B$158:$C$936,2,0))","v":""},{"$f":"IF($E4=\"\",\"\",VLOOKUP(G4,FocusAreas!$B$11:$B$936,1,0))","v":""},0]
[null,null,null,null,null,null,null,null,null,null,null,null,null,null,null,{"$f":"IF($E5=\"\",\"\",VLOOKUP($G5,FocusAreas!$B$158:$C$936,2,0))","v":""},{"$f":"IF($E5=\"\",\"\",VLOOKUP(G5,FocusAreas!$B$11:$B$936,1,0))","v":""},0]
[null,null,null,null,null,null,null,null,null,null,null,null,null,null,null,{"$f":"IF($E6=\"\",\"\",VLOOKUP($G6,FocusAreas!$B$158:$C$936,2,0))","v":""},{"$f":"IF($E6=\"\",\"\",VLOOKUP(G6,FocusAreas!$B$11:$B$936,1,0))","v":""},0]
[null,null,null,null,null,null,null,null,null,null,null,null,null,null,null,{"$f":"IF($E7=\"\",\"\",VLOOKUP($G7,FocusAreas!$B$158:$C$936,2,0))","v":""},{"$f":"IF($E7=\"\",\"\",VLOOKUP(G7,FocusAreas!$B$11:$B$936,1,0))","v":""},0]
[null,null,null,null,null,null,null,null,null,null,null,null,null,null,null,{"$f":"IF($E8=\"\",\"\",VLOOKUP($G8,FocusAreas!$B$158:$C$936,2,0))","v":""},{"$f":"IF($E8=\"\",\"\",VLOOKUP(G8,FocusAreas!$B$11:$B$936,1,0))","v":""},0]
[null,null,null,null,null,null,null,null,null,null,null,null,null,null,null,{"$f":"IF($E9=\"\",\"\",VLOOKUP($G9,FocusAreas!$B$158:$C$936,2,0))","v":""},{"$f":"IF($E9=\"\",\"\",VLOOKUP(G9,FocusAreas!$B$11:$B$936,1,0))","v":""},0]
[null,null,null,null,null,null,null,null,null,null,null,null,null,null,null,{"$f":"IF($E10=\"\",\"\",VLOOKUP($G10,FocusAreas!$B$158:$C$936,2,0))","v":""},{"$f":"IF($E10=\"\",\"\",VLOOKUP(G10,FocusAreas!$B$11:$B$936,1,0))","v":""},0]
[null,null,null,null,null,null,null,null,null,null,null,null,null,null,null,{"$f":"IF($E11=\"\",\"\",VLOOKUP($G11,FocusAreas!$B$158:$C$936,2,0))","v":""},{"$f":"IF($E11=\"\",\"\",VLOOKUP(G11,FocusAreas!$B$11:$B$936,1,0))","v":""},0]
[null,null,null,null,null,null,null,null,null,null,null,null,null,null,null,{"$f":"IF($E12=\"\",\"\",VLOOKUP($G12,FocusAreas!$B$158:$C$936,2,0))","v":""},{"$f":"IF($E12=\"\",\"\",VLOOKUP(G12,FocusAreas!$B$11:$B$936,1,0))","v":""},0]
[null,null,null,null,null,null,null,null,null,null,null,null,null,null,null,{"$f":"IF($E13=\"\",\"\",VLOOKUP($G13,FocusAreas!$B$158:$C$936,2,0))","v":""},{"$f":"IF($E13=\"\",\"\",VLOOKUP(G13,FocusAreas!$B$11:$B$936,1,0))","v":""},0]
[null,null,null,null,null,null,null,null,null,null,null,null,null,null,null,{"$f":"IF($E14=\"\",\"\",VLOOKUP($G14,FocusAreas!$B$158:$C$936,2,0))","v":""},{"$f":"IF($E14=\"\",\"\",VLOOKUP(G14,FocusAreas!$B$11:$B$936,1,0))","v":""},0]
[null,null,null,null,null,null,null,null,null,null,null,null,null,null,null,{"$f":"IF($E15=\"\",\"\",VLOOKUP($G15,FocusAreas!$B$158:$C$936,2,0))","v":""},{"$f":"IF($E15=\"\",\"\",VLOOKUP(G15,FocusAreas!$B$11:$B$936,1,0))","v":""},0]
[null,null,null,null,null,null,null,null,null,null,null,null,null,null,null,{"$f":"IF($E16=\"\",\"\",VLOOKUP($G16,FocusAreas!$B$158:$C$936,2,0))","v":""},{"$f":"IF($E16=\"\",\"\",VLOOKUP(G16,FocusAreas!$B$11:$B$936,1,0))","v":""},0]
[null,null,null,null,null,null,null,null,null,null,null,null,null,null,null,{"$f":"IF($E17=\"\",\"\",VLOOKUP($G17,FocusAreas!$B$158:$C$936,2,0))","v":""},{"$f":"IF($E17=\"\",\"\",VLOOKUP(G17,FocusAreas!$B$11:$B$936,1,0))","v":""},0]
[null,null,null,null,null,null,null,null,null,null,null,null,null,null,null,{"$f":"IF($E18=\"\",\"\",VLOOKUP($G18,FocusAreas!$B$158:$C$936,2,0))","v":""},{"$f":"IF($E18=\"\",\"\",VLOOKUP(G18,FocusAreas!$B$11:$B$936,1,0))","v":""},0]
[null,null,null,null,null,null,null,null,null,null,null,null,null,null,null,{"$f":"IF($E19=\"\",\"\",VLOOKUP($G19,FocusAreas!$B$158:$C$936,2,0))","v":""},{"$f":"IF($E19=\"\",\"\",VLOOKUP(G19,FocusAreas!$B$11:$B$936,1,0))","v":""},0]
[null,null,null,null,null,null,null,null,null,null,null,null,null,null,null,{"$f":"IF($E20=\"\",\"\",VLOOKUP($G20,FocusAreas!$B$158:$C$936,2,0))","v":""},{"$f":"IF($E20=\"\",\"\",VLOOKUP(G20,FocusAreas!$B$11:$B$936,1,0))","v":""},0]
[null,null,null,null,null,null,null,null,null,null,null,null,null,null,null,{"$f":"IF($E21=\"\",\"\",VLOOKUP($G21,FocusAreas!$B$158:$C$936,2,0))","v":""},{"$f":"IF($E21=\"\",\"\",VLOOKUP(G21,FocusAreas!$B$11:$B$936,1,0))","v":""},0]
[null,null,null,null,null,null,null,null,null,null,null,null,null,null,null,{"$f":"IF($E22=\"\",\"\",VLOOKUP($G22,FocusAreas!$B$158:$C$936,2,0))","v":""},{"$f":"IF($E22=\"\",\"\",VLOOKUP(G22,FocusAreas!$B$11:$B$936,1,0))","v":""},0]
[null,null,null,null,null,null,null,null,null,null,null,null,null,null,null,{"$f":"IF($E23=\"\",\"\",VLOOKUP($G23,FocusAreas!$B$158:$C$936,2,0))","v":""},{"$f":"IF($E23=\"\",\"\",VLOOKUP(G23,FocusAreas!$B$11:$B$936,1,0))","v":""},0]
[null,null,null,null,null,null,null,null,null,null,null,null,null,null,null,{"$f":"IF($E24=\"\",\"\",VLOOKUP($G24,FocusAreas!$B$158:$C$936,2,0))","v":""},{"$f":"IF($E24=\"\",\"\",VLOOKUP(G24,FocusAreas!$B$11:$B$936,1,0))","v":""},0]
[null,null,null,null,null,null,null,null,null,null,null,null,null,null,null,{"$f":"IF($E25=\"\",\"\",VLOOKUP($G25,FocusAreas!$B$158:$C$936,2,0))","v":""},{"$f":"IF($E25=\"\",\"\",VLOOKUP(G25,FocusAreas!$B$11:$B$936,1,0))","v":""},0]
[null,null,null,null,null,null,null,null,null,null,null,null,null,null,null,{"$f":"IF($E26=\"\",\"\",VLOOKUP($G26,FocusAreas!$B$158:$C$936,2,0))","v":""},{"$f":"IF($E26=\"\",\"\",VLOOKUP(G26,FocusAreas!$B$11:$B$936,1,0))","v":""},0]
[null,null,null,null,null,null,null,null,null,null,null,null,null,null,null,{"$f":"IF($E27=\"\",\"\",VLOOKUP($G27,FocusAreas!$B$158:$C$936,2,0))","v":""},{"$f":"IF($E27=\"\",\"\",VLOOKUP(G27,FocusAreas!$B$11:$B$936,1,0))","v":""},0]
[null,null,null,null,null,null,null,null,null,null,null,null,null,null,null,{"$f":"IF($E28=\"\",\"\",VLOOKUP($G28,FocusAreas!$B$158:$C$936,2,0))","v":""},{"$f":"IF($E28=\"\",\"\",VLOOKUP(G28,FocusAreas!$B$11:$B$936,1,0))","v":""},0]
[null,null,null,null,null,null,null,null,null,null,null,null,null,null,null,{"$f":"IF($E29=\"\",\"\",VLOOKUP($G29,FocusAreas!$B$158:$C$936,2,0))","v":""},{"$f":"IF($E29=\"\",\"\",VLOOKUP(G29,FocusAreas!$B$11:$B$936,1,0))","v":""},0]
[null,null,null,null,null,null,null,null,null,null,null,null,null,null,null,{"$f":"IF($E30=\"\",\"\",VLOOKUP($G30,FocusAreas!$B$158:$C$936,2,0))","v":""},{"$f":"IF($E30=\"\",\"\",VLOOKUP(G30,FocusAreas!$B$11:$B$936,1,0))","v":""},0]
[null,null,null,null,null,null,null,null,null,null,null,null,null,null,null,{"$f":"IF($E31=\"\",\"\",VLOOKUP($G31,FocusAreas!$B$158:$C$936,2,0))","v":""},{"$f":"IF($E31=\"\",\"\",VLOOKUP(G31,FocusAreas!$B$11:$B$936,1,0))","v":""},0]
[null,null,null,null,null,null,null,null,null,null,null,null,null,null,null,{"$f":"IF($E32=\"\",\"\",VLOOKUP($G32,FocusAreas!$B$158:$C$936,2,0))","v":""},{"$f":"IF($E32=\"\",\"\",VLOOKUP(G32,FocusAreas!$B$11:$B$936,1,0))","v":""},0]
[null,null,null,null,null,null,null,null,null,null,null,null,null,null,null,{"$f":"IF($E33=\"\",\"\",VLOOKUP($G33,FocusAreas!$B$158:$C$936,2,0))","v":""},{"$f":"IF($E33=\"\",\"\",VLOOKUP(G33,FocusAreas!$B$11:$B$936,1,0))","v":""},0]
[null,null,null,null,null,null,null,null,null,null,null,null,null,null,null,{"$f":"IF($E34=\"\",\"\",VLOOKUP($G34,FocusAreas!$B$158:$C$936,2,0))","v":""},{"$f":"IF($E34=\"\",\"\",VLOOKUP(G34,FocusAreas!$B$11:$B$936,1,0))","v":""},0]
[null,null,null,null,null,null,null,null,null,null,null,null,null,null,null,{"$f":"IF($E35=\"\",\"\",VLOOKUP($G35,FocusAreas!$B$158:$C$936,2,0))","v":""},{"$f":"IF($E35=\"\",\"\",VLOOKUP(G35,FocusAreas!$B$11:$B$936,1,0))","v":""},0]
[null,null,null,null,null,null,null,null,null,null,null,null,null,null,null,{"$f":"IF($E36=\"\",\"\",VLOOKUP($G36,FocusAreas!$B$158:$C$936,2,0))","v":""},{"$f":"IF($E36=\"\",\"\",VLOOKUP(G36,FocusAreas!$B$11:$B$936,1,0))","v":""},0]
[null,null,null,null,null,null,null,null,null,null,null,null,null,null,null,{"$f":"IF($E37=\"\",\"\",VLOOKUP($G37,FocusAreas!$B$158:$C$936,2,0))","v":""},{"$f":"IF($E37=\"\",\"\",VLOOKUP(G37,FocusAreas!$B$11:$B$936,1,0))","v":""},0]
[null,null,null,null,null,null,null,null,null,null,null,null,null,null,null,{"$f":"IF($E38=\"\",\"\",VLOOKUP($G38,FocusAreas!$B$158:$C$936,2,0))","v":""},{"$f":"IF($E38=\"\",\"\",VLOOKUP(G38,FocusAreas!$B$11:$B$936,1,0))","v":""},0]
[null,null,null,null,null,null,null,null,null,null,null,null,null,null,null,{"$f":"IF($E39=\"\",\"\",VLOOKUP($G39,FocusAreas!$B$158:$C$936,2,0))","v":""},{"$f":"IF($E39=\"\",\"\",VLOOKUP(G39,FocusAreas!$B$11:$B$936,1,0))","v":""},0]
[null,null,null,null,null,null,null,null,null,null,null,null,null,null,null,{"$f":"IF($E40=\"\",\"\",VLOOKUP($G40,FocusAreas!$B$158:$C$936,2,0))","v":""},{"$f":"IF($E40=\"\",\"\",VLOOKUP(G40,FocusAreas!$B$11:$B$936,1,0))","v":""},0]
[null,null,null,null,null,null,null,null,null,null,null,null,null,null,null,{"$f":"IF($E41=\"\",\"\",VLOOKUP($G41,FocusAreas!$B$158:$C$936,2,0))","v":""},{"$f":"IF($E41=\"\",\"\",VLOOKUP(G41,FocusAreas!$B$11:$B$936,1,0))","v":""},0]
[null,null,null,null,null,null,null,null,null,null,null,null,null,null,null,{"$f":"IF($E42=\"\",\"\",VLOOKUP($G42,FocusAreas!$B$158:$C$936,2,0))","v":""},{"$f":"IF($E42=\"\",\"\",VLOOKUP(G42,FocusAreas!$B$11:$B$936,1,0))","v":""},0]
[null,null,null,null,null,null,null,null,null,null,null,null,null,null,null,{"$f":"IF($E43=\"\",\"\",VLOOKUP($G43,FocusAreas!$B$158:$C$936,2,0))","v":""},{"$f":"IF($E43=\"\",\"\",VLOOKUP(G43,FocusAreas!$B$11:$B$936,1,0))","v":""},0]
[null,null,null,null,null,null,null,null,null,null,null,null,null,null,null,{"$f":"IF($E44=\"\",\"\",VLOOKUP($G44,FocusAreas!$B$158:$C$936,2,0))","v":""},{"$f":"IF($E44=\"\",\"\",VLOOKUP(G44,FocusAreas!$B$11:$B$936,1,0))","v":""},0]
[null,null,null,null,null,null,null,null,null,null,null,null,null,null,null,{"$f":"IF($E45=\"\",\"\",VLOOKUP($G45,FocusAreas!$B$158:$C$936,2,0))","v":""},{"$f":"IF($E45=\"\",\"\",VLOOKUP(G45,FocusAreas!$B$11:$B$936,1,0))","v":""},0]
[null,null,null,null,null,null,null,null,null,null,null,null,null,null,null,{"$f":"IF($E46=\"\",\"\",VLOOKUP($G46,FocusAreas!$B$158:$C$936,2,0))","v":""},{"$f":"IF($E46=\"\",\"\",VLOOKUP(G46,FocusAreas!$B$11:$B$936,1,0))","v":""},0]
[null,null,null,null,null,null,null,null,null,null,null,null,null,null,null,{"$f":"IF($E47=\"\",\"\",VLOOKUP($G47,FocusAreas!$B$158:$C$936,2,0))","v":""},{"$f":"IF($E47=\"\",\"\",VLOOKUP(G47,FocusAreas!$B$11:$B$936,1,0))","v":""},0]
[null,null,null,null,null,null,null,null,null,null,null,null,null,null,null,{"$f":"IF($E48=\"\",\"\",VLOOKUP($G48,FocusAreas!$B$158:$C$936,2,0))","v":""},{"$f":"IF($E48=\"\",\"\",VLOOKUP(G48,FocusAreas!$B$11:$B$936,1,0))","v":""},0]
[null,null,null,null,null,null,null,null,null,null,null,null,null,null,null,{"$f":"IF($E49=\"\",\"\",VLOOKUP($G49,FocusAreas!$B$158:$C$936,2,0))","v":""},{"$f":"IF($E49=\"\",\"\",VLOOKUP(G49,FocusAreas!$B$11:$B$936,1,0))","v":""},0]
[null,null,null,null,null,null,null,null,null,null,null,null,null,null,null,{"$f":"IF($E50=\"\",\"\",VLOOKUP($G50,FocusAreas!$B$158:$C$936,2,0))","v":""},{"$f":"IF($E50=\"\",\"\",VLOOKUP(G50,FocusAreas!$B$11:$B$936,1,0))","v":""},0]
[null,null,null,null,null,null,null,null,null,null,null,null,null,null,null,{"$f":"IF($E51=\"\",\"\",VLOOKUP($G51,FocusAreas!$B$158:$C$936,2,0))","v":""},{"$f":"IF($E51=\"\",\"\",VLOOKUP(G51,FocusAreas!$B$11:$B$936,1,0))","v":""},0]
[null,null,null,null,null,null,null,null,null,null,null,null,null,null,null,{"$f":"IF($E52=\"\",\"\",VLOOKUP($G52,FocusAreas!$B$158:$C$936,2,0))","v":""},{"$f":"IF($E52=\"\",\"\",VLOOKUP(G52,FocusAreas!$B$11:$B$936,1,0))","v":""},0]
[null,null,null,null,null,null,null,null,null,null,null,null,null,null,null,{"$f":"IF($E53=\"\",\"\",VLOOKUP($G53,FocusAreas!$B$158:$C$936,2,0))","v":""},{"$f":"IF($E53=\"\",\"\",VLOOKUP(G53,FocusAreas!$B$11:$B$936,1,0))","v":""},0]
[null,null,null,null,null,null,null,null,null,null,null,null,null,null,null,{"$f":"IF($E54=\"\",\"\",VLOOKUP($G54,FocusAreas!$B$158:$C$936,2,0))","v":""},{"$f":"IF($E54=\"\",\"\",VLOOKUP(G54,FocusAreas!$B$11:$B$936,1,0))","v":""},0]
[null,null,null,null,null,null,null,null,null,null,null,null,null,null,null,{"$f":"IF($E55=\"\",\"\",VLOOKUP($G55,FocusAreas!$B$158:$C$936,2,0))","v":""},{"$f":"IF($E55=\"\",\"\",VLOOKUP(G55,FocusAreas!$B$11:$B$936,1,0))","v":""},0]
[null,null,null,null,null,null,null,null,null,null,null,null,null,null,null,{"$f":"IF($E56=\"\",\"\",VLOOKUP($G56,FocusAreas!$B$158:$C$936,2,0))","v":""},{"$f":"IF($E56=\"\",\"\",VLOOKUP(G56,FocusAreas!$B$11:$B$936,1,0))","v":""},0]
[null,null,null,null,null,null,null,null,null,null,null,null,null,null,null,{"$f":"IF($E57=\"\",\"\",VLOOKUP($G57,FocusAreas!$B$158:$C$936,2,0))","v":""},{"$f":"IF($E57=\"\",\"\",VLOOKUP(G57,FocusAreas!$B$11:$B$936,1,0))","v":""},0]
[null,null,null,null,null,null,null,null,null,null,null,null,null,null,null,{"$f":"IF($E58=\"\",\"\",VLOOKUP($G58,FocusAreas!$B$158:$C$936,2,0))","v":""},{"$f":"IF($E58=\"\",\"\",VLOOKUP(G58,FocusAreas!$B$11:$B$936,1,0))","v":""},0]
[null,null,null,null,null,null,null,null,null,null,null,null,null,null,null,{"$f":"IF($E59=\"\",\"\",VLOOKUP($G59,FocusAreas!$B$158:$C$936,2,0))","v":""},{"$f":"IF($E59=\"\",\"\",VLOOKUP(G59,FocusAreas!$B$11:$B$936,1,0))","v":""},0]
[null,null,null,null,null,null,null,null,null,null,null,null,null,null,null,{"$f":"IF($E60=\"\",\"\",VLOOKUP($G60,FocusAreas!$B$158:$C$936,2,0))","v":""},{"$f":"IF($E60=\"\",\"\",VLOOKUP(G60,FocusAreas!$B$11:$B$936,1,0))","v":""},0]
[null,null,null,null,null,null,null,null,null,null,null,null,null,null,null,{"$f":"IF($E61=\"\",\"\",VLOOKUP($G61,FocusAreas!$B$158:$C$936,2,0))","v":""},{"$f":"IF($E61=\"\",\"\",VLOOKUP(G61,FocusAreas!$B$11:$B$936,1,0))","v":""},0]
[null,null,null,null,null,null,null,null,null,null,null,null,null,null,null,{"$f":"IF($E62=\"\",\"\",VLOOKUP($G62,FocusAreas!$B$158:$C$936,2,0))","v":""},{"$f":"IF($E62=\"\",\"\",VLOOKUP(G62,FocusAreas!$B$11:$B$936,1,0))","v":""},0]
[null,null,null,null,null,null,null,null,null,null,null,null,null,null,null,{"$f":"IF($E63=\"\",\"\",VLOOKUP($G63,FocusAreas!$B$158:$C$936,2,0))","v":""},{"$f":"IF($E63=\"\",\"\",VLOOKUP(G63,FocusAreas!$B$11:$B$936,1,0))","v":""},0]
[null,null,null,null,null,null,null,null,null,null,null,null,null,null,null,{"$f":"IF($E64=\"\",\"\",VLOOKUP($G64,FocusAreas!$B$158:$C$936,2,0))","v":""},{"$f":"IF($E64=\"\",\"\",VLOOKUP(G64,FocusAreas!$B$11:$B$936,1,0))","v":""},0]
[null,null,null,null,null,null,null,null,null,null,null,null,null,null,null,{"$f":"IF($E65=\"\",\"\",VLOOKUP($G65,FocusAreas!$B$158:$C$936,2,0))","v":""},{"$f":"IF($E65=\"\",\"\",VLOOKUP(G65,FocusAreas!$B$11:$B$936,1,0))","v":""},0]
[null,null,null,null,null,null,null,null,null,null,null,null,null,null,null,{"$f":"IF($E66=\"\",\"\",VLOOKUP($G66,FocusAreas!$B$158:$C$936,2,0))","v":""},{"$f":"IF($E66=\"\",\"\",VLOOKUP(G66,FocusAreas!$B$11:$B$936,1,0))","v":""},0]
[null,null,null,null,null,null,null,null,null,null,null,null,null,null,null,{"$f":"IF($E67=\"\",\"\",VLOOKUP($G67,FocusAreas!$B$158:$C$936,2,0))","v":""},{"$f":"IF($E67=\"\",\"\",VLOOKUP(G67,FocusAreas!$B$11:$B$936,1,0))","v":""},{"$f":"IF(OR(ISERROR(Q67),ISERROR(F67)),1,IF(TRIM(E67)=TRIM(F67),0,1))","v":0}]
[null,null,null,null,null,null,null,null,null,null,null,null,null,null,null,{"$f":"IF($E68=\"\",\"\",VLOOKUP($G68,FocusAreas!$B$158:$C$936,2,0))","v":""},{"$f":"IF($E68=\"\",\"\",VLOOKUP(G68,FocusAreas!$B$11:$B$936,1,0))","v":""},0]
[null,null,null,null,null,null,null,null,null,null,null,null,null,null,null,{"$f":"IF($E69=\"\",\"\",VLOOKUP($G69,FocusAreas!$B$158:$C$936,2,0))","v":""},{"$f":"IF($E69=\"\",\"\",VLOOKUP(G69,FocusAreas!$B$11:$B$936,1,0))","v":""},0]
[null,null,null,null,null,null,null,null,null,null,null,null,null,null,null,{"$f":"IF($E70=\"\",\"\",VLOOKUP($G70,FocusAreas!$B$158:$C$936,2,0))","v":""},{"$f":"IF($E70=\"\",\"\",VLOOKUP(G70,FocusAreas!$B$11:$B$936,1,0))","v":""},0]
[null,null,null,null,null,null,null,null,null,null,null,null,null,null,null,{"$f":"IF($E71=\"\",\"\",VLOOKUP($G71,FocusAreas!$B$158:$C$936,2,0))","v":""},{"$f":"IF($E71=\"\",\"\",VLOOKUP(G71,FocusAreas!$B$11:$B$936,1,0))","v":""},0]
[null,null,null,null,null,null,null,null,null,null,null,null,null,null,null,{"$f":"IF($E72=\"\",\"\",VLOOKUP($G72,FocusAreas!$B$158:$C$936,2,0))","v":""},{"$f":"IF($E72=\"\",\"\",VLOOKUP(G72,FocusAreas!$B$11:$B$936,1,0))","v":""},0]
[null,null,null,null,null,null,null,null,null,null,null,null,null,null,null,{"$f":"IF($E73=\"\",\"\",VLOOKUP($G73,FocusAreas!$B$158:$C$936,2,0))","v":""},{"$f":"IF($E73=\"\",\"\",VLOOKUP(G73,FocusAreas!$B$11:$B$936,1,0))","v":""},0]
[null,null,null,null,null,null,null,null,null,null,null,null,null,null,null,{"$f":"IF($E74=\"\",\"\",VLOOKUP($G74,FocusAreas!$B$158:$C$936,2,0))","v":""},{"$f":"IF($E74=\"\",\"\",VLOOKUP(G74,FocusAreas!$B$11:$B$936,1,0))","v":""},0]
[null,null,null,null,null,null,null,null,null,null,null,null,null,null,null,{"$f":"IF($E75=\"\",\"\",VLOOKUP($G75,FocusAreas!$B$158:$C$936,2,0))","v":""},{"$f":"IF($E75=\"\",\"\",VLOOKUP(G75,FocusAreas!$B$11:$B$936,1,0))","v":""},0]
[null,null,null,null,null,null,null,null,null,null,null,null,null,null,null,{"$f":"IF($E76=\"\",\"\",VLOOKUP($G76,FocusAreas!$B$158:$C$936,2,0))","v":""},{"$f":"IF($E76=\"\",\"\",VLOOKUP(G76,FocusAreas!$B$11:$B$936,1,0))","v":""},0]
[null,null,null,null,null,null,null,null,null,null,null,null,null,null,null,{"$f":"IF($E77=\"\",\"\",VLOOKUP($G77,FocusAreas!$B$158:$C$936,2,0))","v":""},{"$f":"IF($E77=\"\",\"\",VLOOKUP(G77,FocusAreas!$B$11:$B$936,1,0))","v":""},0]
[null,null,null,null,null,null,null,null,null,null,null,null,null,null,null,{"$f":"IF($E78=\"\",\"\",VLOOKUP($G78,FocusAreas!$B$158:$C$936,2,0))","v":""},{"$f":"IF($E78=\"\",\"\",VLOOKUP(G78,FocusAreas!$B$11:$B$936,1,0))","v":""},0]
[null,null,null,null,null,null,null,null,null,null,null,null,null,null,null,{"$f":"IF($E79=\"\",\"\",VLOOKUP($G79,FocusAreas!$B$158:$C$936,2,0))","v":""},{"$f":"IF($E79=\"\",\"\",VLOOKUP(G79,FocusAreas!$B$11:$B$936,1,0))","v":""},0]
[null,null,null,null,null,null,null,null,null,null,null,null,null,null,null,{"$f":"IF($E80=\"\",\"\",VLOOKUP($G80,FocusAreas!$B$158:$C$936,2,0))","v":""},{"$f":"IF($E80=\"\",\"\",VLOOKUP(G80,FocusAreas!$B$11:$B$936,1,0))","v":""},0]
[null,null,null,null,null,null,null,null,null,null,null,null,null,null,null,{"$f":"IF($E81=\"\",\"\",VLOOKUP($G81,FocusAreas!$B$158:$C$936,2,0))","v":""},{"$f":"IF($E81=\"\",\"\",VLOOKUP(G81,FocusAreas!$B$11:$B$936,1,0))","v":""},0]
[null,null,null,null,null,null,null,null,null,null,null,null,null,null,null,{"$f":"IF($E82=\"\",\"\",VLOOKUP($G82,FocusAreas!$B$158:$C$936,2,0))","v":""},{"$f":"IF($E82=\"\",\"\",VLOOKUP(G82,FocusAreas!$B$11:$B$936,1,0))","v":""},0]
[null,null,null,null,null,null,null,null,null,null,null,null,null,null,null,{"$f":"IF($E83=\"\",\"\",VLOOKUP($G83,FocusAreas!$B$158:$C$936,2,0))","v":""},{"$f":"IF($E83=\"\",\"\",VLOOKUP(G83,FocusAreas!$B$11:$B$936,1,0))","v":""},0]
[null,null,null,null,null,null,null,null,null,null,null,null,null,null,null,{"$f":"IF($E84=\"\",\"\",VLOOKUP($G84,FocusAreas!$B$158:$C$936,2,0))","v":""},{"$f":"IF($E84=\"\",\"\",VLOOKUP(G84,FocusAreas!$B$11:$B$936,1,0))","v":""},0]
[null,null,null,null,null,null,null,null,null,null,null,null,null,null,null,{"$f":"IF($E85=\"\",\"\",VLOOKUP($G85,FocusAreas!$B$158:$C$936,2,0))","v":""},{"$f":"IF($E85=\"\",\"\",VLOOKUP(G85,FocusAreas!$B$11:$B$936,1,0))","v":""},0]
[null,null,null,null,null,null,null,null,null,null,null,null,null,null,null,{"$f":"IF($E86=\"\",\"\",VLOOKUP($G86,FocusAreas!$B$158:$C$936,2,0))","v":""},{"$f":"IF($E86=\"\",\"\",VLOOKUP(G86,FocusAreas!$B$11:$B$936,1,0))","v":""},0]
[null,null,null,null,null,null,null,null,null,null,null,null,null,null,null,{"$f":"IF($E87=\"\",\"\",VLOOKUP($G87,FocusAreas!$B$158:$C$936,2,0))","v":""},{"$f":"IF($E87=\"\",\"\",VLOOKUP(G87,FocusAreas!$B$11:$B$936,1,0))","v":""},0]
[null,null,null,null,null,null,null,null,null,null,null,null,null,null,null,{"$f":"IF($E88=\"\",\"\",VLOOKUP($G88,FocusAreas!$B$158:$C$936,2,0))","v":""},{"$f":"IF($E88=\"\",\"\",VLOOKUP(G88,FocusAreas!$B$11:$B$936,1,0))","v":""},0]
[null,null,null,null,null,null,null,null,null,null,null,null,null,null,null,{"$f":"IF($E89=\"\",\"\",VLOOKUP($G89,FocusAreas!$B$158:$C$936,2,0))","v":""},{"$f":"IF($E89=\"\",\"\",VLOOKUP(G89,FocusAreas!$B$11:$B$936,1,0))","v":""},0]
[null,null,null,null,null,null,null,null,null,null,null,null,null,null,null,{"$f":"IF($E90=\"\",\"\",VLOOKUP($G90,FocusAreas!$B$158:$C$936,2,0))","v":""},{"$f":"IF($E90=\"\",\"\",VLOOKUP(G90,FocusAreas!$B$11:$B$936,1,0))","v":""},0]
[null,null,null,null,null,null,null,null,null,null,null,null,null,null,null,{"$f":"IF($E91=\"\",\"\",VLOOKUP($G91,FocusAreas!$B$158:$C$936,2,0))","v":""},{"$f":"IF($E91=\"\",\"\",VLOOKUP(G91,FocusAreas!$B$11:$B$936,1,0))","v":""},0]
[null,null,null,null,null,null,null,null,null,null,null,null,null,null,null,{"$f":"IF($E92=\"\",\"\",VLOOKUP($G92,FocusAreas!$B$158:$C$936,2,0))","v":""},{"$f":"IF($E92=\"\",\"\",VLOOKUP(G92,FocusAreas!$B$11:$B$936,1,0))","v":""},0]
[null,null,null,null,null,null,null,null,null,null,null,null,null,null,null,{"$f":"IF($E93=\"\",\"\",VLOOKUP($G93,FocusAreas!$B$158:$C$936,2,0))","v":""},{"$f":"IF($E93=\"\",\"\",VLOOKUP(G93,FocusAreas!$B$11:$B$936,1,0))","v":""},0]
[null,null,null,null,null,null,null,null,null,null,null,null,null,null,null,{"$f":"IF($E94=\"\",\"\",VLOOKUP($G94,FocusAreas!$B$158:$C$936,2,0))","v":""},{"$f":"IF($E94=\"\",\"\",VLOOKUP(G94,FocusAreas!$B$11:$B$936,1,0))","v":""},0]
[null,null,null,null,null,null,null,null,null,null,null,null,null,null,null,{"$f":"IF($E95=\"\",\"\",VLOOKUP($G95,FocusAreas!$B$158:$C$936,2,0))","v":""},{"$f":"IF($E95=\"\",\"\",VLOOKUP(G95,FocusAreas!$B$11:$B$936,1,0))","v":""},0]
[null,null,null,null,null,null,null,null,null,null,null,null,null,null,null,{"$f":"IF($E96=\"\",\"\",VLOOKUP($G96,FocusAreas!$B$158:$C$936,2,0))","v":""},{"$f":"IF($E96=\"\",\"\",VLOOKUP(G96,FocusAreas!$B$11:$B$936,1,0))","v":""},0]
[null,null,null,null,null,null,null,null,null,null,null,null,null,null,null,{"$f":"IF($E97=\"\",\"\",VLOOKUP($G97,FocusAreas!$B$158:$C$936,2,0))","v":""},{"$f":"IF($E97=\"\",\"\",VLOOKUP(G97,FocusAreas!$B$11:$B$936,1,0))","v":""},0]
[null,null,null,null,null,null,null,null,null,null,null,null,null,null,null,{"$f":"IF($E98=\"\",\"\",VLOOKUP($G98,FocusAreas!$B$158:$C$936,2,0))","v":""},{"$f":"IF($E98=\"\",\"\",VLOOKUP(G98,FocusAreas!$B$11:$B$936,1,0))","v":""},0]
[null,null,null,null,null,null,null,null,null,null,null,null,null,null,null,{"$f":"IF($E99=\"\",\"\",VLOOKUP($G99,FocusAreas!$B$158:$C$936,2,0))","v":""},{"$f":"IF($E99=\"\",\"\",VLOOKUP(G99,FocusAreas!$B$11:$B$936,1,0))","v":""},0]
[null,null,null,null,null,null,null,null,null,null,null,null,null,null,null,{"$f":"IF($E100=\"\",\"\",VLOOKUP($G100,FocusAreas!$B$158:$C$936,2,0))","v":""},{"$f":"IF($E100=\"\",\"\",VLOOKUP(G100,FocusAreas!$B$11:$B$936,1,0))","v":""},0]
[null,null,null,null,null,null,null,null,null,null,null,null,null,null,null,{"$f":"IF($E101=\"\",\"\",VLOOKUP($G101,FocusAreas!$B$158:$C$936,2,0))","v":""},{"$f":"IF($E101=\"\",\"\",VLOOKUP(G101,FocusAreas!$B$11:$B$936,1,0))","v":""},0]
[null,null,null,null,null,null,null,null,null,null,null,null,null,null,null,{"$f":"IF($E102=\"\",\"\",VLOOKUP($G102,FocusAreas!$B$158:$C$936,2,0))","v":""},{"$f":"IF($E102=\"\",\"\",VLOOKUP(G102,FocusAreas!$B$11:$B$936,1,0))","v":""},0]
[null,null,null,null,null,null,null,null,null,null,null,null,null,null,null,{"$f":"IF($E103=\"\",\"\",VLOOKUP($G103,FocusAreas!$B$158:$C$936,2,0))","v":""},{"$f":"IF($E103=\"\",\"\",VLOOKUP(G103,FocusAreas!$B$11:$B$936,1,0))","v":""},0]
[null,null,null,null,null,null,null,null,null,null,null,null,null,null,null,{"$f":"IF($E104=\"\",\"\",VLOOKUP($G104,FocusAreas!$B$158:$C$936,2,0))","v":""},{"$f":"IF($E104=\"\",\"\",VLOOKUP(G104,FocusAreas!$B$11:$B$936,1,0))","v":""},0]
[null,null,null,null,null,null,null,null,null,null,null,null,null,null,null,{"$f":"IF($E105=\"\",\"\",VLOOKUP($G105,FocusAreas!$B$158:$C$936,2,0))","v":""},{"$f":"IF($E105=\"\",\"\",VLOOKUP(G105,FocusAreas!$B$11:$B$936,1,0))","v":""},0]
[null,null,null,null,null,null,null,null,null,null,null,null,null,null,null,{"$f":"IF($E106=\"\",\"\",VLOOKUP($G106,FocusAreas!$B$158:$C$936,2,0))","v":""},{"$f":"IF($E106=\"\",\"\",VLOOKUP(G106,FocusAreas!$B$11:$B$936,1,0))","v":""},0]
[null,null,null,null,null,null,null,null,null,null,null,null,null,null,null,{"$f":"IF($E107=\"\",\"\",VLOOKUP($G107,FocusAreas!$B$158:$C$936,2,0))","v":""},{"$f":"IF($E107=\"\",\"\",VLOOKUP(G107,FocusAreas!$B$11:$B$936,1,0))","v":""},0]
[null,null,null,null,null,null,null,null,null,null,null,null,null,null,null,{"$f":"IF($E108=\"\",\"\",VLOOKUP($G108,FocusAreas!$B$158:$C$936,2,0))","v":""},{"$f":"IF($E108=\"\",\"\",VLOOKUP(G108,FocusAreas!$B$11:$B$936,1,0))","v":""},0]
[null,null,null,null,null,null,null,null,null,null,null,null,null,null,null,{"$f":"IF($E109=\"\",\"\",VLOOKUP($G109,FocusAreas!$B$158:$C$936,2,0))","v":""},{"$f":"IF($E109=\"\",\"\",VLOOKUP(G109,FocusAreas!$B$11:$B$936,1,0))","v":""},0]
[null,null,null,null,null,null,null,null,null,null,null,null,null,null,null,{"$f":"IF($E110=\"\",\"\",VLOOKUP($G110,FocusAreas!$B$158:$C$936,2,0))","v":""},{"$f":"IF($E110=\"\",\"\",VLOOKUP(G110,FocusAreas!$B$11:$B$936,1,0))","v":""},0]
[null,null,null,null,null,null,null,null,null,null,null,null,null,null,null,{"$f":"IF($E111=\"\",\"\",VLOOKUP($G111,FocusAreas!$B$158:$C$936,2,0))","v":""},{"$f":"IF($E111=\"\",\"\",VLOOKUP(G111,FocusAreas!$B$11:$B$936,1,0))","v":""},0]
[null,null,null,null,null,null,null,null,null,null,null,null,null,null,null,{"$f":"IF($E112=\"\",\"\",VLOOKUP($G112,FocusAreas!$B$158:$C$936,2,0))","v":""},{"$f":"IF($E112=\"\",\"\",VLOOKUP(G112,FocusAreas!$B$11:$B$936,1,0))","v":""},0]
[null,null,null,null,null,null,null,null,null,null,null,null,null,null,null,{"$f":"IF($E113=\"\",\"\",VLOOKUP($G113,FocusAreas!$B$158:$C$936,2,0))","v":""},{"$f":"IF($E113=\"\",\"\",VLOOKUP(G113,FocusAreas!$B$11:$B$936,1,0))","v":""},0]
[null,null,null,null,null,null,null,null,null,null,null,null,null,null,null,{"$f":"IF($E114=\"\",\"\",VLOOKUP($G114,FocusAreas!$B$158:$C$936,2,0))","v":""},{"$f":"IF($E114=\"\",\"\",VLOOKUP(G114,FocusAreas!$B$11:$B$936,1,0))","v":""},0]
[null,null,null,null,null,null,null,null,null,null,null,null,null,null,null,{"$f":"IF($E115=\"\",\"\",VLOOKUP($G115,FocusAreas!$B$158:$C$936,2,0))","v":""},{"$f":"IF($E115=\"\",\"\",VLOOKUP(G115,FocusAreas!$B$11:$B$936,1,0))","v":""},0]
[null,null,null,null,null,null,null,null,null,null,null,null,null,null,null,{"$f":"IF($E116=\"\",\"\",VLOOKUP($G116,FocusAreas!$B$158:$C$936,2,0))","v":""},{"$f":"IF($E116=\"\",\"\",VLOOKUP(G116,FocusAreas!$B$11:$B$936,1,0))","v":""},0]
[null,null,null,null,null,null,null,null,null,null,null,null,null,null,null,{"$f":"IF($E117=\"\",\"\",VLOOKUP($G117,FocusAreas!$B$158:$C$936,2,0))","v":""},{"$f":"IF($E117=\"\",\"\",VLOOKUP(G117,FocusAreas!$B$11:$B$936,1,0))","v":""},0]
[null,null,null,null,null,null,null,null,null,null,null,null,null,null,null,{"$f":"IF($E118=\"\",\"\",VLOOKUP($G118,FocusAreas!$B$158:$C$936,2,0))","v":""},{"$f":"IF($E118=\"\",\"\",VLOOKUP(G118,FocusAreas!$B$11:$B$936,1,0))","v":""},0]
[null,null,null,null,null,null,null,null,null,null,null,null,null,null,null,{"$f":"IF($E119=\"\",\"\",VLOOKUP($G119,FocusAreas!$B$158:$C$936,2,0))","v":""},{"$f":"IF($E119=\"\",\"\",VLOOKUP(G119,FocusAreas!$B$11:$B$936,1,0))","v":""},0]
[null,null,null,null,null,null,null,null,null,null,null,null,null,null,null,{"$f":"IF($E120=\"\",\"\",VLOOKUP($G120,FocusAreas!$B$158:$C$936,2,0))","v":""},{"$f":"IF($E120=\"\",\"\",VLOOKUP(G120,FocusAreas!$B$11:$B$936,1,0))","v":""},0]
[null,null,null,null,null,null,null,null,null,null,null,null,null,null,null,{"$f":"IF($E121=\"\",\"\",VLOOKUP($G121,FocusAreas!$B$158:$C$936,2,0))","v":""},{"$f":"IF($E121=\"\",\"\",VLOOKUP(G121,FocusAreas!$B$11:$B$936,1,0))","v":""},0]
[null,null,null,null,null,null,null,null,null,null,null,null,null,null,null,{"$f":"IF($E122=\"\",\"\",VLOOKUP($G122,FocusAreas!$B$158:$C$936,2,0))","v":""},{"$f":"IF($E122=\"\",\"\",VLOOKUP(G122,FocusAreas!$B$11:$B$936,1,0))","v":""},0]
[null,null,null,null,null,null,null,null,null,null,null,null,null,null,null,{"$f":"IF($E123=\"\",\"\",VLOOKUP($G123,FocusAreas!$B$158:$C$936,2,0))","v":""},{"$f":"IF($E123=\"\",\"\",VLOOKUP(G123,FocusAreas!$B$11:$B$936,1,0))","v":""},0]
[null,null,null,null,null,null,null,null,null,null,null,null,null,null,null,{"$f":"IF($E124=\"\",\"\",VLOOKUP($G124,FocusAreas!$B$158:$C$936,2,0))","v":""},{"$f":"IF($E124=\"\",\"\",VLOOKUP(G124,FocusAreas!$B$11:$B$936,1,0))","v":""},0]
[null,null,null,null,null,null,null,null,null,null,null,null,null,null,null,{"$f":"IF($E125=\"\",\"\",VLOOKUP($G125,FocusAreas!$B$158:$C$936,2,0))","v":""},{"$f":"IF($E125=\"\",\"\",VLOOKUP(G125,FocusAreas!$B$11:$B$936,1,0))","v":""},0]
[null,null,null,null,null,null,null,null,null,null,null,null,null,null,null,{"$f":"IF($E126=\"\",\"\",VLOOKUP($G126,FocusAreas!$B$158:$C$936,2,0))","v":""},{"$f":"IF($E126=\"\",\"\",VLOOKUP(G126,FocusAreas!$B$11:$B$936,1,0))","v":""},0]
[null,null,null,null,null,null,null,null,null,null,null,null,null,null,null,{"$f":"IF($E127=\"\",\"\",VLOOKUP($G127,FocusAreas!$B$158:$C$936,2,0))","v":""},{"$f":"IF($E127=\"\",\"\",VLOOKUP(G127,FocusAreas!$B$11:$B$936,1,0))","v":""},0]
[null,null,null,null,null,null,null,null,null,null,null,null,null,null,null,{"$f":"IF($E128=\"\",\"\",VLOOKUP($G128,FocusAreas!$B$158:$C$936,2,0))","v":""},{"$f":"IF($E128=\"\",\"\",VLOOKUP(G128,FocusAreas!$B$11:$B$936,1,0))","v":""},0]
[null,null,null,null,null,null,null,null,null,null,null,null,null,null,null,{"$f":"IF($E129=\"\",\"\",VLOOKUP($G129,FocusAreas!$B$158:$C$936,2,0))","v":""},{"$f":"IF($E129=\"\",\"\",VLOOKUP(G129,FocusAreas!$B$11:$B$936,1,0))","v":""},0]
[null,null,null,null,null,null,null,null,null,null,null,null,null,null,null,{"$f":"IF($E130=\"\",\"\",VLOOKUP($G130,FocusAreas!$B$158:$C$936,2,0))","v":""},{"$f":"IF($E130=\"\",\"\",VLOOKUP(G130,FocusAreas!$B$11:$B$936,1,0))","v":""},0]
[null,null,null,null,null,null,null,null,null,null,null,null,null,null,null,{"$f":"IF($E131=\"\",\"\",VLOOKUP($G131,FocusAreas!$B$158:$C$936,2,0))","v":""},{"$f":"IF($E131=\"\",\"\",VLOOKUP(G131,FocusAreas!$B$11:$B$936,1,0))","v":""},{"$f":"IF(OR(ISERROR(Q131),ISERROR(F131)),1,IF(TRIM(E131)=TRIM(F131),0,1))","v":0}]
[null,null,null,null,null,null,null,null,null,null,null,null,null,null,null,{"$f":"IF($E132=\"\",\"\",VLOOKUP($G132,FocusAreas!$B$158:$C$936,2,0))","v":""},{"$f":"IF($E132=\"\",\"\",VLOOKUP(G132,FocusAreas!$B$11:$B$936,1,0))","v":""},0]
[null,null,null,null,null,null,null,null,null,null,null,null,null,null,null,{"$f":"IF($E133=\"\",\"\",VLOOKUP($G133,FocusAreas!$B$158:$C$936,2,0))","v":""},{"$f":"IF($E133=\"\",\"\",VLOOKUP(G133,FocusAreas!$B$11:$B$936,1,0))","v":""},0]
[null,null,null,null,null,null,null,null,null,null,null,null,null,null,null,{"$f":"IF($E134=\"\",\"\",VLOOKUP($G134,FocusAreas!$B$158:$C$936,2,0))","v":""},{"$f":"IF($E134=\"\",\"\",VLOOKUP(G134,FocusAreas!$B$11:$B$936,1,0))","v":""},0]
[null,null,null,null,null,null,null,null,null,null,null,null,null,null,null,{"$f":"IF($E135=\"\",\"\",VLOOKUP($G135,FocusAreas!$B$158:$C$936,2,0))","v":""},{"$f":"IF($E135=\"\",\"\",VLOOKUP(G135,FocusAreas!$B$11:$B$936,1,0))","v":""},0]
[null,null,null,null,null,null,null,null,null,null,null,null,null,null,null,{"$f":"IF($E136=\"\",\"\",VLOOKUP($G136,FocusAreas!$B$158:$C$936,2,0))","v":""},{"$f":"IF($E136=\"\",\"\",VLOOKUP(G136,FocusAreas!$B$11:$B$936,1,0))","v":""},0]
[null,null,null,null,null,null,null,null,null,null,null,null,null,null,null,{"$f":"IF($E137=\"\",\"\",VLOOKUP($G137,FocusAreas!$B$158:$C$936,2,0))","v":""},{"$f":"IF($E137=\"\",\"\",VLOOKUP(G137,FocusAreas!$B$11:$B$936,1,0))","v":""},0]
[null,null,null,null,null,null,null,null,null,null,null,null,null,null,null,{"$f":"IF($E138=\"\",\"\",VLOOKUP($G138,FocusAreas!$B$158:$C$936,2,0))","v":""},{"$f":"IF($E138=\"\",\"\",VLOOKUP(G138,FocusAreas!$B$11:$B$936,1,0))","v":""},0]
[null,null,null,null,null,null,null,null,null,null,null,null,null,null,null,{"$f":"IF($E139=\"\",\"\",VLOOKUP($G139,FocusAreas!$B$158:$C$936,2,0))","v":""},{"$f":"IF($E139=\"\",\"\",VLOOKUP(G139,FocusAreas!$B$11:$B$936,1,0))","v":""},0]
[null,null,null,null,null,null,null,null,null,null,null,null,null,null,null,{"$f":"IF($E140=\"\",\"\",VLOOKUP($G140,FocusAreas!$B$158:$C$936,2,0))","v":""},{"$f":"IF($E140=\"\",\"\",VLOOKUP(G140,FocusAreas!$B$11:$B$936,1,0))","v":""},0]
[null,null,null,null,null,null,null,null,null,null,null,null,null,null,null,{"$f":"IF($E141=\"\",\"\",VLOOKUP($G141,FocusAreas!$B$158:$C$936,2,0))","v":""},{"$f":"IF($E141=\"\",\"\",VLOOKUP(G141,FocusAreas!$B$11:$B$936,1,0))","v":""},0]
[null,null,null,null,null,null,null,null,null,null,null,null,null,null,null,{"$f":"IF($E142=\"\",\"\",VLOOKUP($G142,FocusAreas!$B$158:$C$936,2,0))","v":""},{"$f":"IF($E142=\"\",\"\",VLOOKUP(G142,FocusAreas!$B$11:$B$936,1,0))","v":""},0]
[null,null,null,null,null,null,null,null,null,null,null,null,null,null,null,{"$f":"IF($E143=\"\",\"\",VLOOKUP($G143,FocusAreas!$B$158:$C$936,2,0))","v":""},{"$f":"IF($E143=\"\",\"\",VLOOKUP(G143,FocusAreas!$B$11:$B$936,1,0))","v":""},0]
[null,null,null,null,null,null,null,null,null,null,null,null,null,null,null,{"$f":"IF($E144=\"\",\"\",VLOOKUP($G144,FocusAreas!$B$158:$C$936,2,0))","v":""},{"$f":"IF($E144=\"\",\"\",VLOOKUP(G144,FocusAreas!$B$11:$B$936,1,0))","v":""},0]
[null,null,null,null,null,null,null,null,null,null,null,null,null,null,null,{"$f":"IF($E145=\"\",\"\",VLOOKUP($G145,FocusAreas!$B$158:$C$936,2,0))","v":""},{"$f":"IF($E145=\"\",\"\",VLOOKUP(G145,FocusAreas!$B$11:$B$936,1,0))","v":""},0]
[null,null,null,null,null,null,null,null,null,null,null,null,null,null,null,{"$f":"IF($E146=\"\",\"\",VLOOKUP($G146,FocusAreas!$B$158:$C$936,2,0))","v":""},{"$f":"IF($E146=\"\",\"\",VLOOKUP(G146,FocusAreas!$B$11:$B$936,1,0))","v":""},0]
[null,null,null,null,null,null,null,null,null,null,null,null,null,null,null,{"$f":"IF($E147=\"\",\"\",VLOOKUP($G147,FocusAreas!$B$158:$C$936,2,0))","v":""},{"$f":"IF($E147=\"\",\"\",VLOOKUP(G147,FocusAreas!$B$11:$B$936,1,0))","v":""},0]
[null,null,null,null,null,null,null,null,null,null,null,null,null,null,null,{"$f":"IF($E148=\"\",\"\",VLOOKUP($G148,FocusAreas!$B$158:$C$936,2,0))","v":""},{"$f":"IF($E148=\"\",\"\",VLOOKUP(G148,FocusAreas!$B$11:$B$936,1,0))","v":""},0]
[null,null,null,null,null,null,null,null,null,null,null,null,null,null,null,{"$f":"IF($E149=\"\",\"\",VLOOKUP($G149,FocusAreas!$B$158:$C$936,2,0))","v":""},{"$f":"IF($E149=\"\",\"\",VLOOKUP(G149,FocusAreas!$B$11:$B$936,1,0))","v":""},0]
[null,null,null,null,null,null,null,null,null,null,null,null,null,null,null,{"$f":"IF($E150=\"\",\"\",VLOOKUP($G150,FocusAreas!$B$158:$C$936,2,0))","v":""},{"$f":"IF($E150=\"\",\"\",VLOOKUP(G150,FocusAreas!$B$11:$B$936,1,0))","v":""},0]
[null,null,null,null,null,null,null,null,null,null,null,null,null,null,null,{"$f":"IF($E151=\"\",\"\",VLOOKUP($G151,FocusAreas!$B$158:$C$936,2,0))","v":""},{"$f":"IF($E151=\"\",\"\",VLOOKUP(G151,FocusAreas!$B$11:$B$936,1,0))","v":""},0]
[null,null,null,null,null,null,null,null,null,null,null,null,null,null,null,{"$f":"IF($E152=\"\",\"\",VLOOKUP($G152,FocusAreas!$B$158:$C$936,2,0))","v":""},{"$f":"IF($E152=\"\",\"\",VLOOKUP(G152,FocusAreas!$B$11:$B$936,1,0))","v":""},0]
[null,null,null,null,null,null,null,null,null,null,null,null,null,null,null,{"$f":"IF($E153=\"\",\"\",VLOOKUP($G153,FocusAreas!$B$158:$C$936,2,0))","v":""},{"$f":"IF($E153=\"\",\"\",VLOOKUP(G153,FocusAreas!$B$11:$B$936,1,0))","v":""},0]
[null,null,null,null,null,null,null,null,null,null,null,null,null,null,null,{"$f":"IF($E154=\"\",\"\",VLOOKUP($G154,FocusAreas!$B$158:$C$936,2,0))","v":""},{"$f":"IF($E154=\"\",\"\",VLOOKUP(G154,FocusAreas!$B$11:$B$936,1,0))","v":""},0]
[null,null,null,null,null,null,null,null,null,null,null,null,null,null,null,{"$f":"IF($E155=\"\",\"\",VLOOKUP($G155,FocusAreas!$B$158:$C$936,2,0))","v":""},{"$f":"IF($E155=\"\",\"\",VLOOKUP(G155,FocusAreas!$B$11:$B$936,1,0))","v":""},0]
[null,null,null,null,null,null,null,null,null,null,null,null,null,null,null,{"$f":"IF($E156=\"\",\"\",VLOOKUP($G156,FocusAreas!$B$158:$C$936,2,0))","v":""},{"$f":"IF($E156=\"\",\"\",VLOOKUP(G156,FocusAreas!$B$11:$B$936,1,0))","v":""},0]
[null,null,null,null,null,null,null,null,null,null,null,null,null,null,null,{"$f":"IF($E157=\"\",\"\",VLOOKUP($G157,FocusAreas!$B$158:$C$936,2,0))","v":""},{"$f":"IF($E157=\"\",\"\",VLOOKUP(G157,FocusAreas!$B$11:$B$936,1,0))","v":""},0]
[null,null,null,null,null,null,null,null,null,null,null,null,null,null,null,{"$f":"IF($E158=\"\",\"\",VLOOKUP($G158,FocusAreas!$B$158:$C$936,2,0))","v":""},{"$f":"IF($E158=\"\",\"\",VLOOKUP(G158,FocusAreas!$B$11:$B$936,1,0))","v":""},0]
[null,null,null,null,null,null,null,null,null,null,null,null,null,null,null,{"$f":"IF($E159=\"\",\"\",VLOOKUP($G159,FocusAreas!$B$158:$C$936,2,0))","v":""},{"$f":"IF($E159=\"\",\"\",VLOOKUP(G159,FocusAreas!$B$11:$B$936,1,0))","v":""},0]
[null,null,null,null,null,null,null,null,null,null,null,null,null,null,null,{"$f":"IF($E160=\"\",\"\",VLOOKUP($G160,FocusAreas!$B$158:$C$936,2,0))","v":""},{"$f":"IF($E160=\"\",\"\",VLOOKUP(G160,FocusAreas!$B$11:$B$936,1,0))","v":""},0]
[null,null,null,null,null,null,null,null,null,null,null,null,null,null,null,{"$f":"IF($E161=\"\",\"\",VLOOKUP($G161,FocusAreas!$B$158:$C$936,2,0))","v":""},{"$f":"IF($E161=\"\",\"\",VLOOKUP(G161,FocusAreas!$B$11:$B$936,1,0))","v":""},0]
[null,null,null,null,null,null,null,null,null,null,null,null,null,null,null,{"$f":"IF($E162=\"\",\"\",VLOOKUP($G162,FocusAreas!$B$158:$C$936,2,0))","v":""},{"$f":"IF($E162=\"\",\"\",VLOOKUP(G162,FocusAreas!$B$11:$B$936,1,0))","v":""},0]
[null,null,null,null,null,null,null,null,null,null,null,null,null,null,null,{"$f":"IF($E163=\"\",\"\",VLOOKUP($G163,FocusAreas!$B$158:$C$936,2,0))","v":""},{"$f":"IF($E163=\"\",\"\",VLOOKUP(G163,FocusAreas!$B$11:$B$936,1,0))","v":""},0]
[null,null,null,null,null,null,null,null,null,null,null,null,null,null,null,{"$f":"IF($E164=\"\",\"\",VLOOKUP($G164,FocusAreas!$B$158:$C$936,2,0))","v":""},{"$f":"IF($E164=\"\",\"\",VLOOKUP(G164,FocusAreas!$B$11:$B$936,1,0))","v":""},0]
[null,null,null,null,null,null,null,null,null,null,null,null,null,null,null,{"$f":"IF($E165=\"\",\"\",VLOOKUP($G165,FocusAreas!$B$158:$C$936,2,0))","v":""},{"$f":"IF($E165=\"\",\"\",VLOOKUP(G165,FocusAreas!$B$11:$B$936,1,0))","v":""},0]
[null,null,null,null,null,null,null,null,null,null,null,null,null,null,null,{"$f":"IF($E166=\"\",\"\",VLOOKUP($G166,FocusAreas!$B$158:$C$936,2,0))","v":""},{"$f":"IF($E166=\"\",\"\",VLOOKUP(G166,FocusAreas!$B$11:$B$936,1,0))","v":""},0]
[null,null,null,null,null,null,null,null,null,null,null,null,null,null,null,{"$f":"IF($E167=\"\",\"\",VLOOKUP($G167,FocusAreas!$B$158:$C$936,2,0))","v":""},{"$f":"IF($E167=\"\",\"\",VLOOKUP(G167,FocusAreas!$B$11:$B$936,1,0))","v":""},0]
[null,null,null,null,null,null,null,null,null,null,null,null,null,null,null,{"$f":"IF($E168=\"\",\"\",VLOOKUP($G168,FocusAreas!$B$158:$C$936,2,0))","v":""},{"$f":"IF($E168=\"\",\"\",VLOOKUP(G168,FocusAreas!$B$11:$B$936,1,0))","v":""},0]
[null,null,null,null,null,null,null,null,null,null,null,null,null,null,null,{"$f":"IF($E169=\"\",\"\",VLOOKUP($G169,FocusAreas!$B$158:$C$936,2,0))","v":""},{"$f":"IF($E169=\"\",\"\",VLOOKUP(G169,FocusAreas!$B$11:$B$936,1,0))","v":""},0]
[null,null,null,null,null,null,null,null,null,null,null,null,null,null,null,{"$f":"IF($E170=\"\",\"\",VLOOKUP($G170,FocusAreas!$B$158:$C$936,2,0))","v":""},{"$f":"IF($E170=\"\",\"\",VLOOKUP(G170,FocusAreas!$B$11:$B$936,1,0))","v":""},0]
[null,null,null,null,null,null,null,null,null,null,null,null,null,null,null,{"$f":"IF($E171=\"\",\"\",VLOOKUP($G171,FocusAreas!$B$158:$C$936,2,0))","v":""},{"$f":"IF($E171=\"\",\"\",VLOOKUP(G171,FocusAreas!$B$11:$B$936,1,0))","v":""},0]
[null,null,null,null,null,null,null,null,null,null,null,null,null,null,null,{"$f":"IF($E172=\"\",\"\",VLOOKUP($G172,FocusAreas!$B$158:$C$936,2,0))","v":""},{"$f":"IF($E172=\"\",\"\",VLOOKUP(G172,FocusAreas!$B$11:$B$936,1,0))","v":""},0]
[null,null,null,null,null,null,null,null,null,null,null,null,null,null,null,{"$f":"IF($E173=\"\",\"\",VLOOKUP($G173,FocusAreas!$B$158:$C$936,2,0))","v":""},{"$f":"IF($E173=\"\",\"\",VLOOKUP(G173,FocusAreas!$B$11:$B$936,1,0))","v":""},0]
[null,null,null,null,null,null,null,null,null,null,null,null,null,null,null,{"$f":"IF($E174=\"\",\"\",VLOOKUP($G174,FocusAreas!$B$158:$C$936,2,0))","v":""},{"$f":"IF($E174=\"\",\"\",VLOOKUP(G174,FocusAreas!$B$11:$B$936,1,0))","v":""},0]
[null,null,null,null,null,null,null,null,null,null,null,null,null,null,null,{"$f":"IF($E175=\"\",\"\",VLOOKUP($G175,FocusAreas!$B$158:$C$936,2,0))","v":""},{"$f":"IF($E175=\"\",\"\",VLOOKUP(G175,FocusAreas!$B$11:$B$936,1,0))","v":""},0]
[null,null,null,null,null,null,null,null,null,null,null,null,null,null,null,{"$f":"IF($E176=\"\",\"\",VLOOKUP($G176,FocusAreas!$B$158:$C$936,2,0))","v":""},{"$f":"IF($E176=\"\",\"\",VLOOKUP(G176,FocusAreas!$B$11:$B$936,1,0))","v":""},0]
[null,null,null,null,null,null,null,null,null,null,null,null,null,null,null,{"$f":"IF($E177=\"\",\"\",VLOOKUP($G177,FocusAreas!$B$158:$C$936,2,0))","v":""},{"$f":"IF($E177=\"\",\"\",VLOOKUP(G177,FocusAreas!$B$11:$B$936,1,0))","v":""},0]
[null,null,null,null,null,null,null,null,null,null,null,null,null,null,null,{"$f":"IF($E178=\"\",\"\",VLOOKUP($G178,FocusAreas!$B$158:$C$936,2,0))","v":""},{"$f":"IF($E178=\"\",\"\",VLOOKUP(G178,FocusAreas!$B$11:$B$936,1,0))","v":""},0]
[null,null,null,null,null,null,null,null,null,null,null,null,null,null,null,{"$f":"IF($E179=\"\",\"\",VLOOKUP($G179,FocusAreas!$B$158:$C$936,2,0))","v":""},{"$f":"IF($E179=\"\",\"\",VLOOKUP(G179,FocusAreas!$B$11:$B$936,1,0))","v":""},0]
[null,null,null,null,null,null,null,null,null,null,null,null,null,null,null,{"$f":"IF($E180=\"\",\"\",VLOOKUP($G180,FocusAreas!$B$158:$C$936,2,0))","v":""},{"$f":"IF($E180=\"\",\"\",VLOOKUP(G180,FocusAreas!$B$11:$B$936,1,0))","v":""},0]
[null,null,null,null,null,null,null,null,null,null,null,null,null,null,null,{"$f":"IF($E181=\"\",\"\",VLOOKUP($G181,FocusAreas!$B$158:$C$936,2,0))","v":""},{"$f":"IF($E181=\"\",\"\",VLOOKUP(G181,FocusAreas!$B$11:$B$936,1,0))","v":""},0]
[null,null,null,null,null,null,null,null,null,null,null,null,null,null,null,{"$f":"IF($E182=\"\",\"\",VLOOKUP($G182,FocusAreas!$B$158:$C$936,2,0))","v":""},{"$f":"IF($E182=\"\",\"\",VLOOKUP(G182,FocusAreas!$B$11:$B$936,1,0))","v":""},0]
[null,null,null,null,null,null,null,null,null,null,null,null,null,null,null,{"$f":"IF($E183=\"\",\"\",VLOOKUP($G183,FocusAreas!$B$158:$C$936,2,0))","v":""},{"$f":"IF($E183=\"\",\"\",VLOOKUP(G183,FocusAreas!$B$11:$B$936,1,0))","v":""},0]
[null,null,null,null,null,null,null,null,null,null,null,null,null,null,null,{"$f":"IF($E184=\"\",\"\",VLOOKUP($G184,FocusAreas!$B$158:$C$936,2,0))","v":""},{"$f":"IF($E184=\"\",\"\",VLOOKUP(G184,FocusAreas!$B$11:$B$936,1,0))","v":""},0]
[null,null,null,null,null,null,null,null,null,null,null,null,null,null,null,{"$f":"IF($E185=\"\",\"\",VLOOKUP($G185,FocusAreas!$B$158:$C$936,2,0))","v":""},{"$f":"IF($E185=\"\",\"\",VLOOKUP(G185,FocusAreas!$B$11:$B$936,1,0))","v":""},0]
[null,null,null,null,null,null,null,null,null,null,null,null,null,null,null,{"$f":"IF($E186=\"\",\"\",VLOOKUP($G186,FocusAreas!$B$158:$C$936,2,0))","v":""},{"$f":"IF($E186=\"\",\"\",VLOOKUP(G186,FocusAreas!$B$11:$B$936,1,0))","v":""},0]
[null,null,null,null,null,null,null,null,null,null,null,null,null,null,null,{"$f":"IF($E187=\"\",\"\",VLOOKUP($G187,FocusAreas!$B$158:$C$936,2,0))","v":""},{"$f":"IF($E187=\"\",\"\",VLOOKUP(G187,FocusAreas!$B$11:$B$936,1,0))","v":""},0]
[null,null,null,null,null,null,null,null,null,null,null,null,null,null,null,{"$f":"IF($E188=\"\",\"\",VLOOKUP($G188,FocusAreas!$B$158:$C$936,2,0))","v":""},{"$f":"IF($E188=\"\",\"\",VLOOKUP(G188,FocusAreas!$B$11:$B$936,1,0))","v":""},0]
[null,null,null,null,null,null,null,null,null,null,null,null,null,null,null,{"$f":"IF($E189=\"\",\"\",VLOOKUP($G189,FocusAreas!$B$158:$C$936,2,0))","v":""},{"$f":"IF($E189=\"\",\"\",VLOOKUP(G189,FocusAreas!$B$11:$B$936,1,0))","v":""},0]
[null,null,null,null,null,null,null,null,null,null,null,null,null,null,null,{"$f":"IF($E190=\"\",\"\",VLOOKUP($G190,FocusAreas!$B$158:$C$936,2,0))","v":""},{"$f":"IF($E190=\"\",\"\",VLOOKUP(G190,FocusAreas!$B$11:$B$936,1,0))","v":""},0]
[null,null,null,null,null,null,null,null,null,null,null,null,null,null,null,{"$f":"IF($E191=\"\",\"\",VLOOKUP($G191,FocusAreas!$B$158:$C$936,2,0))","v":""},{"$f":"IF($E191=\"\",\"\",VLOOKUP(G191,FocusAreas!$B$11:$B$936,1,0))","v":""},0]
[null,null,null,null,null,null,null,null,null,null,null,null,null,null,null,{"$f":"IF($E192=\"\",\"\",VLOOKUP($G192,FocusAreas!$B$158:$C$936,2,0))","v":""},{"$f":"IF($E192=\"\",\"\",VLOOKUP(G192,FocusAreas!$B$11:$B$936,1,0))","v":""},0]
[null,null,null,null,null,null,null,null,null,null,null,null,null,null,null,{"$f":"IF($E193=\"\",\"\",VLOOKUP($G193,FocusAreas!$B$158:$C$936,2,0))","v":""},{"$f":"IF($E193=\"\",\"\",VLOOKUP(G193,FocusAreas!$B$11:$B$936,1,0))","v":""},0]
[null,null,null,null,null,null,null,null,null,null,null,null,null,null,null,{"$f":"IF($E194=\"\",\"\",VLOOKUP($G194,FocusAreas!$B$158:$C$936,2,0))","v":""},{"$f":"IF($E194=\"\",\"\",VLOOKUP(G194,FocusAreas!$B$11:$B$936,1,0))","v":""},0]
[null,null,null,null,null,null,null,null,null,null,null,null,null,null,null,{"$f":"IF($E195=\"\",\"\",VLOOKUP($G195,FocusAreas!$B$158:$C$936,2,0))","v":""},{"$f":"IF($E195=\"\",\"\",VLOOKUP(G195,FocusAreas!$B$11:$B$936,1,0))","v":""},{"$f":"IF(OR(ISERROR(Q195),ISERROR(F195)),1,IF(TRIM(E195)=TRIM(F195),0,1))","v":0}]
[null,null,null,null,null,null,null,null,null,null,null,null,null,null,null,{"$f":"IF($E196=\"\",\"\",VLOOKUP($G196,FocusAreas!$B$158:$C$936,2,0))","v":""},{"$f":"IF($E196=\"\",\"\",VLOOKUP(G196,FocusAreas!$B$11:$B$936,1,0))","v":""},0]
[null,null,null,null,null,null,null,null,null,null,null,null,null,null,null,{"$f":"IF($E197=\"\",\"\",VLOOKUP($G197,FocusAreas!$B$158:$C$936,2,0))","v":""},{"$f":"IF($E197=\"\",\"\",VLOOKUP(G197,FocusAreas!$B$11:$B$936,1,0))","v":""},0]
[null,null,null,null,null,null,null,null,null,null,null,null,null,null,null,{"$f":"IF($E198=\"\",\"\",VLOOKUP($G198,FocusAreas!$B$158:$C$936,2,0))","v":""},{"$f":"IF($E198=\"\",\"\",VLOOKUP(G198,FocusAreas!$B$11:$B$936,1,0))","v":""},0]
[null,null,null,null,null,null,null,null,null,null,null,null,null,null,null,{"$f":"IF($E199=\"\",\"\",VLOOKUP($G199,FocusAreas!$B$158:$C$936,2,0))","v":""},{"$f":"IF($E199=\"\",\"\",VLOOKUP(G199,FocusAreas!$B$11:$B$936,1,0))","v":""},0]
[null,null,null,null,null,null,null,null,null,null,null,null,null,null,null,{"$f":"IF($E200=\"\",\"\",VLOOKUP($G200,FocusAreas!$B$158:$C$936,2,0))","v":""},{"$f":"IF($E200=\"\",\"\",VLOOKUP(G200,FocusAreas!$B$11:$B$936,1,0))","v":""},0]
[null,null,null,null,null,null,null,null,null,null,null,null,null,null,null,{"$f":"IF($E201=\"\",\"\",VLOOKUP($G201,FocusAreas!$B$158:$C$936,2,0))","v":""},{"$f":"IF($E201=\"\",\"\",VLOOKUP(G201,FocusAreas!$B$11:$B$936,1,0))","v":""},0]
[null,null,null,null,null,null,null,null,null,null,null,null,null,null,null,{"$f":"IF($E202=\"\",\"\",VLOOKUP($G202,FocusAreas!$B$158:$C$936,2,0))","v":""},{"$f":"IF($E202=\"\",\"\",VLOOKUP(G202,FocusAreas!$B$11:$B$936,1,0))","v":""},0]
[null,null,null,null,null,null,null,null,null,null,null,null,null,null,null,{"$f":"IF($E203=\"\",\"\",VLOOKUP($G203,FocusAreas!$B$158:$C$936,2,0))","v":""},{"$f":"IF($E203=\"\",\"\",VLOOKUP(G203,FocusAreas!$B$11:$B$936,1,0))","v":""},0]
[null,null,null,null,null,null,null,null,null,null,null,null,null,null,null,{"$f":"IF($E204=\"\",\"\",VLOOKUP($G204,FocusAreas!$B$158:$C$936,2,0))","v":""},{"$f":"IF($E204=\"\",\"\",VLOOKUP(G204,FocusAreas!$B$11:$B$936,1,0))","v":""},0]
[null,null,null,null,null,null,null,null,null,null,null,null,null,null,null,{"$f":"IF($E205=\"\",\"\",VLOOKUP($G205,FocusAreas!$B$158:$C$936,2,0))","v":""},{"$f":"IF($E205=\"\",\"\",VLOOKUP(G205,FocusAreas!$B$11:$B$936,1,0))","v":""},0]
[null,null,null,null,null,null,null,null,null,null,null,null,null,null,null,{"$f":"IF($E206=\"\",\"\",VLOOKUP($G206,FocusAreas!$B$158:$C$936,2,0))","v":""},{"$f":"IF($E206=\"\",\"\",VLOOKUP(G206,FocusAreas!$B$11:$B$936,1,0))","v":""},0]
[null,null,null,null,null,null,null,null,null,null,null,null,null,null,null,{"$f":"IF($E207=\"\",\"\",VLOOKUP($G207,FocusAreas!$B$158:$C$936,2,0))","v":""},{"$f":"IF($E207=\"\",\"\",VLOOKUP(G207,FocusAreas!$B$11:$B$936,1,0))","v":""},0]
[null,null,null,null,null,null,null,null,null,null,null,null,null,null,null,{"$f":"IF($E208=\"\",\"\",VLOOKUP($G208,FocusAreas!$B$158:$C$936,2,0))","v":""},{"$f":"IF($E208=\"\",\"\",VLOOKUP(G208,FocusAreas!$B$11:$B$936,1,0))","v":""},0]
[null,null,null,null,null,null,null,null,null,null,null,null,null,null,null,{"$f":"IF($E209=\"\",\"\",VLOOKUP($G209,FocusAreas!$B$158:$C$936,2,0))","v":""},{"$f":"IF($E209=\"\",\"\",VLOOKUP(G209,FocusAreas!$B$11:$B$936,1,0))","v":""},0]
[null,null,null,null,null,null,null,null,null,null,null,null,null,null,null,{"$f":"IF($E210=\"\",\"\",VLOOKUP($G210,FocusAreas!$B$158:$C$936,2,0))","v":""},{"$f":"IF($E210=\"\",\"\",VLOOKUP(G210,FocusAreas!$B$11:$B$936,1,0))","v":""},0]
[null,null,null,null,null,null,null,null,null,null,null,null,null,null,null,{"$f":"IF($E211=\"\",\"\",VLOOKUP($G211,FocusAreas!$B$158:$C$936,2,0))","v":""},{"$f":"IF($E211=\"\",\"\",VLOOKUP(G211,FocusAreas!$B$11:$B$936,1,0))","v":""},0]
[null,null,null,null,null,null,null,null,null,null,null,null,null,null,null,{"$f":"IF($E212=\"\",\"\",VLOOKUP($G212,FocusAreas!$B$158:$C$936,2,0))","v":""},{"$f":"IF($E212=\"\",\"\",VLOOKUP(G212,FocusAreas!$B$11:$B$936,1,0))","v":""},0]
[null,null,null,null,null,null,null,null,null,null,null,null,null,null,null,{"$f":"IF($E213=\"\",\"\",VLOOKUP($G213,FocusAreas!$B$158:$C$936,2,0))","v":""},{"$f":"IF($E213=\"\",\"\",VLOOKUP(G213,FocusAreas!$B$11:$B$936,1,0))","v":""},0]
[null,null,null,null,null,null,null,null,null,null,null,null,null,null,null,{"$f":"IF($E214=\"\",\"\",VLOOKUP($G214,FocusAreas!$B$158:$C$936,2,0))","v":""},{"$f":"IF($E214=\"\",\"\",VLOOKUP(G214,FocusAreas!$B$11:$B$936,1,0))","v":""},0]
[null,null,null,null,null,null,null,null,null,null,null,null,null,null,null,{"$f":"IF($E215=\"\",\"\",VLOOKUP($G215,FocusAreas!$B$158:$C$936,2,0))","v":""},{"$f":"IF($E215=\"\",\"\",VLOOKUP(G215,FocusAreas!$B$11:$B$936,1,0))","v":""},0]
[null,null,null,null,null,null,null,null,null,null,null,null,null,null,null,{"$f":"IF($E216=\"\",\"\",VLOOKUP($G216,FocusAreas!$B$158:$C$936,2,0))","v":""},{"$f":"IF($E216=\"\",\"\",VLOOKUP(G216,FocusAreas!$B$11:$B$936,1,0))","v":""},0]
[null,null,null,null,null,null,null,null,null,null,null,null,null,null,null,{"$f":"IF($E217=\"\",\"\",VLOOKUP($G217,FocusAreas!$B$158:$C$936,2,0))","v":""},{"$f":"IF($E217=\"\",\"\",VLOOKUP(G217,FocusAreas!$B$11:$B$936,1,0))","v":""},0]
[null,null,null,null,null,null,null,null,null,null,null,null,null,null,null,{"$f":"IF($E218=\"\",\"\",VLOOKUP($G218,FocusAreas!$B$158:$C$936,2,0))","v":""},{"$f":"IF($E218=\"\",\"\",VLOOKUP(G218,FocusAreas!$B$11:$B$936,1,0))","v":""},0]
[null,null,null,null,null,null,null,null,null,null,null,null,null,null,null,{"$f":"IF($E219=\"\",\"\",VLOOKUP($G219,FocusAreas!$B$158:$C$936,2,0))","v":""},{"$f":"IF($E219=\"\",\"\",VLOOKUP(G219,FocusAreas!$B$11:$B$936,1,0))","v":""},0]
[null,null,null,null,null,null,null,null,null,null,null,null,null,null,null,{"$f":"IF($E220=\"\",\"\",VLOOKUP($G220,FocusAreas!$B$158:$C$936,2,0))","v":""},{"$f":"IF($E220=\"\",\"\",VLOOKUP(G220,FocusAreas!$B$11:$B$936,1,0))","v":""},0]
[null,null,null,null,null,null,null,null,null,null,null,null,null,null,null,{"$f":"IF($E221=\"\",\"\",VLOOKUP($G221,FocusAreas!$B$158:$C$936,2,0))","v":""},{"$f":"IF($E221=\"\",\"\",VLOOKUP(G221,FocusAreas!$B$11:$B$936,1,0))","v":""},0]
[null,null,null,null,null,null,null,null,null,null,null,null,null,null,null,{"$f":"IF($E222=\"\",\"\",VLOOKUP($G222,FocusAreas!$B$158:$C$936,2,0))","v":""},{"$f":"IF($E222=\"\",\"\",VLOOKUP(G222,FocusAreas!$B$11:$B$936,1,0))","v":""},0]
[null,null,null,null,null,null,null,null,null,null,null,null,null,null,null,{"$f":"IF($E223=\"\",\"\",VLOOKUP($G223,FocusAreas!$B$158:$C$936,2,0))","v":""},{"$f":"IF($E223=\"\",\"\",VLOOKUP(G223,FocusAreas!$B$11:$B$936,1,0))","v":""},0]
[null,null,null,null,null,null,null,null,null,null,null,null,null,null,null,{"$f":"IF($E224=\"\",\"\",VLOOKUP($G224,FocusAreas!$B$158:$C$936,2,0))","v":""},{"$f":"IF($E224=\"\",\"\",VLOOKUP(G224,FocusAreas!$B$11:$B$936,1,0))","v":""},0]
[null,null,null,null,null,null,null,null,null,null,null,null,null,null,null,{"$f":"IF($E225=\"\",\"\",VLOOKUP($G225,FocusAreas!$B$158:$C$936,2,0))","v":""},{"$f":"IF($E225=\"\",\"\",VLOOKUP(G225,FocusAreas!$B$11:$B$936,1,0))","v":""},0]
[null,null,null,null,null,null,null,null,null,null,null,null,null,null,null,{"$f":"IF($E226=\"\",\"\",VLOOKUP($G226,FocusAreas!$B$158:$C$936,2,0))","v":""},{"$f":"IF($E226=\"\",\"\",VLOOKUP(G226,FocusAreas!$B$11:$B$936,1,0))","v":""},0]
[null,null,null,null,null,null,null,null,null,null,null,null,null,null,null,{"$f":"IF($E227=\"\",\"\",VLOOKUP($G227,FocusAreas!$B$158:$C$936,2,0))","v":""},{"$f":"IF($E227=\"\",\"\",VLOOKUP(G227,FocusAreas!$B$11:$B$936,1,0))","v":""},0]
[null,null,null,null,null,null,null,null,null,null,null,null,null,null,null,{"$f":"IF($E228=\"\",\"\",VLOOKUP($G228,FocusAreas!$B$158:$C$936,2,0))","v":""},{"$f":"IF($E228=\"\",\"\",VLOOKUP(G228,FocusAreas!$B$11:$B$936,1,0))","v":""},0]
[null,null,null,null,null,null,null,null,null,null,null,null,null,null,null,{"$f":"IF($E229=\"\",\"\",VLOOKUP($G229,FocusAreas!$B$158:$C$936,2,0))","v":""},{"$f":"IF($E229=\"\",\"\",VLOOKUP(G229,FocusAreas!$B$11:$B$936,1,0))","v":""},0]
[null,null,null,null,null,null,null,null,null,null,null,null,null,null,null,{"$f":"IF($E230=\"\",\"\",VLOOKUP($G230,FocusAreas!$B$158:$C$936,2,0))","v":""},{"$f":"IF($E230=\"\",\"\",VLOOKUP(G230,FocusAreas!$B$11:$B$936,1,0))","v":""},0]
[null,null,null,null,null,null,null,null,null,null,null,null,null,null,null,{"$f":"IF($E231=\"\",\"\",VLOOKUP($G231,FocusAreas!$B$158:$C$936,2,0))","v":""},{"$f":"IF($E231=\"\",\"\",VLOOKUP(G231,FocusAreas!$B$11:$B$936,1,0))","v":""},0]
[null,null,null,null,null,null,null,null,null,null,null,null,null,null,null,{"$f":"IF($E232=\"\",\"\",VLOOKUP($G232,FocusAreas!$B$158:$C$936,2,0))","v":""},{"$f":"IF($E232=\"\",\"\",VLOOKUP(G232,FocusAreas!$B$11:$B$936,1,0))","v":""},0]
[null,null,null,null,null,null,null,null,null,null,null,null,null,null,null,{"$f":"IF($E233=\"\",\"\",VLOOKUP($G233,FocusAreas!$B$158:$C$936,2,0))","v":""},{"$f":"IF($E233=\"\",\"\",VLOOKUP(G233,FocusAreas!$B$11:$B$936,1,0))","v":""},0]
[null,null,null,null,null,null,null,null,null,null,null,null,null,null,null,{"$f":"IF($E234=\"\",\"\",VLOOKUP($G234,FocusAreas!$B$158:$C$936,2,0))","v":""},{"$f":"IF($E234=\"\",\"\",VLOOKUP(G234,FocusAreas!$B$11:$B$936,1,0))","v":""},0]
[null,null,null,null,null,null,null,null,null,null,null,null,null,null,null,{"$f":"IF($E235=\"\",\"\",VLOOKUP($G235,FocusAreas!$B$158:$C$936,2,0))","v":""},{"$f":"IF($E235=\"\",\"\",VLOOKUP(G235,FocusAreas!$B$11:$B$936,1,0))","v":""},0]
[null,null,null,null,null,null,null,null,null,null,null,null,null,null,null,{"$f":"IF($E236=\"\",\"\",VLOOKUP($G236,FocusAreas!$B$158:$C$936,2,0))","v":""},{"$f":"IF($E236=\"\",\"\",VLOOKUP(G236,FocusAreas!$B$11:$B$936,1,0))","v":""},0]
[null,null,null,null,null,null,null,null,null,null,null,null,null,null,null,{"$f":"IF($E237=\"\",\"\",VLOOKUP($G237,FocusAreas!$B$158:$C$936,2,0))","v":""},{"$f":"IF($E237=\"\",\"\",VLOOKUP(G237,FocusAreas!$B$11:$B$936,1,0))","v":""},0]
[null,null,null,null,null,null,null,null,null,null,null,null,null,null,null,{"$f":"IF($E238=\"\",\"\",VLOOKUP($G238,FocusAreas!$B$158:$C$936,2,0))","v":""},{"$f":"IF($E238=\"\",\"\",VLOOKUP(G238,FocusAreas!$B$11:$B$936,1,0))","v":""},0]
[null,null,null,null,null,null,null,null,null,null,null,null,null,null,null,{"$f":"IF($E239=\"\",\"\",VLOOKUP($G239,FocusAreas!$B$158:$C$936,2,0))","v":""},{"$f":"IF($E239=\"\",\"\",VLOOKUP(G239,FocusAreas!$B$11:$B$936,1,0))","v":""},0]
[null,null,null,null,null,null,null,null,null,null,null,null,null,null,null,{"$f":"IF($E240=\"\",\"\",VLOOKUP($G240,FocusAreas!$B$158:$C$936,2,0))","v":""},{"$f":"IF($E240=\"\",\"\",VLOOKUP(G240,FocusAreas!$B$11:$B$936,1,0))","v":""},0]
[null,null,null,null,null,null,null,null,null,null,null,null,null,null,null,{"$f":"IF($E241=\"\",\"\",VLOOKUP($G241,FocusAreas!$B$158:$C$936,2,0))","v":""},{"$f":"IF($E241=\"\",\"\",VLOOKUP(G241,FocusAreas!$B$11:$B$936,1,0))","v":""},0]
[null,null,null,null,null,null,null,null,null,null,null,null,null,null,null,{"$f":"IF($E242=\"\",\"\",VLOOKUP($G242,FocusAreas!$B$158:$C$936,2,0))","v":""},{"$f":"IF($E242=\"\",\"\",VLOOKUP(G242,FocusAreas!$B$11:$B$936,1,0))","v":""},0]
[null,null,null,null,null,null,null,null,null,null,null,null,null,null,null,{"$f":"IF($E243=\"\",\"\",VLOOKUP($G243,FocusAreas!$B$158:$C$936,2,0))","v":""},{"$f":"IF($E243=\"\",\"\",VLOOKUP(G243,FocusAreas!$B$11:$B$936,1,0))","v":""},0]
[null,null,null,null,null,null,null,null,null,null,null,null,null,null,null,{"$f":"IF($E244=\"\",\"\",VLOOKUP($G244,FocusAreas!$B$158:$C$936,2,0))","v":""},{"$f":"IF($E244=\"\",\"\",VLOOKUP(G244,FocusAreas!$B$11:$B$936,1,0))","v":""},0]
[null,null,null,null,null,null,null,null,null,null,null,null,null,null,null,{"$f":"IF($E245=\"\",\"\",VLOOKUP($G245,FocusAreas!$B$158:$C$936,2,0))","v":""},{"$f":"IF($E245=\"\",\"\",VLOOKUP(G245,FocusAreas!$B$11:$B$936,1,0))","v":""},0]
[null,null,null,null,null,null,null,null,null,null,null,null,null,null,null,{"$f":"IF($E246=\"\",\"\",VLOOKUP($G246,FocusAreas!$B$158:$C$936,2,0))","v":""},{"$f":"IF($E246=\"\",\"\",VLOOKUP(G246,FocusAreas!$B$11:$B$936,1,0))","v":""},0]
[null,null,null,null,null,null,null,null,null,null,null,null,null,null,null,{"$f":"IF($E247=\"\",\"\",VLOOKUP($G247,FocusAreas!$B$158:$C$936,2,0))","v":""},{"$f":"IF($E247=\"\",\"\",VLOOKUP(G247,FocusAreas!$B$11:$B$936,1,0))","v":""},0]
[null,null,null,null,null,null,null,null,null,null,null,null,null,null,null,{"$f":"IF($E248=\"\",\"\",VLOOKUP($G248,FocusAreas!$B$158:$C$936,2,0))","v":""},{"$f":"IF($E248=\"\",\"\",VLOOKUP(G248,FocusAreas!$B$11:$B$936,1,0))","v":""},0]
[null,null,null,null,null,null,null,null,null,null,null,null,null,null,null,{"$f":"IF($E249=\"\",\"\",VLOOKUP($G249,FocusAreas!$B$158:$C$936,2,0))","v":""},{"$f":"IF($E249=\"\",\"\",VLOOKUP(G249,FocusAreas!$B$11:$B$936,1,0))","v":""},0]
[null,null,null,null,null,null,null,null,null,null,null,null,null,null,null,{"$f":"IF($E250=\"\",\"\",VLOOKUP($G250,FocusAreas!$B$158:$C$936,2,0))","v":""},{"$f":"IF($E250=\"\",\"\",VLOOKUP(G250,FocusAreas!$B$11:$B$936,1,0))","v":""},0]
[null,null,null,null,null,null,null,null,null,null,null,null,null,null,null,{"$f":"IF($E251=\"\",\"\",VLOOKUP($G251,FocusAreas!$B$158:$C$936,2,0))","v":""},{"$f":"IF($E251=\"\",\"\",VLOOKUP(G251,FocusAreas!$B$11:$B$936,1,0))","v":""},0]
[null,null,null,null,null,null,null,null,null,null,null,null,null,null,null,{"$f":"IF($E252=\"\",\"\",VLOOKUP($G252,FocusAreas!$B$158:$C$936,2,0))","v":""},{"$f":"IF($E252=\"\",\"\",VLOOKUP(G252,FocusAreas!$B$11:$B$936,1,0))","v":""},0]
[null,null,null,null,null,null,null,null,null,null,null,null,null,null,null,{"$f":"IF($E253=\"\",\"\",VLOOKUP($G253,FocusAreas!$B$158:$C$936,2,0))","v":""},{"$f":"IF($E253=\"\",\"\",VLOOKUP(G253,FocusAreas!$B$11:$B$936,1,0))","v":""},0]
[null,null,null,null,null,null,null,null,null,null,null,null,null,null,null,{"$f":"IF($E254=\"\",\"\",VLOOKUP($G254,FocusAreas!$B$158:$C$936,2,0))","v":""},{"$f":"IF($E254=\"\",\"\",VLOOKUP(G254,FocusAreas!$B$11:$B$936,1,0))","v":""},0]
[null,null,null,null,null,null,null,null,null,null,null,null,null,null,null,{"$f":"IF($E255=\"\",\"\",VLOOKUP($G255,FocusAreas!$B$158:$C$936,2,0))","v":""},{"$f":"IF($E255=\"\",\"\",VLOOKUP(G255,FocusAreas!$B$11:$B$936,1,0))","v":""},0]
[null,null,null,null,null,null,null,null,null,null,null,null,null,null,null,{"$f":"IF($E256=\"\",\"\",VLOOKUP($G256,FocusAreas!$B$158:$C$936,2,0))","v":""},{"$f":"IF($E256=\"\",\"\",VLOOKUP(G256,FocusAreas!$B$11:$B$936,1,0))","v":""},0]
[null,null,null,null,null,null,null,null,null,null,null,null,null,null,null,{"$f":"IF($E257=\"\",\"\",VLOOKUP($G257,FocusAreas!$B$158:$C$936,2,0))","v":""},{"$f":"IF($E257=\"\",\"\",VLOOKUP(G257,FocusAreas!$B$11:$B$936,1,0))","v":""},0]
[null,null,null,null,null,null,null,null,null,null,null,null,null,null,null,{"$f":"IF($E258=\"\",\"\",VLOOKUP($G258,FocusAreas!$B$158:$C$936,2,0))","v":""},{"$f":"IF($E258=\"\",\"\",VLOOKUP(G258,FocusAreas!$B$11:$B$936,1,0))","v":""},0]
[null,null,null,null,null,null,null,null,null,null,null,null,null,null,null,{"$f":"IF($E259=\"\",\"\",VLOOKUP($G259,FocusAreas!$B$158:$C$936,2,0))","v":""},{"$f":"IF($E259=\"\",\"\",VLOOKUP(G259,FocusAreas!$B$11:$B$936,1,0))","v":""},{"$f":"IF(OR(ISERROR(Q259),ISERROR(F259)),1,IF(TRIM(E259)=TRIM(F259),0,1))","v":0}]
[null,null,null,null,null,null,null,null,null,null,null,null,null,null,null,{"$f":"IF($E260=\"\",\"\",VLOOKUP($G260,FocusAreas!$B$158:$C$936,2,0))","v":""},{"$f":"IF($E260=\"\",\"\",VLOOKUP(G260,FocusAreas!$B$11:$B$936,1,0))","v":""},0]
[null,null,null,null,null,null,null,null,null,null,null,null,null,null,null,{"$f":"IF($E261=\"\",\"\",VLOOKUP($G261,FocusAreas!$B$158:$C$936,2,0))","v":""},{"$f":"IF($E261=\"\",\"\",VLOOKUP(G261,FocusAreas!$B$11:$B$936,1,0))","v":""},0]
[null,null,null,null,null,null,null,null,null,null,null,null,null,null,null,{"$f":"IF($E262=\"\",\"\",VLOOKUP($G262,FocusAreas!$B$158:$C$936,2,0))","v":""},{"$f":"IF($E262=\"\",\"\",VLOOKUP(G262,FocusAreas!$B$11:$B$936,1,0))","v":""},0]
[null,null,null,null,null,null,null,null,null,null,null,null,null,null,null,{"$f":"IF($E263=\"\",\"\",VLOOKUP($G263,FocusAreas!$B$158:$C$936,2,0))","v":""},{"$f":"IF($E263=\"\",\"\",VLOOKUP(G263,FocusAreas!$B$11:$B$936,1,0))","v":""},0]
[null,null,null,null,null,null,null,null,null,null,null,null,null,null,null,{"$f":"IF($E264=\"\",\"\",VLOOKUP($G264,FocusAreas!$B$158:$C$936,2,0))","v":""},{"$f":"IF($E264=\"\",\"\",VLOOKUP(G264,FocusAreas!$B$11:$B$936,1,0))","v":""},0]
[null,null,null,null,null,null,null,null,null,null,null,null,null,null,null,{"$f":"IF($E265=\"\",\"\",VLOOKUP($G265,FocusAreas!$B$158:$C$936,2,0))","v":""},{"$f":"IF($E265=\"\",\"\",VLOOKUP(G265,FocusAreas!$B$11:$B$936,1,0))","v":""},0]
[null,null,null,null,null,null,null,null,null,null,null,null,null,null,null,{"$f":"IF($E266=\"\",\"\",VLOOKUP($G266,FocusAreas!$B$158:$C$936,2,0))","v":""},{"$f":"IF($E266=\"\",\"\",VLOOKUP(G266,FocusAreas!$B$11:$B$936,1,0))","v":""},0]
[null,null,null,null,null,null,null,null,null,null,null,null,null,null,null,{"$f":"IF($E267=\"\",\"\",VLOOKUP($G267,FocusAreas!$B$158:$C$936,2,0))","v":""},{"$f":"IF($E267=\"\",\"\",VLOOKUP(G267,FocusAreas!$B$11:$B$936,1,0))","v":""},0]
[null,null,null,null,null,null,null,null,null,null,null,null,null,null,null,{"$f":"IF($E268=\"\",\"\",VLOOKUP($G268,FocusAreas!$B$158:$C$936,2,0))","v":""},{"$f":"IF($E268=\"\",\"\",VLOOKUP(G268,FocusAreas!$B$11:$B$936,1,0))","v":""},0]
[null,null,null,null,null,null,null,null,null,null,null,null,null,null,null,{"$f":"IF($E269=\"\",\"\",VLOOKUP($G269,FocusAreas!$B$158:$C$936,2,0))","v":""},{"$f":"IF($E269=\"\",\"\",VLOOKUP(G269,FocusAreas!$B$11:$B$936,1,0))","v":""},0]
[null,null,null,null,null,null,null,null,null,null,null,null,null,null,null,{"$f":"IF($E270=\"\",\"\",VLOOKUP($G270,FocusAreas!$B$158:$C$936,2,0))","v":""},{"$f":"IF($E270=\"\",\"\",VLOOKUP(G270,FocusAreas!$B$11:$B$936,1,0))","v":""},0]
[null,null,null,null,null,null,null,null,null,null,null,null,null,null,null,{"$f":"IF($E271=\"\",\"\",VLOOKUP($G271,FocusAreas!$B$158:$C$936,2,0))","v":""},{"$f":"IF($E271=\"\",\"\",VLOOKUP(G271,FocusAreas!$B$11:$B$936,1,0))","v":""},0]
[null,null,null,null,null,null,null,null,null,null,null,null,null,null,null,{"$f":"IF($E272=\"\",\"\",VLOOKUP($G272,FocusAreas!$B$158:$C$936,2,0))","v":""},{"$f":"IF($E272=\"\",\"\",VLOOKUP(G272,FocusAreas!$B$11:$B$936,1,0))","v":""},0]
[null,null,null,null,null,null,null,null,null,null,null,null,null,null,null,{"$f":"IF($E273=\"\",\"\",VLOOKUP($G273,FocusAreas!$B$158:$C$936,2,0))","v":""},{"$f":"IF($E273=\"\",\"\",VLOOKUP(G273,FocusAreas!$B$11:$B$936,1,0))","v":""},0]
[null,null,null,null,null,null,null,null,null,null,null,null,null,null,null,{"$f":"IF($E274=\"\",\"\",VLOOKUP($G274,FocusAreas!$B$158:$C$936,2,0))","v":""},{"$f":"IF($E274=\"\",\"\",VLOOKUP(G274,FocusAreas!$B$11:$B$936,1,0))","v":""},0]
[null,null,null,null,null,null,null,null,null,null,null,null,null,null,null,{"$f":"IF($E275=\"\",\"\",VLOOKUP($G275,FocusAreas!$B$158:$C$936,2,0))","v":""},{"$f":"IF($E275=\"\",\"\",VLOOKUP(G275,FocusAreas!$B$11:$B$936,1,0))","v":""},0]
[null,null,null,null,null,null,null,null,null,null,null,null,null,null,null,{"$f":"IF($E276=\"\",\"\",VLOOKUP($G276,FocusAreas!$B$158:$C$936,2,0))","v":""},{"$f":"IF($E276=\"\",\"\",VLOOKUP(G276,FocusAreas!$B$11:$B$936,1,0))","v":""},0]
[null,null,null,null,null,null,null,null,null,null,null,null,null,null,null,{"$f":"IF($E277=\"\",\"\",VLOOKUP($G277,FocusAreas!$B$158:$C$936,2,0))","v":""},{"$f":"IF($E277=\"\",\"\",VLOOKUP(G277,FocusAreas!$B$11:$B$936,1,0))","v":""},0]
[null,null,null,null,null,null,null,null,null,null,null,null,null,null,null,{"$f":"IF($E278=\"\",\"\",VLOOKUP($G278,FocusAreas!$B$158:$C$936,2,0))","v":""},{"$f":"IF($E278=\"\",\"\",VLOOKUP(G278,FocusAreas!$B$11:$B$936,1,0))","v":""},0]
[null,null,null,null,null,null,null,null,null,null,null,null,null,null,null,{"$f":"IF($E279=\"\",\"\",VLOOKUP($G279,FocusAreas!$B$158:$C$936,2,0))","v":""},{"$f":"IF($E279=\"\",\"\",VLOOKUP(G279,FocusAreas!$B$11:$B$936,1,0))","v":""},0]
[null,null,null,null,null,null,null,null,null,null,null,null,null,null,null,{"$f":"IF($E280=\"\",\"\",VLOOKUP($G280,FocusAreas!$B$158:$C$936,2,0))","v":""},{"$f":"IF($E280=\"\",\"\",VLOOKUP(G280,FocusAreas!$B$11:$B$936,1,0))","v":""},0]
[null,null,null,null,null,null,null,null,null,null,null,null,null,null,null,{"$f":"IF($E281=\"\",\"\",VLOOKUP($G281,FocusAreas!$B$158:$C$936,2,0))","v":""},{"$f":"IF($E281=\"\",\"\",VLOOKUP(G281,FocusAreas!$B$11:$B$936,1,0))","v":""},0]
[null,null,null,null,null,null,null,null,null,null,null,null,null,null,null,{"$f":"IF($E282=\"\",\"\",VLOOKUP($G282,FocusAreas!$B$158:$C$936,2,0))","v":""},{"$f":"IF($E282=\"\",\"\",VLOOKUP(G282,FocusAreas!$B$11:$B$936,1,0))","v":""},0]
[null,null,null,null,null,null,null,null,null,null,null,null,null,null,null,{"$f":"IF($E283=\"\",\"\",VLOOKUP($G283,FocusAreas!$B$158:$C$936,2,0))","v":""},{"$f":"IF($E283=\"\",\"\",VLOOKUP(G283,FocusAreas!$B$11:$B$936,1,0))","v":""},0]
[null,null,null,null,null,null,null,null,null,null,null,null,null,null,null,{"$f":"IF($E284=\"\",\"\",VLOOKUP($G284,FocusAreas!$B$158:$C$936,2,0))","v":""},{"$f":"IF($E284=\"\",\"\",VLOOKUP(G284,FocusAreas!$B$11:$B$936,1,0))","v":""},0]
[null,null,null,null,null,null,null,null,null,null,null,null,null,null,null,{"$f":"IF($E285=\"\",\"\",VLOOKUP($G285,FocusAreas!$B$158:$C$936,2,0))","v":""},{"$f":"IF($E285=\"\",\"\",VLOOKUP(G285,FocusAreas!$B$11:$B$936,1,0))","v":""},0]
[null,null,null,null,null,null,null,null,null,null,null,null,null,null,null,{"$f":"IF($E286=\"\",\"\",VLOOKUP($G286,FocusAreas!$B$158:$C$936,2,0))","v":""},{"$f":"IF($E286=\"\",\"\",VLOOKUP(G286,FocusAreas!$B$11:$B$936,1,0))","v":""},0]
[null,null,null,null,null,null,null,null,null,null,null,null,null,null,null,{"$f":"IF($E287=\"\",\"\",VLOOKUP($G287,FocusAreas!$B$158:$C$936,2,0))","v":""},{"$f":"IF($E287=\"\",\"\",VLOOKUP(G287,FocusAreas!$B$11:$B$936,1,0))","v":""},0]
[null,null,null,null,null,null,null,null,null,null,null,null,null,null,null,{"$f":"IF($E288=\"\",\"\",VLOOKUP($G288,FocusAreas!$B$158:$C$936,2,0))","v":""},{"$f":"IF($E288=\"\",\"\",VLOOKUP(G288,FocusAreas!$B$11:$B$936,1,0))","v":""},0]
[null,null,null,null,null,null,null,null,null,null,null,null,null,null,null,{"$f":"IF($E289=\"\",\"\",VLOOKUP($G289,FocusAreas!$B$158:$C$936,2,0))","v":""},{"$f":"IF($E289=\"\",\"\",VLOOKUP(G289,FocusAreas!$B$11:$B$936,1,0))","v":""},0]
[null,null,null,null,null,null,null,null,null,null,null,null,null,null,null,{"$f":"IF($E290=\"\",\"\",VLOOKUP($G290,FocusAreas!$B$158:$C$936,2,0))","v":""},{"$f":"IF($E290=\"\",\"\",VLOOKUP(G290,FocusAreas!$B$11:$B$936,1,0))","v":""},0]
[null,null,null,null,null,null,null,null,null,null,null,null,null,null,null,{"$f":"IF($E291=\"\",\"\",VLOOKUP($G291,FocusAreas!$B$158:$C$936,2,0))","v":""},{"$f":"IF($E291=\"\",\"\",VLOOKUP(G291,FocusAreas!$B$11:$B$936,1,0))","v":""},0]
[null,null,null,null,null,null,null,null,null,null,null,null,null,null,null,{"$f":"IF($E292=\"\",\"\",VLOOKUP($G292,FocusAreas!$B$158:$C$936,2,0))","v":""},{"$f":"IF($E292=\"\",\"\",VLOOKUP(G292,FocusAreas!$B$11:$B$936,1,0))","v":""},0]
[null,null,null,null,null,null,null,null,null,null,null,null,null,null,null,{"$f":"IF($E293=\"\",\"\",VLOOKUP($G293,FocusAreas!$B$158:$C$936,2,0))","v":""},{"$f":"IF($E293=\"\",\"\",VLOOKUP(G293,FocusAreas!$B$11:$B$936,1,0))","v":""},0]
[null,null,null,null,null,null,null,null,null,null,null,null,null,null,null,{"$f":"IF($E294=\"\",\"\",VLOOKUP($G294,FocusAreas!$B$158:$C$936,2,0))","v":""},{"$f":"IF($E294=\"\",\"\",VLOOKUP(G294,FocusAreas!$B$11:$B$936,1,0))","v":""},0]
[null,null,null,null,null,null,null,null,null,null,null,null,null,null,null,{"$f":"IF($E295=\"\",\"\",VLOOKUP($G295,FocusAreas!$B$158:$C$936,2,0))","v":""},{"$f":"IF($E295=\"\",\"\",VLOOKUP(G295,FocusAreas!$B$11:$B$936,1,0))","v":""},0]
[null,null,null,null,null,null,null,null,null,null,null,null,null,null,null,{"$f":"IF($E296=\"\",\"\",VLOOKUP($G296,FocusAreas!$B$158:$C$936,2,0))","v":""},{"$f":"IF($E296=\"\",\"\",VLOOKUP(G296,FocusAreas!$B$11:$B$936,1,0))","v":""},0]
[null,null,null,null,null,null,null,null,null,null,null,null,null,null,null,{"$f":"IF($E297=\"\",\"\",VLOOKUP($G297,FocusAreas!$B$158:$C$936,2,0))","v":""},{"$f":"IF($E297=\"\",\"\",VLOOKUP(G297,FocusAreas!$B$11:$B$936,1,0))","v":""},0]
[null,null,null,null,null,null,null,null,null,null,null,null,null,null,null,{"$f":"IF($E298=\"\",\"\",VLOOKUP($G298,FocusAreas!$B$158:$C$936,2,0))","v":""},{"$f":"IF($E298=\"\",\"\",VLOOKUP(G298,FocusAreas!$B$11:$B$936,1,0))","v":""},0]
[null,null,null,null,null,null,null,null,null,null,null,null,null,null,null,{"$f":"IF($E299=\"\",\"\",VLOOKUP($G299,FocusAreas!$B$158:$C$936,2,0))","v":""},{"$f":"IF($E299=\"\",\"\",VLOOKUP(G299,FocusAreas!$B$11:$B$936,1,0))","v":""},0]
[null,null,null,null,null,null,null,null,null,null,null,null,null,null,null,{"$f":"IF($E300=\"\",\"\",VLOOKUP($G300,FocusAreas!$B$158:$C$936,2,0))","v":""},{"$f":"IF($E300=\"\",\"\",VLOOKUP(G300,FocusAreas!$B$11:$B$936,1,0))","v":""},0]
[null,null,null,null,null,null,null,null,null,null,null,null,null,null,null,{"$f":"IF($E301=\"\",\"\",VLOOKUP($G301,FocusAreas!$B$158:$C$936,2,0))","v":""},{"$f":"IF($E301=\"\",\"\",VLOOKUP(G301,FocusAreas!$B$11:$B$936,1,0))","v":""},0]
[null,null,null,null,null,null,null,null,null,null,null,null,null,null,null,{"$f":"IF($E302=\"\",\"\",VLOOKUP($G302,FocusAreas!$B$158:$C$936,2,0))","v":""},{"$f":"IF($E302=\"\",\"\",VLOOKUP(G302,FocusAreas!$B$11:$B$936,1,0))","v":""},0]
[null,null,null,null,null,null,null,null,null,null,null,null,null,null,null,{"$f":"IF($E303=\"\",\"\",VLOOKUP($G303,FocusAreas!$B$158:$C$936,2,0))","v":""},{"$f":"IF($E303=\"\",\"\",VLOOKUP(G303,FocusAreas!$B$11:$B$936,1,0))","v":""},0]
[null,null,null,null,null,null,null,null,null,null,null,null,null,null,null,{"$f":"IF($E304=\"\",\"\",VLOOKUP($G304,FocusAreas!$B$158:$C$936,2,0))","v":""},{"$f":"IF($E304=\"\",\"\",VLOOKUP(G304,FocusAreas!$B$11:$B$936,1,0))","v":""},0]
[null,null,null,null,null,null,null,null,null,null,null,null,null,null,null,{"$f":"IF($E305=\"\",\"\",VLOOKUP($G305,FocusAreas!$B$158:$C$936,2,0))","v":""},{"$f":"IF($E305=\"\",\"\",VLOOKUP(G305,FocusAreas!$B$11:$B$936,1,0))","v":""},0]
[null,null,null,null,null,null,null,null,null,null,null,null,null,null,null,{"$f":"IF($E306=\"\",\"\",VLOOKUP($G306,FocusAreas!$B$158:$C$936,2,0))","v":""},{"$f":"IF($E306=\"\",\"\",VLOOKUP(G306,FocusAreas!$B$11:$B$936,1,0))","v":""},0]
[null,null,null,null,null,null,null,null,null,null,null,null,null,null,null,{"$f":"IF($E307=\"\",\"\",VLOOKUP($G307,FocusAreas!$B$158:$C$936,2,0))","v":""},{"$f":"IF($E307=\"\",\"\",VLOOKUP(G307,FocusAreas!$B$11:$B$936,1,0))","v":""},0]
[null,null,null,null,null,null,null,null,null,null,null,null,null,null,null,{"$f":"IF($E308=\"\",\"\",VLOOKUP($G308,FocusAreas!$B$158:$C$936,2,0))","v":""},{"$f":"IF($E308=\"\",\"\",VLOOKUP(G308,FocusAreas!$B$11:$B$936,1,0))","v":""},0]
[null,null,null,null,null,null,null,null,null,null,null,null,null,null,null,{"$f":"IF($E309=\"\",\"\",VLOOKUP($G309,FocusAreas!$B$158:$C$936,2,0))","v":""},{"$f":"IF($E309=\"\",\"\",VLOOKUP(G309,FocusAreas!$B$11:$B$936,1,0))","v":""},0]
[null,null,null,null,null,null,null,null,null,null,null,null,null,null,null,{"$f":"IF($E310=\"\",\"\",VLOOKUP($G310,FocusAreas!$B$158:$C$936,2,0))","v":""},{"$f":"IF($E310=\"\",\"\",VLOOKUP(G310,FocusAreas!$B$11:$B$936,1,0))","v":""},0]
[null,null,null,null,null,null,null,null,null,null,null,null,null,null,null,{"$f":"IF($E311=\"\",\"\",VLOOKUP($G311,FocusAreas!$B$158:$C$936,2,0))","v":""},{"$f":"IF($E311=\"\",\"\",VLOOKUP(G311,FocusAreas!$B$11:$B$936,1,0))","v":""},0]
[null,null,null,null,null,null,null,null,null,null,null,null,null,null,null,{"$f":"IF($E312=\"\",\"\",VLOOKUP($G312,FocusAreas!$B$158:$C$936,2,0))","v":""},{"$f":"IF($E312=\"\",\"\",VLOOKUP(G312,FocusAreas!$B$11:$B$936,1,0))","v":""},0]
[null,null,null,null,null,null,null,null,null,null,null,null,null,null,null,{"$f":"IF($E313=\"\",\"\",VLOOKUP($G313,FocusAreas!$B$158:$C$936,2,0))","v":""},{"$f":"IF($E313=\"\",\"\",VLOOKUP(G313,FocusAreas!$B$11:$B$936,1,0))","v":""},0]
[null,null,null,null,null,null,null,null,null,null,null,null,null,null,null,{"$f":"IF($E314=\"\",\"\",VLOOKUP($G314,FocusAreas!$B$158:$C$936,2,0))","v":""},{"$f":"IF($E314=\"\",\"\",VLOOKUP(G314,FocusAreas!$B$11:$B$936,1,0))","v":""},0]
[null,null,null,null,null,null,null,null,null,null,null,null,null,null,null,{"$f":"IF($E315=\"\",\"\",VLOOKUP($G315,FocusAreas!$B$158:$C$936,2,0))","v":""},{"$f":"IF($E315=\"\",\"\",VLOOKUP(G315,FocusAreas!$B$11:$B$936,1,0))","v":""},0]
[null,null,null,null,null,null,null,null,null,null,null,null,null,null,null,{"$f":"IF($E316=\"\",\"\",VLOOKUP($G316,FocusAreas!$B$158:$C$936,2,0))","v":""},{"$f":"IF($E316=\"\",\"\",VLOOKUP(G316,FocusAreas!$B$11:$B$936,1,0))","v":""},0]
[null,null,null,null,null,null,null,null,null,null,null,null,null,null,null,{"$f":"IF($E317=\"\",\"\",VLOOKUP($G317,FocusAreas!$B$158:$C$936,2,0))","v":""},{"$f":"IF($E317=\"\",\"\",VLOOKUP(G317,FocusAreas!$B$11:$B$936,1,0))","v":""},0]
[null,null,null,null,null,null,null,null,null,null,null,null,null,null,null,{"$f":"IF($E318=\"\",\"\",VLOOKUP($G318,FocusAreas!$B$158:$C$936,2,0))","v":""},{"$f":"IF($E318=\"\",\"\",VLOOKUP(G318,FocusAreas!$B$11:$B$936,1,0))","v":""},0]
[null,null,null,null,null,null,null,null,null,null,null,null,null,null,null,{"$f":"IF($E319=\"\",\"\",VLOOKUP($G319,FocusAreas!$B$158:$C$936,2,0))","v":""},{"$f":"IF($E319=\"\",\"\",VLOOKUP(G319,FocusAreas!$B$11:$B$936,1,0))","v":""},0]
[null,null,null,null,null,null,null,null,null,null,null,null,null,null,null,{"$f":"IF($E320=\"\",\"\",VLOOKUP($G320,FocusAreas!$B$158:$C$936,2,0))","v":""},{"$f":"IF($E320=\"\",\"\",VLOOKUP(G320,FocusAreas!$B$11:$B$936,1,0))","v":""},0]
[null,null,null,null,null,null,null,null,null,null,null,null,null,null,null,{"$f":"IF($E321=\"\",\"\",VLOOKUP($G321,FocusAreas!$B$158:$C$936,2,0))","v":""},{"$f":"IF($E321=\"\",\"\",VLOOKUP(G321,FocusAreas!$B$11:$B$936,1,0))","v":""},0]
[null,null,null,null,null,null,null,null,null,null,null,null,null,null,null,{"$f":"IF($E322=\"\",\"\",VLOOKUP($G322,FocusAreas!$B$158:$C$936,2,0))","v":""},{"$f":"IF($E322=\"\",\"\",VLOOKUP(G322,FocusAreas!$B$11:$B$936,1,0))","v":""},0]
[null,null,null,null,null,null,null,null,null,null,null,null,null,null,null,{"$f":"IF($E323=\"\",\"\",VLOOKUP($G323,FocusAreas!$B$158:$C$936,2,0))","v":""},{"$f":"IF($E323=\"\",\"\",VLOOKUP(G323,FocusAreas!$B$11:$B$936,1,0))","v":""},{"$f":"IF(OR(ISERROR(Q323),ISERROR(F323)),1,IF(TRIM(E323)=TRIM(F323),0,1))","v":0}]
[null,null,null,null,null,null,null,null,null,null,null,null,null,null,null,{"$f":"IF($E324=\"\",\"\",VLOOKUP($G324,FocusAreas!$B$158:$C$936,2,0))","v":""},{"$f":"IF($E324=\"\",\"\",VLOOKUP(G324,FocusAreas!$B$11:$B$936,1,0))","v":""},0]
[null,null,null,null,null,null,null,null,null,null,null,null,null,null,null,{"$f":"IF($E325=\"\",\"\",VLOOKUP($G325,FocusAreas!$B$158:$C$936,2,0))","v":""},{"$f":"IF($E325=\"\",\"\",VLOOKUP(G325,FocusAreas!$B$11:$B$936,1,0))","v":""},0]
[null,null,null,null,null,null,null,null,null,null,null,null,null,null,null,{"$f":"IF($E326=\"\",\"\",VLOOKUP($G326,FocusAreas!$B$158:$C$936,2,0))","v":""},{"$f":"IF($E326=\"\",\"\",VLOOKUP(G326,FocusAreas!$B$11:$B$936,1,0))","v":""},0]
[null,null,null,null,null,null,null,null,null,null,null,null,null,null,null,{"$f":"IF($E327=\"\",\"\",VLOOKUP($G327,FocusAreas!$B$158:$C$936,2,0))","v":""},{"$f":"IF($E327=\"\",\"\",VLOOKUP(G327,FocusAreas!$B$11:$B$936,1,0))","v":""},0]
[null,null,null,null,null,null,null,null,null,null,null,null,null,null,null,{"$f":"IF($E328=\"\",\"\",VLOOKUP($G328,FocusAreas!$B$158:$C$936,2,0))","v":""},{"$f":"IF($E328=\"\",\"\",VLOOKUP(G328,FocusAreas!$B$11:$B$936,1,0))","v":""},0]
[null,null,null,null,null,null,null,null,null,null,null,null,null,null,null,{"$f":"IF($E329=\"\",\"\",VLOOKUP($G329,FocusAreas!$B$158:$C$936,2,0))","v":""},{"$f":"IF($E329=\"\",\"\",VLOOKUP(G329,FocusAreas!$B$11:$B$936,1,0))","v":""},0]
[null,null,null,null,null,null,null,null,null,null,null,null,null,null,null,{"$f":"IF($E330=\"\",\"\",VLOOKUP($G330,FocusAreas!$B$158:$C$936,2,0))","v":""},{"$f":"IF($E330=\"\",\"\",VLOOKUP(G330,FocusAreas!$B$11:$B$936,1,0))","v":""},0]
[null,null,null,null,null,null,null,null,null,null,null,null,null,null,null,{"$f":"IF($E331=\"\",\"\",VLOOKUP($G331,FocusAreas!$B$158:$C$936,2,0))","v":""},{"$f":"IF($E331=\"\",\"\",VLOOKUP(G331,FocusAreas!$B$11:$B$936,1,0))","v":""},0]
[null,null,null,null,null,null,null,null,null,null,null,null,null,null,null,{"$f":"IF($E332=\"\",\"\",VLOOKUP($G332,FocusAreas!$B$158:$C$936,2,0))","v":""},{"$f":"IF($E332=\"\",\"\",VLOOKUP(G332,FocusAreas!$B$11:$B$936,1,0))","v":""},0]
[null,null,null,null,null,null,null,null,null,null,null,null,null,null,null,{"$f":"IF($E333=\"\",\"\",VLOOKUP($G333,FocusAreas!$B$158:$C$936,2,0))","v":""},{"$f":"IF($E333=\"\",\"\",VLOOKUP(G333,FocusAreas!$B$11:$B$936,1,0))","v":""},0]
[null,null,null,null,null,null,null,null,null,null,null,null,null,null,null,{"$f":"IF($E334=\"\",\"\",VLOOKUP($G334,FocusAreas!$B$158:$C$936,2,0))","v":""},{"$f":"IF($E334=\"\",\"\",VLOOKUP(G334,FocusAreas!$B$11:$B$936,1,0))","v":""},0]
[null,null,null,null,null,null,null,null,null,null,null,null,null,null,null,{"$f":"IF($E335=\"\",\"\",VLOOKUP($G335,FocusAreas!$B$158:$C$936,2,0))","v":""},{"$f":"IF($E335=\"\",\"\",VLOOKUP(G335,FocusAreas!$B$11:$B$936,1,0))","v":""},0]
[null,null,null,null,null,null,null,null,null,null,null,null,null,null,null,{"$f":"IF($E336=\"\",\"\",VLOOKUP($G336,FocusAreas!$B$158:$C$936,2,0))","v":""},{"$f":"IF($E336=\"\",\"\",VLOOKUP(G336,FocusAreas!$B$11:$B$936,1,0))","v":""},0]
[null,null,null,null,null,null,null,null,null,null,null,null,null,null,null,{"$f":"IF($E337=\"\",\"\",VLOOKUP($G337,FocusAreas!$B$158:$C$936,2,0))","v":""},{"$f":"IF($E337=\"\",\"\",VLOOKUP(G337,FocusAreas!$B$11:$B$936,1,0))","v":""},0]
[null,null,null,null,null,null,null,null,null,null,null,null,null,null,null,{"$f":"IF($E338=\"\",\"\",VLOOKUP($G338,FocusAreas!$B$158:$C$936,2,0))","v":""},{"$f":"IF($E338=\"\",\"\",VLOOKUP(G338,FocusAreas!$B$11:$B$936,1,0))","v":""},0]
[null,null,null,null,null,null,null,null,null,null,null,null,null,null,null,{"$f":"IF($E339=\"\",\"\",VLOOKUP($G339,FocusAreas!$B$158:$C$936,2,0))","v":""},{"$f":"IF($E339=\"\",\"\",VLOOKUP(G339,FocusAreas!$B$11:$B$936,1,0))","v":""},0]
[null,null,null,null,null,null,null,null,null,null,null,null,null,null,null,{"$f":"IF($E340=\"\",\"\",VLOOKUP($G340,FocusAreas!$B$158:$C$936,2,0))","v":""},{"$f":"IF($E340=\"\",\"\",VLOOKUP(G340,FocusAreas!$B$11:$B$936,1,0))","v":""},0]
[null,null,null,null,null,null,null,null,null,null,null,null,null,null,null,{"$f":"IF($E341=\"\",\"\",VLOOKUP($G341,FocusAreas!$B$158:$C$936,2,0))","v":""},{"$f":"IF($E341=\"\",\"\",VLOOKUP(G341,FocusAreas!$B$11:$B$936,1,0))","v":""},0]
[null,null,null,null,null,null,null,null,null,null,null,null,null,null,null,{"$f":"IF($E342=\"\",\"\",VLOOKUP($G342,FocusAreas!$B$158:$C$936,2,0))","v":""},{"$f":"IF($E342=\"\",\"\",VLOOKUP(G342,FocusAreas!$B$11:$B$936,1,0))","v":""},0]
[null,null,null,null,null,null,null,null,null,null,null,null,null,null,null,{"$f":"IF($E343=\"\",\"\",VLOOKUP($G343,FocusAreas!$B$158:$C$936,2,0))","v":""},{"$f":"IF($E343=\"\",\"\",VLOOKUP(G343,FocusAreas!$B$11:$B$936,1,0))","v":""},0]
[null,null,null,null,null,null,null,null,null,null,null,null,null,null,null,{"$f":"IF($E344=\"\",\"\",VLOOKUP($G344,FocusAreas!$B$158:$C$936,2,0))","v":""},{"$f":"IF($E344=\"\",\"\",VLOOKUP(G344,FocusAreas!$B$11:$B$936,1,0))","v":""},0]
[null,null,null,null,null,null,null,null,null,null,null,null,null,null,null,{"$f":"IF($E345=\"\",\"\",VLOOKUP($G345,FocusAreas!$B$158:$C$936,2,0))","v":""},{"$f":"IF($E345=\"\",\"\",VLOOKUP(G345,FocusAreas!$B$11:$B$936,1,0))","v":""},0]
[null,null,null,null,null,null,null,null,null,null,null,null,null,null,null,{"$f":"IF($E346=\"\",\"\",VLOOKUP($G346,FocusAreas!$B$158:$C$936,2,0))","v":""},{"$f":"IF($E346=\"\",\"\",VLOOKUP(G346,FocusAreas!$B$11:$B$936,1,0))","v":""},0]
[null,null,null,null,null,null,null,null,null,null,null,null,null,null,null,{"$f":"IF($E347=\"\",\"\",VLOOKUP($G347,FocusAreas!$B$158:$C$936,2,0))","v":""},{"$f":"IF($E347=\"\",\"\",VLOOKUP(G347,FocusAreas!$B$11:$B$936,1,0))","v":""},0]
[null,null,null,null,null,null,null,null,null,null,null,null,null,null,null,{"$f":"IF($E348=\"\",\"\",VLOOKUP($G348,FocusAreas!$B$158:$C$936,2,0))","v":""},{"$f":"IF($E348=\"\",\"\",VLOOKUP(G348,FocusAreas!$B$11:$B$936,1,0))","v":""},0]
[null,null,null,null,null,null,null,null,null,null,null,null,null,null,null,{"$f":"IF($E349=\"\",\"\",VLOOKUP($G349,FocusAreas!$B$158:$C$936,2,0))","v":""},{"$f":"IF($E349=\"\",\"\",VLOOKUP(G349,FocusAreas!$B$11:$B$936,1,0))","v":""},0]
[null,null,null,null,null,null,null,null,null,null,null,null,null,null,null,{"$f":"IF($E350=\"\",\"\",VLOOKUP($G350,FocusAreas!$B$158:$C$936,2,0))","v":""},{"$f":"IF($E350=\"\",\"\",VLOOKUP(G350,FocusAreas!$B$11:$B$936,1,0))","v":""},0]
[null,null,null,null,null,null,null,null,null,null,null,null,null,null,null,{"$f":"IF($E351=\"\",\"\",VLOOKUP($G351,FocusAreas!$B$158:$C$936,2,0))","v":""},{"$f":"IF($E351=\"\",\"\",VLOOKUP(G351,FocusAreas!$B$11:$B$936,1,0))","v":""},0]

{"sheet":"ProjectRecords","index":62,"n_rows":52,"n_cols":40,"rows_kept":52,"cut":false,"hidden":false,"merged":[]}
[null,null,"B6",null,"B7","B30","B32","B28",null,"B25","B26","B13","B14","B16","B17","B19","B20","B22","B23","G6","G7","G8","G9","G10","G11","B40",null,"E8","E9","E34","B11","numbers below are drawn from table of contents",null,null,null,null,null,null,null,"E12"]
["ID","worksheet","Abbrev","Proj No","Title","Focus Area","Partner","Class Code","Abstracts","Total Fed","Total Mat","PI1","Affiliation1","PI2","Affiliation2","PI3","Affiliation3","PI4","AFFIL4","NSGO1","NSGO2","NSGO3","NSGO4","NSGO5","NSGO6","Data Sharing Plan","Comments","StartDate","EndDate","MultiProgram","Competitive","FedYear1","MatchYear1","FedYear2","MatchYear2","FedYear3","MatchYear3","FedYear4","MatchYear4","TRL"]
[null,{"$f":"MID(CELL(\"filename\",'S1-Start Here'!$B$1),FIND(\"]\",CELL(\"filename\",'S1-Start Here'!$B$1))+1,24)","v":"S1-Start Here"},{"$f":"IF(INDIRECT(\"'\"&$B3&\"'!\"&C$1)=\"\",\"\",INDIRECT(\"'\"&$B3&\"'!\"&C$1))","v":""},{"$f":"INDIRECT(\"'\"&B3&\"'!A10\")&INDIRECT(\"'\"&B3&\"'!B10\")","v":""},{"$f":"INDIRECT(\"'\"&$B3&\"'!\"&E$1)","v":""},"","","",{"$f":"IF(INDIRECT(\"'\"&$B3&\"'!b34\")=\"\",\"\",\"Objectives: \")&INDIRECT(\"'\"&$B3&\"'!b34\")&IF(INDIRECT(\"'\"&$B3&\"'!b36\")=\"\",\" \",\"\nMethodology: \")&INDIRECT(\"'\"&$B3&\"'!b36\")&IF(INDIRECT(\"'\"&$B3&\"'!b38\")=\"\",\" \",\"\nRationale: \")&INDIRECT(\"'\"&$B3&\"'!b38\")&IF(INDIRECT(\"'\"&$B3&\"'!b40\")=\"\",\" \",\"\nData Sharing Plan: \")&INDIRECT(\"'\"&$B3&\"'!b40\")","v":"   "},{"$f":"INDIRECT(\"'\"&$B3&\"'!\"&J$1)","v":0},0,{"$f":"INDIRECT(\"'\"&$B3&\"'!\"&L$1)&\"\"","v":""},"","","","","","","","uploaded by","grant no","amd no","fund source","","",{"$f":"INDIRECT(\"'\"&$B3&\"'!\"&Z$1)","v":""},{"$f":"VLOOKUP(D3,'TOC generator worksheet'!I$2:V$51,14,FALSE)","v":""},{"$f":"IF(INDIRECT(\"'\"&$B3&\"'!\"&AB$1)=0,\"\",INDIRECT(\"'\"&$B3&\"'!\"&AB$1))","v":""},{"$f":"IF(INDIRECT(\"'\"&$B3&\"'!\"&AC$1)=0,\"\",INDIRECT(\"'\"&$B3&\"'!\"&AC$1))","v":""},{"$f":"INDIRECT(\"'\"&$B3&\"'!\"&AD$1)&\"\"","v":""},{"$f":"INDIRECT(\"'\"&$B3&\"'!\"&AE$1)*1","v":0},{"$f":"TableOfContents!G7","v":""},{"$f":"TableOfContents!H7","v":""},{"$f":"TableOfContents!I7","v":""},{"$f":"TableOfContents!J7","v":""},{"$f":"TableOfContents!K7","v":""},{"$f":"TableOfContents!L7","v":""},{"$f":"TableOfContents!M7","v":""},{"$f":"TableOfContents!N7","v":""},{"$f":"IF(INDIRECT(\"'\"&$B3&\"'!\"&AN$1)=0,\"\",INDIRECT(\"'\"&$B3&\"'!\"&AN$1))","v":""}]
[null,{"$f":"MID(CELL(\"filename\",'S2'!$B$1),FIND(\"]\",CELL(\"filename\",'S2'!$B$1))+1,24)","v":"S2"},"","","","","","","   ",0,0,"","","","","","","","","uploaded by","grant no","amd no","fund source","","","",{"$f":"VLOOKUP(D4,'TOC generator worksheet'!I$2:V$51,14,FALSE)","v":""},{"$f":"IF(INDIRECT(\"'\"&$B4&\"'!\"&AB$1)=0,\"\",INDIRECT(\"'\"&$B4&\"'!\"&AB$1))","v":""},"",{"$f":"INDIRECT(\"'\"&$B4&\"'!\"&AD$1)&\"\"","v":""},{"$f":"INDIRECT(\"'\"&$B4&\"'!\"&AE$1)*1","v":0},{"$f":"TableOfContents!G8","v":""},{"$f":"TableOfContents!H8","v":""},{"$f":"TableOfContents!I8","v":""},{"$f":"TableOfContents!J8","v":""},{"$f":"TableOfContents!K8","v":""},{"$f":"TableOfContents!L8","v":""},{"$f":"TableOfContents!M8","v":""},{"$f":"TableOfContents!N8","v":""}]
[null,{"$f":"MID(CELL(\"filename\",'S3'!$B$1),FIND(\"]\",CELL(\"filename\",'S3'!$B$1))+1,24)","v":"S3"},"","","","","","","   ",0,0,"","","","","","","","","uploaded by","grant no","amd no","fund source","","","",{"$f":"VLOOKUP(D5,'TOC generator worksheet'!I$2:V$51,14,FALSE)","v":""},"","","",0,{"$f":"TableOfContents!G9","v":""},{"$f":"TableOfContents!H9","v":""},{"$f":"TableOfContents!I9","v":""},{"$f":"TableOfContents!J9","v":""},{"$f":"TableOfContents!K9","v":""},{"$f":"TableOfContents!L9","v":""},{"$f":"TableOfContents!M9","v":""},{"$f":"TableOfContents!N9","v":""}]
[null,{"$f":"MID(CELL(\"filename\",'S4'!$B$1),FIND(\"]\",CELL(\"filename\",'S4'!$B$1))+1,24)","v":"S4"},"","","","","","","   ",0,0,"","","","","","","","","uploaded by","grant no","amd no","fund source","","","",{"$f":"VLOOKUP(D6,'TOC generator worksheet'!I$2:V$51,14,FALSE)","v":""},"","","",0,{"$f":"TableOfContents!G10","v":""},{"$f":"TableOfContents!H10","v":""},{"$f":"TableOfContents!I10","v":""},{"$f":"TableOfContents!J10","v":""},{"$f":"TableOfContents!K10","v":""},{"$f":"TableOfContents!L10","v":""},{"$f":"TableOfContents!M10","v":""},{"$f":"TableOfContents!N10","v":""}]
[null,{"$f":"MID(CELL(\"filename\",'S5'!$B$1),FIND(\"]\",CELL(\"filename\",'S5'!$B$1))+1,24)","v":"S5"},"","","","","","","   ",0,0,"","","","","","","","","uploaded by","grant no","amd no","fund source","","","",{"$f":"VLOOKUP(D7,'TOC generator worksheet'!I$2:V$51,14,FALSE)","v":""},"","","",0,{"$f":"TableOfContents!G11","v":""},{"$f":"TableOfContents!H11","v":""},{"$f":"TableOfContents!I11","v":""},{"$f":"TableOfContents!J11","v":""},{"$f":"TableOfContents!K11","v":""},{"$f":"TableOfContents!L11","v":""},{"$f":"TableOfContents!M11","v":""},{"$f":"TableOfContents!N11","v":""}]
[null,{"$f":"MID(CELL(\"filename\",'S6'!$B$1),FIND(\"]\",CELL(\"filename\",'S6'!$B$1))+1,24)","v":"S6"},"","","","","","","   ",0,0,"","","","","","","","","uploaded by","grant no","amd no","fund source","","","",{"$f":"VLOOKUP(D8,'TOC generator worksheet'!I$2:V$51,14,FALSE)","v":""},"","","",0,{"$f":"TableOfContents!G12","v":""},{"$f":"TableOfContents!H12","v":""},{"$f":"TableOfContents!I12","v":""},{"$f":"TableOfContents!J12","v":""},{"$f":"TableOfContents!K12","v":""},{"$f":"TableOfContents!L12","v":""},{"$f":"TableOfContents!M12","v":""},{"$f":"TableOfContents!N12","v":""}]
[null,{"$f":"MID(CELL(\"filename\",'S7'!$B$1),FIND(\"]\",CELL(\"filename\",'S7'!$B$1))+1,24)","v":"S7"},"","","","","","","   ",0,0,"","","","","","","","","uploaded by","grant no","amd no","fund source","","","",{"$f":"VLOOKUP(D9,'TOC generator worksheet'!I$2:V$51,14,FALSE)","v":""},"","","",0,{"$f":"TableOfContents!G13","v":""},{"$f":"TableOfContents!H13","v":""},{"$f":"TableOfContents!I13","v":""},{"$f":"TableOfContents!J13","v":""},{"$f":"TableOfContents!K13","v":""},{"$f":"TableOfContents!L13","v":""},{"$f":"TableOfContents!M13","v":""},{"$f":"TableOfContents!N13","v":""}]
[null,{"$f":"MID(CELL(\"filename\",'S8'!$B$1),FIND(\"]\",CELL(\"filename\",'S8'!$B$1))+1,24)","v":"S8"},"",{"$f":"INDIRECT(\"'\"&B10&\"'!A10\")&INDIRECT(\"'\"&B10&\"'!B10\")","v":""},"","","","","   ",0,0,"","","","","","","","","uploaded by","grant no","amd no","fund source","","","",{"$f":"VLOOKUP(D10,'TOC generator worksheet'!I$2:V$51,14,FALSE)","v":""},"","","",0,{"$f":"TableOfContents!G14","v":""},{"$f":"TableOfContents!H14","v":""},{"$f":"TableOfContents!I14","v":""},{"$f":"TableOfContents!J14","v":""},{"$f":"TableOfContents!K14","v":""},{"$f":"TableOfContents!L14","v":""},{"$f":"TableOfContents!M14","v":""},{"$f":"TableOfContents!N14","v":""}]
[null,{"$f":"MID(CELL(\"filename\",'S9'!$B$1),FIND(\"]\",CELL(\"filename\",'S9'!$B$1))+1,24)","v":"S9"},"","","","","","","   ",0,0,"","","","","","","","","uploaded by","grant no","amd no","fund source","","","",{"$f":"VLOOKUP(D11,'TOC generator worksheet'!I$2:V$51,14,FALSE)","v":""},"","","",0,{"$f":"TableOfContents!G15","v":""},{"$f":"TableOfContents!H15","v":""},{"$f":"TableOfContents!I15","v":""},{"$f":"TableOfContents!J15","v":""},{"$f":"TableOfContents!K15","v":""},{"$f":"TableOfContents!L15","v":""},{"$f":"TableOfContents!M15","v":""},{"$f":"TableOfContents!N15","v":""}]
[null,{"$f":"MID(CELL(\"filename\",'S10'!$B$1),FIND(\"]\",CELL(\"filename\",'S10'!$B$1))+1,24)","v":"S10"},"","","","","","","   ",0,0,"","","","","","","","","uploaded by","grant no","amd no","fund source","","","",{"$f":"VLOOKUP(D12,'TOC generator worksheet'!I$2:V$51,14,FALSE)","v":""},"","","",0,{"$f":"TableOfContents!G16","v":""},{"$f":"TableOfContents!H16","v":""},{"$f":"TableOfContents!I16","v":""},{"$f":"TableOfContents!J16","v":""},{"$f":"TableOfContents!K16","v":""},{"$f":"TableOfContents!L16","v":""},{"$f":"TableOfContents!M16","v":""},{"$f":"TableOfContents!N16","v":""}]
[null,{"$f":"MID(CELL(\"filename\",'S11'!$B$1),FIND(\"]\",CELL(\"filename\",'S11'!$B$1))+1,24)","v":"S11"},"","","","","","","   ",0,0,"","","","","","","","","uploaded by","grant no","amd no","fund source","","","",{"$f":"VLOOKUP(D13,'TOC generator worksheet'!I$2:V$51,14,FALSE)","v":""},"","","",0,{"$f":"TableOfContents!G17","v":""},{"$f":"TableOfContents!H17","v":""},{"$f":"TableOfContents!I17","v":""},{"$f":"TableOfContents!J17","v":""},{"$f":"TableOfContents!K17","v":""},{"$f":"TableOfContents!L17","v":""},{"$f":"TableOfContents!M17","v":""},{"$f":"TableOfContents!N17","v":""}]
[null,{"$f":"MID(CELL(\"filename\",'S12'!$B$1),FIND(\"]\",CELL(\"filename\",'S12'!$B$1))+1,24)","v":"S12"},"","","","","","","   ",0,0,"","","","","","","","","uploaded by","grant no","amd no","fund source","","","",{"$f":"VLOOKUP(D14,'TOC generator worksheet'!I$2:V$51,14,FALSE)","v":""},"","","",0,{"$f":"TableOfContents!G18","v":""},{"$f":"TableOfContents!H18","v":""},{"$f":"TableOfContents!I18","v":""},{"$f":"TableOfContents!J18","v":""},{"$f":"TableOfContents!K18","v":""},{"$f":"TableOfContents!L18","v":""},{"$f":"TableOfContents!M18","v":""},{"$f":"TableOfContents!N18","v":""}]
[null,{"$f":"MID(CELL(\"filename\",'S13'!$B$1),FIND(\"]\",CELL(\"filename\",'S13'!$B$1))+1,24)","v":"S13"},"","","","","","","   ",0,0,"","","","","","","","","uploaded by","grant no","amd no","fund source","","","",{"$f":"VLOOKUP(D15,'TOC generator worksheet'!I$2:V$51,14,FALSE)","v":""},"","","",0,{"$f":"TableOfContents!G19","v":""},{"$f":"TableOfContents!H19","v":""},{"$f":"TableOfContents!I19","v":""},{"$f":"TableOfContents!J19","v":""},{"$f":"TableOfContents!K19","v":""},{"$f":"TableOfContents!L19","v":""},{"$f":"TableOfContents!M19","v":""},{"$f":"TableOfContents!N19","v":""}]
[null,{"$f":"MID(CELL(\"filename\",'S14'!$B$1),FIND(\"]\",CELL(\"filename\",'S14'!$B$1))+1,24)","v":"S14"},"","","","","","","   ",0,0,"","","","","","","","","uploaded by","grant no","amd no","fund source","","","",{"$f":"VLOOKUP(D16,'TOC generator worksheet'!I$2:V$51,14,FALSE)","v":""},"","","",0,{"$f":"TableOfContents!G20","v":""},{"$f":"TableOfContents!H20","v":""},{"$f":"TableOfContents!I20","v":""},{"$f":"TableOfContents!J20","v":""},{"$f":"TableOfContents!K20","v":""},{"$f":"TableOfContents!L20","v":""},{"$f":"TableOfContents!M20","v":""},{"$f":"TableOfContents!N20","v":""}]
[null,{"$f":"MID(CELL(\"filename\",'S15'!$B$1),FIND(\"]\",CELL(\"filename\",'S15'!$B$1))+1,24)","v":"S15"},"","","","","","","   ",0,0,"","","","","","","","","uploaded by","grant no","amd no","fund source","","","",{"$f":"VLOOKUP(D17,'TOC generator worksheet'!I$2:V$51,14,FALSE)","v":""},"","","",0,{"$f":"TableOfContents!G21","v":""},{"$f":"TableOfContents!H21","v":""},{"$f":"TableOfContents!I21","v":""},{"$f":"TableOfContents!J21","v":""},{"$f":"TableOfContents!K21","v":""},{"$f":"TableOfContents!L21","v":""},{"$f":"TableOfContents!M21","v":""},{"$f":"TableOfContents!N21","v":""}]
[null,{"$f":"MID(CELL(\"filename\",'S16'!$B$1),FIND(\"]\",CELL(\"filename\",'S16'!$B$1))+1,24)","v":"S16"},"","","","","","","   ",0,0,"","","","","","","","","uploaded by","grant no","amd no","fund source","","","",{"$f":"VLOOKUP(D18,'TOC generator worksheet'!I$2:V$51,14,FALSE)","v":""},"","","",0,{"$f":"TableOfContents!G22","v":""},{"$f":"TableOfContents!H22","v":""},{"$f":"TableOfContents!I22","v":""},{"$f":"TableOfContents!J22","v":""},{"$f":"TableOfContents!K22","v":""},{"$f":"TableOfContents!L22","v":""},{"$f":"TableOfContents!M22","v":""},{"$f":"TableOfContents!N22","v":""}]
[null,{"$f":"MID(CELL(\"filename\",'S17'!$B$1),FIND(\"]\",CELL(\"filename\",'S17'!$B$1))+1,24)","v":"S17"},"","","","","","","   ",0,0,"","","","","","","","","uploaded by","grant no","amd no","fund source","","","",{"$f":"VLOOKUP(D19,'TOC generator worksheet'!I$2:V$51,14,FALSE)","v":""},"","","",0,{"$f":"TableOfContents!G23","v":""},{"$f":"TableOfContents!H23","v":""},{"$f":"TableOfContents!I23","v":""},{"$f":"TableOfContents!J23","v":""},{"$f":"TableOfContents!K23","v":""},{"$f":"TableOfContents!L23","v":""},{"$f":"TableOfContents!M23","v":""},{"$f":"TableOfContents!N23","v":""}]
[null,{"$f":"MID(CELL(\"filename\",'S18'!$B$1),FIND(\"]\",CELL(\"filename\",'S18'!$B$1))+1,24)","v":"S18"},"","","","","","","   ",0,0,"","","","","","","","","uploaded by","grant no","amd no","fund source","","","",{"$f":"VLOOKUP(D20,'TOC generator worksheet'!I$2:V$51,14,FALSE)","v":""},"","","",0,{"$f":"TableOfContents!G24","v":""},{"$f":"TableOfContents!H24","v":""},{"$f":"TableOfContents!I24","v":""},{"$f":"TableOfContents!J24","v":""},{"$f":"TableOfContents!K24","v":""},{"$f":"TableOfContents!L24","v":""},{"$f":"TableOfContents!M24","v":""},{"$f":"TableOfContents!N24","v":""}]
[null,{"$f":"MID(CELL(\"filename\",'S19'!$B$1),FIND(\"]\",CELL(\"filename\",'S19'!$B$1))+1,24)","v":"S19"},"","","","","","","   ",0,0,"","","","","","","","","uploaded by","grant no","amd no","fund source","","","",{"$f":"VLOOKUP(D21,'TOC generator worksheet'!I$2:V$51,14,FALSE)","v":""},"","","",0,{"$f":"TableOfContents!G25","v":""},{"$f":"TableOfContents!H25","v":""},{"$f":"TableOfContents!I25","v":""},{"$f":"TableOfContents!J25","v":""},{"$f":"TableOfContents!K25","v":""},{"$f":"TableOfContents!L25","v":""},{"$f":"TableOfContents!M25","v":""},{"$f":"TableOfContents!N25","v":""}]
[null,{"$f":"MID(CELL(\"filename\",'S20'!$B$1),FIND(\"]\",CELL(\"filename\",'S20'!$B$1))+1,24)","v":"S20"},"","","","","","","   ",0,0,"","","","","","","","","uploaded by","grant no","amd no","fund source","","","",{"$f":"VLOOKUP(D22,'TOC generator worksheet'!I$2:V$51,14,FALSE)","v":""},"","","",0,{"$f":"TableOfContents!G26","v":""},{"$f":"TableOfContents!H26","v":""},{"$f":"TableOfContents!I26","v":""},{"$f":"TableOfContents!J26","v":""},{"$f":"TableOfContents!K26","v":""},{"$f":"TableOfContents!L26","v":""},{"$f":"TableOfContents!M26","v":""},{"$f":"TableOfContents!N26","v":""}]
[null,{"$f":"MID(CELL(\"filename\",'S21'!$B$1),FIND(\"]\",CELL(\"filename\",'S21'!$B$1))+1,24)","v":"S21"},{"$f":"IF(INDIRECT(\"'\"&$B23&\"'!\"&C$1)=\"\",\"\",INDIRECT(\"'\"&$B23&\"'!\"&C$1))","v":""},{"$f":"INDIRECT(\"'\"&B23&\"'!A10\")&INDIRECT(\"'\"&B23&\"'!B10\")","v":""},{"$f":"INDIRECT(\"'\"&$B23&\"'!\"&E$1)","v":""},"","",{"$f":"INDIRECT(\"'\"&$B23&\"'!\"&H$1)","v":""},"   ",0,0,"","","","","","","","","uploaded by","grant no","amd no","fund source","","","",{"$f":"VLOOKUP(D23,'TOC generator worksheet'!I$2:V$51,14,FALSE)","v":""},"","","",0,{"$f":"TableOfContents!G27","v":""},{"$f":"TableOfContents!H27","v":""},{"$f":"TableOfContents!I27","v":""},{"$f":"TableOfContents!J27","v":""},{"$f":"TableOfContents!K27","v":""},{"$f":"TableOfContents!L27","v":""},{"$f":"TableOfContents!M27","v":""},{"$f":"TableOfContents!N27","v":""}]
[null,{"$f":"MID(CELL(\"filename\",'S22'!$B$1),FIND(\"]\",CELL(\"filename\",'S22'!$B$1))+1,24)","v":"S22"},"","","","","","","   ",{"$f":"INDIRECT(\"'\"&$B24&\"'!\"&J$1)","v":0},0,{"$f":"INDIRECT(\"'\"&$B24&\"'!\"&L$1)&\"\"","v":""},"","","","","","","","uploaded by","grant no","amd no","fund source","",{"$f":"INDIRECT(\"'\"&$B24&\"'!\"&Y$1)","v":""},"",{"$f":"VLOOKUP(D24,'TOC generator worksheet'!I$2:V$51,14,FALSE)","v":""},"","","",0,{"$f":"TableOfContents!G28","v":""},{"$f":"TableOfContents!H28","v":""},{"$f":"TableOfContents!I28","v":""},{"$f":"TableOfContents!J28","v":""},{"$f":"TableOfContents!K28","v":""},{"$f":"TableOfContents!L28","v":""},{"$f":"TableOfContents!M28","v":""},{"$f":"TableOfContents!N28","v":""}]
[null,{"$f":"MID(CELL(\"filename\",'S23'!$B$1),FIND(\"]\",CELL(\"filename\",'S23'!$B$1))+1,24)","v":"S23"},"","","","","","","   ",0,0,"","","","","","","","","uploaded by","grant no","amd no","fund source","","","",{"$f":"VLOOKUP(D25,'TOC generator worksheet'!I$2:V$51,14,FALSE)","v":""},"","","",0,{"$f":"TableOfContents!G29","v":""},{"$f":"TableOfContents!H29","v":""},{"$f":"TableOfContents!I29","v":""},{"$f":"TableOfContents!J29","v":""},{"$f":"TableOfContents!K29","v":""},{"$f":"TableOfContents!L29","v":""},{"$f":"TableOfContents!M29","v":""},{"$f":"TableOfContents!N29","v":""}]
[null,{"$f":"MID(CELL(\"filename\",'S24'!$B$1),FIND(\"]\",CELL(\"filename\",'S24'!$B$1))+1,24)","v":"S24"},"","","","","","","   ",0,0,"","","","","","","","","uploaded by","grant no","amd no","fund source","","","",{"$f":"VLOOKUP(D26,'TOC generator worksheet'!I$2:V$51,14,FALSE)","v":""},"","","",0,{"$f":"TableOfContents!G30","v":""},{"$f":"TableOfContents!H30","v":""},{"$f":"TableOfContents!I30","v":""},{"$f":"TableOfContents!J30","v":""},{"$f":"TableOfContents!K30","v":""},{"$f":"TableOfContents!L30","v":""},{"$f":"TableOfContents!M30","v":""},{"$f":"TableOfContents!N30","v":""}]
[null,{"$f":"MID(CELL(\"filename\",'S25'!$B$1),FIND(\"]\",CELL(\"filename\",'S25'!$B$1))+1,24)","v":"S25"},"","","","","","","   ",0,0,"","","","","","","","","uploaded by","grant no","amd no","fund source","","","",{"$f":"VLOOKUP(D27,'TOC generator worksheet'!I$2:V$51,14,FALSE)","v":""},"","","",0,{"$f":"TableOfContents!G31","v":""},{"$f":"TableOfContents!H31","v":""},{"$f":"TableOfContents!I31","v":""},{"$f":"TableOfContents!J31","v":""},{"$f":"TableOfContents!K31","v":""},{"$f":"TableOfContents!L31","v":""},{"$f":"TableOfContents!M31","v":""},{"$f":"TableOfContents!N31","v":""}]
[null,{"$f":"MID(CELL(\"filename\",'S26'!$B$1),FIND(\"]\",CELL(\"filename\",'S26'!$B$1))+1,24)","v":"S26"},"","","","","","","   ",0,0,"","","","","","","","","uploaded by","grant no","amd no","fund source","","","",{"$f":"VLOOKUP(D28,'TOC generator worksheet'!I$2:V$51,14,FALSE)","v":""},"","","",0,{"$f":"TableOfContents!G32","v":""},{"$f":"TableOfContents!H32","v":""},{"$f":"TableOfContents!I32","v":""},{"$f":"TableOfContents!J32","v":""},{"$f":"TableOfContents!K32","v":""},{"$f":"TableOfContents!L32","v":""},{"$f":"TableOfContents!M32","v":""},{"$f":"TableOfContents!N32","v":""}]
[null,{"$f":"MID(CELL(\"filename\",'S27'!$B$1),FIND(\"]\",CELL(\"filename\",'S27'!$B$1))+1,24)","v":"S27"},"","","","","","","   ",0,0,"","","","","","","","","uploaded by","grant no","amd no","fund source","","","",{"$f":"VLOOKUP(D29,'TOC generator worksheet'!I$2:V$51,14,FALSE)","v":""},"","","",0,{"$f":"TableOfContents!G33","v":""},{"$f":"TableOfContents!H33","v":""},{"$f":"TableOfContents!I33","v":""},{"$f":"TableOfContents!J33","v":""},{"$f":"TableOfContents!K33","v":""},{"$f":"TableOfContents!L33","v":""},{"$f":"TableOfContents!M33","v":""},{"$f":"TableOfContents!N33","v":""}]
[null,{"$f":"MID(CELL(\"filename\",'S28'!$B$1),FIND(\"]\",CELL(\"filename\",'S28'!$B$1))+1,24)","v":"S28"},"","","","","","","   ",0,0,"","","","","","","","","uploaded by","grant no","amd no","fund source","","","",{"$f":"VLOOKUP(D30,'TOC generator worksheet'!I$2:V$51,14,FALSE)","v":""},"","","",0,{"$f":"TableOfContents!G34","v":""},{"$f":"TableOfContents!H34","v":""},{"$f":"TableOfContents!I34","v":""},{"$f":"TableOfContents!J34","v":""},{"$f":"TableOfContents!K34","v":""},{"$f":"TableOfContents!L34","v":""},{"$f":"TableOfContents!M34","v":""},{"$f":"TableOfContents!N34","v":""}]
[null,{"$f":"MID(CELL(\"filename\",'S29'!$B$1),FIND(\"]\",CELL(\"filename\",'S29'!$B$1))+1,24)","v":"S29"},"","","","","","","   ",0,0,"","","","","","","","","uploaded by","grant no","amd no","fund source","","","",{"$f":"VLOOKUP(D31,'TOC generator worksheet'!I$2:V$51,14,FALSE)","v":""},"","","",0,{"$f":"TableOfContents!G35","v":""},{"$f":"TableOfContents!H35","v":""},{"$f":"TableOfContents!I35","v":""},{"$f":"TableOfContents!J35","v":""},{"$f":"TableOfContents!K35","v":""},{"$f":"TableOfContents!L35","v":""},{"$f":"TableOfContents!M35","v":""},{"$f":"TableOfContents!N35","v":""}]
[null,{"$f":"MID(CELL(\"filename\",'S30'!$B$1),FIND(\"]\",CELL(\"filename\",'S30'!$B$1))+1,24)","v":"S30"},"","","","","","","   ",0,0,"","","","","","","","","uploaded by","grant no","amd no","fund source","","","",{"$f":"VLOOKUP(D32,'TOC generator worksheet'!I$2:V$51,14,FALSE)","v":""},"","","",0,{"$f":"TableOfContents!G36","v":""},{"$f":"TableOfContents!H36","v":""},{"$f":"TableOfContents!I36","v":""},{"$f":"TableOfContents!J36","v":""},{"$f":"TableOfContents!K36","v":""},{"$f":"TableOfContents!L36","v":""},{"$f":"TableOfContents!M36","v":""},{"$f":"TableOfContents!N36","v":""}]
[null,{"$f":"MID(CELL(\"filename\",'S31'!$B$1),FIND(\"]\",CELL(\"filename\",'S31'!$B$1))+1,24)","v":"S31"},"","","","","","","   ",0,0,"","","","","","","","","uploaded by","grant no","amd no","fund source","","","",{"$f":"VLOOKUP(D33,'TOC generator worksheet'!I$2:V$51,14,FALSE)","v":""},"","","",0,{"$f":"TableOfContents!G37","v":""},{"$f":"TableOfContents!H37","v":""},{"$f":"TableOfContents!I37","v":""},{"$f":"TableOfContents!J37","v":""},{"$f":"TableOfContents!K37","v":""},{"$f":"TableOfContents!L37","v":""},{"$f":"TableOfContents!M37","v":""},{"$f":"TableOfContents!N37","v":""}]
[null,{"$f":"MID(CELL(\"filename\",'S32'!$B$1),FIND(\"]\",CELL(\"filename\",'S32'!$B$1))+1,24)","v":"S32"},"","","","","","","   ",0,0,"","","","","","","","","uploaded by","grant no","amd no","fund source","","","",{"$f":"VLOOKUP(D34,'TOC generator worksheet'!I$2:V$51,14,FALSE)","v":""},"","","",0,{"$f":"TableOfContents!G38","v":""},{"$f":"TableOfContents!H38","v":""},{"$f":"TableOfContents!I38","v":""},{"$f":"TableOfContents!J38","v":""},{"$f":"TableOfContents!K38","v":""},{"$f":"TableOfContents!L38","v":""},{"$f":"TableOfContents!M38","v":""},{"$f":"TableOfContents!N38","v":""}]
[null,{"$f":"MID(CELL(\"filename\",'S33'!$B$1),FIND(\"]\",CELL(\"filename\",'S33'!$B$1))+1,24)","v":"S33"},"","","","","","","   ",0,0,"","","","","","","","","uploaded by","grant no","amd no","fund source","","","",{"$f":"VLOOKUP(D35,'TOC generator worksheet'!I$2:V$51,14,FALSE)","v":""},"","","",0,{"$f":"TableOfContents!G39","v":""},{"$f":"TableOfContents!H39","v":""},{"$f":"TableOfContents!I39","v":""},{"$f":"TableOfContents!J39","v":""},{"$f":"TableOfContents!K39","v":""},{"$f":"TableOfContents!L39","v":""},{"$f":"TableOfContents!M39","v":""},{"$f":"TableOfContents!N39","v":""}]
[null,{"$f":"MID(CELL(\"filename\",'S34'!$B$1),FIND(\"]\",CELL(\"filename\",'S34'!$B$1))+1,24)","v":"S34"},"","","","","","","   ",0,0,"","","","","","","","","uploaded by","grant no","amd no","fund source",{"$f":"INDIRECT(\"'\"&$B36&\"'!\"&X$1)","v":""},"","",{"$f":"VLOOKUP(D36,'TOC generator worksheet'!I$2:V$51,14,FALSE)","v":""},{"$f":"IF(INDIRECT(\"'\"&$B36&\"'!\"&AB$1)=0,\"\",INDIRECT(\"'\"&$B36&\"'!\"&AB$1))","v":""},"","",0,{"$f":"TableOfContents!G40","v":""},{"$f":"TableOfContents!H40","v":""},{"$f":"TableOfContents!I40","v":""},{"$f":"TableOfContents!J40","v":""},{"$f":"TableOfContents!K40","v":""},{"$f":"TableOfContents!L40","v":""},{"$f":"TableOfContents!M40","v":""},{"$f":"TableOfContents!N40","v":""}]
[null,{"$f":"MID(CELL(\"filename\",'S35'!$B$1),FIND(\"]\",CELL(\"filename\",'S35'!$B$1))+1,24)","v":"S35"},"","","","","","","   ",0,0,"","","","","","","","","uploaded by","grant no","amd no","fund source","","","",{"$f":"VLOOKUP(D37,'TOC generator worksheet'!I$2:V$51,14,FALSE)","v":""},"","","",0,{"$f":"TableOfContents!G41","v":""},{"$f":"TableOfContents!H41","v":""},{"$f":"TableOfContents!I41","v":""},{"$f":"TableOfContents!J41","v":""},{"$f":"TableOfContents!K41","v":""},{"$f":"TableOfContents!L41","v":""},{"$f":"TableOfContents!M41","v":""},{"$f":"TableOfContents!N41","v":""}]
[null,{"$f":"MID(CELL(\"filename\",'S36'!$B$1),FIND(\"]\",CELL(\"filename\",'S36'!$B$1))+1,24)","v":"S36"},"","","","","","","   ",0,0,"","","","","","","","","uploaded by","grant no","amd no","fund source","","","",{"$f":"VLOOKUP(D38,'TOC generator worksheet'!I$2:V$51,14,FALSE)","v":""},"","","",0,{"$f":"TableOfContents!G42","v":""},{"$f":"TableOfContents!H42","v":""},{"$f":"TableOfContents!I42","v":""},{"$f":"TableOfContents!J42","v":""},{"$f":"TableOfContents!K42","v":""},{"$f":"TableOfContents!L42","v":""},{"$f":"TableOfContents!M42","v":""},{"$f":"TableOfContents!N42","v":""}]
[null,{"$f":"MID(CELL(\"filename\",'S37'!$B$1),FIND(\"]\",CELL(\"filename\",'S37'!$B$1))+1,24)","v":"S37"},"","","","","","","   ",0,0,"","","","","","","","","uploaded by","grant no","amd no","fund source","","","",{"$f":"VLOOKUP(D39,'TOC generator worksheet'!I$2:V$51,14,FALSE)","v":""},"","","",0,{"$f":"TableOfContents!G43","v":""},{"$f":"TableOfContents!H43","v":""},{"$f":"TableOfContents!I43","v":""},{"$f":"TableOfContents!J43","v":""},{"$f":"TableOfContents!K43","v":""},{"$f":"TableOfContents!L43","v":""},{"$f":"TableOfContents!M43","v":""},{"$f":"TableOfContents!N43","v":""}]
[null,{"$f":"MID(CELL(\"filename\",'S38'!$B$1),FIND(\"]\",CELL(\"filename\",'S38'!$B$1))+1,24)","v":"S38"},"","","","","","","   ",0,0,"","","","","","","","","uploaded by","grant no","amd no","fund source","","","",{"$f":"VLOOKUP(D40,'TOC generator worksheet'!I$2:V$51,14,FALSE)","v":""},"","","",0,{"$f":"TableOfContents!G44","v":""},{"$f":"TableOfContents!H44","v":""},{"$f":"TableOfContents!I44","v":""},{"$f":"TableOfContents!J44","v":""},{"$f":"TableOfContents!K44","v":""},{"$f":"TableOfContents!L44","v":""},{"$f":"TableOfContents!M44","v":""},{"$f":"TableOfContents!N44","v":""}]
[null,{"$f":"MID(CELL(\"filename\",'S39'!$B$1),FIND(\"]\",CELL(\"filename\",'S39'!$B$1))+1,24)","v":"S39"},"","","","","","","   ",0,0,"","","","","","","","","uploaded by","grant no","amd no","fund source","","","",{"$f":"VLOOKUP(D41,'TOC generator worksheet'!I$2:V$51,14,FALSE)","v":""},"","","",0,{"$f":"TableOfContents!G45","v":""},{"$f":"TableOfContents!H45","v":""},{"$f":"TableOfContents!I45","v":""},{"$f":"TableOfContents!J45","v":""},{"$f":"TableOfContents!K45","v":""},{"$f":"TableOfContents!L45","v":""},{"$f":"TableOfContents!M45","v":""},{"$f":"TableOfContents!N45","v":""}]
[null,{"$f":"MID(CELL(\"filename\",'S40'!$B$1),FIND(\"]\",CELL(\"filename\",'S40'!$B$1))+1,24)","v":"S40"},"","","","","","","   ",0,0,"","","","","","","","","uploaded by","grant no","amd no","fund source","","","",{"$f":"VLOOKUP(D42,'TOC generator worksheet'!I$2:V$51,14,FALSE)","v":""},"","","",0,{"$f":"TableOfContents!G46","v":""},{"$f":"TableOfContents!H46","v":""},{"$f":"TableOfContents!I46","v":""},{"$f":"TableOfContents!J46","v":""},{"$f":"TableOfContents!K46","v":""},{"$f":"TableOfContents!L46","v":""},{"$f":"TableOfContents!M46","v":""},{"$f":"TableOfContents!N46","v":""}]
[null,{"$f":"MID(CELL(\"filename\",'S41'!$B$1),FIND(\"]\",CELL(\"filename\",'S41'!$B$1))+1,24)","v":"S41"},"","","","","","","   ",0,0,"","","","","","","","","uploaded by","grant no","amd no","fund source","","","",{"$f":"VLOOKUP(D43,'TOC generator worksheet'!I$2:V$51,14,FALSE)","v":""},"","","",0,{"$f":"TableOfContents!G47","v":""},{"$f":"TableOfContents!H47","v":""},{"$f":"TableOfContents!I47","v":""},{"$f":"TableOfContents!J47","v":""},{"$f":"TableOfContents!K47","v":""},{"$f":"TableOfContents!L47","v":""},{"$f":"TableOfContents!M47","v":""},{"$f":"TableOfContents!N47","v":""}]
[null,{"$f":"MID(CELL(\"filename\",'S42'!$B$1),FIND(\"]\",CELL(\"filename\",'S42'!$B$1))+1,24)","v":"S42"},"","","","","","","   ",0,0,"","","","","","","","","uploaded by","grant no","amd no","fund source","","","",{"$f":"VLOOKUP(D44,'TOC generator worksheet'!I$2:V$51,14,FALSE)","v":""},"","","",0,{"$f":"TableOfContents!G48","v":""},{"$f":"TableOfContents!H48","v":""},{"$f":"TableOfContents!I48","v":""},{"$f":"TableOfContents!J48","v":""},{"$f":"TableOfContents!K48","v":""},{"$f":"TableOfContents!L48","v":""},{"$f":"TableOfContents!M48","v":""},{"$f":"TableOfContents!N48","v":""}]
[null,{"$f":"MID(CELL(\"filename\",'S43'!$B$1),FIND(\"]\",CELL(\"filename\",'S43'!$B$1))+1,24)","v":"S43"},"","","","","","","   ",0,0,"","","","","","","","","uploaded by","grant no","amd no","fund source","","","",{"$f":"VLOOKUP(D45,'TOC generator worksheet'!I$2:V$51,14,FALSE)","v":""},"","","",0,{"$f":"TableOfContents!G49","v":""},{"$f":"TableOfContents!H49","v":""},{"$f":"TableOfContents!I49","v":""},{"$f":"TableOfContents!J49","v":""},{"$f":"TableOfContents!K49","v":""},{"$f":"TableOfContents!L49","v":""},{"$f":"TableOfContents!M49","v":""},{"$f":"TableOfContents!N49","v":""}]
[null,{"$f":"MID(CELL(\"filename\",'S44'!$B$1),FIND(\"]\",CELL(\"filename\",'S44'!$B$1))+1,24)","v":"S44"},"","","","","","","   ",0,0,"","","","","","","","","uploaded by","grant no","amd no","fund source","","","",{"$f":"VLOOKUP(D46,'TOC generator worksheet'!I$2:V$51,14,FALSE)","v":""},"","","",0,{"$f":"TableOfContents!G50","v":""},{"$f":"TableOfContents!H50","v":""},{"$f":"TableOfContents!I50","v":""},{"$f":"TableOfContents!J50","v":""},{"$f":"TableOfContents!K50","v":""},{"$f":"TableOfContents!L50","v":""},{"$f":"TableOfContents!M50","v":""},{"$f":"TableOfContents!N50","v":""}]
[null,{"$f":"MID(CELL(\"filename\",'S45'!$B$1),FIND(\"]\",CELL(\"filename\",'S45'!$B$1))+1,24)","v":"S45"},"","","","","","","   ",0,0,"","","","","","","","","uploaded by","grant no","amd no","fund source","","","",{"$f":"VLOOKUP(D47,'TOC generator worksheet'!I$2:V$51,14,FALSE)","v":""},"","","",0,{"$f":"TableOfContents!G51","v":""},{"$f":"TableOfContents!H51","v":""},{"$f":"TableOfContents!I51","v":""},{"$f":"TableOfContents!J51","v":""},{"$f":"TableOfContents!K51","v":""},{"$f":"TableOfContents!L51","v":""},{"$f":"TableOfContents!M51","v":""},{"$f":"TableOfContents!N51","v":""}]
[null,{"$f":"MID(CELL(\"filename\",'S46'!$B$1),FIND(\"]\",CELL(\"filename\",'S46'!$B$1))+1,24)","v":"S46"},"","","","","","","   ",0,0,"","","","","","","","","uploaded by","grant no","amd no","fund source","","","",{"$f":"VLOOKUP(D48,'TOC generator worksheet'!I$2:V$51,14,FALSE)","v":""},"","","",0,{"$f":"TableOfContents!G52","v":""},{"$f":"TableOfContents!H52","v":""},{"$f":"TableOfContents!I52","v":""},{"$f":"TableOfContents!J52","v":""},{"$f":"TableOfContents!K52","v":""},{"$f":"TableOfContents!L52","v":""},{"$f":"TableOfContents!M52","v":""},{"$f":"TableOfContents!N52","v":""}]
[null,{"$f":"MID(CELL(\"filename\",'S47'!$B$1),FIND(\"]\",CELL(\"filename\",'S47'!$B$1))+1,24)","v":"S47"},"","","","","","","   ",0,0,"","","","","","","","","uploaded by","grant no","amd no","fund source","","","",{"$f":"VLOOKUP(D49,'TOC generator worksheet'!I$2:V$51,14,FALSE)","v":""},"","","",0,{"$f":"TableOfContents!G53","v":""},{"$f":"TableOfContents!H53","v":""},{"$f":"TableOfContents!I53","v":""},{"$f":"TableOfContents!J53","v":""},{"$f":"TableOfContents!K53","v":""},{"$f":"TableOfContents!L53","v":""},{"$f":"TableOfContents!M53","v":""},{"$f":"TableOfContents!N53","v":""}]
[null,{"$f":"MID(CELL(\"filename\",'S48'!$B$1),FIND(\"]\",CELL(\"filename\",'S48'!$B$1))+1,24)","v":"S48"},"","","","","","","   ",0,0,"","","","","","","","","uploaded by","grant no","amd no","fund source","","","",{"$f":"VLOOKUP(D50,'TOC generator worksheet'!I$2:V$51,14,FALSE)","v":""},"","","",0,{"$f":"TableOfContents!G54","v":""},{"$f":"TableOfContents!H54","v":""},{"$f":"TableOfContents!I54","v":""},{"$f":"TableOfContents!J54","v":""},{"$f":"TableOfContents!K54","v":""},{"$f":"TableOfContents!L54","v":""},{"$f":"TableOfContents!M54","v":""},{"$f":"TableOfContents!N54","v":""}]
[null,{"$f":"MID(CELL(\"filename\",'S49'!$B$1),FIND(\"]\",CELL(\"filename\",'S49'!$B$1))+1,24)","v":"S49"},"","","","","","","   ",0,0,"","","","","","","",{"$f":"INDIRECT(\"'\"&$B51&\"'!\"&S$1)&\"\"","v":""},"uploaded by","grant no","amd no","fund source","","","",{"$f":"VLOOKUP(D51,'TOC generator worksheet'!I$2:V$51,14,FALSE)","v":""},"","","",0,{"$f":"TableOfContents!G55","v":""},{"$f":"TableOfContents!H55","v":""},{"$f":"TableOfContents!I55","v":""},{"$f":"TableOfContents!J55","v":""},{"$f":"TableOfContents!K55","v":""},{"$f":"TableOfContents!L55","v":""},{"$f":"TableOfContents!M55","v":""},{"$f":"TableOfContents!N55","v":""}]
[null,{"$f":"MID(CELL(\"filename\",'S50'!$B$1),FIND(\"]\",CELL(\"filename\",'S50'!$B$1))+1,24)","v":"S50"},"","","","","","","   ",0,0,"","","","","","","","","uploaded by","grant no","amd no",{"$f":"INDIRECT(\"'\"&$B52&\"'!\"&W$1)","v":"fund source"},{"$f":"INDIRECT(\"'\"&$B52&\"'!\"&X$1)","v":""},{"$f":"INDIRECT(\"'\"&$B52&\"'!\"&Y$1)","v":""},"",{"$f":"VLOOKUP(D52,'TOC generator worksheet'!I$2:V$51,14,FALSE)","v":""},"","","",0,{"$f":"TableOfContents!G56","v":""},{"$f":"TableOfContents!H56","v":""},{"$f":"TableOfContents!I56","v":""},{"$f":"TableOfContents!J56","v":""},{"$f":"TableOfContents!K56","v":""},{"$f":"TableOfContents!L56","v":""},{"$f":"TableOfContents!M56","v":""},{"$f":"TableOfContents!N56","v":""}]

{"sheet":"FundingRecords","index":63,"n_rows":202,"n_cols":12,"rows_kept":202,"cut":false,"hidden":false,"merged":[]}
["Program ID number","Year","Proj No","Grant","Amendment","Fund Source","Federal","Match","Note","Startdate","Enddate","Costcodetype"]
[{"$f":"VLOOKUP(TableOfContents!B$1,ProgramIDs!A$2:C$38,3,FALSE)","v":{"$error":"#N/A"}},{"$f":"TableOfContents!G$5","v":2018},{"$f":"CONCATENATE(INDIRECT(\"'TableOfContents'\"&CONCATENATE(\"!A\",TEXT((INT((ROW(B3)-3)/4))+7,\"###\"))),INDIRECT(\"'TableOfContents'\"&CONCATENATE(\"!B\",TEXT((INT((ROW(B3)-3)/4))+7,\"###\"))))","v":""},{"$f":"VLOOKUP($C2,ProjectRecords!$D$3:U$53,18,0)","v":"grant no"},{"$f":"VLOOKUP($C2,ProjectRecords!$D$3:V$53,19,0)","v":"amd no"},{"$f":"VLOOKUP($C2,ProjectRecords!$D$3:W$53,20,0)","v":"fund source"},{"$f":"INDIRECT(\"'TableOfContents'\"&CONCATENATE(\"!G\",TEXT((INT((ROW(B3)-3)/4))+7,\"###\")))","v":""},{"$f":"INDIRECT(\"'TableOfContents'\"&CONCATENATE(\"!H\",TEXT((INT((ROW(C3)-3)/4))+7,\"###\")))","v":""},null,{"$f":"IFERROR(IF(C2=\"\",\"\",TEXT(B2,\"####\")&\"-\"&TEXT(MONTH(VLOOKUP(C2,ProjectRecords!D$3:AB$52,25,0)),\"0#\")&\"-\"&TEXT(DAY(VLOOKUP(C2,ProjectRecords!D$3:AB$52,25,0)),\"0#\")),\"\")","v":""},{"$f":"IFERROR(IF(C2=\"\",\"\",DATE(YEAR(J2)+1,MONTH(DATEVALUE(J2)),DAY(DATEVALUE(J2)))-1),\"\")","v":""},{"$f":"IFERROR(VLOOKUP(C2,ProjectRecords!D$3:AO$52,38,0),\"\")","v":0}]
[{"$f":"VLOOKUP(TableOfContents!B$1,ProgramIDs!A$2:C$38,3,FALSE)","v":{"$error":"#N/A"}},{"$f":"TableOfContents!I$5","v":2019},{"$f":"CONCATENATE(INDIRECT(\"'TableOfContents'\"&CONCATENATE(\"!A\",TEXT((INT((ROW(B4)-3)/4))+7,\"###\"))),INDIRECT(\"'TableOfContents'\"&CONCATENATE(\"!B\",TEXT((INT((ROW(B4)-3)/4))+7,\"###\"))))","v":""},{"$f":"VLOOKUP($C3,ProjectRecords!$D$3:U$53,18,0)","v":"grant no"},{"$f":"VLOOKUP($C3,ProjectRecords!$D$3:V$53,19,0)","v":"amd no"},{"$f":"VLOOKUP($C3,ProjectRecords!$D$3:W$53,20,0)","v":"fund source"},{"$f":"INDIRECT(\"'TableOfContents'\"&CONCATENATE(\"!i\",TEXT((INT((ROW(B4)-3)/4))+7,\"###\")))","v":""},{"$f":"INDIRECT(\"'TableOfContents'\"&CONCATENATE(\"!j\",TEXT((INT((ROW(C4)-3)/4))+7,\"###\")))","v":""},null,{"$f":"IFERROR(IF(C3=\"\",\"\",TEXT(B3,\"####\")&\"-\"&TEXT(MONTH(VLOOKUP(C3,ProjectRecords!D$3:AB$52,25,0)),\"0#\")&\"-\"&TEXT(DAY(VLOOKUP(C3,ProjectRecords!D$3:AB$52,25,0)),\"0#\")),\"\")","v":""},{"$f":"IFERROR(IF(C3=\"\",\"\",DATE(YEAR(J3)+1,MONTH(DATEVALUE(J3)),DAY(DATEVALUE(J3)))-1),\"\")","v":""},{"$f":"IFERROR(VLOOKUP(C3,ProjectRecords!D$3:AO$52,38,0),\"\")","v":0}]
[{"$f":"VLOOKUP(TableOfContents!B$1,ProgramIDs!A$2:C$38,3,FALSE)","v":{"$error":"#N/A"}},{"$f":"TableOfContents!K$5","v":2020},"",{"$f":"VLOOKUP($C4,ProjectRecords!$D$3:U$53,18,0)","v":"grant no"},{"$f":"VLOOKUP($C4,ProjectRecords!$D$3:V$53,19,0)","v":"amd no"},{"$f":"VLOOKUP($C4,ProjectRecords!$D$3:W$53,20,0)","v":"fund source"},{"$f":"INDIRECT(\"'TableOfContents'\"&CONCATENATE(\"!k\",TEXT((INT((ROW(B5)-3)/4))+7,\"###\")))","v":""},{"$f":"INDIRECT(\"'TableOfContents'\"&CONCATENATE(\"!l\",TEXT((INT((ROW(C5)-3)/4))+7,\"###\")))","v":""},null,{"$f":"IFERROR(IF(C4=\"\",\"\",TEXT(B4,\"####\")&\"-\"&TEXT(MONTH(VLOOKUP(C4,ProjectRecords!D$3:AB$52,25,0)),\"0#\")&\"-\"&TEXT(DAY(VLOOKUP(C4,ProjectRecords!D$3:AB$52,25,0)),\"0#\")),\"\")","v":""},"",{"$f":"IFERROR(VLOOKUP(C4,ProjectRecords!D$3:AO$52,38,0),\"\")","v":0}]
[{"$f":"VLOOKUP(TableOfContents!B$1,ProgramIDs!A$2:C$38,3,FALSE)","v":{"$error":"#N/A"}},{"$f":"TableOfContents!M$5","v":2021},"",{"$f":"VLOOKUP($C5,ProjectRecords!$D$3:U$53,18,0)","v":"grant no"},{"$f":"VLOOKUP($C5,ProjectRecords!$D$3:V$53,19,0)","v":"amd no"},{"$f":"VLOOKUP($C5,ProjectRecords!$D$3:W$53,20,0)","v":"fund source"},{"$f":"INDIRECT(\"'TableOfContents'\"&CONCATENATE(\"!m\",TEXT((INT((ROW(B6)-3)/4))+7,\"###\")))","v":""},{"$f":"INDIRECT(\"'TableOfContents'\"&CONCATENATE(\"!n\",TEXT((INT((ROW(C6)-3)/4))+7,\"###\")))","v":""},null,{"$f":"IFERROR(IF(C5=\"\",\"\",TEXT(B5,\"####\")&\"-\"&TEXT(MONTH(VLOOKUP(C5,ProjectRecords!D$3:AB$52,25,0)),\"0#\")&\"-\"&TEXT(DAY(VLOOKUP(C5,ProjectRecords!D$3:AB$52,25,0)),\"0#\")),\"\")","v":""},"",{"$f":"IFERROR(VLOOKUP(C5,ProjectRecords!D$3:AO$52,38,0),\"\")","v":0}]
[{"$f":"VLOOKUP(TableOfContents!B$1,ProgramIDs!A$2:C$38,3,FALSE)","v":{"$error":"#N/A"}},{"$f":"TableOfContents!G$5","v":2018},{"$f":"CONCATENATE(INDIRECT(\"'TableOfContents'\"&CONCATENATE(\"!A\",TEXT((INT((ROW(B7)-3)/4))+7,\"###\"))),INDIRECT(\"'TableOfContents'\"&CONCATENATE(\"!B\",TEXT((INT((ROW(B7)-3)/4))+7,\"###\"))))","v":""},{"$f":"VLOOKUP($C6,ProjectRecords!$D$3:U$53,18,0)","v":"grant no"},{"$f":"VLOOKUP($C6,ProjectRecords!$D$3:V$53,19,0)","v":"amd no"},{"$f":"VLOOKUP($C6,ProjectRecords!$D$3:W$53,20,0)","v":"fund source"},{"$f":"INDIRECT(\"'TableOfContents'\"&CONCATENATE(\"!G\",TEXT((INT((ROW(B7)-3)/4))+7,\"###\")))","v":""},{"$f":"INDIRECT(\"'TableOfContents'\"&CONCATENATE(\"!H\",TEXT((INT((ROW(C7)-3)/4))+7,\"###\")))","v":""},null,{"$f":"IFERROR(IF(C6=\"\",\"\",TEXT(B6,\"####\")&\"-\"&TEXT(MONTH(VLOOKUP(C6,ProjectRecords!D$3:AB$52,25,0)),\"0#\")&\"-\"&TEXT(DAY(VLOOKUP(C6,ProjectRecords!D$3:AB$52,25,0)),\"0#\")),\"\")","v":""},"",{"$f":"IFERROR(VLOOKUP(C6,ProjectRecords!D$3:AO$52,38,0),\"\")","v":0}]
[{"$f":"VLOOKUP(TableOfContents!B$1,ProgramIDs!A$2:C$38,3,FALSE)","v":{"$error":"#N/A"}},{"$f":"TableOfContents!I$5","v":2019},"",{"$f":"VLOOKUP($C7,ProjectRecords!$D$3:U$53,18,0)","v":"grant no"},{"$f":"VLOOKUP($C7,ProjectRecords!$D$3:V$53,19,0)","v":"amd no"},{"$f":"VLOOKUP($C7,ProjectRecords!$D$3:W$53,20,0)","v":"fund source"},{"$f":"INDIRECT(\"'TableOfContents'\"&CONCATENATE(\"!i\",TEXT((INT((ROW(B8)-3)/4))+7,\"###\")))","v":""},{"$f":"INDIRECT(\"'TableOfContents'\"&CONCATENATE(\"!j\",TEXT((INT((ROW(C8)-3)/4))+7,\"###\")))","v":""},null,{"$f":"IFERROR(IF(C7=\"\",\"\",TEXT(B7,\"####\")&\"-\"&TEXT(MONTH(VLOOKUP(C7,ProjectRecords!D$3:AB$52,25,0)),\"0#\")&\"-\"&TEXT(DAY(VLOOKUP(C7,ProjectRecords!D$3:AB$52,25,0)),\"0#\")),\"\")","v":""},"",{"$f":"IFERROR(VLOOKUP(C7,ProjectRecords!D$3:AO$52,38,0),\"\")","v":0}]
[{"$f":"VLOOKUP(TableOfContents!B$1,ProgramIDs!A$2:C$38,3,FALSE)","v":{"$error":"#N/A"}},{"$f":"TableOfContents!K$5","v":2020},"",{"$f":"VLOOKUP($C8,ProjectRecords!$D$3:U$53,18,0)","v":"grant no"},{"$f":"VLOOKUP($C8,ProjectRecords!$D$3:V$53,19,0)","v":"amd no"},{"$f":"VLOOKUP($C8,ProjectRecords!$D$3:W$53,20,0)","v":"fund source"},{"$f":"INDIRECT(\"'TableOfContents'\"&CONCATENATE(\"!k\",TEXT((INT((ROW(B9)-3)/4))+7,\"###\")))","v":""},{"$f":"INDIRECT(\"'TableOfContents'\"&CONCATENATE(\"!l\",TEXT((INT((ROW(C9)-3)/4))+7,\"###\")))","v":""},null,{"$f":"IFERROR(IF(C8=\"\",\"\",TEXT(B8,\"####\")&\"-\"&TEXT(MONTH(VLOOKUP(C8,ProjectRecords!D$3:AB$52,25,0)),\"0#\")&\"-\"&TEXT(DAY(VLOOKUP(C8,ProjectRecords!D$3:AB$52,25,0)),\"0#\")),\"\")","v":""},"",{"$f":"IFERROR(VLOOKUP(C8,ProjectRecords!D$3:AO$52,38,0),\"\")","v":0}]
[{"$f":"VLOOKUP(TableOfContents!B$1,ProgramIDs!A$2:C$38,3,FALSE)","v":{"$error":"#N/A"}},{"$f":"TableOfContents!M$5","v":2021},"",{"$f":"VLOOKUP($C9,ProjectRecords!$D$3:U$53,18,0)","v":"grant no"},{"$f":"VLOOKUP($C9,ProjectRecords!$D$3:V$53,19,0)","v":"amd no"},{"$f":"VLOOKUP($C9,ProjectRecords!$D$3:W$53,20,0)","v":"fund source"},{"$f":"INDIRECT(\"'TableOfContents'\"&CONCATENATE(\"!m\",TEXT((INT((ROW(B10)-3)/4))+7,\"###\")))","v":""},{"$f":"INDIRECT(\"'TableOfContents'\"&CONCATENATE(\"!n\",TEXT((INT((ROW(C10)-3)/4))+7,\"###\")))","v":""},null,{"$f":"IFERROR(IF(C9=\"\",\"\",TEXT(B9,\"####\")&\"-\"&TEXT(MONTH(VLOOKUP(C9,ProjectRecords!D$3:AB$52,25,0)),\"0#\")&\"-\"&TEXT(DAY(VLOOKUP(C9,ProjectRecords!D$3:AB$52,25,0)),\"0#\")),\"\")","v":""},"",{"$f":"IFERROR(VLOOKUP(C9,ProjectRecords!D$3:AO$52,38,0),\"\")","v":0}]
[{"$f":"VLOOKUP(TableOfContents!B$1,ProgramIDs!A$2:C$38,3,FALSE)","v":{"$error":"#N/A"}},{"$f":"TableOfContents!G$5","v":2018},"",{"$f":"VLOOKUP($C10,ProjectRecords!$D$3:U$53,18,0)","v":"grant no"},{"$f":"VLOOKUP($C10,ProjectRecords!$D$3:V$53,19,0)","v":"amd no"},{"$f":"VLOOKUP($C10,ProjectRecords!$D$3:W$53,20,0)","v":"fund source"},{"$f":"INDIRECT(\"'TableOfContents'\"&CONCATENATE(\"!G\",TEXT((INT((ROW(B11)-3)/4))+7,\"###\")))","v":""},{"$f":"INDIRECT(\"'TableOfContents'\"&CONCATENATE(\"!H\",TEXT((INT((ROW(C11)-3)/4))+7,\"###\")))","v":""},null,{"$f":"IFERROR(IF(C10=\"\",\"\",TEXT(B10,\"####\")&\"-\"&TEXT(MONTH(VLOOKUP(C10,ProjectRecords!D$3:AB$52,25,0)),\"0#\")&\"-\"&TEXT(DAY(VLOOKUP(C10,ProjectRecords!D$3:AB$52,25,0)),\"0#\")),\"\")","v":""},"",{"$f":"IFERROR(VLOOKUP(C10,ProjectRecords!D$3:AO$52,38,0),\"\")","v":0}]
[{"$f":"VLOOKUP(TableOfContents!B$1,ProgramIDs!A$2:C$38,3,FALSE)","v":{"$error":"#N/A"}},{"$f":"TableOfContents!I$5","v":2019},"",{"$f":"VLOOKUP($C11,ProjectRecords!$D$3:U$53,18,0)","v":"grant no"},{"$f":"VLOOKUP($C11,ProjectRecords!$D$3:V$53,19,0)","v":"amd no"},{"$f":"VLOOKUP($C11,ProjectRecords!$D$3:W$53,20,0)","v":"fund source"},{"$f":"INDIRECT(\"'TableOfContents'\"&CONCATENATE(\"!i\",TEXT((INT((ROW(B12)-3)/4))+7,\"###\")))","v":""},{"$f":"INDIRECT(\"'TableOfContents'\"&CONCATENATE(\"!j\",TEXT((INT((ROW(C12)-3)/4))+7,\"###\")))","v":""},null,{"$f":"IFERROR(IF(C11=\"\",\"\",TEXT(B11,\"####\")&\"-\"&TEXT(MONTH(VLOOKUP(C11,ProjectRecords!D$3:AB$52,25,0)),\"0#\")&\"-\"&TEXT(DAY(VLOOKUP(C11,ProjectRecords!D$3:AB$52,25,0)),\"0#\")),\"\")","v":""},"",{"$f":"IFERROR(VLOOKUP(C11,ProjectRecords!D$3:AO$52,38,0),\"\")","v":0}]
[{"$f":"VLOOKUP(TableOfContents!B$1,ProgramIDs!A$2:C$38,3,FALSE)","v":{"$error":"#N/A"}},{"$f":"TableOfContents!K$5","v":2020},"",{"$f":"VLOOKUP($C12,ProjectRecords!$D$3:U$53,18,0)","v":"grant no"},{"$f":"VLOOKUP($C12,ProjectRecords!$D$3:V$53,19,0)","v":"amd no"},{"$f":"VLOOKUP($C12,ProjectRecords!$D$3:W$53,20,0)","v":"fund source"},{"$f":"INDIRECT(\"'TableOfContents'\"&CONCATENATE(\"!k\",TEXT((INT((ROW(B13)-3)/4))+7,\"###\")))","v":""},{"$f":"INDIRECT(\"'TableOfContents'\"&CONCATENATE(\"!l\",TEXT((INT((ROW(C13)-3)/4))+7,\"###\")))","v":""},null,{"$f":"IFERROR(IF(C12=\"\",\"\",TEXT(B12,\"####\")&\"-\"&TEXT(MONTH(VLOOKUP(C12,ProjectRecords!D$3:AB$52,25,0)),\"0#\")&\"-\"&TEXT(DAY(VLOOKUP(C12,ProjectRecords!D$3:AB$52,25,0)),\"0#\")),\"\")","v":""},"",{"$f":"IFERROR(VLOOKUP(C12,ProjectRecords!D$3:AO$52,38,0),\"\")","v":0}]
[{"$f":"VLOOKUP(TableOfContents!B$1,ProgramIDs!A$2:C$38,3,FALSE)","v":{"$error":"#N/A"}},{"$f":"TableOfContents!M$5","v":2021},"",{"$f":"VLOOKUP($C13,ProjectRecords!$D$3:U$53,18,0)","v":"grant no"},{"$f":"VLOOKUP($C13,ProjectRecords!$D$3:V$53,19,0)","v":"amd no"},{"$f":"VLOOKUP($C13,ProjectRecords!$D$3:W$53,20,0)","v":"fund source"},{"$f":"INDIRECT(\"'TableOfContents'\"&CONCATENATE(\"!m\",TEXT((INT((ROW(B14)-3)/4))+7,\"###\")))","v":""},{"$f":"INDIRECT(\"'TableOfContents'\"&CONCATENATE(\"!n\",TEXT((INT((ROW(C14)-3)/4))+7,\"###\")))","v":""},null,{"$f":"IFERROR(IF(C13=\"\",\"\",TEXT(B13,\"####\")&\"-\"&TEXT(MONTH(VLOOKUP(C13,ProjectRecords!D$3:AB$52,25,0)),\"0#\")&\"-\"&TEXT(DAY(VLOOKUP(C13,ProjectRecords!D$3:AB$52,25,0)),\"0#\")),\"\")","v":""},"",{"$f":"IFERROR(VLOOKUP(C13,ProjectRecords!D$3:AO$52,38,0),\"\")","v":0}]
[{"$f":"VLOOKUP(TableOfContents!B$1,ProgramIDs!A$2:C$38,3,FALSE)","v":{"$error":"#N/A"}},{"$f":"TableOfContents!G$5","v":2018},"",{"$f":"VLOOKUP($C14,ProjectRecords!$D$3:U$53,18,0)","v":"grant no"},{"$f":"VLOOKUP($C14,ProjectRecords!$D$3:V$53,19,0)","v":"amd no"},{"$f":"VLOOKUP($C14,ProjectRecords!$D$3:W$53,20,0)","v":"fund source"},{"$f":"INDIRECT(\"'TableOfContents'\"&CONCATENATE(\"!G\",TEXT((INT((ROW(B15)-3)/4))+7,\"###\")))","v":""},{"$f":"INDIRECT(\"'TableOfContents'\"&CONCATENATE(\"!H\",TEXT((INT((ROW(C15)-3)/4))+7,\"###\")))","v":""},null,{"$f":"IFERROR(IF(C14=\"\",\"\",TEXT(B14,\"####\")&\"-\"&TEXT(MONTH(VLOOKUP(C14,ProjectRecords!D$3:AB$52,25,0)),\"0#\")&\"-\"&TEXT(DAY(VLOOKUP(C14,ProjectRecords!D$3:AB$52,25,0)),\"0#\")),\"\")","v":""},"",{"$f":"IFERROR(VLOOKUP(C14,ProjectRecords!D$3:AO$52,38,0),\"\")","v":0}]
[{"$f":"VLOOKUP(TableOfContents!B$1,ProgramIDs!A$2:C$38,3,FALSE)","v":{"$error":"#N/A"}},{"$f":"TableOfContents!I$5","v":2019},"",{"$f":"VLOOKUP($C15,ProjectRecords!$D$3:U$53,18,0)","v":"grant no"},{"$f":"VLOOKUP($C15,ProjectRecords!$D$3:V$53,19,0)","v":"amd no"},{"$f":"VLOOKUP($C15,ProjectRecords!$D$3:W$53,20,0)","v":"fund source"},{"$f":"INDIRECT(\"'TableOfContents'\"&CONCATENATE(\"!i\",TEXT((INT((ROW(B16)-3)/4))+7,\"###\")))","v":""},{"$f":"INDIRECT(\"'TableOfContents'\"&CONCATENATE(\"!j\",TEXT((INT((ROW(C16)-3)/4))+7,\"###\")))","v":""},null,{"$f":"IFERROR(IF(C15=\"\",\"\",TEXT(B15,\"####\")&\"-\"&TEXT(MONTH(VLOOKUP(C15,ProjectRecords!D$3:AB$52,25,0)),\"0#\")&\"-\"&TEXT(DAY(VLOOKUP(C15,ProjectRecords!D$3:AB$52,25,0)),\"0#\")),\"\")","v":""},"",{"$f":"IFERROR(VLOOKUP(C15,ProjectRecords!D$3:AO$52,38,0),\"\")","v":0}]
[{"$f":"VLOOKUP(TableOfContents!B$1,ProgramIDs!A$2:C$38,3,FALSE)","v":{"$error":"#N/A"}},{"$f":"TableOfContents!K$5","v":2020},"",{"$f":"VLOOKUP($C16,ProjectRecords!$D$3:U$53,18,0)","v":"grant no"},{"$f":"VLOOKUP($C16,ProjectRecords!$D$3:V$53,19,0)","v":"amd no"},{"$f":"VLOOKUP($C16,ProjectRecords!$D$3:W$53,20,0)","v":"fund source"},{"$f":"INDIRECT(\"'TableOfContents'\"&CONCATENATE(\"!k\",TEXT((INT((ROW(B17)-3)/4))+7,\"###\")))","v":""},{"$f":"INDIRECT(\"'TableOfContents'\"&CONCATENATE(\"!l\",TEXT((INT((ROW(C17)-3)/4))+7,\"###\")))","v":""},null,{"$f":"IFERROR(IF(C16=\"\",\"\",TEXT(B16,\"####\")&\"-\"&TEXT(MONTH(VLOOKUP(C16,ProjectRecords!D$3:AB$52,25,0)),\"0#\")&\"-\"&TEXT(DAY(VLOOKUP(C16,ProjectRecords!D$3:AB$52,25,0)),\"0#\")),\"\")","v":""},"",{"$f":"IFERROR(VLOOKUP(C16,ProjectRecords!D$3:AO$52,38,0),\"\")","v":0}]
[{"$f":"VLOOKUP(TableOfContents!B$1,ProgramIDs!A$2:C$38,3,FALSE)","v":{"$error":"#N/A"}},{"$f":"TableOfContents!M$5","v":2021},"",{"$f":"VLOOKUP($C17,ProjectRecords!$D$3:U$53,18,0)","v":"grant no"},{"$f":"VLOOKUP($C17,ProjectRecords!$D$3:V$53,19,0)","v":"amd no"},{"$f":"VLOOKUP($C17,ProjectRecords!$D$3:W$53,20,0)","v":"fund source"},{"$f":"INDIRECT(\"'TableOfContents'\"&CONCATENATE(\"!m\",TEXT((INT((ROW(B18)-3)/4))+7,\"###\")))","v":""},{"$f":"INDIRECT(\"'TableOfContents'\"&CONCATENATE(\"!n\",TEXT((INT((ROW(C18)-3)/4))+7,\"###\")))","v":""},null,{"$f":"IFERROR(IF(C17=\"\",\"\",TEXT(B17,\"####\")&\"-\"&TEXT(MONTH(VLOOKUP(C17,ProjectRecords!D$3:AB$52,25,0)),\"0#\")&\"-\"&TEXT(DAY(VLOOKUP(C17,ProjectRecords!D$3:AB$52,25,0)),\"0#\")),\"\")","v":""},"",{"$f":"IFERROR(VLOOKUP(C17,ProjectRecords!D$3:AO$52,38,0),\"\")","v":0}]
[{"$f":"VLOOKUP(TableOfContents!B$1,ProgramIDs!A$2:C$38,3,FALSE)","v":{"$error":"#N/A"}},{"$f":"TableOfContents!G$5","v":2018},"",{"$f":"VLOOKUP($C18,ProjectRecords!$D$3:U$53,18,0)","v":"grant no"},{"$f":"VLOOKUP($C18,ProjectRecords!$D$3:V$53,19,0)","v":"amd no"},{"$f":"VLOOKUP($C18,ProjectRecords!$D$3:W$53,20,0)","v":"fund source"},{"$f":"INDIRECT(\"'TableOfContents'\"&CONCATENATE(\"!G\",TEXT((INT((ROW(B19)-3)/4))+7,\"###\")))","v":""},{"$f":"INDIRECT(\"'TableOfContents'\"&CONCATENATE(\"!H\",TEXT((INT((ROW(C19)-3)/4))+7,\"###\")))","v":""},null,{"$f":"IFERROR(IF(C18=\"\",\"\",TEXT(B18,\"####\")&\"-\"&TEXT(MONTH(VLOOKUP(C18,ProjectRecords!D$3:AB$52,25,0)),\"0#\")&\"-\"&TEXT(DAY(VLOOKUP(C18,ProjectRecords!D$3:AB$52,25,0)),\"0#\")),\"\")","v":""},"",{"$f":"IFERROR(VLOOKUP(C18,ProjectRecords!D$3:AO$52,38,0),\"\")","v":0}]
[{"$f":"VLOOKUP(TableOfContents!B$1,ProgramIDs!A$2:C$38,3,FALSE)","v":{"$error":"#N/A"}},{"$f":"TableOfContents!I$5","v":2019},"",{"$f":"VLOOKUP($C19,ProjectRecords!$D$3:U$53,18,0)","v":"grant no"},{"$f":"VLOOKUP($C19,ProjectRecords!$D$3:V$53,19,0)","v":"amd no"},{"$f":"VLOOKUP($C19,ProjectRecords!$D$3:W$53,20,0)","v":"fund source"},{"$f":"INDIRECT(\"'TableOfContents'\"&CONCATENATE(\"!i\",TEXT((INT((ROW(B20)-3)/4))+7,\"###\")))","v":""},{"$f":"INDIRECT(\"'TableOfContents'\"&CONCATENATE(\"!j\",TEXT((INT((ROW(C20)-3)/4))+7,\"###\")))","v":""},null,{"$f":"IFERROR(IF(C19=\"\",\"\",TEXT(B19,\"####\")&\"-\"&TEXT(MONTH(VLOOKUP(C19,ProjectRecords!D$3:AB$52,25,0)),\"0#\")&\"-\"&TEXT(DAY(VLOOKUP(C19,ProjectRecords!D$3:AB$52,25,0)),\"0#\")),\"\")","v":""},"",{"$f":"IFERROR(VLOOKUP(C19,ProjectRecords!D$3:AO$52,38,0),\"\")","v":0}]
[{"$f":"VLOOKUP(TableOfContents!B$1,ProgramIDs!A$2:C$38,3,FALSE)","v":{"$error":"#N/A"}},{"$f":"TableOfContents!K$5","v":2020},"",{"$f":"VLOOKUP($C20,ProjectRecords!$D$3:U$53,18,0)","v":"grant no"},{"$f":"VLOOKUP($C20,ProjectRecords!$D$3:V$53,19,0)","v":"amd no"},{"$f":"VLOOKUP($C20,ProjectRecords!$D$3:W$53,20,0)","v":"fund source"},{"$f":"INDIRECT(\"'TableOfContents'\"&CONCATENATE(\"!k\",TEXT((INT((ROW(B21)-3)/4))+7,\"###\")))","v":""},{"$f":"INDIRECT(\"'TableOfContents'\"&CONCATENATE(\"!l\",TEXT((INT((ROW(C21)-3)/4))+7,\"###\")))","v":""},null,{"$f":"IFERROR(IF(C20=\"\",\"\",TEXT(B20,\"####\")&\"-\"&TEXT(MONTH(VLOOKUP(C20,ProjectRecords!D$3:AB$52,25,0)),\"0#\")&\"-\"&TEXT(DAY(VLOOKUP(C20,ProjectRecords!D$3:AB$52,25,0)),\"0#\")),\"\")","v":""},"",{"$f":"IFERROR(VLOOKUP(C20,ProjectRecords!D$3:AO$52,38,0),\"\")","v":0}]
[{"$f":"VLOOKUP(TableOfContents!B$1,ProgramIDs!A$2:C$38,3,FALSE)","v":{"$error":"#N/A"}},{"$f":"TableOfContents!M$5","v":2021},"",{"$f":"VLOOKUP($C21,ProjectRecords!$D$3:U$53,18,0)","v":"grant no"},{"$f":"VLOOKUP($C21,ProjectRecords!$D$3:V$53,19,0)","v":"amd no"},{"$f":"VLOOKUP($C21,ProjectRecords!$D$3:W$53,20,0)","v":"fund source"},{"$f":"INDIRECT(\"'TableOfContents'\"&CONCATENATE(\"!m\",TEXT((INT((ROW(B22)-3)/4))+7,\"###\")))","v":""},{"$f":"INDIRECT(\"'TableOfContents'\"&CONCATENATE(\"!n\",TEXT((INT((ROW(C22)-3)/4))+7,\"###\")))","v":""},null,{"$f":"IFERROR(IF(C21=\"\",\"\",TEXT(B21,\"####\")&\"-\"&TEXT(MONTH(VLOOKUP(C21,ProjectRecords!D$3:AB$52,25,0)),\"0#\")&\"-\"&TEXT(DAY(VLOOKUP(C21,ProjectRecords!D$3:AB$52,25,0)),\"0#\")),\"\")","v":""},"",{"$f":"IFERROR(VLOOKUP(C21,ProjectRecords!D$3:AO$52,38,0),\"\")","v":0}]
[{"$f":"VLOOKUP(TableOfContents!B$1,ProgramIDs!A$2:C$38,3,FALSE)","v":{"$error":"#N/A"}},{"$f":"TableOfContents!G$5","v":2018},"",{"$f":"VLOOKUP($C22,ProjectRecords!$D$3:U$53,18,0)","v":"grant no"},{"$f":"VLOOKUP($C22,ProjectRecords!$D$3:V$53,19,0)","v":"amd no"},{"$f":"VLOOKUP($C22,ProjectRecords!$D$3:W$53,20,0)","v":"fund source"},{"$f":"INDIRECT(\"'TableOfContents'\"&CONCATENATE(\"!G\",TEXT((INT((ROW(B23)-3)/4))+7,\"###\")))","v":""},{"$f":"INDIRECT(\"'TableOfContents'\"&CONCATENATE(\"!H\",TEXT((INT((ROW(C23)-3)/4))+7,\"###\")))","v":""},null,{"$f":"IFERROR(IF(C22=\"\",\"\",TEXT(B22,\"####\")&\"-\"&TEXT(MONTH(VLOOKUP(C22,ProjectRecords!D$3:AB$52,25,0)),\"0#\")&\"-\"&TEXT(DAY(VLOOKUP(C22,ProjectRecords!D$3:AB$52,25,0)),\"0#\")),\"\")","v":""},"",{"$f":"IFERROR(VLOOKUP(C22,ProjectRecords!D$3:AO$52,38,0),\"\")","v":0}]
[{"$f":"VLOOKUP(TableOfContents!B$1,ProgramIDs!A$2:C$38,3,FALSE)","v":{"$error":"#N/A"}},{"$f":"TableOfContents!I$5","v":2019},"",{"$f":"VLOOKUP($C23,ProjectRecords!$D$3:U$53,18,0)","v":"grant no"},{"$f":"VLOOKUP($C23,ProjectRecords!$D$3:V$53,19,0)","v":"amd no"},{"$f":"VLOOKUP($C23,ProjectRecords!$D$3:W$53,20,0)","v":"fund source"},{"$f":"INDIRECT(\"'TableOfContents'\"&CONCATENATE(\"!i\",TEXT((INT((ROW(B24)-3)/4))+7,\"###\")))","v":""},{"$f":"INDIRECT(\"'TableOfContents'\"&CONCATENATE(\"!j\",TEXT((INT((ROW(C24)-3)/4))+7,\"###\")))","v":""},null,{"$f":"IFERROR(IF(C23=\"\",\"\",TEXT(B23,\"####\")&\"-\"&TEXT(MONTH(VLOOKUP(C23,ProjectRecords!D$3:AB$52,25,0)),\"0#\")&\"-\"&TEXT(DAY(VLOOKUP(C23,ProjectRecords!D$3:AB$52,25,0)),\"0#\")),\"\")","v":""},"",{"$f":"IFERROR(VLOOKUP(C23,ProjectRecords!D$3:AO$52,38,0),\"\")","v":0}]
[{"$f":"VLOOKUP(TableOfContents!B$1,ProgramIDs!A$2:C$38,3,FALSE)","v":{"$error":"#N/A"}},{"$f":"TableOfContents!K$5","v":2020},"",{"$f":"VLOOKUP($C24,ProjectRecords!$D$3:U$53,18,0)","v":"grant no"},{"$f":"VLOOKUP($C24,ProjectRecords!$D$3:V$53,19,0)","v":"amd no"},{"$f":"VLOOKUP($C24,ProjectRecords!$D$3:W$53,20,0)","v":"fund source"},{"$f":"INDIRECT(\"'TableOfContents'\"&CONCATENATE(\"!k\",TEXT((INT((ROW(B25)-3)/4))+7,\"###\")))","v":""},{"$f":"INDIRECT(\"'TableOfContents'\"&CONCATENATE(\"!l\",TEXT((INT((ROW(C25)-3)/4))+7,\"###\")))","v":""},null,{"$f":"IFERROR(IF(C24=\"\",\"\",TEXT(B24,\"####\")&\"-\"&TEXT(MONTH(VLOOKUP(C24,ProjectRecords!D$3:AB$52,25,0)),\"0#\")&\"-\"&TEXT(DAY(VLOOKUP(C24,ProjectRecords!D$3:AB$52,25,0)),\"0#\")),\"\")","v":""},"",{"$f":"IFERROR(VLOOKUP(C24,ProjectRecords!D$3:AO$52,38,0),\"\")","v":0}]
[{"$f":"VLOOKUP(TableOfContents!B$1,ProgramIDs!A$2:C$38,3,FALSE)","v":{"$error":"#N/A"}},{"$f":"TableOfContents!M$5","v":2021},"",{"$f":"VLOOKUP($C25,ProjectRecords!$D$3:U$53,18,0)","v":"grant no"},{"$f":"VLOOKUP($C25,ProjectRecords!$D$3:V$53,19,0)","v":"amd no"},{"$f":"VLOOKUP($C25,ProjectRecords!$D$3:W$53,20,0)","v":"fund source"},{"$f":"INDIRECT(\"'TableOfContents'\"&CONCATENATE(\"!m\",TEXT((INT((ROW(B26)-3)/4))+7,\"###\")))","v":""},{"$f":"INDIRECT(\"'TableOfContents'\"&CONCATENATE(\"!n\",TEXT((INT((ROW(C26)-3)/4))+7,\"###\")))","v":""},null,{"$f":"IFERROR(IF(C25=\"\",\"\",TEXT(B25,\"####\")&\"-\"&TEXT(MONTH(VLOOKUP(C25,ProjectRecords!D$3:AB$52,25,0)),\"0#\")&\"-\"&TEXT(DAY(VLOOKUP(C25,ProjectRecords!D$3:AB$52,25,0)),\"0#\")),\"\")","v":""},"",{"$f":"IFERROR(VLOOKUP(C25,ProjectRecords!D$3:AO$52,38,0),\"\")","v":0}]
[{"$f":"VLOOKUP(TableOfContents!B$1,ProgramIDs!A$2:C$38,3,FALSE)","v":{"$error":"#N/A"}},{"$f":"TableOfContents!G$5","v":2018},"",{"$f":"VLOOKUP($C26,ProjectRecords!$D$3:U$53,18,0)","v":"grant no"},{"$f":"VLOOKUP($C26,ProjectRecords!$D$3:V$53,19,0)","v":"amd no"},{"$f":"VLOOKUP($C26,ProjectRecords!$D$3:W$53,20,0)","v":"fund source"},{"$f":"INDIRECT(\"'TableOfContents'\"&CONCATENATE(\"!G\",TEXT((INT((ROW(B27)-3)/4))+7,\"###\")))","v":""},{"$f":"INDIRECT(\"'TableOfContents'\"&CONCATENATE(\"!H\",TEXT((INT((ROW(C27)-3)/4))+7,\"###\")))","v":""},null,{"$f":"IFERROR(IF(C26=\"\",\"\",TEXT(B26,\"####\")&\"-\"&TEXT(MONTH(VLOOKUP(C26,ProjectRecords!D$3:AB$52,25,0)),\"0#\")&\"-\"&TEXT(DAY(VLOOKUP(C26,ProjectRecords!D$3:AB$52,25,0)),\"0#\")),\"\")","v":""},"",{"$f":"IFERROR(VLOOKUP(C26,ProjectRecords!D$3:AO$52,38,0),\"\")","v":0}]
[{"$f":"VLOOKUP(TableOfContents!B$1,ProgramIDs!A$2:C$38,3,FALSE)","v":{"$error":"#N/A"}},{"$f":"TableOfContents!I$5","v":2019},"",{"$f":"VLOOKUP($C27,ProjectRecords!$D$3:U$53,18,0)","v":"grant no"},{"$f":"VLOOKUP($C27,ProjectRecords!$D$3:V$53,19,0)","v":"amd no"},{"$f":"VLOOKUP($C27,ProjectRecords!$D$3:W$53,20,0)","v":"fund source"},{"$f":"INDIRECT(\"'TableOfContents'\"&CONCATENATE(\"!i\",TEXT((INT((ROW(B28)-3)/4))+7,\"###\")))","v":""},{"$f":"INDIRECT(\"'TableOfContents'\"&CONCATENATE(\"!j\",TEXT((INT((ROW(C28)-3)/4))+7,\"###\")))","v":""},null,{"$f":"IFERROR(IF(C27=\"\",\"\",TEXT(B27,\"####\")&\"-\"&TEXT(MONTH(VLOOKUP(C27,ProjectRecords!D$3:AB$52,25,0)),\"0#\")&\"-\"&TEXT(DAY(VLOOKUP(C27,ProjectRecords!D$3:AB$52,25,0)),\"0#\")),\"\")","v":""},"",{"$f":"IFERROR(VLOOKUP(C27,ProjectRecords!D$3:AO$52,38,0),\"\")","v":0}]
[{"$f":"VLOOKUP(TableOfContents!B$1,ProgramIDs!A$2:C$38,3,FALSE)","v":{"$error":"#N/A"}},{"$f":"TableOfContents!K$5","v":2020},"",{"$f":"VLOOKUP($C28,ProjectRecords!$D$3:U$53,18,0)","v":"grant no"},{"$f":"VLOOKUP($C28,ProjectRecords!$D$3:V$53,19,0)","v":"amd no"},{"$f":"VLOOKUP($C28,ProjectRecords!$D$3:W$53,20,0)","v":"fund source"},{"$f":"INDIRECT(\"'TableOfContents'\"&CONCATENATE(\"!k\",TEXT((INT((ROW(B29)-3)/4))+7,\"###\")))","v":""},{"$f":"INDIRECT(\"'TableOfContents'\"&CONCATENATE(\"!l\",TEXT((INT((ROW(C29)-3)/4))+7,\"###\")))","v":""},null,{"$f":"IFERROR(IF(C28=\"\",\"\",TEXT(B28,\"####\")&\"-\"&TEXT(MONTH(VLOOKUP(C28,ProjectRecords!D$3:AB$52,25,0)),\"0#\")&\"-\"&TEXT(DAY(VLOOKUP(C28,ProjectRecords!D$3:AB$52,25,0)),\"0#\")),\"\")","v":""},"",{"$f":"IFERROR(VLOOKUP(C28,ProjectRecords!D$3:AO$52,38,0),\"\")","v":0}]
[{"$f":"VLOOKUP(TableOfContents!B$1,ProgramIDs!A$2:C$38,3,FALSE)","v":{"$error":"#N/A"}},{"$f":"TableOfContents!M$5","v":2021},"",{"$f":"VLOOKUP($C29,ProjectRecords!$D$3:U$53,18,0)","v":"grant no"},{"$f":"VLOOKUP($C29,ProjectRecords!$D$3:V$53,19,0)","v":"amd no"},{"$f":"VLOOKUP($C29,ProjectRecords!$D$3:W$53,20,0)","v":"fund source"},{"$f":"INDIRECT(\"'TableOfContents'\"&CONCATENATE(\"!m\",TEXT((INT((ROW(B30)-3)/4))+7,\"###\")))","v":""},{"$f":"INDIRECT(\"'TableOfContents'\"&CONCATENATE(\"!n\",TEXT((INT((ROW(C30)-3)/4))+7,\"###\")))","v":""},null,{"$f":"IFERROR(IF(C29=\"\",\"\",TEXT(B29,\"####\")&\"-\"&TEXT(MONTH(VLOOKUP(C29,ProjectRecords!D$3:AB$52,25,0)),\"0#\")&\"-\"&TEXT(DAY(VLOOKUP(C29,ProjectRecords!D$3:AB$52,25,0)),\"0#\")),\"\")","v":""},"",{"$f":"IFERROR(VLOOKUP(C29,ProjectRecords!D$3:AO$52,38,0),\"\")","v":0}]
[{"$f":"VLOOKUP(TableOfContents!B$1,ProgramIDs!A$2:C$38,3,FALSE)","v":{"$error":"#N/A"}},{"$f":"TableOfContents!G$5","v":2018},"",{"$f":"VLOOKUP($C30,ProjectRecords!$D$3:U$53,18,0)","v":"grant no"},{"$f":"VLOOKUP($C30,ProjectRecords!$D$3:V$53,19,0)","v":"amd no"},{"$f":"VLOOKUP($C30,ProjectRecords!$D$3:W$53,20,0)","v":"fund source"},{"$f":"INDIRECT(\"'TableOfContents'\"&CONCATENATE(\"!G\",TEXT((INT((ROW(B31)-3)/4))+7,\"###\")))","v":""},{"$f":"INDIRECT(\"'TableOfContents'\"&CONCATENATE(\"!H\",TEXT((INT((ROW(C31)-3)/4))+7,\"###\")))","v":""},null,{"$f":"IFERROR(IF(C30=\"\",\"\",TEXT(B30,\"####\")&\"-\"&TEXT(MONTH(VLOOKUP(C30,ProjectRecords!D$3:AB$52,25,0)),\"0#\")&\"-\"&TEXT(DAY(VLOOKUP(C30,ProjectRecords!D$3:AB$52,25,0)),\"0#\")),\"\")","v":""},"",{"$f":"IFERROR(VLOOKUP(C30,ProjectRecords!D$3:AO$52,38,0),\"\")","v":0}]
[{"$f":"VLOOKUP(TableOfContents!B$1,ProgramIDs!A$2:C$38,3,FALSE)","v":{"$error":"#N/A"}},{"$f":"TableOfContents!I$5","v":2019},"",{"$f":"VLOOKUP($C31,ProjectRecords!$D$3:U$53,18,0)","v":"grant no"},{"$f":"VLOOKUP($C31,ProjectRecords!$D$3:V$53,19,0)","v":"amd no"},{"$f":"VLOOKUP($C31,ProjectRecords!$D$3:W$53,20,0)","v":"fund source"},{"$f":"INDIRECT(\"'TableOfContents'\"&CONCATENATE(\"!i\",TEXT((INT((ROW(B32)-3)/4))+7,\"###\")))","v":""},{"$f":"INDIRECT(\"'TableOfContents'\"&CONCATENATE(\"!j\",TEXT((INT((ROW(C32)-3)/4))+7,\"###\")))","v":""},null,{"$f":"IFERROR(IF(C31=\"\",\"\",TEXT(B31,\"####\")&\"-\"&TEXT(MONTH(VLOOKUP(C31,ProjectRecords!D$3:AB$52,25,0)),\"0#\")&\"-\"&TEXT(DAY(VLOOKUP(C31,ProjectRecords!D$3:AB$52,25,0)),\"0#\")),\"\")","v":""},"",{"$f":"IFERROR(VLOOKUP(C31,ProjectRecords!D$3:AO$52,38,0),\"\")","v":0}]
[{"$f":"VLOOKUP(TableOfContents!B$1,ProgramIDs!A$2:C$38,3,FALSE)","v":{"$error":"#N/A"}},{"$f":"TableOfContents!K$5","v":2020},"",{"$f":"VLOOKUP($C32,ProjectRecords!$D$3:U$53,18,0)","v":"grant no"},{"$f":"VLOOKUP($C32,ProjectRecords!$D$3:V$53,19,0)","v":"amd no"},{"$f":"VLOOKUP($C32,ProjectRecords!$D$3:W$53,20,0)","v":"fund source"},{"$f":"INDIRECT(\"'TableOfContents'\"&CONCATENATE(\"!k\",TEXT((INT((ROW(B33)-3)/4))+7,\"###\")))","v":""},{"$f":"INDIRECT(\"'TableOfContents'\"&CONCATENATE(\"!l\",TEXT((INT((ROW(C33)-3)/4))+7,\"###\")))","v":""},null,{"$f":"IFERROR(IF(C32=\"\",\"\",TEXT(B32,\"####\")&\"-\"&TEXT(MONTH(VLOOKUP(C32,ProjectRecords!D$3:AB$52,25,0)),\"0#\")&\"-\"&TEXT(DAY(VLOOKUP(C32,ProjectRecords!D$3:AB$52,25,0)),\"0#\")),\"\")","v":""},"",{"$f":"IFERROR(VLOOKUP(C32,ProjectRecords!D$3:AO$52,38,0),\"\")","v":0}]
[{"$f":"VLOOKUP(TableOfContents!B$1,ProgramIDs!A$2:C$38,3,FALSE)","v":{"$error":"#N/A"}},{"$f":"TableOfContents!M$5","v":2021},"",{"$f":"VLOOKUP($C33,ProjectRecords!$D$3:U$53,18,0)","v":"grant no"},{"$f":"VLOOKUP($C33,ProjectRecords!$D$3:V$53,19,0)","v":"amd no"},{"$f":"VLOOKUP($C33,ProjectRecords!$D$3:W$53,20,0)","v":"fund source"},{"$f":"INDIRECT(\"'TableOfContents'\"&CONCATENATE(\"!m\",TEXT((INT((ROW(B34)-3)/4))+7,\"###\")))","v":""},{"$f":"INDIRECT(\"'TableOfContents'\"&CONCATENATE(\"!n\",TEXT((INT((ROW(C34)-3)/4))+7,\"###\")))","v":""},null,{"$f":"IFERROR(IF(C33=\"\",\"\",TEXT(B33,\"####\")&\"-\"&TEXT(MONTH(VLOOKUP(C33,ProjectRecords!D$3:AB$52,25,0)),\"0#\")&\"-\"&TEXT(DAY(VLOOKUP(C33,ProjectRecords!D$3:AB$52,25,0)),\"0#\")),\"\")","v":""},"",{"$f":"IFERROR(VLOOKUP(C33,ProjectRecords!D$3:AO$52,38,0),\"\")","v":0}]
[{"$f":"VLOOKUP(TableOfContents!B$1,ProgramIDs!A$2:C$38,3,FALSE)","v":{"$error":"#N/A"}},{"$f":"TableOfContents!G$5","v":2018},"",{"$f":"VLOOKUP($C34,ProjectRecords!$D$3:U$53,18,0)","v":"grant no"},{"$f":"VLOOKUP($C34,ProjectRecords!$D$3:V$53,19,0)","v":"amd no"},{"$f":"VLOOKUP($C34,ProjectRecords!$D$3:W$53,20,0)","v":"fund source"},{"$f":"INDIRECT(\"'TableOfContents'\"&CONCATENATE(\"!G\",TEXT((INT((ROW(B35)-3)/4))+7,\"###\")))","v":""},{"$f":"INDIRECT(\"'TableOfContents'\"&CONCATENATE(\"!H\",TEXT((INT((ROW(C35)-3)/4))+7,\"###\")))","v":""},null,{"$f":"IFERROR(IF(C34=\"\",\"\",TEXT(B34,\"####\")&\"-\"&TEXT(MONTH(VLOOKUP(C34,ProjectRecords!D$3:AB$52,25,0)),\"0#\")&\"-\"&TEXT(DAY(VLOOKUP(C34,ProjectRecords!D$3:AB$52,25,0)),\"0#\")),\"\")","v":""},"",{"$f":"IFERROR(VLOOKUP(C34,ProjectRecords!D$3:AO$52,38,0),\"\")","v":0}]
[{"$f":"VLOOKUP(TableOfContents!B$1,ProgramIDs!A$2:C$38,3,FALSE)","v":{"$error":"#N/A"}},{"$f":"TableOfContents!I$5","v":2019},"",{"$f":"VLOOKUP($C35,ProjectRecords!$D$3:U$53,18,0)","v":"grant no"},{"$f":"VLOOKUP($C35,ProjectRecords!$D$3:V$53,19,0)","v":"amd no"},{"$f":"VLOOKUP($C35,ProjectRecords!$D$3:W$53,20,0)","v":"fund source"},{"$f":"INDIRECT(\"'TableOfContents'\"&CONCATENATE(\"!i\",TEXT((INT((ROW(B36)-3)/4))+7,\"###\")))","v":""},{"$f":"INDIRECT(\"'TableOfContents'\"&CONCATENATE(\"!j\",TEXT((INT((ROW(C36)-3)/4))+7,\"###\")))","v":""},null,{"$f":"IFERROR(IF(C35=\"\",\"\",TEXT(B35,\"####\")&\"-\"&TEXT(MONTH(VLOOKUP(C35,ProjectRecords!D$3:AB$52,25,0)),\"0#\")&\"-\"&TEXT(DAY(VLOOKUP(C35,ProjectRecords!D$3:AB$52,25,0)),\"0#\")),\"\")","v":""},"",{"$f":"IFERROR(VLOOKUP(C35,ProjectRecords!D$3:AO$52,38,0),\"\")","v":0}]
[{"$f":"VLOOKUP(TableOfContents!B$1,ProgramIDs!A$2:C$38,3,FALSE)","v":{"$error":"#N/A"}},{"$f":"TableOfContents!K$5","v":2020},"",{"$f":"VLOOKUP($C36,ProjectRecords!$D$3:U$53,18,0)","v":"grant no"},{"$f":"VLOOKUP($C36,ProjectRecords!$D$3:V$53,19,0)","v":"amd no"},{"$f":"VLOOKUP($C36,ProjectRecords!$D$3:W$53,20,0)","v":"fund source"},{"$f":"INDIRECT(\"'TableOfContents'\"&CONCATENATE(\"!k\",TEXT((INT((ROW(B37)-3)/4))+7,\"###\")))","v":""},{"$f":"INDIRECT(\"'TableOfContents'\"&CONCATENATE(\"!l\",TEXT((INT((ROW(C37)-3)/4))+7,\"###\")))","v":""},null,{"$f":"IFERROR(IF(C36=\"\",\"\",TEXT(B36,\"####\")&\"-\"&TEXT(MONTH(VLOOKUP(C36,ProjectRecords!D$3:AB$52,25,0)),\"0#\")&\"-\"&TEXT(DAY(VLOOKUP(C36,ProjectRecords!D$3:AB$52,25,0)),\"0#\")),\"\")","v":""},"",{"$f":"IFERROR(VLOOKUP(C36,ProjectRecords!D$3:AO$52,38,0),\"\")","v":0}]
[{"$f":"VLOOKUP(TableOfContents!B$1,ProgramIDs!A$2:C$38,3,FALSE)","v":{"$error":"#N/A"}},{"$f":"TableOfContents!M$5","v":2021},"",{"$f":"VLOOKUP($C37,ProjectRecords!$D$3:U$53,18,0)","v":"grant no"},{"$f":"VLOOKUP($C37,ProjectRecords!$D$3:V$53,19,0)","v":"amd no"},{"$f":"VLOOKUP($C37,ProjectRecords!$D$3:W$53,20,0)","v":"fund source"},{"$f":"INDIRECT(\"'TableOfContents'\"&CONCATENATE(\"!m\",TEXT((INT((ROW(B38)-3)/4))+7,\"###\")))","v":""},{"$f":"INDIRECT(\"'TableOfContents'\"&CONCATENATE(\"!n\",TEXT((INT((ROW(C38)-3)/4))+7,\"###\")))","v":""},null,{"$f":"IFERROR(IF(C37=\"\",\"\",TEXT(B37,\"####\")&\"-\"&TEXT(MONTH(VLOOKUP(C37,ProjectRecords!D$3:AB$52,25,0)),\"0#\")&\"-\"&TEXT(DAY(VLOOKUP(C37,ProjectRecords!D$3:AB$52,25,0)),\"0#\")),\"\")","v":""},"",{"$f":"IFERROR(VLOOKUP(C37,ProjectRecords!D$3:AO$52,38,0),\"\")","v":0}]
[{"$f":"VLOOKUP(TableOfContents!B$1,ProgramIDs!A$2:C$38,3,FALSE)","v":{"$error":"#N/A"}},{"$f":"TableOfContents!G$5","v":2018},"",{"$f":"VLOOKUP($C38,ProjectRecords!$D$3:U$53,18,0)","v":"grant no"},{"$f":"VLOOKUP($C38,ProjectRecords!$D$3:V$53,19,0)","v":"amd no"},{"$f":"VLOOKUP($C38,ProjectRecords!$D$3:W$53,20,0)","v":"fund source"},{"$f":"INDIRECT(\"'TableOfContents'\"&CONCATENATE(\"!G\",TEXT((INT((ROW(B39)-3)/4))+7,\"###\")))","v":""},{"$f":"INDIRECT(\"'TableOfContents'\"&CONCATENATE(\"!H\",TEXT((INT((ROW(C39)-3)/4))+7,\"###\")))","v":""},null,{"$f":"IFERROR(IF(C38=\"\",\"\",TEXT(B38,\"####\")&\"-\"&TEXT(MONTH(VLOOKUP(C38,ProjectRecords!D$3:AB$52,25,0)),\"0#\")&\"-\"&TEXT(DAY(VLOOKUP(C38,ProjectRecords!D$3:AB$52,25,0)),\"0#\")),\"\")","v":""},"",{"$f":"IFERROR(VLOOKUP(C38,ProjectRecords!D$3:AO$52,38,0),\"\")","v":0}]
[{"$f":"VLOOKUP(TableOfContents!B$1,ProgramIDs!A$2:C$38,3,FALSE)","v":{"$error":"#N/A"}},{"$f":"TableOfContents!I$5","v":2019},"",{"$f":"VLOOKUP($C39,ProjectRecords!$D$3:U$53,18,0)","v":"grant no"},{"$f":"VLOOKUP($C39,ProjectRecords!$D$3:V$53,19,0)","v":"amd no"},{"$f":"VLOOKUP($C39,ProjectRecords!$D$3:W$53,20,0)","v":"fund source"},{"$f":"INDIRECT(\"'TableOfContents'\"&CONCATENATE(\"!i\",TEXT((INT((ROW(B40)-3)/4))+7,\"###\")))","v":""},{"$f":"INDIRECT(\"'TableOfContents'\"&CONCATENATE(\"!j\",TEXT((INT((ROW(C40)-3)/4))+7,\"###\")))","v":""},null,{"$f":"IFERROR(IF(C39=\"\",\"\",TEXT(B39,\"####\")&\"-\"&TEXT(MONTH(VLOOKUP(C39,ProjectRecords!D$3:AB$52,25,0)),\"0#\")&\"-\"&TEXT(DAY(VLOOKUP(C39,ProjectRecords!D$3:AB$52,25,0)),\"0#\")),\"\")","v":""},"",{"$f":"IFERROR(VLOOKUP(C39,ProjectRecords!D$3:AO$52,38,0),\"\")","v":0}]
[{"$f":"VLOOKUP(TableOfContents!B$1,ProgramIDs!A$2:C$38,3,FALSE)","v":{"$error":"#N/A"}},{"$f":"TableOfContents!K$5","v":2020},"",{"$f":"VLOOKUP($C40,ProjectRecords!$D$3:U$53,18,0)","v":"grant no"},{"$f":"VLOOKUP($C40,ProjectRecords!$D$3:V$53,19,0)","v":"amd no"},{"$f":"VLOOKUP($C40,ProjectRecords!$D$3:W$53,20,0)","v":"fund source"},{"$f":"INDIRECT(\"'TableOfContents'\"&CONCATENATE(\"!k\",TEXT((INT((ROW(B41)-3)/4))+7,\"###\")))","v":""},{"$f":"INDIRECT(\"'TableOfContents'\"&CONCATENATE(\"!l\",TEXT((INT((ROW(C41)-3)/4))+7,\"###\")))","v":""},null,{"$f":"IFERROR(IF(C40=\"\",\"\",TEXT(B40,\"####\")&\"-\"&TEXT(MONTH(VLOOKUP(C40,ProjectRecords!D$3:AB$52,25,0)),\"0#\")&\"-\"&TEXT(DAY(VLOOKUP(C40,ProjectRecords!D$3:AB$52,25,0)),\"0#\")),\"\")","v":""},"",{"$f":"IFERROR(VLOOKUP(C40,ProjectRecords!D$3:AO$52,38,0),\"\")","v":0}]
[{"$f":"VLOOKUP(TableOfContents!B$1,ProgramIDs!A$2:C$38,3,FALSE)","v":{"$error":"#N/A"}},{"$f":"TableOfContents!M$5","v":2021},"",{"$f":"VLOOKUP($C41,ProjectRecords!$D$3:U$53,18,0)","v":"grant no"},{"$f":"VLOOKUP($C41,ProjectRecords!$D$3:V$53,19,0)","v":"amd no"},{"$f":"VLOOKUP($C41,ProjectRecords!$D$3:W$53,20,0)","v":"fund source"},{"$f":"INDIRECT(\"'TableOfContents'\"&CONCATENATE(\"!m\",TEXT((INT((ROW(B42)-3)/4))+7,\"###\")))","v":""},{"$f":"INDIRECT(\"'TableOfContents'\"&CONCATENATE(\"!n\",TEXT((INT((ROW(C42)-3)/4))+7,\"###\")))","v":""},null,{"$f":"IFERROR(IF(C41=\"\",\"\",TEXT(B41,\"####\")&\"-\"&TEXT(MONTH(VLOOKUP(C41,ProjectRecords!D$3:AB$52,25,0)),\"0#\")&\"-\"&TEXT(DAY(VLOOKUP(C41,ProjectRecords!D$3:AB$52,25,0)),\"0#\")),\"\")","v":""},"",{"$f":"IFERROR(VLOOKUP(C41,ProjectRecords!D$3:AO$52,38,0),\"\")","v":0}]
[{"$f":"VLOOKUP(TableOfContents!B$1,ProgramIDs!A$2:C$38,3,FALSE)","v":{"$error":"#N/A"}},{"$f":"TableOfContents!G$5","v":2018},"",{"$f":"VLOOKUP($C42,ProjectRecords!$D$3:U$53,18,0)","v":"grant no"},{"$f":"VLOOKUP($C42,ProjectRecords!$D$3:V$53,19,0)","v":"amd no"},{"$f":"VLOOKUP($C42,ProjectRecords!$D$3:W$53,20,0)","v":"fund source"},{"$f":"INDIRECT(\"'TableOfContents'\"&CONCATENATE(\"!G\",TEXT((INT((ROW(B43)-3)/4))+7,\"###\")))","v":""},{"$f":"INDIRECT(\"'TableOfContents'\"&CONCATENATE(\"!H\",TEXT((INT((ROW(C43)-3)/4))+7,\"###\")))","v":""},null,{"$f":"IFERROR(IF(C42=\"\",\"\",TEXT(B42,\"####\")&\"-\"&TEXT(MONTH(VLOOKUP(C42,ProjectRecords!D$3:AB$52,25,0)),\"0#\")&\"-\"&TEXT(DAY(VLOOKUP(C42,ProjectRecords!D$3:AB$52,25,0)),\"0#\")),\"\")","v":""},"",{"$f":"IFERROR(VLOOKUP(C42,ProjectRecords!D$3:AO$52,38,0),\"\")","v":0}]
[{"$f":"VLOOKUP(TableOfContents!B$1,ProgramIDs!A$2:C$38,3,FALSE)","v":{"$error":"#N/A"}},{"$f":"TableOfContents!I$5","v":2019},"",{"$f":"VLOOKUP($C43,ProjectRecords!$D$3:U$53,18,0)","v":"grant no"},{"$f":"VLOOKUP($C43,ProjectRecords!$D$3:V$53,19,0)","v":"amd no"},{"$f":"VLOOKUP($C43,ProjectRecords!$D$3:W$53,20,0)","v":"fund source"},{"$f":"INDIRECT(\"'TableOfContents'\"&CONCATENATE(\"!i\",TEXT((INT((ROW(B44)-3)/4))+7,\"###\")))","v":""},{"$f":"INDIRECT(\"'TableOfContents'\"&CONCATENATE(\"!j\",TEXT((INT((ROW(C44)-3)/4))+7,\"###\")))","v":""},null,{"$f":"IFERROR(IF(C43=\"\",\"\",TEXT(B43,\"####\")&\"-\"&TEXT(MONTH(VLOOKUP(C43,ProjectRecords!D$3:AB$52,25,0)),\"0#\")&\"-\"&TEXT(DAY(VLOOKUP(C43,ProjectRecords!D$3:AB$52,25,0)),\"0#\")),\"\")","v":""},"",{"$f":"IFERROR(VLOOKUP(C43,ProjectRecords!D$3:AO$52,38,0),\"\")","v":0}]
[{"$f":"VLOOKUP(TableOfContents!B$1,ProgramIDs!A$2:C$38,3,FALSE)","v":{"$error":"#N/A"}},{"$f":"TableOfContents!K$5","v":2020},"",{"$f":"VLOOKUP($C44,ProjectRecords!$D$3:U$53,18,0)","v":"grant no"},{"$f":"VLOOKUP($C44,ProjectRecords!$D$3:V$53,19,0)","v":"amd no"},{"$f":"VLOOKUP($C44,ProjectRecords!$D$3:W$53,20,0)","v":"fund source"},{"$f":"INDIRECT(\"'TableOfContents'\"&CONCATENATE(\"!k\",TEXT((INT((ROW(B45)-3)/4))+7,\"###\")))","v":""},{"$f":"INDIRECT(\"'TableOfContents'\"&CONCATENATE(\"!l\",TEXT((INT((ROW(C45)-3)/4))+7,\"###\")))","v":""},null,{"$f":"IFERROR(IF(C44=\"\",\"\",TEXT(B44,\"####\")&\"-\"&TEXT(MONTH(VLOOKUP(C44,ProjectRecords!D$3:AB$52,25,0)),\"0#\")&\"-\"&TEXT(DAY(VLOOKUP(C44,ProjectRecords!D$3:AB$52,25,0)),\"0#\")),\"\")","v":""},"",{"$f":"IFERROR(VLOOKUP(C44,ProjectRecords!D$3:AO$52,38,0),\"\")","v":0}]
[{"$f":"VLOOKUP(TableOfContents!B$1,ProgramIDs!A$2:C$38,3,FALSE)","v":{"$error":"#N/A"}},{"$f":"TableOfContents!M$5","v":2021},"",{"$f":"VLOOKUP($C45,ProjectRecords!$D$3:U$53,18,0)","v":"grant no"},{"$f":"VLOOKUP($C45,ProjectRecords!$D$3:V$53,19,0)","v":"amd no"},{"$f":"VLOOKUP($C45,ProjectRecords!$D$3:W$53,20,0)","v":"fund source"},{"$f":"INDIRECT(\"'TableOfContents'\"&CONCATENATE(\"!m\",TEXT((INT((ROW(B46)-3)/4))+7,\"###\")))","v":""},{"$f":"INDIRECT(\"'TableOfContents'\"&CONCATENATE(\"!n\",TEXT((INT((ROW(C46)-3)/4))+7,\"###\")))","v":""},null,{"$f":"IFERROR(IF(C45=\"\",\"\",TEXT(B45,\"####\")&\"-\"&TEXT(MONTH(VLOOKUP(C45,ProjectRecords!D$3:AB$52,25,0)),\"0#\")&\"-\"&TEXT(DAY(VLOOKUP(C45,ProjectRecords!D$3:AB$52,25,0)),\"0#\")),\"\")","v":""},"",{"$f":"IFERROR(VLOOKUP(C45,ProjectRecords!D$3:AO$52,38,0),\"\")","v":0}]
[{"$f":"VLOOKUP(TableOfContents!B$1,ProgramIDs!A$2:C$38,3,FALSE)","v":{"$error":"#N/A"}},{"$f":"TableOfContents!G$5","v":2018},"",{"$f":"VLOOKUP($C46,ProjectRecords!$D$3:U$53,18,0)","v":"grant no"},{"$f":"VLOOKUP($C46,ProjectRecords!$D$3:V$53,19,0)","v":"amd no"},{"$f":"VLOOKUP($C46,ProjectRecords!$D$3:W$53,20,0)","v":"fund source"},{"$f":"INDIRECT(\"'TableOfContents'\"&CONCATENATE(\"!G\",TEXT((INT((ROW(B47)-3)/4))+7,\"###\")))","v":""},{"$f":"INDIRECT(\"'TableOfContents'\"&CONCATENATE(\"!H\",TEXT((INT((ROW(C47)-3)/4))+7,\"###\")))","v":""},null,{"$f":"IFERROR(IF(C46=\"\",\"\",TEXT(B46,\"####\")&\"-\"&TEXT(MONTH(VLOOKUP(C46,ProjectRecords!D$3:AB$52,25,0)),\"0#\")&\"-\"&TEXT(DAY(VLOOKUP(C46,ProjectRecords!D$3:AB$52,25,0)),\"0#\")),\"\")","v":""},"",{"$f":"IFERROR(VLOOKUP(C46,ProjectRecords!D$3:AO$52,38,0),\"\")","v":0}]
[{"$f":"VLOOKUP(TableOfContents!B$1,ProgramIDs!A$2:C$38,3,FALSE)","v":{"$error":"#N/A"}},{"$f":"TableOfContents!I$5","v":2019},"",{"$f":"VLOOKUP($C47,ProjectRecords!$D$3:U$53,18,0)","v":"grant no"},{"$f":"VLOOKUP($C47,ProjectRecords!$D$3:V$53,19,0)","v":"amd no"},{"$f":"VLOOKUP($C47,ProjectRecords!$D$3:W$53,20,0)","v":"fund source"},{"$f":"INDIRECT(\"'TableOfContents'\"&CONCATENATE(\"!i\",TEXT((INT((ROW(B48)-3)/4))+7,\"###\")))","v":""},{"$f":"INDIRECT(\"'TableOfContents'\"&CONCATENATE(\"!j\",TEXT((INT((ROW(C48)-3)/4))+7,\"###\")))","v":""},null,{"$f":"IFERROR(IF(C47=\"\",\"\",TEXT(B47,\"####\")&\"-\"&TEXT(MONTH(VLOOKUP(C47,ProjectRecords!D$3:AB$52,25,0)),\"0#\")&\"-\"&TEXT(DAY(VLOOKUP(C47,ProjectRecords!D$3:AB$52,25,0)),\"0#\")),\"\")","v":""},"",{"$f":"IFERROR(VLOOKUP(C47,ProjectRecords!D$3:AO$52,38,0),\"\")","v":0}]
[{"$f":"VLOOKUP(TableOfContents!B$1,ProgramIDs!A$2:C$38,3,FALSE)","v":{"$error":"#N/A"}},{"$f":"TableOfContents!K$5","v":2020},"",{"$f":"VLOOKUP($C48,ProjectRecords!$D$3:U$53,18,0)","v":"grant no"},{"$f":"VLOOKUP($C48,ProjectRecords!$D$3:V$53,19,0)","v":"amd no"},{"$f":"VLOOKUP($C48,ProjectRecords!$D$3:W$53,20,0)","v":"fund source"},{"$f":"INDIRECT(\"'TableOfContents'\"&CONCATENATE(\"!k\",TEXT((INT((ROW(B49)-3)/4))+7,\"###\")))","v":""},{"$f":"INDIRECT(\"'TableOfContents'\"&CONCATENATE(\"!l\",TEXT((INT((ROW(C49)-3)/4))+7,\"###\")))","v":""},null,{"$f":"IFERROR(IF(C48=\"\",\"\",TEXT(B48,\"####\")&\"-\"&TEXT(MONTH(VLOOKUP(C48,ProjectRecords!D$3:AB$52,25,0)),\"0#\")&\"-\"&TEXT(DAY(VLOOKUP(C48,ProjectRecords!D$3:AB$52,25,0)),\"0#\")),\"\")","v":""},"",{"$f":"IFERROR(VLOOKUP(C48,ProjectRecords!D$3:AO$52,38,0),\"\")","v":0}]
[{"$f":"VLOOKUP(TableOfContents!B$1,ProgramIDs!A$2:C$38,3,FALSE)","v":{"$error":"#N/A"}},{"$f":"TableOfContents!M$5","v":2021},"",{"$f":"VLOOKUP($C49,ProjectRecords!$D$3:U$53,18,0)","v":"grant no"},{"$f":"VLOOKUP($C49,ProjectRecords!$D$3:V$53,19,0)","v":"amd no"},{"$f":"VLOOKUP($C49,ProjectRecords!$D$3:W$53,20,0)","v":"fund source"},{"$f":"INDIRECT(\"'TableOfContents'\"&CONCATENATE(\"!m\",TEXT((INT((ROW(B50)-3)/4))+7,\"###\")))","v":""},{"$f":"INDIRECT(\"'TableOfContents'\"&CONCATENATE(\"!n\",TEXT((INT((ROW(C50)-3)/4))+7,\"###\")))","v":""},null,{"$f":"IFERROR(IF(C49=\"\",\"\",TEXT(B49,\"####\")&\"-\"&TEXT(MONTH(VLOOKUP(C49,ProjectRecords!D$3:AB$52,25,0)),\"0#\")&\"-\"&TEXT(DAY(VLOOKUP(C49,ProjectRecords!D$3:AB$52,25,0)),\"0#\")),\"\")","v":""},"",{"$f":"IFERROR(VLOOKUP(C49,ProjectRecords!D$3:AO$52,38,0),\"\")","v":0}]
[{"$f":"VLOOKUP(TableOfContents!B$1,ProgramIDs!A$2:C$38,3,FALSE)","v":{"$error":"#N/A"}},{"$f":"TableOfContents!G$5","v":2018},"",{"$f":"VLOOKUP($C50,ProjectRecords!$D$3:U$53,18,0)","v":"grant no"},{"$f":"VLOOKUP($C50,ProjectRecords!$D$3:V$53,19,0)","v":"amd no"},{"$f":"VLOOKUP($C50,ProjectRecords!$D$3:W$53,20,0)","v":"fund source"},{"$f":"INDIRECT(\"'TableOfContents'\"&CONCATENATE(\"!G\",TEXT((INT((ROW(B51)-3)/4))+7,\"###\")))","v":""},{"$f":"INDIRECT(\"'TableOfContents'\"&CONCATENATE(\"!H\",TEXT((INT((ROW(C51)-3)/4))+7,\"###\")))","v":""},null,{"$f":"IFERROR(IF(C50=\"\",\"\",TEXT(B50,\"####\")&\"-\"&TEXT(MONTH(VLOOKUP(C50,ProjectRecords!D$3:AB$52,25,0)),\"0#\")&\"-\"&TEXT(DAY(VLOOKUP(C50,ProjectRecords!D$3:AB$52,25,0)),\"0#\")),\"\")","v":""},"",{"$f":"IFERROR(VLOOKUP(C50,ProjectRecords!D$3:AO$52,38,0),\"\")","v":0}]
[{"$f":"VLOOKUP(TableOfContents!B$1,ProgramIDs!A$2:C$38,3,FALSE)","v":{"$error":"#N/A"}},{"$f":"TableOfContents!I$5","v":2019},"",{"$f":"VLOOKUP($C51,ProjectRecords!$D$3:U$53,18,0)","v":"grant no"},{"$f":"VLOOKUP($C51,ProjectRecords!$D$3:V$53,19,0)","v":"amd no"},{"$f":"VLOOKUP($C51,ProjectRecords!$D$3:W$53,20,0)","v":"fund source"},{"$f":"INDIRECT(\"'TableOfContents'\"&CONCATENATE(\"!i\",TEXT((INT((ROW(B52)-3)/4))+7,\"###\")))","v":""},{"$f":"INDIRECT(\"'TableOfContents'\"&CONCATENATE(\"!j\",TEXT((INT((ROW(C52)-3)/4))+7,\"###\")))","v":""},null,{"$f":"IFERROR(IF(C51=\"\",\"\",TEXT(B51,\"####\")&\"-\"&TEXT(MONTH(VLOOKUP(C51,ProjectRecords!D$3:AB$52,25,0)),\"0#\")&\"-\"&TEXT(DAY(VLOOKUP(C51,ProjectRecords!D$3:AB$52,25,0)),\"0#\")),\"\")","v":""},"",{"$f":"IFERROR(VLOOKUP(C51,ProjectRecords!D$3:AO$52,38,0),\"\")","v":0}]
[{"$f":"VLOOKUP(TableOfContents!B$1,ProgramIDs!A$2:C$38,3,FALSE)","v":{"$error":"#N/A"}},{"$f":"TableOfContents!K$5","v":2020},"",{"$f":"VLOOKUP($C52,ProjectRecords!$D$3:U$53,18,0)","v":"grant no"},{"$f":"VLOOKUP($C52,ProjectRecords!$D$3:V$53,19,0)","v":"amd no"},{"$f":"VLOOKUP($C52,ProjectRecords!$D$3:W$53,20,0)","v":"fund source"},{"$f":"INDIRECT(\"'TableOfContents'\"&CONCATENATE(\"!k\",TEXT((INT((ROW(B53)-3)/4))+7,\"###\")))","v":""},{"$f":"INDIRECT(\"'TableOfContents'\"&CONCATENATE(\"!l\",TEXT((INT((ROW(C53)-3)/4))+7,\"###\")))","v":""},null,{"$f":"IFERROR(IF(C52=\"\",\"\",TEXT(B52,\"####\")&\"-\"&TEXT(MONTH(VLOOKUP(C52,ProjectRecords!D$3:AB$52,25,0)),\"0#\")&\"-\"&TEXT(DAY(VLOOKUP(C52,ProjectRecords!D$3:AB$52,25,0)),\"0#\")),\"\")","v":""},"",{"$f":"IFERROR(VLOOKUP(C52,ProjectRecords!D$3:AO$52,38,0),\"\")","v":0}]
[{"$f":"VLOOKUP(TableOfContents!B$1,ProgramIDs!A$2:C$38,3,FALSE)","v":{"$error":"#N/A"}},{"$f":"TableOfContents!M$5","v":2021},"",{"$f":"VLOOKUP($C53,ProjectRecords!$D$3:U$53,18,0)","v":"grant no"},{"$f":"VLOOKUP($C53,ProjectRecords!$D$3:V$53,19,0)","v":"amd no"},{"$f":"VLOOKUP($C53,ProjectRecords!$D$3:W$53,20,0)","v":"fund source"},{"$f":"INDIRECT(\"'TableOfContents'\"&CONCATENATE(\"!m\",TEXT((INT((ROW(B54)-3)/4))+7,\"###\")))","v":""},{"$f":"INDIRECT(\"'TableOfContents'\"&CONCATENATE(\"!n\",TEXT((INT((ROW(C54)-3)/4))+7,\"###\")))","v":""},null,{"$f":"IFERROR(IF(C53=\"\",\"\",TEXT(B53,\"####\")&\"-\"&TEXT(MONTH(VLOOKUP(C53,ProjectRecords!D$3:AB$52,25,0)),\"0#\")&\"-\"&TEXT(DAY(VLOOKUP(C53,ProjectRecords!D$3:AB$52,25,0)),\"0#\")),\"\")","v":""},"",{"$f":"IFERROR(VLOOKUP(C53,ProjectRecords!D$3:AO$52,38,0),\"\")","v":0}]
[{"$f":"VLOOKUP(TableOfContents!B$1,ProgramIDs!A$2:C$38,3,FALSE)","v":{"$error":"#N/A"}},{"$f":"TableOfContents!G$5","v":2018},"",{"$f":"VLOOKUP($C54,ProjectRecords!$D$3:U$53,18,0)","v":"grant no"},{"$f":"VLOOKUP($C54,ProjectRecords!$D$3:V$53,19,0)","v":"amd no"},{"$f":"VLOOKUP($C54,ProjectRecords!$D$3:W$53,20,0)","v":"fund source"},{"$f":"INDIRECT(\"'TableOfContents'\"&CONCATENATE(\"!G\",TEXT((INT((ROW(B55)-3)/4))+7,\"###\")))","v":""},{"$f":"INDIRECT(\"'TableOfContents'\"&CONCATENATE(\"!H\",TEXT((INT((ROW(C55)-3)/4))+7,\"###\")))","v":""},null,{"$f":"IFERROR(IF(C54=\"\",\"\",TEXT(B54,\"####\")&\"-\"&TEXT(MONTH(VLOOKUP(C54,ProjectRecords!D$3:AB$52,25,0)),\"0#\")&\"-\"&TEXT(DAY(VLOOKUP(C54,ProjectRecords!D$3:AB$52,25,0)),\"0#\")),\"\")","v":""},"",{"$f":"IFERROR(VLOOKUP(C54,ProjectRecords!D$3:AO$52,38,0),\"\")","v":0}]
[{"$f":"VLOOKUP(TableOfContents!B$1,ProgramIDs!A$2:C$38,3,FALSE)","v":{"$error":"#N/A"}},{"$f":"TableOfContents!I$5","v":2019},"",{"$f":"VLOOKUP($C55,ProjectRecords!$D$3:U$53,18,0)","v":"grant no"},{"$f":"VLOOKUP($C55,ProjectRecords!$D$3:V$53,19,0)","v":"amd no"},{"$f":"VLOOKUP($C55,ProjectRecords!$D$3:W$53,20,0)","v":"fund source"},{"$f":"INDIRECT(\"'TableOfContents'\"&CONCATENATE(\"!i\",TEXT((INT((ROW(B56)-3)/4))+7,\"###\")))","v":""},{"$f":"INDIRECT(\"'TableOfContents'\"&CONCATENATE(\"!j\",TEXT((INT((ROW(C56)-3)/4))+7,\"###\")))","v":""},null,{"$f":"IFERROR(IF(C55=\"\",\"\",TEXT(B55,\"####\")&\"-\"&TEXT(MONTH(VLOOKUP(C55,ProjectRecords!D$3:AB$52,25,0)),\"0#\")&\"-\"&TEXT(DAY(VLOOKUP(C55,ProjectRecords!D$3:AB$52,25,0)),\"0#\")),\"\")","v":""},"",{"$f":"IFERROR(VLOOKUP(C55,ProjectRecords!D$3:AO$52,38,0),\"\")","v":0}]
[{"$f":"VLOOKUP(TableOfContents!B$1,ProgramIDs!A$2:C$38,3,FALSE)","v":{"$error":"#N/A"}},{"$f":"TableOfContents!K$5","v":2020},"",{"$f":"VLOOKUP($C56,ProjectRecords!$D$3:U$53,18,0)","v":"grant no"},{"$f":"VLOOKUP($C56,ProjectRecords!$D$3:V$53,19,0)","v":"amd no"},{"$f":"VLOOKUP($C56,ProjectRecords!$D$3:W$53,20,0)","v":"fund source"},{"$f":"INDIRECT(\"'TableOfContents'\"&CONCATENATE(\"!k\",TEXT((INT((ROW(B57)-3)/4))+7,\"###\")))","v":""},{"$f":"INDIRECT(\"'TableOfContents'\"&CONCATENATE(\"!l\",TEXT((INT((ROW(C57)-3)/4))+7,\"###\")))","v":""},null,{"$f":"IFERROR(IF(C56=\"\",\"\",TEXT(B56,\"####\")&\"-\"&TEXT(MONTH(VLOOKUP(C56,ProjectRecords!D$3:AB$52,25,0)),\"0#\")&\"-\"&TEXT(DAY(VLOOKUP(C56,ProjectRecords!D$3:AB$52,25,0)),\"0#\")),\"\")","v":""},"",{"$f":"IFERROR(VLOOKUP(C56,ProjectRecords!D$3:AO$52,38,0),\"\")","v":0}]
[{"$f":"VLOOKUP(TableOfContents!B$1,ProgramIDs!A$2:C$38,3,FALSE)","v":{"$error":"#N/A"}},{"$f":"TableOfContents!M$5","v":2021},"",{"$f":"VLOOKUP($C57,ProjectRecords!$D$3:U$53,18,0)","v":"grant no"},{"$f":"VLOOKUP($C57,ProjectRecords!$D$3:V$53,19,0)","v":"amd no"},{"$f":"VLOOKUP($C57,ProjectRecords!$D$3:W$53,20,0)","v":"fund source"},{"$f":"INDIRECT(\"'TableOfContents'\"&CONCATENATE(\"!m\",TEXT((INT((ROW(B58)-3)/4))+7,\"###\")))","v":""},{"$f":"INDIRECT(\"'TableOfContents'\"&CONCATENATE(\"!n\",TEXT((INT((ROW(C58)-3)/4))+7,\"###\")))","v":""},null,{"$f":"IFERROR(IF(C57=\"\",\"\",TEXT(B57,\"####\")&\"-\"&TEXT(MONTH(VLOOKUP(C57,ProjectRecords!D$3:AB$52,25,0)),\"0#\")&\"-\"&TEXT(DAY(VLOOKUP(C57,ProjectRecords!D$3:AB$52,25,0)),\"0#\")),\"\")","v":""},"",{"$f":"IFERROR(VLOOKUP(C57,ProjectRecords!D$3:AO$52,38,0),\"\")","v":0}]
[{"$f":"VLOOKUP(TableOfContents!B$1,ProgramIDs!A$2:C$38,3,FALSE)","v":{"$error":"#N/A"}},{"$f":"TableOfContents!G$5","v":2018},"",{"$f":"VLOOKUP($C58,ProjectRecords!$D$3:U$53,18,0)","v":"grant no"},{"$f":"VLOOKUP($C58,ProjectRecords!$D$3:V$53,19,0)","v":"amd no"},{"$f":"VLOOKUP($C58,ProjectRecords!$D$3:W$53,20,0)","v":"fund source"},{"$f":"INDIRECT(\"'TableOfContents'\"&CONCATENATE(\"!G\",TEXT((INT((ROW(B59)-3)/4))+7,\"###\")))","v":""},{"$f":"INDIRECT(\"'TableOfContents'\"&CONCATENATE(\"!H\",TEXT((INT((ROW(C59)-3)/4))+7,\"###\")))","v":""},null,{"$f":"IFERROR(IF(C58=\"\",\"\",TEXT(B58,\"####\")&\"-\"&TEXT(MONTH(VLOOKUP(C58,ProjectRecords!D$3:AB$52,25,0)),\"0#\")&\"-\"&TEXT(DAY(VLOOKUP(C58,ProjectRecords!D$3:AB$52,25,0)),\"0#\")),\"\")","v":""},"",{"$f":"IFERROR(VLOOKUP(C58,ProjectRecords!D$3:AO$52,38,0),\"\")","v":0}]
[{"$f":"VLOOKUP(TableOfContents!B$1,ProgramIDs!A$2:C$38,3,FALSE)","v":{"$error":"#N/A"}},{"$f":"TableOfContents!I$5","v":2019},"",{"$f":"VLOOKUP($C59,ProjectRecords!$D$3:U$53,18,0)","v":"grant no"},{"$f":"VLOOKUP($C59,ProjectRecords!$D$3:V$53,19,0)","v":"amd no"},{"$f":"VLOOKUP($C59,ProjectRecords!$D$3:W$53,20,0)","v":"fund source"},{"$f":"INDIRECT(\"'TableOfContents'\"&CONCATENATE(\"!i\",TEXT((INT((ROW(B60)-3)/4))+7,\"###\")))","v":""},{"$f":"INDIRECT(\"'TableOfContents'\"&CONCATENATE(\"!j\",TEXT((INT((ROW(C60)-3)/4))+7,\"###\")))","v":""},null,{"$f":"IFERROR(IF(C59=\"\",\"\",TEXT(B59,\"####\")&\"-\"&TEXT(MONTH(VLOOKUP(C59,ProjectRecords!D$3:AB$52,25,0)),\"0#\")&\"-\"&TEXT(DAY(VLOOKUP(C59,ProjectRecords!D$3:AB$52,25,0)),\"0#\")),\"\")","v":""},"",{"$f":"IFERROR(VLOOKUP(C59,ProjectRecords!D$3:AO$52,38,0),\"\")","v":0}]
[{"$f":"VLOOKUP(TableOfContents!B$1,ProgramIDs!A$2:C$38,3,FALSE)","v":{"$error":"#N/A"}},{"$f":"TableOfContents!K$5","v":2020},"",{"$f":"VLOOKUP($C60,ProjectRecords!$D$3:U$53,18,0)","v":"grant no"},{"$f":"VLOOKUP($C60,ProjectRecords!$D$3:V$53,19,0)","v":"amd no"},{"$f":"VLOOKUP($C60,ProjectRecords!$D$3:W$53,20,0)","v":"fund source"},{"$f":"INDIRECT(\"'TableOfContents'\"&CONCATENATE(\"!k\",TEXT((INT((ROW(B61)-3)/4))+7,\"###\")))","v":""},{"$f":"INDIRECT(\"'TableOfContents'\"&CONCATENATE(\"!l\",TEXT((INT((ROW(C61)-3)/4))+7,\"###\")))","v":""},null,{"$f":"IFERROR(IF(C60=\"\",\"\",TEXT(B60,\"####\")&\"-\"&TEXT(MONTH(VLOOKUP(C60,ProjectRecords!D$3:AB$52,25,0)),\"0#\")&\"-\"&TEXT(DAY(VLOOKUP(C60,ProjectRecords!D$3:AB$52,25,0)),\"0#\")),\"\")","v":""},"",{"$f":"IFERROR(VLOOKUP(C60,ProjectRecords!D$3:AO$52,38,0),\"\")","v":0}]
[{"$f":"VLOOKUP(TableOfContents!B$1,ProgramIDs!A$2:C$38,3,FALSE)","v":{"$error":"#N/A"}},{"$f":"TableOfContents!M$5","v":2021},"",{"$f":"VLOOKUP($C61,ProjectRecords!$D$3:U$53,18,0)","v":"grant no"},{"$f":"VLOOKUP($C61,ProjectRecords!$D$3:V$53,19,0)","v":"amd no"},{"$f":"VLOOKUP($C61,ProjectRecords!$D$3:W$53,20,0)","v":"fund source"},{"$f":"INDIRECT(\"'TableOfContents'\"&CONCATENATE(\"!m\",TEXT((INT((ROW(B62)-3)/4))+7,\"###\")))","v":""},{"$f":"INDIRECT(\"'TableOfContents'\"&CONCATENATE(\"!n\",TEXT((INT((ROW(C62)-3)/4))+7,\"###\")))","v":""},null,{"$f":"IFERROR(IF(C61=\"\",\"\",TEXT(B61,\"####\")&\"-\"&TEXT(MONTH(VLOOKUP(C61,ProjectRecords!D$3:AB$52,25,0)),\"0#\")&\"-\"&TEXT(DAY(VLOOKUP(C61,ProjectRecords!D$3:AB$52,25,0)),\"0#\")),\"\")","v":""},"",{"$f":"IFERROR(VLOOKUP(C61,ProjectRecords!D$3:AO$52,38,0),\"\")","v":0}]
[{"$f":"VLOOKUP(TableOfContents!B$1,ProgramIDs!A$2:C$38,3,FALSE)","v":{"$error":"#N/A"}},{"$f":"TableOfContents!G$5","v":2018},"",{"$f":"VLOOKUP($C62,ProjectRecords!$D$3:U$53,18,0)","v":"grant no"},{"$f":"VLOOKUP($C62,ProjectRecords!$D$3:V$53,19,0)","v":"amd no"},{"$f":"VLOOKUP($C62,ProjectRecords!$D$3:W$53,20,0)","v":"fund source"},{"$f":"INDIRECT(\"'TableOfContents'\"&CONCATENATE(\"!G\",TEXT((INT((ROW(B63)-3)/4))+7,\"###\")))","v":""},{"$f":"INDIRECT(\"'TableOfContents'\"&CONCATENATE(\"!H\",TEXT((INT((ROW(C63)-3)/4))+7,\"###\")))","v":""},null,{"$f":"IFERROR(IF(C62=\"\",\"\",TEXT(B62,\"####\")&\"-\"&TEXT(MONTH(VLOOKUP(C62,ProjectRecords!D$3:AB$52,25,0)),\"0#\")&\"-\"&TEXT(DAY(VLOOKUP(C62,ProjectRecords!D$3:AB$52,25,0)),\"0#\")),\"\")","v":""},"",{"$f":"IFERROR(VLOOKUP(C62,ProjectRecords!D$3:AO$52,38,0),\"\")","v":0}]
[{"$f":"VLOOKUP(TableOfContents!B$1,ProgramIDs!A$2:C$38,3,FALSE)","v":{"$error":"#N/A"}},{"$f":"TableOfContents!I$5","v":2019},"",{"$f":"VLOOKUP($C63,ProjectRecords!$D$3:U$53,18,0)","v":"grant no"},{"$f":"VLOOKUP($C63,ProjectRecords!$D$3:V$53,19,0)","v":"amd no"},{"$f":"VLOOKUP($C63,ProjectRecords!$D$3:W$53,20,0)","v":"fund source"},{"$f":"INDIRECT(\"'TableOfContents'\"&CONCATENATE(\"!i\",TEXT((INT((ROW(B64)-3)/4))+7,\"###\")))","v":""},{"$f":"INDIRECT(\"'TableOfContents'\"&CONCATENATE(\"!j\",TEXT((INT((ROW(C64)-3)/4))+7,\"###\")))","v":""},null,{"$f":"IFERROR(IF(C63=\"\",\"\",TEXT(B63,\"####\")&\"-\"&TEXT(MONTH(VLOOKUP(C63,ProjectRecords!D$3:AB$52,25,0)),\"0#\")&\"-\"&TEXT(DAY(VLOOKUP(C63,ProjectRecords!D$3:AB$52,25,0)),\"0#\")),\"\")","v":""},"",{"$f":"IFERROR(VLOOKUP(C63,ProjectRecords!D$3:AO$52,38,0),\"\")","v":0}]
[{"$f":"VLOOKUP(TableOfContents!B$1,ProgramIDs!A$2:C$38,3,FALSE)","v":{"$error":"#N/A"}},{"$f":"TableOfContents!K$5","v":2020},"",{"$f":"VLOOKUP($C64,ProjectRecords!$D$3:U$53,18,0)","v":"grant no"},{"$f":"VLOOKUP($C64,ProjectRecords!$D$3:V$53,19,0)","v":"amd no"},{"$f":"VLOOKUP($C64,ProjectRecords!$D$3:W$53,20,0)","v":"fund source"},{"$f":"INDIRECT(\"'TableOfContents'\"&CONCATENATE(\"!k\",TEXT((INT((ROW(B65)-3)/4))+7,\"###\")))","v":""},{"$f":"INDIRECT(\"'TableOfContents'\"&CONCATENATE(\"!l\",TEXT((INT((ROW(C65)-3)/4))+7,\"###\")))","v":""},null,{"$f":"IFERROR(IF(C64=\"\",\"\",TEXT(B64,\"####\")&\"-\"&TEXT(MONTH(VLOOKUP(C64,ProjectRecords!D$3:AB$52,25,0)),\"0#\")&\"-\"&TEXT(DAY(VLOOKUP(C64,ProjectRecords!D$3:AB$52,25,0)),\"0#\")),\"\")","v":""},"",{"$f":"IFERROR(VLOOKUP(C64,ProjectRecords!D$3:AO$52,38,0),\"\")","v":0}]
[{"$f":"VLOOKUP(TableOfContents!B$1,ProgramIDs!A$2:C$38,3,FALSE)","v":{"$error":"#N/A"}},{"$f":"TableOfContents!M$5","v":2021},"",{"$f":"VLOOKUP($C65,ProjectRecords!$D$3:U$53,18,0)","v":"grant no"},{"$f":"VLOOKUP($C65,ProjectRecords!$D$3:V$53,19,0)","v":"amd no"},{"$f":"VLOOKUP($C65,ProjectRecords!$D$3:W$53,20,0)","v":"fund source"},{"$f":"INDIRECT(\"'TableOfContents'\"&CONCATENATE(\"!m\",TEXT((INT((ROW(B66)-3)/4))+7,\"###\")))","v":""},{"$f":"INDIRECT(\"'TableOfContents'\"&CONCATENATE(\"!n\",TEXT((INT((ROW(C66)-3)/4))+7,\"###\")))","v":""},null,{"$f":"IFERROR(IF(C65=\"\",\"\",TEXT(B65,\"####\")&\"-\"&TEXT(MONTH(VLOOKUP(C65,ProjectRecords!D$3:AB$52,25,0)),\"0#\")&\"-\"&TEXT(DAY(VLOOKUP(C65,ProjectRecords!D$3:AB$52,25,0)),\"0#\")),\"\")","v":""},"",{"$f":"IFERROR(VLOOKUP(C65,ProjectRecords!D$3:AO$52,38,0),\"\")","v":0}]
[{"$f":"VLOOKUP(TableOfContents!B$1,ProgramIDs!A$2:C$38,3,FALSE)","v":{"$error":"#N/A"}},{"$f":"TableOfContents!G$5","v":2018},"",{"$f":"VLOOKUP($C66,ProjectRecords!$D$3:U$53,18,0)","v":"grant no"},{"$f":"VLOOKUP($C66,ProjectRecords!$D$3:V$53,19,0)","v":"amd no"},{"$f":"VLOOKUP($C66,ProjectRecords!$D$3:W$53,20,0)","v":"fund source"},{"$f":"INDIRECT(\"'TableOfContents'\"&CONCATENATE(\"!G\",TEXT((INT((ROW(B67)-3)/4))+7,\"###\")))","v":""},{"$f":"INDIRECT(\"'TableOfContents'\"&CONCATENATE(\"!H\",TEXT((INT((ROW(C67)-3)/4))+7,\"###\")))","v":""},null,{"$f":"IFERROR(IF(C66=\"\",\"\",TEXT(B66,\"####\")&\"-\"&TEXT(MONTH(VLOOKUP(C66,ProjectRecords!D$3:AB$52,25,0)),\"0#\")&\"-\"&TEXT(DAY(VLOOKUP(C66,ProjectRecords!D$3:AB$52,25,0)),\"0#\")),\"\")","v":""},"",{"$f":"IFERROR(VLOOKUP(C66,ProjectRecords!D$3:AO$52,38,0),\"\")","v":0}]
[{"$f":"VLOOKUP(TableOfContents!B$1,ProgramIDs!A$2:C$38,3,FALSE)","v":{"$error":"#N/A"}},{"$f":"TableOfContents!I$5","v":2019},{"$f":"CONCATENATE(INDIRECT(\"'TableOfContents'\"&CONCATENATE(\"!A\",TEXT((INT((ROW(B68)-3)/4))+7,\"###\"))),INDIRECT(\"'TableOfContents'\"&CONCATENATE(\"!B\",TEXT((INT((ROW(B68)-3)/4))+7,\"###\"))))","v":""},{"$f":"VLOOKUP($C67,ProjectRecords!$D$3:U$53,18,0)","v":"grant no"},{"$f":"VLOOKUP($C67,ProjectRecords!$D$3:V$53,19,0)","v":"amd no"},{"$f":"VLOOKUP($C67,ProjectRecords!$D$3:W$53,20,0)","v":"fund source"},{"$f":"INDIRECT(\"'TableOfContents'\"&CONCATENATE(\"!i\",TEXT((INT((ROW(B68)-3)/4))+7,\"###\")))","v":""},{"$f":"INDIRECT(\"'TableOfContents'\"&CONCATENATE(\"!j\",TEXT((INT((ROW(C68)-3)/4))+7,\"###\")))","v":""},null,{"$f":"IFERROR(IF(C67=\"\",\"\",TEXT(B67,\"####\")&\"-\"&TEXT(MONTH(VLOOKUP(C67,ProjectRecords!D$3:AB$52,25,0)),\"0#\")&\"-\"&TEXT(DAY(VLOOKUP(C67,ProjectRecords!D$3:AB$52,25,0)),\"0#\")),\"\")","v":""},{"$f":"IFERROR(IF(C67=\"\",\"\",DATE(YEAR(J67)+1,MONTH(DATEVALUE(J67)),DAY(DATEVALUE(J67)))-1),\"\")","v":""},{"$f":"IFERROR(VLOOKUP(C67,ProjectRecords!D$3:AO$52,38,0),\"\")","v":0}]
[{"$f":"VLOOKUP(TableOfContents!B$1,ProgramIDs!A$2:C$38,3,FALSE)","v":{"$error":"#N/A"}},{"$f":"TableOfContents!K$5","v":2020},"",{"$f":"VLOOKUP($C68,ProjectRecords!$D$3:U$53,18,0)","v":"grant no"},{"$f":"VLOOKUP($C68,ProjectRecords!$D$3:V$53,19,0)","v":"amd no"},{"$f":"VLOOKUP($C68,ProjectRecords!$D$3:W$53,20,0)","v":"fund source"},{"$f":"INDIRECT(\"'TableOfContents'\"&CONCATENATE(\"!k\",TEXT((INT((ROW(B69)-3)/4))+7,\"###\")))","v":""},{"$f":"INDIRECT(\"'TableOfContents'\"&CONCATENATE(\"!l\",TEXT((INT((ROW(C69)-3)/4))+7,\"###\")))","v":""},null,{"$f":"IFERROR(IF(C68=\"\",\"\",TEXT(B68,\"####\")&\"-\"&TEXT(MONTH(VLOOKUP(C68,ProjectRecords!D$3:AB$52,25,0)),\"0#\")&\"-\"&TEXT(DAY(VLOOKUP(C68,ProjectRecords!D$3:AB$52,25,0)),\"0#\")),\"\")","v":""},"",{"$f":"IFERROR(VLOOKUP(C68,ProjectRecords!D$3:AO$52,38,0),\"\")","v":0}]
[{"$f":"VLOOKUP(TableOfContents!B$1,ProgramIDs!A$2:C$38,3,FALSE)","v":{"$error":"#N/A"}},{"$f":"TableOfContents!M$5","v":2021},"",{"$f":"VLOOKUP($C69,ProjectRecords!$D$3:U$53,18,0)","v":"grant no"},{"$f":"VLOOKUP($C69,ProjectRecords!$D$3:V$53,19,0)","v":"amd no"},{"$f":"VLOOKUP($C69,ProjectRecords!$D$3:W$53,20,0)","v":"fund source"},{"$f":"INDIRECT(\"'TableOfContents'\"&CONCATENATE(\"!m\",TEXT((INT((ROW(B70)-3)/4))+7,\"###\")))","v":""},{"$f":"INDIRECT(\"'TableOfContents'\"&CONCATENATE(\"!n\",TEXT((INT((ROW(C70)-3)/4))+7,\"###\")))","v":""},null,{"$f":"IFERROR(IF(C69=\"\",\"\",TEXT(B69,\"####\")&\"-\"&TEXT(MONTH(VLOOKUP(C69,ProjectRecords!D$3:AB$52,25,0)),\"0#\")&\"-\"&TEXT(DAY(VLOOKUP(C69,ProjectRecords!D$3:AB$52,25,0)),\"0#\")),\"\")","v":""},"",{"$f":"IFERROR(VLOOKUP(C69,ProjectRecords!D$3:AO$52,38,0),\"\")","v":0}]
[{"$f":"VLOOKUP(TableOfContents!B$1,ProgramIDs!A$2:C$38,3,FALSE)","v":{"$error":"#N/A"}},{"$f":"TableOfContents!G$5","v":2018},"",{"$f":"VLOOKUP($C70,ProjectRecords!$D$3:U$53,18,0)","v":"grant no"},{"$f":"VLOOKUP($C70,ProjectRecords!$D$3:V$53,19,0)","v":"amd no"},{"$f":"VLOOKUP($C70,ProjectRecords!$D$3:W$53,20,0)","v":"fund source"},{"$f":"INDIRECT(\"'TableOfContents'\"&CONCATENATE(\"!G\",TEXT((INT((ROW(B71)-3)/4))+7,\"###\")))","v":""},{"$f":"INDIRECT(\"'TableOfContents'\"&CONCATENATE(\"!H\",TEXT((INT((ROW(C71)-3)/4))+7,\"###\")))","v":""},null,{"$f":"IFERROR(IF(C70=\"\",\"\",TEXT(B70,\"####\")&\"-\"&TEXT(MONTH(VLOOKUP(C70,ProjectRecords!D$3:AB$52,25,0)),\"0#\")&\"-\"&TEXT(DAY(VLOOKUP(C70,ProjectRecords!D$3:AB$52,25,0)),\"0#\")),\"\")","v":""},"",{"$f":"IFERROR(VLOOKUP(C70,ProjectRecords!D$3:AO$52,38,0),\"\")","v":0}]
[{"$f":"VLOOKUP(TableOfContents!B$1,ProgramIDs!A$2:C$38,3,FALSE)","v":{"$error":"#N/A"}},{"$f":"TableOfContents!I$5","v":2019},"",{"$f":"VLOOKUP($C71,ProjectRecords!$D$3:U$53,18,0)","v":"grant no"},{"$f":"VLOOKUP($C71,ProjectRecords!$D$3:V$53,19,0)","v":"amd no"},{"$f":"VLOOKUP($C71,ProjectRecords!$D$3:W$53,20,0)","v":"fund source"},{"$f":"INDIRECT(\"'TableOfContents'\"&CONCATENATE(\"!i\",TEXT((INT((ROW(B72)-3)/4))+7,\"###\")))","v":""},{"$f":"INDIRECT(\"'TableOfContents'\"&CONCATENATE(\"!j\",TEXT((INT((ROW(C72)-3)/4))+7,\"###\")))","v":""},null,{"$f":"IFERROR(IF(C71=\"\",\"\",TEXT(B71,\"####\")&\"-\"&TEXT(MONTH(VLOOKUP(C71,ProjectRecords!D$3:AB$52,25,0)),\"0#\")&\"-\"&TEXT(DAY(VLOOKUP(C71,ProjectRecords!D$3:AB$52,25,0)),\"0#\")),\"\")","v":""},"",{"$f":"IFERROR(VLOOKUP(C71,ProjectRecords!D$3:AO$52,38,0),\"\")","v":0}]
[{"$f":"VLOOKUP(TableOfContents!B$1,ProgramIDs!A$2:C$38,3,FALSE)","v":{"$error":"#N/A"}},{"$f":"TableOfContents!K$5","v":2020},"",{"$f":"VLOOKUP($C72,ProjectRecords!$D$3:U$53,18,0)","v":"grant no"},{"$f":"VLOOKUP($C72,ProjectRecords!$D$3:V$53,19,0)","v":"amd no"},{"$f":"VLOOKUP($C72,ProjectRecords!$D$3:W$53,20,0)","v":"fund source"},{"$f":"INDIRECT(\"'TableOfContents'\"&CONCATENATE(\"!k\",TEXT((INT((ROW(B73)-3)/4))+7,\"###\")))","v":""},{"$f":"INDIRECT(\"'TableOfContents'\"&CONCATENATE(\"!l\",TEXT((INT((ROW(C73)-3)/4))+7,\"###\")))","v":""},null,{"$f":"IFERROR(IF(C72=\"\",\"\",TEXT(B72,\"####\")&\"-\"&TEXT(MONTH(VLOOKUP(C72,ProjectRecords!D$3:AB$52,25,0)),\"0#\")&\"-\"&TEXT(DAY(VLOOKUP(C72,ProjectRecords!D$3:AB$52,25,0)),\"0#\")),\"\")","v":""},"",{"$f":"IFERROR(VLOOKUP(C72,ProjectRecords!D$3:AO$52,38,0),\"\")","v":0}]
[{"$f":"VLOOKUP(TableOfContents!B$1,ProgramIDs!A$2:C$38,3,FALSE)","v":{"$error":"#N/A"}},{"$f":"TableOfContents!M$5","v":2021},"",{"$f":"VLOOKUP($C73,ProjectRecords!$D$3:U$53,18,0)","v":"grant no"},{"$f":"VLOOKUP($C73,ProjectRecords!$D$3:V$53,19,0)","v":"amd no"},{"$f":"VLOOKUP($C73,ProjectRecords!$D$3:W$53,20,0)","v":"fund source"},{"$f":"INDIRECT(\"'TableOfContents'\"&CONCATENATE(\"!m\",TEXT((INT((ROW(B74)-3)/4))+7,\"###\")))","v":""},{"$f":"INDIRECT(\"'TableOfContents'\"&CONCATENATE(\"!n\",TEXT((INT((ROW(C74)-3)/4))+7,\"###\")))","v":""},null,{"$f":"IFERROR(IF(C73=\"\",\"\",TEXT(B73,\"####\")&\"-\"&TEXT(MONTH(VLOOKUP(C73,ProjectRecords!D$3:AB$52,25,0)),\"0#\")&\"-\"&TEXT(DAY(VLOOKUP(C73,ProjectRecords!D$3:AB$52,25,0)),\"0#\")),\"\")","v":""},"",{"$f":"IFERROR(VLOOKUP(C73,ProjectRecords!D$3:AO$52,38,0),\"\")","v":0}]
[{"$f":"VLOOKUP(TableOfContents!B$1,ProgramIDs!A$2:C$38,3,FALSE)","v":{"$error":"#N/A"}},{"$f":"TableOfContents!G$5","v":2018},"",{"$f":"VLOOKUP($C74,ProjectRecords!$D$3:U$53,18,0)","v":"grant no"},{"$f":"VLOOKUP($C74,ProjectRecords!$D$3:V$53,19,0)","v":"amd no"},{"$f":"VLOOKUP($C74,ProjectRecords!$D$3:W$53,20,0)","v":"fund source"},{"$f":"INDIRECT(\"'TableOfContents'\"&CONCATENATE(\"!G\",TEXT((INT((ROW(B75)-3)/4))+7,\"###\")))","v":""},{"$f":"INDIRECT(\"'TableOfContents'\"&CONCATENATE(\"!H\",TEXT((INT((ROW(C75)-3)/4))+7,\"###\")))","v":""},null,{"$f":"IFERROR(IF(C74=\"\",\"\",TEXT(B74,\"####\")&\"-\"&TEXT(MONTH(VLOOKUP(C74,ProjectRecords!D$3:AB$52,25,0)),\"0#\")&\"-\"&TEXT(DAY(VLOOKUP(C74,ProjectRecords!D$3:AB$52,25,0)),\"0#\")),\"\")","v":""},"",{"$f":"IFERROR(VLOOKUP(C74,ProjectRecords!D$3:AO$52,38,0),\"\")","v":0}]
[{"$f":"VLOOKUP(TableOfContents!B$1,ProgramIDs!A$2:C$38,3,FALSE)","v":{"$error":"#N/A"}},{"$f":"TableOfContents!I$5","v":2019},"",{"$f":"VLOOKUP($C75,ProjectRecords!$D$3:U$53,18,0)","v":"grant no"},{"$f":"VLOOKUP($C75,ProjectRecords!$D$3:V$53,19,0)","v":"amd no"},{"$f":"VLOOKUP($C75,ProjectRecords!$D$3:W$53,20,0)","v":"fund source"},{"$f":"INDIRECT(\"'TableOfContents'\"&CONCATENATE(\"!i\",TEXT((INT((ROW(B76)-3)/4))+7,\"###\")))","v":""},{"$f":"INDIRECT(\"'TableOfContents'\"&CONCATENATE(\"!j\",TEXT((INT((ROW(C76)-3)/4))+7,\"###\")))","v":""},null,{"$f":"IFERROR(IF(C75=\"\",\"\",TEXT(B75,\"####\")&\"-\"&TEXT(MONTH(VLOOKUP(C75,ProjectRecords!D$3:AB$52,25,0)),\"0#\")&\"-\"&TEXT(DAY(VLOOKUP(C75,ProjectRecords!D$3:AB$52,25,0)),\"0#\")),\"\")","v":""},"",{"$f":"IFERROR(VLOOKUP(C75,ProjectRecords!D$3:AO$52,38,0),\"\")","v":0}]
[{"$f":"VLOOKUP(TableOfContents!B$1,ProgramIDs!A$2:C$38,3,FALSE)","v":{"$error":"#N/A"}},{"$f":"TableOfContents!K$5","v":2020},"",{"$f":"VLOOKUP($C76,ProjectRecords!$D$3:U$53,18,0)","v":"grant no"},{"$f":"VLOOKUP($C76,ProjectRecords!$D$3:V$53,19,0)","v":"amd no"},{"$f":"VLOOKUP($C76,ProjectRecords!$D$3:W$53,20,0)","v":"fund source"},{"$f":"INDIRECT(\"'TableOfContents'\"&CONCATENATE(\"!k\",TEXT((INT((ROW(B77)-3)/4))+7,\"###\")))","v":""},{"$f":"INDIRECT(\"'TableOfContents'\"&CONCATENATE(\"!l\",TEXT((INT((ROW(C77)-3)/4))+7,\"###\")))","v":""},null,{"$f":"IFERROR(IF(C76=\"\",\"\",TEXT(B76,\"####\")&\"-\"&TEXT(MONTH(VLOOKUP(C76,ProjectRecords!D$3:AB$52,25,0)),\"0#\")&\"-\"&TEXT(DAY(VLOOKUP(C76,ProjectRecords!D$3:AB$52,25,0)),\"0#\")),\"\")","v":""},"",{"$f":"IFERROR(VLOOKUP(C76,ProjectRecords!D$3:AO$52,38,0),\"\")","v":0}]
[{"$f":"VLOOKUP(TableOfContents!B$1,ProgramIDs!A$2:C$38,3,FALSE)","v":{"$error":"#N/A"}},{"$f":"TableOfContents!M$5","v":2021},"",{"$f":"VLOOKUP($C77,ProjectRecords!$D$3:U$53,18,0)","v":"grant no"},{"$f":"VLOOKUP($C77,ProjectRecords!$D$3:V$53,19,0)","v":"amd no"},{"$f":"VLOOKUP($C77,ProjectRecords!$D$3:W$53,20,0)","v":"fund source"},{"$f":"INDIRECT(\"'TableOfContents'\"&CONCATENATE(\"!m\",TEXT((INT((ROW(B78)-3)/4))+7,\"###\")))","v":""},{"$f":"INDIRECT(\"'TableOfContents'\"&CONCATENATE(\"!n\",TEXT((INT((ROW(C78)-3)/4))+7,\"###\")))","v":""},null,{"$f":"IFERROR(IF(C77=\"\",\"\",TEXT(B77,\"####\")&\"-\"&TEXT(MONTH(VLOOKUP(C77,ProjectRecords!D$3:AB$52,25,0)),\"0#\")&\"-\"&TEXT(DAY(VLOOKUP(C77,ProjectRecords!D$3:AB$52,25,0)),\"0#\")),\"\")","v":""},"",{"$f":"IFERROR(VLOOKUP(C77,ProjectRecords!D$3:AO$52,38,0),\"\")","v":0}]
[{"$f":"VLOOKUP(TableOfContents!B$1,ProgramIDs!A$2:C$38,3,FALSE)","v":{"$error":"#N/A"}},{"$f":"TableOfContents!G$5","v":2018},"",{"$f":"VLOOKUP($C78,ProjectRecords!$D$3:U$53,18,0)","v":"grant no"},{"$f":"VLOOKUP($C78,ProjectRecords!$D$3:V$53,19,0)","v":"amd no"},{"$f":"VLOOKUP($C78,ProjectRecords!$D$3:W$53,20,0)","v":"fund source"},{"$f":"INDIRECT(\"'TableOfContents'\"&CONCATENATE(\"!G\",TEXT((INT((ROW(B79)-3)/4))+7,\"###\")))","v":""},{"$f":"INDIRECT(\"'TableOfContents'\"&CONCATENATE(\"!H\",TEXT((INT((ROW(C79)-3)/4))+7,\"###\")))","v":""},null,{"$f":"IFERROR(IF(C78=\"\",\"\",TEXT(B78,\"####\")&\"-\"&TEXT(MONTH(VLOOKUP(C78,ProjectRecords!D$3:AB$52,25,0)),\"0#\")&\"-\"&TEXT(DAY(VLOOKUP(C78,ProjectRecords!D$3:AB$52,25,0)),\"0#\")),\"\")","v":""},"",{"$f":"IFERROR(VLOOKUP(C78,ProjectRecords!D$3:AO$52,38,0),\"\")","v":0}]
[{"$f":"VLOOKUP(TableOfContents!B$1,ProgramIDs!A$2:C$38,3,FALSE)","v":{"$error":"#N/A"}},{"$f":"TableOfContents!I$5","v":2019},"",{"$f":"VLOOKUP($C79,ProjectRecords!$D$3:U$53,18,0)","v":"grant no"},{"$f":"VLOOKUP($C79,ProjectRecords!$D$3:V$53,19,0)","v":"amd no"},{"$f":"VLOOKUP($C79,ProjectRecords!$D$3:W$53,20,0)","v":"fund source"},{"$f":"INDIRECT(\"'TableOfContents'\"&CONCATENATE(\"!i\",TEXT((INT((ROW(B80)-3)/4))+7,\"###\")))","v":""},{"$f":"INDIRECT(\"'TableOfContents'\"&CONCATENATE(\"!j\",TEXT((INT((ROW(C80)-3)/4))+7,\"###\")))","v":""},null,{"$f":"IFERROR(IF(C79=\"\",\"\",TEXT(B79,\"####\")&\"-\"&TEXT(MONTH(VLOOKUP(C79,ProjectRecords!D$3:AB$52,25,0)),\"0#\")&\"-\"&TEXT(DAY(VLOOKUP(C79,ProjectRecords!D$3:AB$52,25,0)),\"0#\")),\"\")","v":""},"",{"$f":"IFERROR(VLOOKUP(C79,ProjectRecords!D$3:AO$52,38,0),\"\")","v":0}]
[{"$f":"VLOOKUP(TableOfContents!B$1,ProgramIDs!A$2:C$38,3,FALSE)","v":{"$error":"#N/A"}},{"$f":"TableOfContents!K$5","v":2020},"",{"$f":"VLOOKUP($C80,ProjectRecords!$D$3:U$53,18,0)","v":"grant no"},{"$f":"VLOOKUP($C80,ProjectRecords!$D$3:V$53,19,0)","v":"amd no"},{"$f":"VLOOKUP($C80,ProjectRecords!$D$3:W$53,20,0)","v":"fund source"},{"$f":"INDIRECT(\"'TableOfContents'\"&CONCATENATE(\"!k\",TEXT((INT((ROW(B81)-3)/4))+7,\"###\")))","v":""},{"$f":"INDIRECT(\"'TableOfContents'\"&CONCATENATE(\"!l\",TEXT((INT((ROW(C81)-3)/4))+7,\"###\")))","v":""},null,{"$f":"IFERROR(IF(C80=\"\",\"\",TEXT(B80,\"####\")&\"-\"&TEXT(MONTH(VLOOKUP(C80,ProjectRecords!D$3:AB$52,25,0)),\"0#\")&\"-\"&TEXT(DAY(VLOOKUP(C80,ProjectRecords!D$3:AB$52,25,0)),\"0#\")),\"\")","v":""},"",{"$f":"IFERROR(VLOOKUP(C80,ProjectRecords!D$3:AO$52,38,0),\"\")","v":0}]
[{"$f":"VLOOKUP(TableOfContents!B$1,ProgramIDs!A$2:C$38,3,FALSE)","v":{"$error":"#N/A"}},{"$f":"TableOfContents!M$5","v":2021},"",{"$f":"VLOOKUP($C81,ProjectRecords!$D$3:U$53,18,0)","v":"grant no"},{"$f":"VLOOKUP($C81,ProjectRecords!$D$3:V$53,19,0)","v":"amd no"},{"$f":"VLOOKUP($C81,ProjectRecords!$D$3:W$53,20,0)","v":"fund source"},{"$f":"INDIRECT(\"'TableOfContents'\"&CONCATENATE(\"!m\",TEXT((INT((ROW(B82)-3)/4))+7,\"###\")))","v":""},{"$f":"INDIRECT(\"'TableOfContents'\"&CONCATENATE(\"!n\",TEXT((INT((ROW(C82)-3)/4))+7,\"###\")))","v":""},null,{"$f":"IFERROR(IF(C81=\"\",\"\",TEXT(B81,\"####\")&\"-\"&TEXT(MONTH(VLOOKUP(C81,ProjectRecords!D$3:AB$52,25,0)),\"0#\")&\"-\"&TEXT(DAY(VLOOKUP(C81,ProjectRecords!D$3:AB$52,25,0)),\"0#\")),\"\")","v":""},"",{"$f":"IFERROR(VLOOKUP(C81,ProjectRecords!D$3:AO$52,38,0),\"\")","v":0}]
[{"$f":"VLOOKUP(TableOfContents!B$1,ProgramIDs!A$2:C$38,3,FALSE)","v":{"$error":"#N/A"}},{"$f":"TableOfContents!G$5","v":2018},"",{"$f":"VLOOKUP($C82,ProjectRecords!$D$3:U$53,18,0)","v":"grant no"},{"$f":"VLOOKUP($C82,ProjectRecords!$D$3:V$53,19,0)","v":"amd no"},{"$f":"VLOOKUP($C82,ProjectRecords!$D$3:W$53,20,0)","v":"fund source"},{"$f":"INDIRECT(\"'TableOfContents'\"&CONCATENATE(\"!G\",TEXT((INT((ROW(B83)-3)/4))+7,\"###\")))","v":""},{"$f":"INDIRECT(\"'TableOfContents'\"&CONCATENATE(\"!H\",TEXT((INT((ROW(C83)-3)/4))+7,\"###\")))","v":""},null,{"$f":"IFERROR(IF(C82=\"\",\"\",TEXT(B82,\"####\")&\"-\"&TEXT(MONTH(VLOOKUP(C82,ProjectRecords!D$3:AB$52,25,0)),\"0#\")&\"-\"&TEXT(DAY(VLOOKUP(C82,ProjectRecords!D$3:AB$52,25,0)),\"0#\")),\"\")","v":""},"",{"$f":"IFERROR(VLOOKUP(C82,ProjectRecords!D$3:AO$52,38,0),\"\")","v":0}]
[{"$f":"VLOOKUP(TableOfContents!B$1,ProgramIDs!A$2:C$38,3,FALSE)","v":{"$error":"#N/A"}},{"$f":"TableOfContents!I$5","v":2019},"",{"$f":"VLOOKUP($C83,ProjectRecords!$D$3:U$53,18,0)","v":"grant no"},{"$f":"VLOOKUP($C83,ProjectRecords!$D$3:V$53,19,0)","v":"amd no"},{"$f":"VLOOKUP($C83,ProjectRecords!$D$3:W$53,20,0)","v":"fund source"},{"$f":"INDIRECT(\"'TableOfContents'\"&CONCATENATE(\"!i\",TEXT((INT((ROW(B84)-3)/4))+7,\"###\")))","v":""},{"$f":"INDIRECT(\"'TableOfContents'\"&CONCATENATE(\"!j\",TEXT((INT((ROW(C84)-3)/4))+7,\"###\")))","v":""},null,{"$f":"IFERROR(IF(C83=\"\",\"\",TEXT(B83,\"####\")&\"-\"&TEXT(MONTH(VLOOKUP(C83,ProjectRecords!D$3:AB$52,25,0)),\"0#\")&\"-\"&TEXT(DAY(VLOOKUP(C83,ProjectRecords!D$3:AB$52,25,0)),\"0#\")),\"\")","v":""},"",{"$f":"IFERROR(VLOOKUP(C83,ProjectRecords!D$3:AO$52,38,0),\"\")","v":0}]
[{"$f":"VLOOKUP(TableOfContents!B$1,ProgramIDs!A$2:C$38,3,FALSE)","v":{"$error":"#N/A"}},{"$f":"TableOfContents!K$5","v":2020},"",{"$f":"VLOOKUP($C84,ProjectRecords!$D$3:U$53,18,0)","v":"grant no"},{"$f":"VLOOKUP($C84,ProjectRecords!$D$3:V$53,19,0)","v":"amd no"},{"$f":"VLOOKUP($C84,ProjectRecords!$D$3:W$53,20,0)","v":"fund source"},{"$f":"INDIRECT(\"'TableOfContents'\"&CONCATENATE(\"!k\",TEXT((INT((ROW(B85)-3)/4))+7,\"###\")))","v":""},{"$f":"INDIRECT(\"'TableOfContents'\"&CONCATENATE(\"!l\",TEXT((INT((ROW(C85)-3)/4))+7,\"###\")))","v":""},null,{"$f":"IFERROR(IF(C84=\"\",\"\",TEXT(B84,\"####\")&\"-\"&TEXT(MONTH(VLOOKUP(C84,ProjectRecords!D$3:AB$52,25,0)),\"0#\")&\"-\"&TEXT(DAY(VLOOKUP(C84,ProjectRecords!D$3:AB$52,25,0)),\"0#\")),\"\")","v":""},"",{"$f":"IFERROR(VLOOKUP(C84,ProjectRecords!D$3:AO$52,38,0),\"\")","v":0}]
[{"$f":"VLOOKUP(TableOfContents!B$1,ProgramIDs!A$2:C$38,3,FALSE)","v":{"$error":"#N/A"}},{"$f":"TableOfContents!M$5","v":2021},"",{"$f":"VLOOKUP($C85,ProjectRecords!$D$3:U$53,18,0)","v":"grant no"},{"$f":"VLOOKUP($C85,ProjectRecords!$D$3:V$53,19,0)","v":"amd no"},{"$f":"VLOOKUP($C85,ProjectRecords!$D$3:W$53,20,0)","v":"fund source"},{"$f":"INDIRECT(\"'TableOfContents'\"&CONCATENATE(\"!m\",TEXT((INT((ROW(B86)-3)/4))+7,\"###\")))","v":""},{"$f":"INDIRECT(\"'TableOfContents'\"&CONCATENATE(\"!n\",TEXT((INT((ROW(C86)-3)/4))+7,\"###\")))","v":""},null,{"$f":"IFERROR(IF(C85=\"\",\"\",TEXT(B85,\"####\")&\"-\"&TEXT(MONTH(VLOOKUP(C85,ProjectRecords!D$3:AB$52,25,0)),\"0#\")&\"-\"&TEXT(DAY(VLOOKUP(C85,ProjectRecords!D$3:AB$52,25,0)),\"0#\")),\"\")","v":""},"",{"$f":"IFERROR(VLOOKUP(C85,ProjectRecords!D$3:AO$52,38,0),\"\")","v":0}]
[{"$f":"VLOOKUP(TableOfContents!B$1,ProgramIDs!A$2:C$38,3,FALSE)","v":{"$error":"#N/A"}},{"$f":"TableOfContents!G$5","v":2018},"",{"$f":"VLOOKUP($C86,ProjectRecords!$D$3:U$53,18,0)","v":"grant no"},{"$f":"VLOOKUP($C86,ProjectRecords!$D$3:V$53,19,0)","v":"amd no"},{"$f":"VLOOKUP($C86,ProjectRecords!$D$3:W$53,20,0)","v":"fund source"},{"$f":"INDIRECT(\"'TableOfContents'\"&CONCATENATE(\"!G\",TEXT((INT((ROW(B87)-3)/4))+7,\"###\")))","v":""},{"$f":"INDIRECT(\"'TableOfContents'\"&CONCATENATE(\"!H\",TEXT((INT((ROW(C87)-3)/4))+7,\"###\")))","v":""},null,{"$f":"IFERROR(IF(C86=\"\",\"\",TEXT(B86,\"####\")&\"-\"&TEXT(MONTH(VLOOKUP(C86,ProjectRecords!D$3:AB$52,25,0)),\"0#\")&\"-\"&TEXT(DAY(VLOOKUP(C86,ProjectRecords!D$3:AB$52,25,0)),\"0#\")),\"\")","v":""},"",{"$f":"IFERROR(VLOOKUP(C86,ProjectRecords!D$3:AO$52,38,0),\"\")","v":0}]
[{"$f":"VLOOKUP(TableOfContents!B$1,ProgramIDs!A$2:C$38,3,FALSE)","v":{"$error":"#N/A"}},{"$f":"TableOfContents!I$5","v":2019},"",{"$f":"VLOOKUP($C87,ProjectRecords!$D$3:U$53,18,0)","v":"grant no"},{"$f":"VLOOKUP($C87,ProjectRecords!$D$3:V$53,19,0)","v":"amd no"},{"$f":"VLOOKUP($C87,ProjectRecords!$D$3:W$53,20,0)","v":"fund source"},{"$f":"INDIRECT(\"'TableOfContents'\"&CONCATENATE(\"!i\",TEXT((INT((ROW(B88)-3)/4))+7,\"###\")))","v":""},{"$f":"INDIRECT(\"'TableOfContents'\"&CONCATENATE(\"!j\",TEXT((INT((ROW(C88)-3)/4))+7,\"###\")))","v":""},null,{"$f":"IFERROR(IF(C87=\"\",\"\",TEXT(B87,\"####\")&\"-\"&TEXT(MONTH(VLOOKUP(C87,ProjectRecords!D$3:AB$52,25,0)),\"0#\")&\"-\"&TEXT(DAY(VLOOKUP(C87,ProjectRecords!D$3:AB$52,25,0)),\"0#\")),\"\")","v":""},"",{"$f":"IFERROR(VLOOKUP(C87,ProjectRecords!D$3:AO$52,38,0),\"\")","v":0}]
[{"$f":"VLOOKUP(TableOfContents!B$1,ProgramIDs!A$2:C$38,3,FALSE)","v":{"$error":"#N/A"}},{"$f":"TableOfContents!K$5","v":2020},"",{"$f":"VLOOKUP($C88,ProjectRecords!$D$3:U$53,18,0)","v":"grant no"},{"$f":"VLOOKUP($C88,ProjectRecords!$D$3:V$53,19,0)","v":"amd no"},{"$f":"VLOOKUP($C88,ProjectRecords!$D$3:W$53,20,0)","v":"fund source"},{"$f":"INDIRECT(\"'TableOfContents'\"&CONCATENATE(\"!k\",TEXT((INT((ROW(B89)-3)/4))+7,\"###\")))","v":""},{"$f":"INDIRECT(\"'TableOfContents'\"&CONCATENATE(\"!l\",TEXT((INT((ROW(C89)-3)/4))+7,\"###\")))","v":""},null,{"$f":"IFERROR(IF(C88=\"\",\"\",TEXT(B88,\"####\")&\"-\"&TEXT(MONTH(VLOOKUP(C88,ProjectRecords!D$3:AB$52,25,0)),\"0#\")&\"-\"&TEXT(DAY(VLOOKUP(C88,ProjectRecords!D$3:AB$52,25,0)),\"0#\")),\"\")","v":""},"",{"$f":"IFERROR(VLOOKUP(C88,ProjectRecords!D$3:AO$52,38,0),\"\")","v":0}]
[{"$f":"VLOOKUP(TableOfContents!B$1,ProgramIDs!A$2:C$38,3,FALSE)","v":{"$error":"#N/A"}},{"$f":"TableOfContents!M$5","v":2021},"",{"$f":"VLOOKUP($C89,ProjectRecords!$D$3:U$53,18,0)","v":"grant no"},{"$f":"VLOOKUP($C89,ProjectRecords!$D$3:V$53,19,0)","v":"amd no"},{"$f":"VLOOKUP($C89,ProjectRecords!$D$3:W$53,20,0)","v":"fund source"},{"$f":"INDIRECT(\"'TableOfContents'\"&CONCATENATE(\"!m\",TEXT((INT((ROW(B90)-3)/4))+7,\"###\")))","v":""},{"$f":"INDIRECT(\"'TableOfContents'\"&CONCATENATE(\"!n\",TEXT((INT((ROW(C90)-3)/4))+7,\"###\")))","v":""},null,{"$f":"IFERROR(IF(C89=\"\",\"\",TEXT(B89,\"####\")&\"-\"&TEXT(MONTH(VLOOKUP(C89,ProjectRecords!D$3:AB$52,25,0)),\"0#\")&\"-\"&TEXT(DAY(VLOOKUP(C89,ProjectRecords!D$3:AB$52,25,0)),\"0#\")),\"\")","v":""},"",{"$f":"IFERROR(VLOOKUP(C89,ProjectRecords!D$3:AO$52,38,0),\"\")","v":0}]
[{"$f":"VLOOKUP(TableOfContents!B$1,ProgramIDs!A$2:C$38,3,FALSE)","v":{"$error":"#N/A"}},{"$f":"TableOfContents!G$5","v":2018},"",{"$f":"VLOOKUP($C90,ProjectRecords!$D$3:U$53,18,0)","v":"grant no"},{"$f":"VLOOKUP($C90,ProjectRecords!$D$3:V$53,19,0)","v":"amd no"},{"$f":"VLOOKUP($C90,ProjectRecords!$D$3:W$53,20,0)","v":"fund source"},{"$f":"INDIRECT(\"'TableOfContents'\"&CONCATENATE(\"!G\",TEXT((INT((ROW(B91)-3)/4))+7,\"###\")))","v":""},{"$f":"INDIRECT(\"'TableOfContents'\"&CONCATENATE(\"!H\",TEXT((INT((ROW(C91)-3)/4))+7,\"###\")))","v":""},null,{"$f":"IFERROR(IF(C90=\"\",\"\",TEXT(B90,\"####\")&\"-\"&TEXT(MONTH(VLOOKUP(C90,ProjectRecords!D$3:AB$52,25,0)),\"0#\")&\"-\"&TEXT(DAY(VLOOKUP(C90,ProjectRecords!D$3:AB$52,25,0)),\"0#\")),\"\")","v":""},"",{"$f":"IFERROR(VLOOKUP(C90,ProjectRecords!D$3:AO$52,38,0),\"\")","v":0}]
[{"$f":"VLOOKUP(TableOfContents!B$1,ProgramIDs!A$2:C$38,3,FALSE)","v":{"$error":"#N/A"}},{"$f":"TableOfContents!I$5","v":2019},"",{"$f":"VLOOKUP($C91,ProjectRecords!$D$3:U$53,18,0)","v":"grant no"},{"$f":"VLOOKUP($C91,ProjectRecords!$D$3:V$53,19,0)","v":"amd no"},{"$f":"VLOOKUP($C91,ProjectRecords!$D$3:W$53,20,0)","v":"fund source"},{"$f":"INDIRECT(\"'TableOfContents'\"&CONCATENATE(\"!i\",TEXT((INT((ROW(B92)-3)/4))+7,\"###\")))","v":""},{"$f":"INDIRECT(\"'TableOfContents'\"&CONCATENATE(\"!j\",TEXT((INT((ROW(C92)-3)/4))+7,\"###\")))","v":""},null,{"$f":"IFERROR(IF(C91=\"\",\"\",TEXT(B91,\"####\")&\"-\"&TEXT(MONTH(VLOOKUP(C91,ProjectRecords!D$3:AB$52,25,0)),\"0#\")&\"-\"&TEXT(DAY(VLOOKUP(C91,ProjectRecords!D$3:AB$52,25,0)),\"0#\")),\"\")","v":""},"",{"$f":"IFERROR(VLOOKUP(C91,ProjectRecords!D$3:AO$52,38,0),\"\")","v":0}]
[{"$f":"VLOOKUP(TableOfContents!B$1,ProgramIDs!A$2:C$38,3,FALSE)","v":{"$error":"#N/A"}},{"$f":"TableOfContents!K$5","v":2020},"",{"$f":"VLOOKUP($C92,ProjectRecords!$D$3:U$53,18,0)","v":"grant no"},{"$f":"VLOOKUP($C92,ProjectRecords!$D$3:V$53,19,0)","v":"amd no"},{"$f":"VLOOKUP($C92,ProjectRecords!$D$3:W$53,20,0)","v":"fund source"},{"$f":"INDIRECT(\"'TableOfContents'\"&CONCATENATE(\"!k\",TEXT((INT((ROW(B93)-3)/4))+7,\"###\")))","v":""},{"$f":"INDIRECT(\"'TableOfContents'\"&CONCATENATE(\"!l\",TEXT((INT((ROW(C93)-3)/4))+7,\"###\")))","v":""},null,{"$f":"IFERROR(IF(C92=\"\",\"\",TEXT(B92,\"####\")&\"-\"&TEXT(MONTH(VLOOKUP(C92,ProjectRecords!D$3:AB$52,25,0)),\"0#\")&\"-\"&TEXT(DAY(VLOOKUP(C92,ProjectRecords!D$3:AB$52,25,0)),\"0#\")),\"\")","v":""},"",{"$f":"IFERROR(VLOOKUP(C92,ProjectRecords!D$3:AO$52,38,0),\"\")","v":0}]
[{"$f":"VLOOKUP(TableOfContents!B$1,ProgramIDs!A$2:C$38,3,FALSE)","v":{"$error":"#N/A"}},{"$f":"TableOfContents!M$5","v":2021},"",{"$f":"VLOOKUP($C93,ProjectRecords!$D$3:U$53,18,0)","v":"grant no"},{"$f":"VLOOKUP($C93,ProjectRecords!$D$3:V$53,19,0)","v":"amd no"},{"$f":"VLOOKUP($C93,ProjectRecords!$D$3:W$53,20,0)","v":"fund source"},{"$f":"INDIRECT(\"'TableOfContents'\"&CONCATENATE(\"!m\",TEXT((INT((ROW(B94)-3)/4))+7,\"###\")))","v":""},{"$f":"INDIRECT(\"'TableOfContents'\"&CONCATENATE(\"!n\",TEXT((INT((ROW(C94)-3)/4))+7,\"###\")))","v":""},null,{"$f":"IFERROR(IF(C93=\"\",\"\",TEXT(B93,\"####\")&\"-\"&TEXT(MONTH(VLOOKUP(C93,ProjectRecords!D$3:AB$52,25,0)),\"0#\")&\"-\"&TEXT(DAY(VLOOKUP(C93,ProjectRecords!D$3:AB$52,25,0)),\"0#\")),\"\")","v":""},"",{"$f":"IFERROR(VLOOKUP(C93,ProjectRecords!D$3:AO$52,38,0),\"\")","v":0}]
[{"$f":"VLOOKUP(TableOfContents!B$1,ProgramIDs!A$2:C$38,3,FALSE)","v":{"$error":"#N/A"}},{"$f":"TableOfContents!G$5","v":2018},"",{"$f":"VLOOKUP($C94,ProjectRecords!$D$3:U$53,18,0)","v":"grant no"},{"$f":"VLOOKUP($C94,ProjectRecords!$D$3:V$53,19,0)","v":"amd no"},{"$f":"VLOOKUP($C94,ProjectRecords!$D$3:W$53,20,0)","v":"fund source"},{"$f":"INDIRECT(\"'TableOfContents'\"&CONCATENATE(\"!G\",TEXT((INT((ROW(B95)-3)/4))+7,\"###\")))","v":""},{"$f":"INDIRECT(\"'TableOfContents'\"&CONCATENATE(\"!H\",TEXT((INT((ROW(C95)-3)/4))+7,\"###\")))","v":""},null,{"$f":"IFERROR(IF(C94=\"\",\"\",TEXT(B94,\"####\")&\"-\"&TEXT(MONTH(VLOOKUP(C94,ProjectRecords!D$3:AB$52,25,0)),\"0#\")&\"-\"&TEXT(DAY(VLOOKUP(C94,ProjectRecords!D$3:AB$52,25,0)),\"0#\")),\"\")","v":""},"",{"$f":"IFERROR(VLOOKUP(C94,ProjectRecords!D$3:AO$52,38,0),\"\")","v":0}]
[{"$f":"VLOOKUP(TableOfContents!B$1,ProgramIDs!A$2:C$38,3,FALSE)","v":{"$error":"#N/A"}},{"$f":"TableOfContents!I$5","v":2019},"",{"$f":"VLOOKUP($C95,ProjectRecords!$D$3:U$53,18,0)","v":"grant no"},{"$f":"VLOOKUP($C95,ProjectRecords!$D$3:V$53,19,0)","v":"amd no"},{"$f":"VLOOKUP($C95,ProjectRecords!$D$3:W$53,20,0)","v":"fund source"},{"$f":"INDIRECT(\"'TableOfContents'\"&CONCATENATE(\"!i\",TEXT((INT((ROW(B96)-3)/4))+7,\"###\")))","v":""},{"$f":"INDIRECT(\"'TableOfContents'\"&CONCATENATE(\"!j\",TEXT((INT((ROW(C96)-3)/4))+7,\"###\")))","v":""},null,{"$f":"IFERROR(IF(C95=\"\",\"\",TEXT(B95,\"####\")&\"-\"&TEXT(MONTH(VLOOKUP(C95,ProjectRecords!D$3:AB$52,25,0)),\"0#\")&\"-\"&TEXT(DAY(VLOOKUP(C95,ProjectRecords!D$3:AB$52,25,0)),\"0#\")),\"\")","v":""},"",{"$f":"IFERROR(VLOOKUP(C95,ProjectRecords!D$3:AO$52,38,0),\"\")","v":0}]
[{"$f":"VLOOKUP(TableOfContents!B$1,ProgramIDs!A$2:C$38,3,FALSE)","v":{"$error":"#N/A"}},{"$f":"TableOfContents!K$5","v":2020},"",{"$f":"VLOOKUP($C96,ProjectRecords!$D$3:U$53,18,0)","v":"grant no"},{"$f":"VLOOKUP($C96,ProjectRecords!$D$3:V$53,19,0)","v":"amd no"},{"$f":"VLOOKUP($C96,ProjectRecords!$D$3:W$53,20,0)","v":"fund source"},{"$f":"INDIRECT(\"'TableOfContents'\"&CONCATENATE(\"!k\",TEXT((INT((ROW(B97)-3)/4))+7,\"###\")))","v":""},{"$f":"INDIRECT(\"'TableOfContents'\"&CONCATENATE(\"!l\",TEXT((INT((ROW(C97)-3)/4))+7,\"###\")))","v":""},null,{"$f":"IFERROR(IF(C96=\"\",\"\",TEXT(B96,\"####\")&\"-\"&TEXT(MONTH(VLOOKUP(C96,ProjectRecords!D$3:AB$52,25,0)),\"0#\")&\"-\"&TEXT(DAY(VLOOKUP(C96,ProjectRecords!D$3:AB$52,25,0)),\"0#\")),\"\")","v":""},"",{"$f":"IFERROR(VLOOKUP(C96,ProjectRecords!D$3:AO$52,38,0),\"\")","v":0}]
[{"$f":"VLOOKUP(TableOfContents!B$1,ProgramIDs!A$2:C$38,3,FALSE)","v":{"$error":"#N/A"}},{"$f":"TableOfContents!M$5","v":2021},"",{"$f":"VLOOKUP($C97,ProjectRecords!$D$3:U$53,18,0)","v":"grant no"},{"$f":"VLOOKUP($C97,ProjectRecords!$D$3:V$53,19,0)","v":"amd no"},{"$f":"VLOOKUP($C97,ProjectRecords!$D$3:W$53,20,0)","v":"fund source"},{"$f":"INDIRECT(\"'TableOfContents'\"&CONCATENATE(\"!m\",TEXT((INT((ROW(B98)-3)/4))+7,\"###\")))","v":""},{"$f":"INDIRECT(\"'TableOfContents'\"&CONCATENATE(\"!n\",TEXT((INT((ROW(C98)-3)/4))+7,\"###\")))","v":""},null,{"$f":"IFERROR(IF(C97=\"\",\"\",TEXT(B97,\"####\")&\"-\"&TEXT(MONTH(VLOOKUP(C97,ProjectRecords!D$3:AB$52,25,0)),\"0#\")&\"-\"&TEXT(DAY(VLOOKUP(C97,ProjectRecords!D$3:AB$52,25,0)),\"0#\")),\"\")","v":""},"",{"$f":"IFERROR(VLOOKUP(C97,ProjectRecords!D$3:AO$52,38,0),\"\")","v":0}]
[{"$f":"VLOOKUP(TableOfContents!B$1,ProgramIDs!A$2:C$38,3,FALSE)","v":{"$error":"#N/A"}},{"$f":"TableOfContents!G$5","v":2018},"",{"$f":"VLOOKUP($C98,ProjectRecords!$D$3:U$53,18,0)","v":"grant no"},{"$f":"VLOOKUP($C98,ProjectRecords!$D$3:V$53,19,0)","v":"amd no"},{"$f":"VLOOKUP($C98,ProjectRecords!$D$3:W$53,20,0)","v":"fund source"},{"$f":"INDIRECT(\"'TableOfContents'\"&CONCATENATE(\"!G\",TEXT((INT((ROW(B99)-3)/4))+7,\"###\")))","v":""},{"$f":"INDIRECT(\"'TableOfContents'\"&CONCATENATE(\"!H\",TEXT((INT((ROW(C99)-3)/4))+7,\"###\")))","v":""},null,{"$f":"IFERROR(IF(C98=\"\",\"\",TEXT(B98,\"####\")&\"-\"&TEXT(MONTH(VLOOKUP(C98,ProjectRecords!D$3:AB$52,25,0)),\"0#\")&\"-\"&TEXT(DAY(VLOOKUP(C98,ProjectRecords!D$3:AB$52,25,0)),\"0#\")),\"\")","v":""},"",{"$f":"IFERROR(VLOOKUP(C98,ProjectRecords!D$3:AO$52,38,0),\"\")","v":0}]
[{"$f":"VLOOKUP(TableOfContents!B$1,ProgramIDs!A$2:C$38,3,FALSE)","v":{"$error":"#N/A"}},{"$f":"TableOfContents!I$5","v":2019},"",{"$f":"VLOOKUP($C99,ProjectRecords!$D$3:U$53,18,0)","v":"grant no"},{"$f":"VLOOKUP($C99,ProjectRecords!$D$3:V$53,19,0)","v":"amd no"},{"$f":"VLOOKUP($C99,ProjectRecords!$D$3:W$53,20,0)","v":"fund source"},{"$f":"INDIRECT(\"'TableOfContents'\"&CONCATENATE(\"!i\",TEXT((INT((ROW(B100)-3)/4))+7,\"###\")))","v":""},{"$f":"INDIRECT(\"'TableOfContents'\"&CONCATENATE(\"!j\",TEXT((INT((ROW(C100)-3)/4))+7,\"###\")))","v":""},null,{"$f":"IFERROR(IF(C99=\"\",\"\",TEXT(B99,\"####\")&\"-\"&TEXT(MONTH(VLOOKUP(C99,ProjectRecords!D$3:AB$52,25,0)),\"0#\")&\"-\"&TEXT(DAY(VLOOKUP(C99,ProjectRecords!D$3:AB$52,25,0)),\"0#\")),\"\")","v":""},"",{"$f":"IFERROR(VLOOKUP(C99,ProjectRecords!D$3:AO$52,38,0),\"\")","v":0}]
[{"$f":"VLOOKUP(TableOfContents!B$1,ProgramIDs!A$2:C$38,3,FALSE)","v":{"$error":"#N/A"}},{"$f":"TableOfContents!K$5","v":2020},"",{"$f":"VLOOKUP($C100,ProjectRecords!$D$3:U$53,18,0)","v":"grant no"},{"$f":"VLOOKUP($C100,ProjectRecords!$D$3:V$53,19,0)","v":"amd no"},{"$f":"VLOOKUP($C100,ProjectRecords!$D$3:W$53,20,0)","v":"fund source"},{"$f":"INDIRECT(\"'TableOfContents'\"&CONCATENATE(\"!k\",TEXT((INT((ROW(B101)-3)/4))+7,\"###\")))","v":""},{"$f":"INDIRECT(\"'TableOfContents'\"&CONCATENATE(\"!l\",TEXT((INT((ROW(C101)-3)/4))+7,\"###\")))","v":""},null,{"$f":"IFERROR(IF(C100=\"\",\"\",TEXT(B100,\"####\")&\"-\"&TEXT(MONTH(VLOOKUP(C100,ProjectRecords!D$3:AB$52,25,0)),\"0#\")&\"-\"&TEXT(DAY(VLOOKUP(C100,ProjectRecords!D$3:AB$52,25,0)),\"0#\")),\"\")","v":""},"",{"$f":"IFERROR(VLOOKUP(C100,ProjectRecords!D$3:AO$52,38,0),\"\")","v":0}]
[{"$f":"VLOOKUP(TableOfContents!B$1,ProgramIDs!A$2:C$38,3,FALSE)","v":{"$error":"#N/A"}},{"$f":"TableOfContents!M$5","v":2021},"",{"$f":"VLOOKUP($C101,ProjectRecords!$D$3:U$53,18,0)","v":"grant no"},{"$f":"VLOOKUP($C101,ProjectRecords!$D$3:V$53,19,0)","v":"amd no"},{"$f":"VLOOKUP($C101,ProjectRecords!$D$3:W$53,20,0)","v":"fund source"},{"$f":"INDIRECT(\"'TableOfContents'\"&CONCATENATE(\"!m\",TEXT((INT((ROW(B102)-3)/4))+7,\"###\")))","v":""},{"$f":"INDIRECT(\"'TableOfContents'\"&CONCATENATE(\"!n\",TEXT((INT((ROW(C102)-3)/4))+7,\"###\")))","v":""},null,{"$f":"IFERROR(IF(C101=\"\",\"\",TEXT(B101,\"####\")&\"-\"&TEXT(MONTH(VLOOKUP(C101,ProjectRecords!D$3:AB$52,25,0)),\"0#\")&\"-\"&TEXT(DAY(VLOOKUP(C101,ProjectRecords!D$3:AB$52,25,0)),\"0#\")),\"\")","v":""},"",{"$f":"IFERROR(VLOOKUP(C101,ProjectRecords!D$3:AO$52,38,0),\"\")","v":0}]
[{"$f":"VLOOKUP(TableOfContents!B$1,ProgramIDs!A$2:C$38,3,FALSE)","v":{"$error":"#N/A"}},{"$f":"TableOfContents!G$5","v":2018},"",{"$f":"VLOOKUP($C102,ProjectRecords!$D$3:U$53,18,0)","v":"grant no"},{"$f":"VLOOKUP($C102,ProjectRecords!$D$3:V$53,19,0)","v":"amd no"},{"$f":"VLOOKUP($C102,ProjectRecords!$D$3:W$53,20,0)","v":"fund source"},{"$f":"INDIRECT(\"'TableOfContents'\"&CONCATENATE(\"!G\",TEXT((INT((ROW(B103)-3)/4))+7,\"###\")))","v":""},{"$f":"INDIRECT(\"'TableOfContents'\"&CONCATENATE(\"!H\",TEXT((INT((ROW(C103)-3)/4))+7,\"###\")))","v":""},null,{"$f":"IFERROR(IF(C102=\"\",\"\",TEXT(B102,\"####\")&\"-\"&TEXT(MONTH(VLOOKUP(C102,ProjectRecords!D$3:AB$52,25,0)),\"0#\")&\"-\"&TEXT(DAY(VLOOKUP(C102,ProjectRecords!D$3:AB$52,25,0)),\"0#\")),\"\")","v":""},"",{"$f":"IFERROR(VLOOKUP(C102,ProjectRecords!D$3:AO$52,38,0),\"\")","v":0}]
[{"$f":"VLOOKUP(TableOfContents!B$1,ProgramIDs!A$2:C$38,3,FALSE)","v":{"$error":"#N/A"}},{"$f":"TableOfContents!I$5","v":2019},"",{"$f":"VLOOKUP($C103,ProjectRecords!$D$3:U$53,18,0)","v":"grant no"},{"$f":"VLOOKUP($C103,ProjectRecords!$D$3:V$53,19,0)","v":"amd no"},{"$f":"VLOOKUP($C103,ProjectRecords!$D$3:W$53,20,0)","v":"fund source"},{"$f":"INDIRECT(\"'TableOfContents'\"&CONCATENATE(\"!i\",TEXT((INT((ROW(B104)-3)/4))+7,\"###\")))","v":""},{"$f":"INDIRECT(\"'TableOfContents'\"&CONCATENATE(\"!j\",TEXT((INT((ROW(C104)-3)/4))+7,\"###\")))","v":""},null,{"$f":"IFERROR(IF(C103=\"\",\"\",TEXT(B103,\"####\")&\"-\"&TEXT(MONTH(VLOOKUP(C103,ProjectRecords!D$3:AB$52,25,0)),\"0#\")&\"-\"&TEXT(DAY(VLOOKUP(C103,ProjectRecords!D$3:AB$52,25,0)),\"0#\")),\"\")","v":""},"",{"$f":"IFERROR(VLOOKUP(C103,ProjectRecords!D$3:AO$52,38,0),\"\")","v":0}]
[{"$f":"VLOOKUP(TableOfContents!B$1,ProgramIDs!A$2:C$38,3,FALSE)","v":{"$error":"#N/A"}},{"$f":"TableOfContents!K$5","v":2020},"",{"$f":"VLOOKUP($C104,ProjectRecords!$D$3:U$53,18,0)","v":"grant no"},{"$f":"VLOOKUP($C104,ProjectRecords!$D$3:V$53,19,0)","v":"amd no"},{"$f":"VLOOKUP($C104,ProjectRecords!$D$3:W$53,20,0)","v":"fund source"},{"$f":"INDIRECT(\"'TableOfContents'\"&CONCATENATE(\"!k\",TEXT((INT((ROW(B105)-3)/4))+7,\"###\")))","v":""},{"$f":"INDIRECT(\"'TableOfContents'\"&CONCATENATE(\"!l\",TEXT((INT((ROW(C105)-3)/4))+7,\"###\")))","v":""},null,{"$f":"IFERROR(IF(C104=\"\",\"\",TEXT(B104,\"####\")&\"-\"&TEXT(MONTH(VLOOKUP(C104,ProjectRecords!D$3:AB$52,25,0)),\"0#\")&\"-\"&TEXT(DAY(VLOOKUP(C104,ProjectRecords!D$3:AB$52,25,0)),\"0#\")),\"\")","v":""},"",{"$f":"IFERROR(VLOOKUP(C104,ProjectRecords!D$3:AO$52,38,0),\"\")","v":0}]
[{"$f":"VLOOKUP(TableOfContents!B$1,ProgramIDs!A$2:C$38,3,FALSE)","v":{"$error":"#N/A"}},{"$f":"TableOfContents!M$5","v":2021},"",{"$f":"VLOOKUP($C105,ProjectRecords!$D$3:U$53,18,0)","v":"grant no"},{"$f":"VLOOKUP($C105,ProjectRecords!$D$3:V$53,19,0)","v":"amd no"},{"$f":"VLOOKUP($C105,ProjectRecords!$D$3:W$53,20,0)","v":"fund source"},{"$f":"INDIRECT(\"'TableOfContents'\"&CONCATENATE(\"!m\",TEXT((INT((ROW(B106)-3)/4))+7,\"###\")))","v":""},{"$f":"INDIRECT(\"'TableOfContents'\"&CONCATENATE(\"!n\",TEXT((INT((ROW(C106)-3)/4))+7,\"###\")))","v":""},null,{"$f":"IFERROR(IF(C105=\"\",\"\",TEXT(B105,\"####\")&\"-\"&TEXT(MONTH(VLOOKUP(C105,ProjectRecords!D$3:AB$52,25,0)),\"0#\")&\"-\"&TEXT(DAY(VLOOKUP(C105,ProjectRecords!D$3:AB$52,25,0)),\"0#\")),\"\")","v":""},"",{"$f":"IFERROR(VLOOKUP(C105,ProjectRecords!D$3:AO$52,38,0),\"\")","v":0}]
[{"$f":"VLOOKUP(TableOfContents!B$1,ProgramIDs!A$2:C$38,3,FALSE)","v":{"$error":"#N/A"}},{"$f":"TableOfContents!G$5","v":2018},"",{"$f":"VLOOKUP($C106,ProjectRecords!$D$3:U$53,18,0)","v":"grant no"},{"$f":"VLOOKUP($C106,ProjectRecords!$D$3:V$53,19,0)","v":"amd no"},{"$f":"VLOOKUP($C106,ProjectRecords!$D$3:W$53,20,0)","v":"fund source"},{"$f":"INDIRECT(\"'TableOfContents'\"&CONCATENATE(\"!G\",TEXT((INT((ROW(B107)-3)/4))+7,\"###\")))","v":""},{"$f":"INDIRECT(\"'TableOfContents'\"&CONCATENATE(\"!H\",TEXT((INT((ROW(C107)-3)/4))+7,\"###\")))","v":""},null,{"$f":"IFERROR(IF(C106=\"\",\"\",TEXT(B106,\"####\")&\"-\"&TEXT(MONTH(VLOOKUP(C106,ProjectRecords!D$3:AB$52,25,0)),\"0#\")&\"-\"&TEXT(DAY(VLOOKUP(C106,ProjectRecords!D$3:AB$52,25,0)),\"0#\")),\"\")","v":""},"",{"$f":"IFERROR(VLOOKUP(C106,ProjectRecords!D$3:AO$52,38,0),\"\")","v":0}]
[{"$f":"VLOOKUP(TableOfContents!B$1,ProgramIDs!A$2:C$38,3,FALSE)","v":{"$error":"#N/A"}},{"$f":"TableOfContents!I$5","v":2019},"",{"$f":"VLOOKUP($C107,ProjectRecords!$D$3:U$53,18,0)","v":"grant no"},{"$f":"VLOOKUP($C107,ProjectRecords!$D$3:V$53,19,0)","v":"amd no"},{"$f":"VLOOKUP($C107,ProjectRecords!$D$3:W$53,20,0)","v":"fund source"},{"$f":"INDIRECT(\"'TableOfContents'\"&CONCATENATE(\"!i\",TEXT((INT((ROW(B108)-3)/4))+7,\"###\")))","v":""},{"$f":"INDIRECT(\"'TableOfContents'\"&CONCATENATE(\"!j\",TEXT((INT((ROW(C108)-3)/4))+7,\"###\")))","v":""},null,{"$f":"IFERROR(IF(C107=\"\",\"\",TEXT(B107,\"####\")&\"-\"&TEXT(MONTH(VLOOKUP(C107,ProjectRecords!D$3:AB$52,25,0)),\"0#\")&\"-\"&TEXT(DAY(VLOOKUP(C107,ProjectRecords!D$3:AB$52,25,0)),\"0#\")),\"\")","v":""},"",{"$f":"IFERROR(VLOOKUP(C107,ProjectRecords!D$3:AO$52,38,0),\"\")","v":0}]
[{"$f":"VLOOKUP(TableOfContents!B$1,ProgramIDs!A$2:C$38,3,FALSE)","v":{"$error":"#N/A"}},{"$f":"TableOfContents!K$5","v":2020},"",{"$f":"VLOOKUP($C108,ProjectRecords!$D$3:U$53,18,0)","v":"grant no"},{"$f":"VLOOKUP($C108,ProjectRecords!$D$3:V$53,19,0)","v":"amd no"},{"$f":"VLOOKUP($C108,ProjectRecords!$D$3:W$53,20,0)","v":"fund source"},{"$f":"INDIRECT(\"'TableOfContents'\"&CONCATENATE(\"!k\",TEXT((INT((ROW(B109)-3)/4))+7,\"###\")))","v":""},{"$f":"INDIRECT(\"'TableOfContents'\"&CONCATENATE(\"!l\",TEXT((INT((ROW(C109)-3)/4))+7,\"###\")))","v":""},null,{"$f":"IFERROR(IF(C108=\"\",\"\",TEXT(B108,\"####\")&\"-\"&TEXT(MONTH(VLOOKUP(C108,ProjectRecords!D$3:AB$52,25,0)),\"0#\")&\"-\"&TEXT(DAY(VLOOKUP(C108,ProjectRecords!D$3:AB$52,25,0)),\"0#\")),\"\")","v":""},"",{"$f":"IFERROR(VLOOKUP(C108,ProjectRecords!D$3:AO$52,38,0),\"\")","v":0}]
[{"$f":"VLOOKUP(TableOfContents!B$1,ProgramIDs!A$2:C$38,3,FALSE)","v":{"$error":"#N/A"}},{"$f":"TableOfContents!M$5","v":2021},"",{"$f":"VLOOKUP($C109,ProjectRecords!$D$3:U$53,18,0)","v":"grant no"},{"$f":"VLOOKUP($C109,ProjectRecords!$D$3:V$53,19,0)","v":"amd no"},{"$f":"VLOOKUP($C109,ProjectRecords!$D$3:W$53,20,0)","v":"fund source"},{"$f":"INDIRECT(\"'TableOfContents'\"&CONCATENATE(\"!m\",TEXT((INT((ROW(B110)-3)/4))+7,\"###\")))","v":""},{"$f":"INDIRECT(\"'TableOfContents'\"&CONCATENATE(\"!n\",TEXT((INT((ROW(C110)-3)/4))+7,\"###\")))","v":""},null,{"$f":"IFERROR(IF(C109=\"\",\"\",TEXT(B109,\"####\")&\"-\"&TEXT(MONTH(VLOOKUP(C109,ProjectRecords!D$3:AB$52,25,0)),\"0#\")&\"-\"&TEXT(DAY(VLOOKUP(C109,ProjectRecords!D$3:AB$52,25,0)),\"0#\")),\"\")","v":""},"",{"$f":"IFERROR(VLOOKUP(C109,ProjectRecords!D$3:AO$52,38,0),\"\")","v":0}]
[{"$f":"VLOOKUP(TableOfContents!B$1,ProgramIDs!A$2:C$38,3,FALSE)","v":{"$error":"#N/A"}},{"$f":"TableOfContents!G$5","v":2018},"",{"$f":"VLOOKUP($C110,ProjectRecords!$D$3:U$53,18,0)","v":"grant no"},{"$f":"VLOOKUP($C110,ProjectRecords!$D$3:V$53,19,0)","v":"amd no"},{"$f":"VLOOKUP($C110,ProjectRecords!$D$3:W$53,20,0)","v":"fund source"},{"$f":"INDIRECT(\"'TableOfContents'\"&CONCATENATE(\"!G\",TEXT((INT((ROW(B111)-3)/4))+7,\"###\")))","v":""},{"$f":"INDIRECT(\"'TableOfContents'\"&CONCATENATE(\"!H\",TEXT((INT((ROW(C111)-3)/4))+7,\"###\")))","v":""},null,{"$f":"IFERROR(IF(C110=\"\",\"\",TEXT(B110,\"####\")&\"-\"&TEXT(MONTH(VLOOKUP(C110,ProjectRecords!D$3:AB$52,25,0)),\"0#\")&\"-\"&TEXT(DAY(VLOOKUP(C110,ProjectRecords!D$3:AB$52,25,0)),\"0#\")),\"\")","v":""},"",{"$f":"IFERROR(VLOOKUP(C110,ProjectRecords!D$3:AO$52,38,0),\"\")","v":0}]
[{"$f":"VLOOKUP(TableOfContents!B$1,ProgramIDs!A$2:C$38,3,FALSE)","v":{"$error":"#N/A"}},{"$f":"TableOfContents!I$5","v":2019},"",{"$f":"VLOOKUP($C111,ProjectRecords!$D$3:U$53,18,0)","v":"grant no"},{"$f":"VLOOKUP($C111,ProjectRecords!$D$3:V$53,19,0)","v":"amd no"},{"$f":"VLOOKUP($C111,ProjectRecords!$D$3:W$53,20,0)","v":"fund source"},{"$f":"INDIRECT(\"'TableOfContents'\"&CONCATENATE(\"!i\",TEXT((INT((ROW(B112)-3)/4))+7,\"###\")))","v":""},{"$f":"INDIRECT(\"'TableOfContents'\"&CONCATENATE(\"!j\",TEXT((INT((ROW(C112)-3)/4))+7,\"###\")))","v":""},null,{"$f":"IFERROR(IF(C111=\"\",\"\",TEXT(B111,\"####\")&\"-\"&TEXT(MONTH(VLOOKUP(C111,ProjectRecords!D$3:AB$52,25,0)),\"0#\")&\"-\"&TEXT(DAY(VLOOKUP(C111,ProjectRecords!D$3:AB$52,25,0)),\"0#\")),\"\")","v":""},"",{"$f":"IFERROR(VLOOKUP(C111,ProjectRecords!D$3:AO$52,38,0),\"\")","v":0}]
[{"$f":"VLOOKUP(TableOfContents!B$1,ProgramIDs!A$2:C$38,3,FALSE)","v":{"$error":"#N/A"}},{"$f":"TableOfContents!K$5","v":2020},"",{"$f":"VLOOKUP($C112,ProjectRecords!$D$3:U$53,18,0)","v":"grant no"},{"$f":"VLOOKUP($C112,ProjectRecords!$D$3:V$53,19,0)","v":"amd no"},{"$f":"VLOOKUP($C112,ProjectRecords!$D$3:W$53,20,0)","v":"fund source"},{"$f":"INDIRECT(\"'TableOfContents'\"&CONCATENATE(\"!k\",TEXT((INT((ROW(B113)-3)/4))+7,\"###\")))","v":""},{"$f":"INDIRECT(\"'TableOfContents'\"&CONCATENATE(\"!l\",TEXT((INT((ROW(C113)-3)/4))+7,\"###\")))","v":""},null,{"$f":"IFERROR(IF(C112=\"\",\"\",TEXT(B112,\"####\")&\"-\"&TEXT(MONTH(VLOOKUP(C112,ProjectRecords!D$3:AB$52,25,0)),\"0#\")&\"-\"&TEXT(DAY(VLOOKUP(C112,ProjectRecords!D$3:AB$52,25,0)),\"0#\")),\"\")","v":""},"",{"$f":"IFERROR(VLOOKUP(C112,ProjectRecords!D$3:AO$52,38,0),\"\")","v":0}]
[{"$f":"VLOOKUP(TableOfContents!B$1,ProgramIDs!A$2:C$38,3,FALSE)","v":{"$error":"#N/A"}},{"$f":"TableOfContents!M$5","v":2021},"",{"$f":"VLOOKUP($C113,ProjectRecords!$D$3:U$53,18,0)","v":"grant no"},{"$f":"VLOOKUP($C113,ProjectRecords!$D$3:V$53,19,0)","v":"amd no"},{"$f":"VLOOKUP($C113,ProjectRecords!$D$3:W$53,20,0)","v":"fund source"},{"$f":"INDIRECT(\"'TableOfContents'\"&CONCATENATE(\"!m\",TEXT((INT((ROW(B114)-3)/4))+7,\"###\")))","v":""},{"$f":"INDIRECT(\"'TableOfContents'\"&CONCATENATE(\"!n\",TEXT((INT((ROW(C114)-3)/4))+7,\"###\")))","v":""},null,{"$f":"IFERROR(IF(C113=\"\",\"\",TEXT(B113,\"####\")&\"-\"&TEXT(MONTH(VLOOKUP(C113,ProjectRecords!D$3:AB$52,25,0)),\"0#\")&\"-\"&TEXT(DAY(VLOOKUP(C113,ProjectRecords!D$3:AB$52,25,0)),\"0#\")),\"\")","v":""},"",{"$f":"IFERROR(VLOOKUP(C113,ProjectRecords!D$3:AO$52,38,0),\"\")","v":0}]
[{"$f":"VLOOKUP(TableOfContents!B$1,ProgramIDs!A$2:C$38,3,FALSE)","v":{"$error":"#N/A"}},{"$f":"TableOfContents!G$5","v":2018},"",{"$f":"VLOOKUP($C114,ProjectRecords!$D$3:U$53,18,0)","v":"grant no"},{"$f":"VLOOKUP($C114,ProjectRecords!$D$3:V$53,19,0)","v":"amd no"},{"$f":"VLOOKUP($C114,ProjectRecords!$D$3:W$53,20,0)","v":"fund source"},{"$f":"INDIRECT(\"'TableOfContents'\"&CONCATENATE(\"!G\",TEXT((INT((ROW(B115)-3)/4))+7,\"###\")))","v":""},{"$f":"INDIRECT(\"'TableOfContents'\"&CONCATENATE(\"!H\",TEXT((INT((ROW(C115)-3)/4))+7,\"###\")))","v":""},null,{"$f":"IFERROR(IF(C114=\"\",\"\",TEXT(B114,\"####\")&\"-\"&TEXT(MONTH(VLOOKUP(C114,ProjectRecords!D$3:AB$52,25,0)),\"0#\")&\"-\"&TEXT(DAY(VLOOKUP(C114,ProjectRecords!D$3:AB$52,25,0)),\"0#\")),\"\")","v":""},"",{"$f":"IFERROR(VLOOKUP(C114,ProjectRecords!D$3:AO$52,38,0),\"\")","v":0}]
[{"$f":"VLOOKUP(TableOfContents!B$1,ProgramIDs!A$2:C$38,3,FALSE)","v":{"$error":"#N/A"}},{"$f":"TableOfContents!I$5","v":2019},"",{"$f":"VLOOKUP($C115,ProjectRecords!$D$3:U$53,18,0)","v":"grant no"},{"$f":"VLOOKUP($C115,ProjectRecords!$D$3:V$53,19,0)","v":"amd no"},{"$f":"VLOOKUP($C115,ProjectRecords!$D$3:W$53,20,0)","v":"fund source"},{"$f":"INDIRECT(\"'TableOfContents'\"&CONCATENATE(\"!i\",TEXT((INT((ROW(B116)-3)/4))+7,\"###\")))","v":""},{"$f":"INDIRECT(\"'TableOfContents'\"&CONCATENATE(\"!j\",TEXT((INT((ROW(C116)-3)/4))+7,\"###\")))","v":""},null,{"$f":"IFERROR(IF(C115=\"\",\"\",TEXT(B115,\"####\")&\"-\"&TEXT(MONTH(VLOOKUP(C115,ProjectRecords!D$3:AB$52,25,0)),\"0#\")&\"-\"&TEXT(DAY(VLOOKUP(C115,ProjectRecords!D$3:AB$52,25,0)),\"0#\")),\"\")","v":""},"",{"$f":"IFERROR(VLOOKUP(C115,ProjectRecords!D$3:AO$52,38,0),\"\")","v":0}]
[{"$f":"VLOOKUP(TableOfContents!B$1,ProgramIDs!A$2:C$38,3,FALSE)","v":{"$error":"#N/A"}},{"$f":"TableOfContents!K$5","v":2020},"",{"$f":"VLOOKUP($C116,ProjectRecords!$D$3:U$53,18,0)","v":"grant no"},{"$f":"VLOOKUP($C116,ProjectRecords!$D$3:V$53,19,0)","v":"amd no"},{"$f":"VLOOKUP($C116,ProjectRecords!$D$3:W$53,20,0)","v":"fund source"},{"$f":"INDIRECT(\"'TableOfContents'\"&CONCATENATE(\"!k\",TEXT((INT((ROW(B117)-3)/4))+7,\"###\")))","v":""},{"$f":"INDIRECT(\"'TableOfContents'\"&CONCATENATE(\"!l\",TEXT((INT((ROW(C117)-3)/4))+7,\"###\")))","v":""},null,{"$f":"IFERROR(IF(C116=\"\",\"\",TEXT(B116,\"####\")&\"-\"&TEXT(MONTH(VLOOKUP(C116,ProjectRecords!D$3:AB$52,25,0)),\"0#\")&\"-\"&TEXT(DAY(VLOOKUP(C116,ProjectRecords!D$3:AB$52,25,0)),\"0#\")),\"\")","v":""},"",{"$f":"IFERROR(VLOOKUP(C116,ProjectRecords!D$3:AO$52,38,0),\"\")","v":0}]
[{"$f":"VLOOKUP(TableOfContents!B$1,ProgramIDs!A$2:C$38,3,FALSE)","v":{"$error":"#N/A"}},{"$f":"TableOfContents!M$5","v":2021},"",{"$f":"VLOOKUP($C117,ProjectRecords!$D$3:U$53,18,0)","v":"grant no"},{"$f":"VLOOKUP($C117,ProjectRecords!$D$3:V$53,19,0)","v":"amd no"},{"$f":"VLOOKUP($C117,ProjectRecords!$D$3:W$53,20,0)","v":"fund source"},{"$f":"INDIRECT(\"'TableOfContents'\"&CONCATENATE(\"!m\",TEXT((INT((ROW(B118)-3)/4))+7,\"###\")))","v":""},{"$f":"INDIRECT(\"'TableOfContents'\"&CONCATENATE(\"!n\",TEXT((INT((ROW(C118)-3)/4))+7,\"###\")))","v":""},null,{"$f":"IFERROR(IF(C117=\"\",\"\",TEXT(B117,\"####\")&\"-\"&TEXT(MONTH(VLOOKUP(C117,ProjectRecords!D$3:AB$52,25,0)),\"0#\")&\"-\"&TEXT(DAY(VLOOKUP(C117,ProjectRecords!D$3:AB$52,25,0)),\"0#\")),\"\")","v":""},"",{"$f":"IFERROR(VLOOKUP(C117,ProjectRecords!D$3:AO$52,38,0),\"\")","v":0}]
[{"$f":"VLOOKUP(TableOfContents!B$1,ProgramIDs!A$2:C$38,3,FALSE)","v":{"$error":"#N/A"}},{"$f":"TableOfContents!G$5","v":2018},"",{"$f":"VLOOKUP($C118,ProjectRecords!$D$3:U$53,18,0)","v":"grant no"},{"$f":"VLOOKUP($C118,ProjectRecords!$D$3:V$53,19,0)","v":"amd no"},{"$f":"VLOOKUP($C118,ProjectRecords!$D$3:W$53,20,0)","v":"fund source"},{"$f":"INDIRECT(\"'TableOfContents'\"&CONCATENATE(\"!G\",TEXT((INT((ROW(B119)-3)/4))+7,\"###\")))","v":""},{"$f":"INDIRECT(\"'TableOfContents'\"&CONCATENATE(\"!H\",TEXT((INT((ROW(C119)-3)/4))+7,\"###\")))","v":""},null,{"$f":"IFERROR(IF(C118=\"\",\"\",TEXT(B118,\"####\")&\"-\"&TEXT(MONTH(VLOOKUP(C118,ProjectRecords!D$3:AB$52,25,0)),\"0#\")&\"-\"&TEXT(DAY(VLOOKUP(C118,ProjectRecords!D$3:AB$52,25,0)),\"0#\")),\"\")","v":""},"",{"$f":"IFERROR(VLOOKUP(C118,ProjectRecords!D$3:AO$52,38,0),\"\")","v":0}]
[{"$f":"VLOOKUP(TableOfContents!B$1,ProgramIDs!A$2:C$38,3,FALSE)","v":{"$error":"#N/A"}},{"$f":"TableOfContents!I$5","v":2019},"",{"$f":"VLOOKUP($C119,ProjectRecords!$D$3:U$53,18,0)","v":"grant no"},{"$f":"VLOOKUP($C119,ProjectRecords!$D$3:V$53,19,0)","v":"amd no"},{"$f":"VLOOKUP($C119,ProjectRecords!$D$3:W$53,20,0)","v":"fund source"},{"$f":"INDIRECT(\"'TableOfContents'\"&CONCATENATE(\"!i\",TEXT((INT((ROW(B120)-3)/4))+7,\"###\")))","v":""},{"$f":"INDIRECT(\"'TableOfContents'\"&CONCATENATE(\"!j\",TEXT((INT((ROW(C120)-3)/4))+7,\"###\")))","v":""},null,{"$f":"IFERROR(IF(C119=\"\",\"\",TEXT(B119,\"####\")&\"-\"&TEXT(MONTH(VLOOKUP(C119,ProjectRecords!D$3:AB$52,25,0)),\"0#\")&\"-\"&TEXT(DAY(VLOOKUP(C119,ProjectRecords!D$3:AB$52,25,0)),\"0#\")),\"\")","v":""},"",{"$f":"IFERROR(VLOOKUP(C119,ProjectRecords!D$3:AO$52,38,0),\"\")","v":0}]
[{"$f":"VLOOKUP(TableOfContents!B$1,ProgramIDs!A$2:C$38,3,FALSE)","v":{"$error":"#N/A"}},{"$f":"TableOfContents!K$5","v":2020},"",{"$f":"VLOOKUP($C120,ProjectRecords!$D$3:U$53,18,0)","v":"grant no"},{"$f":"VLOOKUP($C120,ProjectRecords!$D$3:V$53,19,0)","v":"amd no"},{"$f":"VLOOKUP($C120,ProjectRecords!$D$3:W$53,20,0)","v":"fund source"},{"$f":"INDIRECT(\"'TableOfContents'\"&CONCATENATE(\"!k\",TEXT((INT((ROW(B121)-3)/4))+7,\"###\")))","v":""},{"$f":"INDIRECT(\"'TableOfContents'\"&CONCATENATE(\"!l\",TEXT((INT((ROW(C121)-3)/4))+7,\"###\")))","v":""},null,{"$f":"IFERROR(IF(C120=\"\",\"\",TEXT(B120,\"####\")&\"-\"&TEXT(MONTH(VLOOKUP(C120,ProjectRecords!D$3:AB$52,25,0)),\"0#\")&\"-\"&TEXT(DAY(VLOOKUP(C120,ProjectRecords!D$3:AB$52,25,0)),\"0#\")),\"\")","v":""},"",{"$f":"IFERROR(VLOOKUP(C120,ProjectRecords!D$3:AO$52,38,0),\"\")","v":0}]
[{"$f":"VLOOKUP(TableOfContents!B$1,ProgramIDs!A$2:C$38,3,FALSE)","v":{"$error":"#N/A"}},{"$f":"TableOfContents!M$5","v":2021},"",{"$f":"VLOOKUP($C121,ProjectRecords!$D$3:U$53,18,0)","v":"grant no"},{"$f":"VLOOKUP($C121,ProjectRecords!$D$3:V$53,19,0)","v":"amd no"},{"$f":"VLOOKUP($C121,ProjectRecords!$D$3:W$53,20,0)","v":"fund source"},{"$f":"INDIRECT(\"'TableOfContents'\"&CONCATENATE(\"!m\",TEXT((INT((ROW(B122)-3)/4))+7,\"###\")))","v":""},{"$f":"INDIRECT(\"'TableOfContents'\"&CONCATENATE(\"!n\",TEXT((INT((ROW(C122)-3)/4))+7,\"###\")))","v":""},null,{"$f":"IFERROR(IF(C121=\"\",\"\",TEXT(B121,\"####\")&\"-\"&TEXT(MONTH(VLOOKUP(C121,ProjectRecords!D$3:AB$52,25,0)),\"0#\")&\"-\"&TEXT(DAY(VLOOKUP(C121,ProjectRecords!D$3:AB$52,25,0)),\"0#\")),\"\")","v":""},"",{"$f":"IFERROR(VLOOKUP(C121,ProjectRecords!D$3:AO$52,38,0),\"\")","v":0}]
[{"$f":"VLOOKUP(TableOfContents!B$1,ProgramIDs!A$2:C$38,3,FALSE)","v":{"$error":"#N/A"}},{"$f":"TableOfContents!G$5","v":2018},"",{"$f":"VLOOKUP($C122,ProjectRecords!$D$3:U$53,18,0)","v":"grant no"},{"$f":"VLOOKUP($C122,ProjectRecords!$D$3:V$53,19,0)","v":"amd no"},{"$f":"VLOOKUP($C122,ProjectRecords!$D$3:W$53,20,0)","v":"fund source"},{"$f":"INDIRECT(\"'TableOfContents'\"&CONCATENATE(\"!G\",TEXT((INT((ROW(B123)-3)/4))+7,\"###\")))","v":""},{"$f":"INDIRECT(\"'TableOfContents'\"&CONCATENATE(\"!H\",TEXT((INT((ROW(C123)-3)/4))+7,\"###\")))","v":""},null,{"$f":"IFERROR(IF(C122=\"\",\"\",TEXT(B122,\"####\")&\"-\"&TEXT(MONTH(VLOOKUP(C122,ProjectRecords!D$3:AB$52,25,0)),\"0#\")&\"-\"&TEXT(DAY(VLOOKUP(C122,ProjectRecords!D$3:AB$52,25,0)),\"0#\")),\"\")","v":""},"",{"$f":"IFERROR(VLOOKUP(C122,ProjectRecords!D$3:AO$52,38,0),\"\")","v":0}]
[{"$f":"VLOOKUP(TableOfContents!B$1,ProgramIDs!A$2:C$38,3,FALSE)","v":{"$error":"#N/A"}},{"$f":"TableOfContents!I$5","v":2019},"",{"$f":"VLOOKUP($C123,ProjectRecords!$D$3:U$53,18,0)","v":"grant no"},{"$f":"VLOOKUP($C123,ProjectRecords!$D$3:V$53,19,0)","v":"amd no"},{"$f":"VLOOKUP($C123,ProjectRecords!$D$3:W$53,20,0)","v":"fund source"},{"$f":"INDIRECT(\"'TableOfContents'\"&CONCATENATE(\"!i\",TEXT((INT((ROW(B124)-3)/4))+7,\"###\")))","v":""},{"$f":"INDIRECT(\"'TableOfContents'\"&CONCATENATE(\"!j\",TEXT((INT((ROW(C124)-3)/4))+7,\"###\")))","v":""},null,{"$f":"IFERROR(IF(C123=\"\",\"\",TEXT(B123,\"####\")&\"-\"&TEXT(MONTH(VLOOKUP(C123,ProjectRecords!D$3:AB$52,25,0)),\"0#\")&\"-\"&TEXT(DAY(VLOOKUP(C123,ProjectRecords!D$3:AB$52,25,0)),\"0#\")),\"\")","v":""},"",{"$f":"IFERROR(VLOOKUP(C123,ProjectRecords!D$3:AO$52,38,0),\"\")","v":0}]
[{"$f":"VLOOKUP(TableOfContents!B$1,ProgramIDs!A$2:C$38,3,FALSE)","v":{"$error":"#N/A"}},{"$f":"TableOfContents!K$5","v":2020},"",{"$f":"VLOOKUP($C124,ProjectRecords!$D$3:U$53,18,0)","v":"grant no"},{"$f":"VLOOKUP($C124,ProjectRecords!$D$3:V$53,19,0)","v":"amd no"},{"$f":"VLOOKUP($C124,ProjectRecords!$D$3:W$53,20,0)","v":"fund source"},{"$f":"INDIRECT(\"'TableOfContents'\"&CONCATENATE(\"!k\",TEXT((INT((ROW(B125)-3)/4))+7,\"###\")))","v":""},{"$f":"INDIRECT(\"'TableOfContents'\"&CONCATENATE(\"!l\",TEXT((INT((ROW(C125)-3)/4))+7,\"###\")))","v":""},null,{"$f":"IFERROR(IF(C124=\"\",\"\",TEXT(B124,\"####\")&\"-\"&TEXT(MONTH(VLOOKUP(C124,ProjectRecords!D$3:AB$52,25,0)),\"0#\")&\"-\"&TEXT(DAY(VLOOKUP(C124,ProjectRecords!D$3:AB$52,25,0)),\"0#\")),\"\")","v":""},"",{"$f":"IFERROR(VLOOKUP(C124,ProjectRecords!D$3:AO$52,38,0),\"\")","v":0}]
[{"$f":"VLOOKUP(TableOfContents!B$1,ProgramIDs!A$2:C$38,3,FALSE)","v":{"$error":"#N/A"}},{"$f":"TableOfContents!M$5","v":2021},"",{"$f":"VLOOKUP($C125,ProjectRecords!$D$3:U$53,18,0)","v":"grant no"},{"$f":"VLOOKUP($C125,ProjectRecords!$D$3:V$53,19,0)","v":"amd no"},{"$f":"VLOOKUP($C125,ProjectRecords!$D$3:W$53,20,0)","v":"fund source"},{"$f":"INDIRECT(\"'TableOfContents'\"&CONCATENATE(\"!m\",TEXT((INT((ROW(B126)-3)/4))+7,\"###\")))","v":""},{"$f":"INDIRECT(\"'TableOfContents'\"&CONCATENATE(\"!n\",TEXT((INT((ROW(C126)-3)/4))+7,\"###\")))","v":""},null,{"$f":"IFERROR(IF(C125=\"\",\"\",TEXT(B125,\"####\")&\"-\"&TEXT(MONTH(VLOOKUP(C125,ProjectRecords!D$3:AB$52,25,0)),\"0#\")&\"-\"&TEXT(DAY(VLOOKUP(C125,ProjectRecords!D$3:AB$52,25,0)),\"0#\")),\"\")","v":""},"",{"$f":"IFERROR(VLOOKUP(C125,ProjectRecords!D$3:AO$52,38,0),\"\")","v":0}]
[{"$f":"VLOOKUP(TableOfContents!B$1,ProgramIDs!A$2:C$38,3,FALSE)","v":{"$error":"#N/A"}},{"$f":"TableOfContents!G$5","v":2018},"",{"$f":"VLOOKUP($C126,ProjectRecords!$D$3:U$53,18,0)","v":"grant no"},{"$f":"VLOOKUP($C126,ProjectRecords!$D$3:V$53,19,0)","v":"amd no"},{"$f":"VLOOKUP($C126,ProjectRecords!$D$3:W$53,20,0)","v":"fund source"},{"$f":"INDIRECT(\"'TableOfContents'\"&CONCATENATE(\"!G\",TEXT((INT((ROW(B127)-3)/4))+7,\"###\")))","v":""},{"$f":"INDIRECT(\"'TableOfContents'\"&CONCATENATE(\"!H\",TEXT((INT((ROW(C127)-3)/4))+7,\"###\")))","v":""},null,{"$f":"IFERROR(IF(C126=\"\",\"\",TEXT(B126,\"####\")&\"-\"&TEXT(MONTH(VLOOKUP(C126,ProjectRecords!D$3:AB$52,25,0)),\"0#\")&\"-\"&TEXT(DAY(VLOOKUP(C126,ProjectRecords!D$3:AB$52,25,0)),\"0#\")),\"\")","v":""},"",{"$f":"IFERROR(VLOOKUP(C126,ProjectRecords!D$3:AO$52,38,0),\"\")","v":0}]
[{"$f":"VLOOKUP(TableOfContents!B$1,ProgramIDs!A$2:C$38,3,FALSE)","v":{"$error":"#N/A"}},{"$f":"TableOfContents!I$5","v":2019},"",{"$f":"VLOOKUP($C127,ProjectRecords!$D$3:U$53,18,0)","v":"grant no"},{"$f":"VLOOKUP($C127,ProjectRecords!$D$3:V$53,19,0)","v":"amd no"},{"$f":"VLOOKUP($C127,ProjectRecords!$D$3:W$53,20,0)","v":"fund source"},{"$f":"INDIRECT(\"'TableOfContents'\"&CONCATENATE(\"!i\",TEXT((INT((ROW(B128)-3)/4))+7,\"###\")))","v":""},{"$f":"INDIRECT(\"'TableOfContents'\"&CONCATENATE(\"!j\",TEXT((INT((ROW(C128)-3)/4))+7,\"###\")))","v":""},null,{"$f":"IFERROR(IF(C127=\"\",\"\",TEXT(B127,\"####\")&\"-\"&TEXT(MONTH(VLOOKUP(C127,ProjectRecords!D$3:AB$52,25,0)),\"0#\")&\"-\"&TEXT(DAY(VLOOKUP(C127,ProjectRecords!D$3:AB$52,25,0)),\"0#\")),\"\")","v":""},"",{"$f":"IFERROR(VLOOKUP(C127,ProjectRecords!D$3:AO$52,38,0),\"\")","v":0}]
[{"$f":"VLOOKUP(TableOfContents!B$1,ProgramIDs!A$2:C$38,3,FALSE)","v":{"$error":"#N/A"}},{"$f":"TableOfContents!K$5","v":2020},"",{"$f":"VLOOKUP($C128,ProjectRecords!$D$3:U$53,18,0)","v":"grant no"},{"$f":"VLOOKUP($C128,ProjectRecords!$D$3:V$53,19,0)","v":"amd no"},{"$f":"VLOOKUP($C128,ProjectRecords!$D$3:W$53,20,0)","v":"fund source"},{"$f":"INDIRECT(\"'TableOfContents'\"&CONCATENATE(\"!k\",TEXT((INT((ROW(B129)-3)/4))+7,\"###\")))","v":""},{"$f":"INDIRECT(\"'TableOfContents'\"&CONCATENATE(\"!l\",TEXT((INT((ROW(C129)-3)/4))+7,\"###\")))","v":""},null,{"$f":"IFERROR(IF(C128=\"\",\"\",TEXT(B128,\"####\")&\"-\"&TEXT(MONTH(VLOOKUP(C128,ProjectRecords!D$3:AB$52,25,0)),\"0#\")&\"-\"&TEXT(DAY(VLOOKUP(C128,ProjectRecords!D$3:AB$52,25,0)),\"0#\")),\"\")","v":""},"",{"$f":"IFERROR(VLOOKUP(C128,ProjectRecords!D$3:AO$52,38,0),\"\")","v":0}]
[{"$f":"VLOOKUP(TableOfContents!B$1,ProgramIDs!A$2:C$38,3,FALSE)","v":{"$error":"#N/A"}},{"$f":"TableOfContents!M$5","v":2021},"",{"$f":"VLOOKUP($C129,ProjectRecords!$D$3:U$53,18,0)","v":"grant no"},{"$f":"VLOOKUP($C129,ProjectRecords!$D$3:V$53,19,0)","v":"amd no"},{"$f":"VLOOKUP($C129,ProjectRecords!$D$3:W$53,20,0)","v":"fund source"},{"$f":"INDIRECT(\"'TableOfContents'\"&CONCATENATE(\"!m\",TEXT((INT((ROW(B130)-3)/4))+7,\"###\")))","v":""},{"$f":"INDIRECT(\"'TableOfContents'\"&CONCATENATE(\"!n\",TEXT((INT((ROW(C130)-3)/4))+7,\"###\")))","v":""},null,{"$f":"IFERROR(IF(C129=\"\",\"\",TEXT(B129,\"####\")&\"-\"&TEXT(MONTH(VLOOKUP(C129,ProjectRecords!D$3:AB$52,25,0)),\"0#\")&\"-\"&TEXT(DAY(VLOOKUP(C129,ProjectRecords!D$3:AB$52,25,0)),\"0#\")),\"\")","v":""},"",{"$f":"IFERROR(VLOOKUP(C129,ProjectRecords!D$3:AO$52,38,0),\"\")","v":0}]
[{"$f":"VLOOKUP(TableOfContents!B$1,ProgramIDs!A$2:C$38,3,FALSE)","v":{"$error":"#N/A"}},{"$f":"TableOfContents!G$5","v":2018},"",{"$f":"VLOOKUP($C130,ProjectRecords!$D$3:U$53,18,0)","v":"grant no"},{"$f":"VLOOKUP($C130,ProjectRecords!$D$3:V$53,19,0)","v":"amd no"},{"$f":"VLOOKUP($C130,ProjectRecords!$D$3:W$53,20,0)","v":"fund source"},{"$f":"INDIRECT(\"'TableOfContents'\"&CONCATENATE(\"!G\",TEXT((INT((ROW(B131)-3)/4))+7,\"###\")))","v":""},{"$f":"INDIRECT(\"'TableOfContents'\"&CONCATENATE(\"!H\",TEXT((INT((ROW(C131)-3)/4))+7,\"###\")))","v":""},null,{"$f":"IFERROR(IF(C130=\"\",\"\",TEXT(B130,\"####\")&\"-\"&TEXT(MONTH(VLOOKUP(C130,ProjectRecords!D$3:AB$52,25,0)),\"0#\")&\"-\"&TEXT(DAY(VLOOKUP(C130,ProjectRecords!D$3:AB$52,25,0)),\"0#\")),\"\")","v":""},"",{"$f":"IFERROR(VLOOKUP(C130,ProjectRecords!D$3:AO$52,38,0),\"\")","v":0}]
[{"$f":"VLOOKUP(TableOfContents!B$1,ProgramIDs!A$2:C$38,3,FALSE)","v":{"$error":"#N/A"}},{"$f":"TableOfContents!I$5","v":2019},{"$f":"CONCATENATE(INDIRECT(\"'TableOfContents'\"&CONCATENATE(\"!A\",TEXT((INT((ROW(B132)-3)/4))+7,\"###\"))),INDIRECT(\"'TableOfContents'\"&CONCATENATE(\"!B\",TEXT((INT((ROW(B132)-3)/4))+7,\"###\"))))","v":""},{"$f":"VLOOKUP($C131,ProjectRecords!$D$3:U$53,18,0)","v":"grant no"},{"$f":"VLOOKUP($C131,ProjectRecords!$D$3:V$53,19,0)","v":"amd no"},{"$f":"VLOOKUP($C131,ProjectRecords!$D$3:W$53,20,0)","v":"fund source"},{"$f":"INDIRECT(\"'TableOfContents'\"&CONCATENATE(\"!i\",TEXT((INT((ROW(B132)-3)/4))+7,\"###\")))","v":""},{"$f":"INDIRECT(\"'TableOfContents'\"&CONCATENATE(\"!j\",TEXT((INT((ROW(C132)-3)/4))+7,\"###\")))","v":""},null,{"$f":"IFERROR(IF(C131=\"\",\"\",TEXT(B131,\"####\")&\"-\"&TEXT(MONTH(VLOOKUP(C131,ProjectRecords!D$3:AB$52,25,0)),\"0#\")&\"-\"&TEXT(DAY(VLOOKUP(C131,ProjectRecords!D$3:AB$52,25,0)),\"0#\")),\"\")","v":""},{"$f":"IFERROR(IF(C131=\"\",\"\",DATE(YEAR(J131)+1,MONTH(DATEVALUE(J131)),DAY(DATEVALUE(J131)))-1),\"\")","v":""},{"$f":"IFERROR(VLOOKUP(C131,ProjectRecords!D$3:AO$52,38,0),\"\")","v":0}]
[{"$f":"VLOOKUP(TableOfContents!B$1,ProgramIDs!A$2:C$38,3,FALSE)","v":{"$error":"#N/A"}},{"$f":"TableOfContents!K$5","v":2020},"",{"$f":"VLOOKUP($C132,ProjectRecords!$D$3:U$53,18,0)","v":"grant no"},{"$f":"VLOOKUP($C132,ProjectRecords!$D$3:V$53,19,0)","v":"amd no"},{"$f":"VLOOKUP($C132,ProjectRecords!$D$3:W$53,20,0)","v":"fund source"},{"$f":"INDIRECT(\"'TableOfContents'\"&CONCATENATE(\"!k\",TEXT((INT((ROW(B133)-3)/4))+7,\"###\")))","v":""},{"$f":"INDIRECT(\"'TableOfContents'\"&CONCATENATE(\"!l\",TEXT((INT((ROW(C133)-3)/4))+7,\"###\")))","v":""},null,{"$f":"IFERROR(IF(C132=\"\",\"\",TEXT(B132,\"####\")&\"-\"&TEXT(MONTH(VLOOKUP(C132,ProjectRecords!D$3:AB$52,25,0)),\"0#\")&\"-\"&TEXT(DAY(VLOOKUP(C132,ProjectRecords!D$3:AB$52,25,0)),\"0#\")),\"\")","v":""},"",{"$f":"IFERROR(VLOOKUP(C132,ProjectRecords!D$3:AO$52,38,0),\"\")","v":0}]
[{"$f":"VLOOKUP(TableOfContents!B$1,ProgramIDs!A$2:C$38,3,FALSE)","v":{"$error":"#N/A"}},{"$f":"TableOfContents!M$5","v":2021},"",{"$f":"VLOOKUP($C133,ProjectRecords!$D$3:U$53,18,0)","v":"grant no"},{"$f":"VLOOKUP($C133,ProjectRecords!$D$3:V$53,19,0)","v":"amd no"},{"$f":"VLOOKUP($C133,ProjectRecords!$D$3:W$53,20,0)","v":"fund source"},{"$f":"INDIRECT(\"'TableOfContents'\"&CONCATENATE(\"!m\",TEXT((INT((ROW(B134)-3)/4))+7,\"###\")))","v":""},{"$f":"INDIRECT(\"'TableOfContents'\"&CONCATENATE(\"!n\",TEXT((INT((ROW(C134)-3)/4))+7,\"###\")))","v":""},null,{"$f":"IFERROR(IF(C133=\"\",\"\",TEXT(B133,\"####\")&\"-\"&TEXT(MONTH(VLOOKUP(C133,ProjectRecords!D$3:AB$52,25,0)),\"0#\")&\"-\"&TEXT(DAY(VLOOKUP(C133,ProjectRecords!D$3:AB$52,25,0)),\"0#\")),\"\")","v":""},"",{"$f":"IFERROR(VLOOKUP(C133,ProjectRecords!D$3:AO$52,38,0),\"\")","v":0}]
[{"$f":"VLOOKUP(TableOfContents!B$1,ProgramIDs!A$2:C$38,3,FALSE)","v":{"$error":"#N/A"}},{"$f":"TableOfContents!G$5","v":2018},"",{"$f":"VLOOKUP($C134,ProjectRecords!$D$3:U$53,18,0)","v":"grant no"},{"$f":"VLOOKUP($C134,ProjectRecords!$D$3:V$53,19,0)","v":"amd no"},{"$f":"VLOOKUP($C134,ProjectRecords!$D$3:W$53,20,0)","v":"fund source"},{"$f":"INDIRECT(\"'TableOfContents'\"&CONCATENATE(\"!G\",TEXT((INT((ROW(B135)-3)/4))+7,\"###\")))","v":""},{"$f":"INDIRECT(\"'TableOfContents'\"&CONCATENATE(\"!H\",TEXT((INT((ROW(C135)-3)/4))+7,\"###\")))","v":""},null,{"$f":"IFERROR(IF(C134=\"\",\"\",TEXT(B134,\"####\")&\"-\"&TEXT(MONTH(VLOOKUP(C134,ProjectRecords!D$3:AB$52,25,0)),\"0#\")&\"-\"&TEXT(DAY(VLOOKUP(C134,ProjectRecords!D$3:AB$52,25,0)),\"0#\")),\"\")","v":""},"",{"$f":"IFERROR(VLOOKUP(C134,ProjectRecords!D$3:AO$52,38,0),\"\")","v":0}]
[{"$f":"VLOOKUP(TableOfContents!B$1,ProgramIDs!A$2:C$38,3,FALSE)","v":{"$error":"#N/A"}},{"$f":"TableOfContents!I$5","v":2019},"",{"$f":"VLOOKUP($C135,ProjectRecords!$D$3:U$53,18,0)","v":"grant no"},{"$f":"VLOOKUP($C135,ProjectRecords!$D$3:V$53,19,0)","v":"amd no"},{"$f":"VLOOKUP($C135,ProjectRecords!$D$3:W$53,20,0)","v":"fund source"},{"$f":"INDIRECT(\"'TableOfContents'\"&CONCATENATE(\"!i\",TEXT((INT((ROW(B136)-3)/4))+7,\"###\")))","v":""},{"$f":"INDIRECT(\"'TableOfContents'\"&CONCATENATE(\"!j\",TEXT((INT((ROW(C136)-3)/4))+7,\"###\")))","v":""},null,{"$f":"IFERROR(IF(C135=\"\",\"\",TEXT(B135,\"####\")&\"-\"&TEXT(MONTH(VLOOKUP(C135,ProjectRecords!D$3:AB$52,25,0)),\"0#\")&\"-\"&TEXT(DAY(VLOOKUP(C135,ProjectRecords!D$3:AB$52,25,0)),\"0#\")),\"\")","v":""},"",{"$f":"IFERROR(VLOOKUP(C135,ProjectRecords!D$3:AO$52,38,0),\"\")","v":0}]
[{"$f":"VLOOKUP(TableOfContents!B$1,ProgramIDs!A$2:C$38,3,FALSE)","v":{"$error":"#N/A"}},{"$f":"TableOfContents!K$5","v":2020},"",{"$f":"VLOOKUP($C136,ProjectRecords!$D$3:U$53,18,0)","v":"grant no"},{"$f":"VLOOKUP($C136,ProjectRecords!$D$3:V$53,19,0)","v":"amd no"},{"$f":"VLOOKUP($C136,ProjectRecords!$D$3:W$53,20,0)","v":"fund source"},{"$f":"INDIRECT(\"'TableOfContents'\"&CONCATENATE(\"!k\",TEXT((INT((ROW(B137)-3)/4))+7,\"###\")))","v":""},{"$f":"INDIRECT(\"'TableOfContents'\"&CONCATENATE(\"!l\",TEXT((INT((ROW(C137)-3)/4))+7,\"###\")))","v":""},null,{"$f":"IFERROR(IF(C136=\"\",\"\",TEXT(B136,\"####\")&\"-\"&TEXT(MONTH(VLOOKUP(C136,ProjectRecords!D$3:AB$52,25,0)),\"0#\")&\"-\"&TEXT(DAY(VLOOKUP(C136,ProjectRecords!D$3:AB$52,25,0)),\"0#\")),\"\")","v":""},"",{"$f":"IFERROR(VLOOKUP(C136,ProjectRecords!D$3:AO$52,38,0),\"\")","v":0}]
[{"$f":"VLOOKUP(TableOfContents!B$1,ProgramIDs!A$2:C$38,3,FALSE)","v":{"$error":"#N/A"}},{"$f":"TableOfContents!M$5","v":2021},"",{"$f":"VLOOKUP($C137,ProjectRecords!$D$3:U$53,18,0)","v":"grant no"},{"$f":"VLOOKUP($C137,ProjectRecords!$D$3:V$53,19,0)","v":"amd no"},{"$f":"VLOOKUP($C137,ProjectRecords!$D$3:W$53,20,0)","v":"fund source"},{"$f":"INDIRECT(\"'TableOfContents'\"&CONCATENATE(\"!m\",TEXT((INT((ROW(B138)-3)/4))+7,\"###\")))","v":""},{"$f":"INDIRECT(\"'TableOfContents'\"&CONCATENATE(\"!n\",TEXT((INT((ROW(C138)-3)/4))+7,\"###\")))","v":""},null,{"$f":"IFERROR(IF(C137=\"\",\"\",TEXT(B137,\"####\")&\"-\"&TEXT(MONTH(VLOOKUP(C137,ProjectRecords!D$3:AB$52,25,0)),\"0#\")&\"-\"&TEXT(DAY(VLOOKUP(C137,ProjectRecords!D$3:AB$52,25,0)),\"0#\")),\"\")","v":""},"",{"$f":"IFERROR(VLOOKUP(C137,ProjectRecords!D$3:AO$52,38,0),\"\")","v":0}]
[{"$f":"VLOOKUP(TableOfContents!B$1,ProgramIDs!A$2:C$38,3,FALSE)","v":{"$error":"#N/A"}},{"$f":"TableOfContents!G$5","v":2018},"",{"$f":"VLOOKUP($C138,ProjectRecords!$D$3:U$53,18,0)","v":"grant no"},{"$f":"VLOOKUP($C138,ProjectRecords!$D$3:V$53,19,0)","v":"amd no"},{"$f":"VLOOKUP($C138,ProjectRecords!$D$3:W$53,20,0)","v":"fund source"},{"$f":"INDIRECT(\"'TableOfContents'\"&CONCATENATE(\"!G\",TEXT((INT((ROW(B139)-3)/4))+7,\"###\")))","v":""},{"$f":"INDIRECT(\"'TableOfContents'\"&CONCATENATE(\"!H\",TEXT((INT((ROW(C139)-3)/4))+7,\"###\")))","v":""},null,{"$f":"IFERROR(IF(C138=\"\",\"\",TEXT(B138,\"####\")&\"-\"&TEXT(MONTH(VLOOKUP(C138,ProjectRecords!D$3:AB$52,25,0)),\"0#\")&\"-\"&TEXT(DAY(VLOOKUP(C138,ProjectRecords!D$3:AB$52,25,0)),\"0#\")),\"\")","v":""},"",{"$f":"IFERROR(VLOOKUP(C138,ProjectRecords!D$3:AO$52,38,0),\"\")","v":0}]
[{"$f":"VLOOKUP(TableOfContents!B$1,ProgramIDs!A$2:C$38,3,FALSE)","v":{"$error":"#N/A"}},{"$f":"TableOfContents!I$5","v":2019},"",{"$f":"VLOOKUP($C139,ProjectRecords!$D$3:U$53,18,0)","v":"grant no"},{"$f":"VLOOKUP($C139,ProjectRecords!$D$3:V$53,19,0)","v":"amd no"},{"$f":"VLOOKUP($C139,ProjectRecords!$D$3:W$53,20,0)","v":"fund source"},{"$f":"INDIRECT(\"'TableOfContents'\"&CONCATENATE(\"!i\",TEXT((INT((ROW(B140)-3)/4))+7,\"###\")))","v":""},{"$f":"INDIRECT(\"'TableOfContents'\"&CONCATENATE(\"!j\",TEXT((INT((ROW(C140)-3)/4))+7,\"###\")))","v":""},null,{"$f":"IFERROR(IF(C139=\"\",\"\",TEXT(B139,\"####\")&\"-\"&TEXT(MONTH(VLOOKUP(C139,ProjectRecords!D$3:AB$52,25,0)),\"0#\")&\"-\"&TEXT(DAY(VLOOKUP(C139,ProjectRecords!D$3:AB$52,25,0)),\"0#\")),\"\")","v":""},"",{"$f":"IFERROR(VLOOKUP(C139,ProjectRecords!D$3:AO$52,38,0),\"\")","v":0}]
[{"$f":"VLOOKUP(TableOfContents!B$1,ProgramIDs!A$2:C$38,3,FALSE)","v":{"$error":"#N/A"}},{"$f":"TableOfContents!K$5","v":2020},"",{"$f":"VLOOKUP($C140,ProjectRecords!$D$3:U$53,18,0)","v":"grant no"},{"$f":"VLOOKUP($C140,ProjectRecords!$D$3:V$53,19,0)","v":"amd no"},{"$f":"VLOOKUP($C140,ProjectRecords!$D$3:W$53,20,0)","v":"fund source"},{"$f":"INDIRECT(\"'TableOfContents'\"&CONCATENATE(\"!k\",TEXT((INT((ROW(B141)-3)/4))+7,\"###\")))","v":""},{"$f":"INDIRECT(\"'TableOfContents'\"&CONCATENATE(\"!l\",TEXT((INT((ROW(C141)-3)/4))+7,\"###\")))","v":""},null,{"$f":"IFERROR(IF(C140=\"\",\"\",TEXT(B140,\"####\")&\"-\"&TEXT(MONTH(VLOOKUP(C140,ProjectRecords!D$3:AB$52,25,0)),\"0#\")&\"-\"&TEXT(DAY(VLOOKUP(C140,ProjectRecords!D$3:AB$52,25,0)),\"0#\")),\"\")","v":""},"",{"$f":"IFERROR(VLOOKUP(C140,ProjectRecords!D$3:AO$52,38,0),\"\")","v":0}]
[{"$f":"VLOOKUP(TableOfContents!B$1,ProgramIDs!A$2:C$38,3,FALSE)","v":{"$error":"#N/A"}},{"$f":"TableOfContents!M$5","v":2021},"",{"$f":"VLOOKUP($C141,ProjectRecords!$D$3:U$53,18,0)","v":"grant no"},{"$f":"VLOOKUP($C141,ProjectRecords!$D$3:V$53,19,0)","v":"amd no"},{"$f":"VLOOKUP($C141,ProjectRecords!$D$3:W$53,20,0)","v":"fund source"},{"$f":"INDIRECT(\"'TableOfContents'\"&CONCATENATE(\"!m\",TEXT((INT((ROW(B142)-3)/4))+7,\"###\")))","v":""},{"$f":"INDIRECT(\"'TableOfContents'\"&CONCATENATE(\"!n\",TEXT((INT((ROW(C142)-3)/4))+7,\"###\")))","v":""},null,{"$f":"IFERROR(IF(C141=\"\",\"\",TEXT(B141,\"####\")&\"-\"&TEXT(MONTH(VLOOKUP(C141,ProjectRecords!D$3:AB$52,25,0)),\"0#\")&\"-\"&TEXT(DAY(VLOOKUP(C141,ProjectRecords!D$3:AB$52,25,0)),\"0#\")),\"\")","v":""},"",{"$f":"IFERROR(VLOOKUP(C141,ProjectRecords!D$3:AO$52,38,0),\"\")","v":0}]
[{"$f":"VLOOKUP(TableOfContents!B$1,ProgramIDs!A$2:C$38,3,FALSE)","v":{"$error":"#N/A"}},{"$f":"TableOfContents!G$5","v":2018},"",{"$f":"VLOOKUP($C142,ProjectRecords!$D$3:U$53,18,0)","v":"grant no"},{"$f":"VLOOKUP($C142,ProjectRecords!$D$3:V$53,19,0)","v":"amd no"},{"$f":"VLOOKUP($C142,ProjectRecords!$D$3:W$53,20,0)","v":"fund source"},{"$f":"INDIRECT(\"'TableOfContents'\"&CONCATENATE(\"!G\",TEXT((INT((ROW(B143)-3)/4))+7,\"###\")))","v":""},{"$f":"INDIRECT(\"'TableOfContents'\"&CONCATENATE(\"!H\",TEXT((INT((ROW(C143)-3)/4))+7,\"###\")))","v":""},null,{"$f":"IFERROR(IF(C142=\"\",\"\",TEXT(B142,\"####\")&\"-\"&TEXT(MONTH(VLOOKUP(C142,ProjectRecords!D$3:AB$52,25,0)),\"0#\")&\"-\"&TEXT(DAY(VLOOKUP(C142,ProjectRecords!D$3:AB$52,25,0)),\"0#\")),\"\")","v":""},"",{"$f":"IFERROR(VLOOKUP(C142,ProjectRecords!D$3:AO$52,38,0),\"\")","v":0}]
[{"$f":"VLOOKUP(TableOfContents!B$1,ProgramIDs!A$2:C$38,3,FALSE)","v":{"$error":"#N/A"}},{"$f":"TableOfContents!I$5","v":2019},"",{"$f":"VLOOKUP($C143,ProjectRecords!$D$3:U$53,18,0)","v":"grant no"},{"$f":"VLOOKUP($C143,ProjectRecords!$D$3:V$53,19,0)","v":"amd no"},{"$f":"VLOOKUP($C143,ProjectRecords!$D$3:W$53,20,0)","v":"fund source"},{"$f":"INDIRECT(\"'TableOfContents'\"&CONCATENATE(\"!i\",TEXT((INT((ROW(B144)-3)/4))+7,\"###\")))","v":""},{"$f":"INDIRECT(\"'TableOfContents'\"&CONCATENATE(\"!j\",TEXT((INT((ROW(C144)-3)/4))+7,\"###\")))","v":""},null,{"$f":"IFERROR(IF(C143=\"\",\"\",TEXT(B143,\"####\")&\"-\"&TEXT(MONTH(VLOOKUP(C143,ProjectRecords!D$3:AB$52,25,0)),\"0#\")&\"-\"&TEXT(DAY(VLOOKUP(C143,ProjectRecords!D$3:AB$52,25,0)),\"0#\")),\"\")","v":""},"",{"$f":"IFERROR(VLOOKUP(C143,ProjectRecords!D$3:AO$52,38,0),\"\")","v":0}]
[{"$f":"VLOOKUP(TableOfContents!B$1,ProgramIDs!A$2:C$38,3,FALSE)","v":{"$error":"#N/A"}},{"$f":"TableOfContents!K$5","v":2020},"",{"$f":"VLOOKUP($C144,ProjectRecords!$D$3:U$53,18,0)","v":"grant no"},{"$f":"VLOOKUP($C144,ProjectRecords!$D$3:V$53,19,0)","v":"amd no"},{"$f":"VLOOKUP($C144,ProjectRecords!$D$3:W$53,20,0)","v":"fund source"},{"$f":"INDIRECT(\"'TableOfContents'\"&CONCATENATE(\"!k\",TEXT((INT((ROW(B145)-3)/4))+7,\"###\")))","v":""},{"$f":"INDIRECT(\"'TableOfContents'\"&CONCATENATE(\"!l\",TEXT((INT((ROW(C145)-3)/4))+7,\"###\")))","v":""},null,{"$f":"IFERROR(IF(C144=\"\",\"\",TEXT(B144,\"####\")&\"-\"&TEXT(MONTH(VLOOKUP(C144,ProjectRecords!D$3:AB$52,25,0)),\"0#\")&\"-\"&TEXT(DAY(VLOOKUP(C144,ProjectRecords!D$3:AB$52,25,0)),\"0#\")),\"\")","v":""},"",{"$f":"IFERROR(VLOOKUP(C144,ProjectRecords!D$3:AO$52,38,0),\"\")","v":0}]
[{"$f":"VLOOKUP(TableOfContents!B$1,ProgramIDs!A$2:C$38,3,FALSE)","v":{"$error":"#N/A"}},{"$f":"TableOfContents!M$5","v":2021},"",{"$f":"VLOOKUP($C145,ProjectRecords!$D$3:U$53,18,0)","v":"grant no"},{"$f":"VLOOKUP($C145,ProjectRecords!$D$3:V$53,19,0)","v":"amd no"},{"$f":"VLOOKUP($C145,ProjectRecords!$D$3:W$53,20,0)","v":"fund source"},{"$f":"INDIRECT(\"'TableOfContents'\"&CONCATENATE(\"!m\",TEXT((INT((ROW(B146)-3)/4))+7,\"###\")))","v":""},{"$f":"INDIRECT(\"'TableOfContents'\"&CONCATENATE(\"!n\",TEXT((INT((ROW(C146)-3)/4))+7,\"###\")))","v":""},null,{"$f":"IFERROR(IF(C145=\"\",\"\",TEXT(B145,\"####\")&\"-\"&TEXT(MONTH(VLOOKUP(C145,ProjectRecords!D$3:AB$52,25,0)),\"0#\")&\"-\"&TEXT(DAY(VLOOKUP(C145,ProjectRecords!D$3:AB$52,25,0)),\"0#\")),\"\")","v":""},"",{"$f":"IFERROR(VLOOKUP(C145,ProjectRecords!D$3:AO$52,38,0),\"\")","v":0}]
[{"$f":"VLOOKUP(TableOfContents!B$1,ProgramIDs!A$2:C$38,3,FALSE)","v":{"$error":"#N/A"}},{"$f":"TableOfContents!G$5","v":2018},"",{"$f":"VLOOKUP($C146,ProjectRecords!$D$3:U$53,18,0)","v":"grant no"},{"$f":"VLOOKUP($C146,ProjectRecords!$D$3:V$53,19,0)","v":"amd no"},{"$f":"VLOOKUP($C146,ProjectRecords!$D$3:W$53,20,0)","v":"fund source"},{"$f":"INDIRECT(\"'TableOfContents'\"&CONCATENATE(\"!G\",TEXT((INT((ROW(B147)-3)/4))+7,\"###\")))","v":""},{"$f":"INDIRECT(\"'TableOfContents'\"&CONCATENATE(\"!H\",TEXT((INT((ROW(C147)-3)/4))+7,\"###\")))","v":""},null,{"$f":"IFERROR(IF(C146=\"\",\"\",TEXT(B146,\"####\")&\"-\"&TEXT(MONTH(VLOOKUP(C146,ProjectRecords!D$3:AB$52,25,0)),\"0#\")&\"-\"&TEXT(DAY(VLOOKUP(C146,ProjectRecords!D$3:AB$52,25,0)),\"0#\")),\"\")","v":""},"",{"$f":"IFERROR(VLOOKUP(C146,ProjectRecords!D$3:AO$52,38,0),\"\")","v":0}]
[{"$f":"VLOOKUP(TableOfContents!B$1,ProgramIDs!A$2:C$38,3,FALSE)","v":{"$error":"#N/A"}},{"$f":"TableOfContents!I$5","v":2019},"",{"$f":"VLOOKUP($C147,ProjectRecords!$D$3:U$53,18,0)","v":"grant no"},{"$f":"VLOOKUP($C147,ProjectRecords!$D$3:V$53,19,0)","v":"amd no"},{"$f":"VLOOKUP($C147,ProjectRecords!$D$3:W$53,20,0)","v":"fund source"},{"$f":"INDIRECT(\"'TableOfContents'\"&CONCATENATE(\"!i\",TEXT((INT((ROW(B148)-3)/4))+7,\"###\")))","v":""},{"$f":"INDIRECT(\"'TableOfContents'\"&CONCATENATE(\"!j\",TEXT((INT((ROW(C148)-3)/4))+7,\"###\")))","v":""},null,{"$f":"IFERROR(IF(C147=\"\",\"\",TEXT(B147,\"####\")&\"-\"&TEXT(MONTH(VLOOKUP(C147,ProjectRecords!D$3:AB$52,25,0)),\"0#\")&\"-\"&TEXT(DAY(VLOOKUP(C147,ProjectRecords!D$3:AB$52,25,0)),\"0#\")),\"\")","v":""},"",{"$f":"IFERROR(VLOOKUP(C147,ProjectRecords!D$3:AO$52,38,0),\"\")","v":0}]
[{"$f":"VLOOKUP(TableOfContents!B$1,ProgramIDs!A$2:C$38,3,FALSE)","v":{"$error":"#N/A"}},{"$f":"TableOfContents!K$5","v":2020},"",{"$f":"VLOOKUP($C148,ProjectRecords!$D$3:U$53,18,0)","v":"grant no"},{"$f":"VLOOKUP($C148,ProjectRecords!$D$3:V$53,19,0)","v":"amd no"},{"$f":"VLOOKUP($C148,ProjectRecords!$D$3:W$53,20,0)","v":"fund source"},{"$f":"INDIRECT(\"'TableOfContents'\"&CONCATENATE(\"!k\",TEXT((INT((ROW(B149)-3)/4))+7,\"###\")))","v":""},{"$f":"INDIRECT(\"'TableOfContents'\"&CONCATENATE(\"!l\",TEXT((INT((ROW(C149)-3)/4))+7,\"###\")))","v":""},null,{"$f":"IFERROR(IF(C148=\"\",\"\",TEXT(B148,\"####\")&\"-\"&TEXT(MONTH(VLOOKUP(C148,ProjectRecords!D$3:AB$52,25,0)),\"0#\")&\"-\"&TEXT(DAY(VLOOKUP(C148,ProjectRecords!D$3:AB$52,25,0)),\"0#\")),\"\")","v":""},"",{"$f":"IFERROR(VLOOKUP(C148,ProjectRecords!D$3:AO$52,38,0),\"\")","v":0}]
[{"$f":"VLOOKUP(TableOfContents!B$1,ProgramIDs!A$2:C$38,3,FALSE)","v":{"$error":"#N/A"}},{"$f":"TableOfContents!M$5","v":2021},"",{"$f":"VLOOKUP($C149,ProjectRecords!$D$3:U$53,18,0)","v":"grant no"},{"$f":"VLOOKUP($C149,ProjectRecords!$D$3:V$53,19,0)","v":"amd no"},{"$f":"VLOOKUP($C149,ProjectRecords!$D$3:W$53,20,0)","v":"fund source"},{"$f":"INDIRECT(\"'TableOfContents'\"&CONCATENATE(\"!m\",TEXT((INT((ROW(B150)-3)/4))+7,\"###\")))","v":""},{"$f":"INDIRECT(\"'TableOfContents'\"&CONCATENATE(\"!n\",TEXT((INT((ROW(C150)-3)/4))+7,\"###\")))","v":""},null,{"$f":"IFERROR(IF(C149=\"\",\"\",TEXT(B149,\"####\")&\"-\"&TEXT(MONTH(VLOOKUP(C149,ProjectRecords!D$3:AB$52,25,0)),\"0#\")&\"-\"&TEXT(DAY(VLOOKUP(C149,ProjectRecords!D$3:AB$52,25,0)),\"0#\")),\"\")","v":""},"",{"$f":"IFERROR(VLOOKUP(C149,ProjectRecords!D$3:AO$52,38,0),\"\")","v":0}]
[{"$f":"VLOOKUP(TableOfContents!B$1,ProgramIDs!A$2:C$38,3,FALSE)","v":{"$error":"#N/A"}},{"$f":"TableOfContents!G$5","v":2018},"",{"$f":"VLOOKUP($C150,ProjectRecords!$D$3:U$53,18,0)","v":"grant no"},{"$f":"VLOOKUP($C150,ProjectRecords!$D$3:V$53,19,0)","v":"amd no"},{"$f":"VLOOKUP($C150,ProjectRecords!$D$3:W$53,20,0)","v":"fund source"},{"$f":"INDIRECT(\"'TableOfContents'\"&CONCATENATE(\"!G\",TEXT((INT((ROW(B151)-3)/4))+7,\"###\")))","v":""},{"$f":"INDIRECT(\"'TableOfContents'\"&CONCATENATE(\"!H\",TEXT((INT((ROW(C151)-3)/4))+7,\"###\")))","v":""},null,{"$f":"IFERROR(IF(C150=\"\",\"\",TEXT(B150,\"####\")&\"-\"&TEXT(MONTH(VLOOKUP(C150,ProjectRecords!D$3:AB$52,25,0)),\"0#\")&\"-\"&TEXT(DAY(VLOOKUP(C150,ProjectRecords!D$3:AB$52,25,0)),\"0#\")),\"\")","v":""},"",{"$f":"IFERROR(VLOOKUP(C150,ProjectRecords!D$3:AO$52,38,0),\"\")","v":0}]
[{"$f":"VLOOKUP(TableOfContents!B$1,ProgramIDs!A$2:C$38,3,FALSE)","v":{"$error":"#N/A"}},{"$f":"TableOfContents!I$5","v":2019},"",{"$f":"VLOOKUP($C151,ProjectRecords!$D$3:U$53,18,0)","v":"grant no"},{"$f":"VLOOKUP($C151,ProjectRecords!$D$3:V$53,19,0)","v":"amd no"},{"$f":"VLOOKUP($C151,ProjectRecords!$D$3:W$53,20,0)","v":"fund source"},{"$f":"INDIRECT(\"'TableOfContents'\"&CONCATENATE(\"!i\",TEXT((INT((ROW(B152)-3)/4))+7,\"###\")))","v":""},{"$f":"INDIRECT(\"'TableOfContents'\"&CONCATENATE(\"!j\",TEXT((INT((ROW(C152)-3)/4))+7,\"###\")))","v":""},null,{"$f":"IFERROR(IF(C151=\"\",\"\",TEXT(B151,\"####\")&\"-\"&TEXT(MONTH(VLOOKUP(C151,ProjectRecords!D$3:AB$52,25,0)),\"0#\")&\"-\"&TEXT(DAY(VLOOKUP(C151,ProjectRecords!D$3:AB$52,25,0)),\"0#\")),\"\")","v":""},"",{"$f":"IFERROR(VLOOKUP(C151,ProjectRecords!D$3:AO$52,38,0),\"\")","v":0}]
[{"$f":"VLOOKUP(TableOfContents!B$1,ProgramIDs!A$2:C$38,3,FALSE)","v":{"$error":"#N/A"}},{"$f":"TableOfContents!K$5","v":2020},"",{"$f":"VLOOKUP($C152,ProjectRecords!$D$3:U$53,18,0)","v":"grant no"},{"$f":"VLOOKUP($C152,ProjectRecords!$D$3:V$53,19,0)","v":"amd no"},{"$f":"VLOOKUP($C152,ProjectRecords!$D$3:W$53,20,0)","v":"fund source"},{"$f":"INDIRECT(\"'TableOfContents'\"&CONCATENATE(\"!k\",TEXT((INT((ROW(B153)-3)/4))+7,\"###\")))","v":""},{"$f":"INDIRECT(\"'TableOfContents'\"&CONCATENATE(\"!l\",TEXT((INT((ROW(C153)-3)/4))+7,\"###\")))","v":""},null,{"$f":"IFERROR(IF(C152=\"\",\"\",TEXT(B152,\"####\")&\"-\"&TEXT(MONTH(VLOOKUP(C152,ProjectRecords!D$3:AB$52,25,0)),\"0#\")&\"-\"&TEXT(DAY(VLOOKUP(C152,ProjectRecords!D$3:AB$52,25,0)),\"0#\")),\"\")","v":""},"",{"$f":"IFERROR(VLOOKUP(C152,ProjectRecords!D$3:AO$52,38,0),\"\")","v":0}]
[{"$f":"VLOOKUP(TableOfContents!B$1,ProgramIDs!A$2:C$38,3,FALSE)","v":{"$error":"#N/A"}},{"$f":"TableOfContents!M$5","v":2021},"",{"$f":"VLOOKUP($C153,ProjectRecords!$D$3:U$53,18,0)","v":"grant no"},{"$f":"VLOOKUP($C153,ProjectRecords!$D$3:V$53,19,0)","v":"amd no"},{"$f":"VLOOKUP($C153,ProjectRecords!$D$3:W$53,20,0)","v":"fund source"},{"$f":"INDIRECT(\"'TableOfContents'\"&CONCATENATE(\"!m\",TEXT((INT((ROW(B154)-3)/4))+7,\"###\")))","v":""},{"$f":"INDIRECT(\"'TableOfContents'\"&CONCATENATE(\"!n\",TEXT((INT((ROW(C154)-3)/4))+7,\"###\")))","v":""},null,{"$f":"IFERROR(IF(C153=\"\",\"\",TEXT(B153,\"####\")&\"-\"&TEXT(MONTH(VLOOKUP(C153,ProjectRecords!D$3:AB$52,25,0)),\"0#\")&\"-\"&TEXT(DAY(VLOOKUP(C153,ProjectRecords!D$3:AB$52,25,0)),\"0#\")),\"\")","v":""},"",{"$f":"IFERROR(VLOOKUP(C153,ProjectRecords!D$3:AO$52,38,0),\"\")","v":0}]
[{"$f":"VLOOKUP(TableOfContents!B$1,ProgramIDs!A$2:C$38,3,FALSE)","v":{"$error":"#N/A"}},{"$f":"TableOfContents!G$5","v":2018},"",{"$f":"VLOOKUP($C154,ProjectRecords!$D$3:U$53,18,0)","v":"grant no"},{"$f":"VLOOKUP($C154,ProjectRecords!$D$3:V$53,19,0)","v":"amd no"},{"$f":"VLOOKUP($C154,ProjectRecords!$D$3:W$53,20,0)","v":"fund source"},{"$f":"INDIRECT(\"'TableOfContents'\"&CONCATENATE(\"!G\",TEXT((INT((ROW(B155)-3)/4))+7,\"###\")))","v":""},{"$f":"INDIRECT(\"'TableOfContents'\"&CONCATENATE(\"!H\",TEXT((INT((ROW(C155)-3)/4))+7,\"###\")))","v":""},null,{"$f":"IFERROR(IF(C154=\"\",\"\",TEXT(B154,\"####\")&\"-\"&TEXT(MONTH(VLOOKUP(C154,ProjectRecords!D$3:AB$52,25,0)),\"0#\")&\"-\"&TEXT(DAY(VLOOKUP(C154,ProjectRecords!D$3:AB$52,25,0)),\"0#\")),\"\")","v":""},"",{"$f":"IFERROR(VLOOKUP(C154,ProjectRecords!D$3:AO$52,38,0),\"\")","v":0}]
[{"$f":"VLOOKUP(TableOfContents!B$1,ProgramIDs!A$2:C$38,3,FALSE)","v":{"$error":"#N/A"}},{"$f":"TableOfContents!I$5","v":2019},"",{"$f":"VLOOKUP($C155,ProjectRecords!$D$3:U$53,18,0)","v":"grant no"},{"$f":"VLOOKUP($C155,ProjectRecords!$D$3:V$53,19,0)","v":"amd no"},{"$f":"VLOOKUP($C155,ProjectRecords!$D$3:W$53,20,0)","v":"fund source"},{"$f":"INDIRECT(\"'TableOfContents'\"&CONCATENATE(\"!i\",TEXT((INT((ROW(B156)-3)/4))+7,\"###\")))","v":""},{"$f":"INDIRECT(\"'TableOfContents'\"&CONCATENATE(\"!j\",TEXT((INT((ROW(C156)-3)/4))+7,\"###\")))","v":""},null,{"$f":"IFERROR(IF(C155=\"\",\"\",TEXT(B155,\"####\")&\"-\"&TEXT(MONTH(VLOOKUP(C155,ProjectRecords!D$3:AB$52,25,0)),\"0#\")&\"-\"&TEXT(DAY(VLOOKUP(C155,ProjectRecords!D$3:AB$52,25,0)),\"0#\")),\"\")","v":""},"",{"$f":"IFERROR(VLOOKUP(C155,ProjectRecords!D$3:AO$52,38,0),\"\")","v":0}]
[{"$f":"VLOOKUP(TableOfContents!B$1,ProgramIDs!A$2:C$38,3,FALSE)","v":{"$error":"#N/A"}},{"$f":"TableOfContents!K$5","v":2020},"",{"$f":"VLOOKUP($C156,ProjectRecords!$D$3:U$53,18,0)","v":"grant no"},{"$f":"VLOOKUP($C156,ProjectRecords!$D$3:V$53,19,0)","v":"amd no"},{"$f":"VLOOKUP($C156,ProjectRecords!$D$3:W$53,20,0)","v":"fund source"},{"$f":"INDIRECT(\"'TableOfContents'\"&CONCATENATE(\"!k\",TEXT((INT((ROW(B157)-3)/4))+7,\"###\")))","v":""},{"$f":"INDIRECT(\"'TableOfContents'\"&CONCATENATE(\"!l\",TEXT((INT((ROW(C157)-3)/4))+7,\"###\")))","v":""},null,{"$f":"IFERROR(IF(C156=\"\",\"\",TEXT(B156,\"####\")&\"-\"&TEXT(MONTH(VLOOKUP(C156,ProjectRecords!D$3:AB$52,25,0)),\"0#\")&\"-\"&TEXT(DAY(VLOOKUP(C156,ProjectRecords!D$3:AB$52,25,0)),\"0#\")),\"\")","v":""},"",{"$f":"IFERROR(VLOOKUP(C156,ProjectRecords!D$3:AO$52,38,0),\"\")","v":0}]
[{"$f":"VLOOKUP(TableOfContents!B$1,ProgramIDs!A$2:C$38,3,FALSE)","v":{"$error":"#N/A"}},{"$f":"TableOfContents!M$5","v":2021},"",{"$f":"VLOOKUP($C157,ProjectRecords!$D$3:U$53,18,0)","v":"grant no"},{"$f":"VLOOKUP($C157,ProjectRecords!$D$3:V$53,19,0)","v":"amd no"},{"$f":"VLOOKUP($C157,ProjectRecords!$D$3:W$53,20,0)","v":"fund source"},{"$f":"INDIRECT(\"'TableOfContents'\"&CONCATENATE(\"!m\",TEXT((INT((ROW(B158)-3)/4))+7,\"###\")))","v":""},{"$f":"INDIRECT(\"'TableOfContents'\"&CONCATENATE(\"!n\",TEXT((INT((ROW(C158)-3)/4))+7,\"###\")))","v":""},null,{"$f":"IFERROR(IF(C157=\"\",\"\",TEXT(B157,\"####\")&\"-\"&TEXT(MONTH(VLOOKUP(C157,ProjectRecords!D$3:AB$52,25,0)),\"0#\")&\"-\"&TEXT(DAY(VLOOKUP(C157,ProjectRecords!D$3:AB$52,25,0)),\"0#\")),\"\")","v":""},"",{"$f":"IFERROR(VLOOKUP(C157,ProjectRecords!D$3:AO$52,38,0),\"\")","v":0}]
[{"$f":"VLOOKUP(TableOfContents!B$1,ProgramIDs!A$2:C$38,3,FALSE)","v":{"$error":"#N/A"}},{"$f":"TableOfContents!G$5","v":2018},"",{"$f":"VLOOKUP($C158,ProjectRecords!$D$3:U$53,18,0)","v":"grant no"},{"$f":"VLOOKUP($C158,ProjectRecords!$D$3:V$53,19,0)","v":"amd no"},{"$f":"VLOOKUP($C158,ProjectRecords!$D$3:W$53,20,0)","v":"fund source"},{"$f":"INDIRECT(\"'TableOfContents'\"&CONCATENATE(\"!G\",TEXT((INT((ROW(B159)-3)/4))+7,\"###\")))","v":""},{"$f":"INDIRECT(\"'TableOfContents'\"&CONCATENATE(\"!H\",TEXT((INT((ROW(C159)-3)/4))+7,\"###\")))","v":""},null,{"$f":"IFERROR(IF(C158=\"\",\"\",TEXT(B158,\"####\")&\"-\"&TEXT(MONTH(VLOOKUP(C158,ProjectRecords!D$3:AB$52,25,0)),\"0#\")&\"-\"&TEXT(DAY(VLOOKUP(C158,ProjectRecords!D$3:AB$52,25,0)),\"0#\")),\"\")","v":""},"",{"$f":"IFERROR(VLOOKUP(C158,ProjectRecords!D$3:AO$52,38,0),\"\")","v":0}]
[{"$f":"VLOOKUP(TableOfContents!B$1,ProgramIDs!A$2:C$38,3,FALSE)","v":{"$error":"#N/A"}},{"$f":"TableOfContents!I$5","v":2019},"",{"$f":"VLOOKUP($C159,ProjectRecords!$D$3:U$53,18,0)","v":"grant no"},{"$f":"VLOOKUP($C159,ProjectRecords!$D$3:V$53,19,0)","v":"amd no"},{"$f":"VLOOKUP($C159,ProjectRecords!$D$3:W$53,20,0)","v":"fund source"},{"$f":"INDIRECT(\"'TableOfContents'\"&CONCATENATE(\"!i\",TEXT((INT((ROW(B160)-3)/4))+7,\"###\")))","v":""},{"$f":"INDIRECT(\"'TableOfContents'\"&CONCATENATE(\"!j\",TEXT((INT((ROW(C160)-3)/4))+7,\"###\")))","v":""},null,{"$f":"IFERROR(IF(C159=\"\",\"\",TEXT(B159,\"####\")&\"-\"&TEXT(MONTH(VLOOKUP(C159,ProjectRecords!D$3:AB$52,25,0)),\"0#\")&\"-\"&TEXT(DAY(VLOOKUP(C159,ProjectRecords!D$3:AB$52,25,0)),\"0#\")),\"\")","v":""},"",{"$f":"IFERROR(VLOOKUP(C159,ProjectRecords!D$3:AO$52,38,0),\"\")","v":0}]
[{"$f":"VLOOKUP(TableOfContents!B$1,ProgramIDs!A$2:C$38,3,FALSE)","v":{"$error":"#N/A"}},{"$f":"TableOfContents!K$5","v":2020},"",{"$f":"VLOOKUP($C160,ProjectRecords!$D$3:U$53,18,0)","v":"grant no"},{"$f":"VLOOKUP($C160,ProjectRecords!$D$3:V$53,19,0)","v":"amd no"},{"$f":"VLOOKUP($C160,ProjectRecords!$D$3:W$53,20,0)","v":"fund source"},{"$f":"INDIRECT(\"'TableOfContents'\"&CONCATENATE(\"!k\",TEXT((INT((ROW(B161)-3)/4))+7,\"###\")))","v":""},{"$f":"INDIRECT(\"'TableOfContents'\"&CONCATENATE(\"!l\",TEXT((INT((ROW(C161)-3)/4))+7,\"###\")))","v":""},null,{"$f":"IFERROR(IF(C160=\"\",\"\",TEXT(B160,\"####\")&\"-\"&TEXT(MONTH(VLOOKUP(C160,ProjectRecords!D$3:AB$52,25,0)),\"0#\")&\"-\"&TEXT(DAY(VLOOKUP(C160,ProjectRecords!D$3:AB$52,25,0)),\"0#\")),\"\")","v":""},"",{"$f":"IFERROR(VLOOKUP(C160,ProjectRecords!D$3:AO$52,38,0),\"\")","v":0}]
[{"$f":"VLOOKUP(TableOfContents!B$1,ProgramIDs!A$2:C$38,3,FALSE)","v":{"$error":"#N/A"}},{"$f":"TableOfContents!M$5","v":2021},"",{"$f":"VLOOKUP($C161,ProjectRecords!$D$3:U$53,18,0)","v":"grant no"},{"$f":"VLOOKUP($C161,ProjectRecords!$D$3:V$53,19,0)","v":"amd no"},{"$f":"VLOOKUP($C161,ProjectRecords!$D$3:W$53,20,0)","v":"fund source"},{"$f":"INDIRECT(\"'TableOfContents'\"&CONCATENATE(\"!m\",TEXT((INT((ROW(B162)-3)/4))+7,\"###\")))","v":""},{"$f":"INDIRECT(\"'TableOfContents'\"&CONCATENATE(\"!n\",TEXT((INT((ROW(C162)-3)/4))+7,\"###\")))","v":""},null,{"$f":"IFERROR(IF(C161=\"\",\"\",TEXT(B161,\"####\")&\"-\"&TEXT(MONTH(VLOOKUP(C161,ProjectRecords!D$3:AB$52,25,0)),\"0#\")&\"-\"&TEXT(DAY(VLOOKUP(C161,ProjectRecords!D$3:AB$52,25,0)),\"0#\")),\"\")","v":""},"",{"$f":"IFERROR(VLOOKUP(C161,ProjectRecords!D$3:AO$52,38,0),\"\")","v":0}]
[{"$f":"VLOOKUP(TableOfContents!B$1,ProgramIDs!A$2:C$38,3,FALSE)","v":{"$error":"#N/A"}},{"$f":"TableOfContents!G$5","v":2018},"",{"$f":"VLOOKUP($C162,ProjectRecords!$D$3:U$53,18,0)","v":"grant no"},{"$f":"VLOOKUP($C162,ProjectRecords!$D$3:V$53,19,0)","v":"amd no"},{"$f":"VLOOKUP($C162,ProjectRecords!$D$3:W$53,20,0)","v":"fund source"},{"$f":"INDIRECT(\"'TableOfContents'\"&CONCATENATE(\"!G\",TEXT((INT((ROW(B163)-3)/4))+7,\"###\")))","v":""},{"$f":"INDIRECT(\"'TableOfContents'\"&CONCATENATE(\"!H\",TEXT((INT((ROW(C163)-3)/4))+7,\"###\")))","v":""},null,{"$f":"IFERROR(IF(C162=\"\",\"\",TEXT(B162,\"####\")&\"-\"&TEXT(MONTH(VLOOKUP(C162,ProjectRecords!D$3:AB$52,25,0)),\"0#\")&\"-\"&TEXT(DAY(VLOOKUP(C162,ProjectRecords!D$3:AB$52,25,0)),\"0#\")),\"\")","v":""},"",{"$f":"IFERROR(VLOOKUP(C162,ProjectRecords!D$3:AO$52,38,0),\"\")","v":0}]
[{"$f":"VLOOKUP(TableOfContents!B$1,ProgramIDs!A$2:C$38,3,FALSE)","v":{"$error":"#N/A"}},{"$f":"TableOfContents!I$5","v":2019},"",{"$f":"VLOOKUP($C163,ProjectRecords!$D$3:U$53,18,0)","v":"grant no"},{"$f":"VLOOKUP($C163,ProjectRecords!$D$3:V$53,19,0)","v":"amd no"},{"$f":"VLOOKUP($C163,ProjectRecords!$D$3:W$53,20,0)","v":"fund source"},{"$f":"INDIRECT(\"'TableOfContents'\"&CONCATENATE(\"!i\",TEXT((INT((ROW(B164)-3)/4))+7,\"###\")))","v":""},{"$f":"INDIRECT(\"'TableOfContents'\"&CONCATENATE(\"!j\",TEXT((INT((ROW(C164)-3)/4))+7,\"###\")))","v":""},null,{"$f":"IFERROR(IF(C163=\"\",\"\",TEXT(B163,\"####\")&\"-\"&TEXT(MONTH(VLOOKUP(C163,ProjectRecords!D$3:AB$52,25,0)),\"0#\")&\"-\"&TEXT(DAY(VLOOKUP(C163,ProjectRecords!D$3:AB$52,25,0)),\"0#\")),\"\")","v":""},"",{"$f":"IFERROR(VLOOKUP(C163,ProjectRecords!D$3:AO$52,38,0),\"\")","v":0}]
[{"$f":"VLOOKUP(TableOfContents!B$1,ProgramIDs!A$2:C$38,3,FALSE)","v":{"$error":"#N/A"}},{"$f":"TableOfContents!K$5","v":2020},"",{"$f":"VLOOKUP($C164,ProjectRecords!$D$3:U$53,18,0)","v":"grant no"},{"$f":"VLOOKUP($C164,ProjectRecords!$D$3:V$53,19,0)","v":"amd no"},{"$f":"VLOOKUP($C164,ProjectRecords!$D$3:W$53,20,0)","v":"fund source"},{"$f":"INDIRECT(\"'TableOfContents'\"&CONCATENATE(\"!k\",TEXT((INT((ROW(B165)-3)/4))+7,\"###\")))","v":""},{"$f":"INDIRECT(\"'TableOfContents'\"&CONCATENATE(\"!l\",TEXT((INT((ROW(C165)-3)/4))+7,\"###\")))","v":""},null,{"$f":"IFERROR(IF(C164=\"\",\"\",TEXT(B164,\"####\")&\"-\"&TEXT(MONTH(VLOOKUP(C164,ProjectRecords!D$3:AB$52,25,0)),\"0#\")&\"-\"&TEXT(DAY(VLOOKUP(C164,ProjectRecords!D$3:AB$52,25,0)),\"0#\")),\"\")","v":""},"",{"$f":"IFERROR(VLOOKUP(C164,ProjectRecords!D$3:AO$52,38,0),\"\")","v":0}]
[{"$f":"VLOOKUP(TableOfContents!B$1,ProgramIDs!A$2:C$38,3,FALSE)","v":{"$error":"#N/A"}},{"$f":"TableOfContents!M$5","v":2021},"",{"$f":"VLOOKUP($C165,ProjectRecords!$D$3:U$53,18,0)","v":"grant no"},{"$f":"VLOOKUP($C165,ProjectRecords!$D$3:V$53,19,0)","v":"amd no"},{"$f":"VLOOKUP($C165,ProjectRecords!$D$3:W$53,20,0)","v":"fund source"},{"$f":"INDIRECT(\"'TableOfContents'\"&CONCATENATE(\"!m\",TEXT((INT((ROW(B166)-3)/4))+7,\"###\")))","v":""},{"$f":"INDIRECT(\"'TableOfContents'\"&CONCATENATE(\"!n\",TEXT((INT((ROW(C166)-3)/4))+7,\"###\")))","v":""},null,{"$f":"IFERROR(IF(C165=\"\",\"\",TEXT(B165,\"####\")&\"-\"&TEXT(MONTH(VLOOKUP(C165,ProjectRecords!D$3:AB$52,25,0)),\"0#\")&\"-\"&TEXT(DAY(VLOOKUP(C165,ProjectRecords!D$3:AB$52,25,0)),\"0#\")),\"\")","v":""},"",{"$f":"IFERROR(VLOOKUP(C165,ProjectRecords!D$3:AO$52,38,0),\"\")","v":0}]
[{"$f":"VLOOKUP(TableOfContents!B$1,ProgramIDs!A$2:C$38,3,FALSE)","v":{"$error":"#N/A"}},{"$f":"TableOfContents!G$5","v":2018},"",{"$f":"VLOOKUP($C166,ProjectRecords!$D$3:U$53,18,0)","v":"grant no"},{"$f":"VLOOKUP($C166,ProjectRecords!$D$3:V$53,19,0)","v":"amd no"},{"$f":"VLOOKUP($C166,ProjectRecords!$D$3:W$53,20,0)","v":"fund source"},{"$f":"INDIRECT(\"'TableOfContents'\"&CONCATENATE(\"!G\",TEXT((INT((ROW(B167)-3)/4))+7,\"###\")))","v":""},{"$f":"INDIRECT(\"'TableOfContents'\"&CONCATENATE(\"!H\",TEXT((INT((ROW(C167)-3)/4))+7,\"###\")))","v":""},null,{"$f":"IFERROR(IF(C166=\"\",\"\",TEXT(B166,\"####\")&\"-\"&TEXT(MONTH(VLOOKUP(C166,ProjectRecords!D$3:AB$52,25,0)),\"0#\")&\"-\"&TEXT(DAY(VLOOKUP(C166,ProjectRecords!D$3:AB$52,25,0)),\"0#\")),\"\")","v":""},"",{"$f":"IFERROR(VLOOKUP(C166,ProjectRecords!D$3:AO$52,38,0),\"\")","v":0}]
[{"$f":"VLOOKUP(TableOfContents!B$1,ProgramIDs!A$2:C$38,3,FALSE)","v":{"$error":"#N/A"}},{"$f":"TableOfContents!I$5","v":2019},"",{"$f":"VLOOKUP($C167,ProjectRecords!$D$3:U$53,18,0)","v":"grant no"},{"$f":"VLOOKUP($C167,ProjectRecords!$D$3:V$53,19,0)","v":"amd no"},{"$f":"VLOOKUP($C167,ProjectRecords!$D$3:W$53,20,0)","v":"fund source"},{"$f":"INDIRECT(\"'TableOfContents'\"&CONCATENATE(\"!i\",TEXT((INT((ROW(B168)-3)/4))+7,\"###\")))","v":""},{"$f":"INDIRECT(\"'TableOfContents'\"&CONCATENATE(\"!j\",TEXT((INT((ROW(C168)-3)/4))+7,\"###\")))","v":""},null,{"$f":"IFERROR(IF(C167=\"\",\"\",TEXT(B167,\"####\")&\"-\"&TEXT(MONTH(VLOOKUP(C167,ProjectRecords!D$3:AB$52,25,0)),\"0#\")&\"-\"&TEXT(DAY(VLOOKUP(C167,ProjectRecords!D$3:AB$52,25,0)),\"0#\")),\"\")","v":""},"",{"$f":"IFERROR(VLOOKUP(C167,ProjectRecords!D$3:AO$52,38,0),\"\")","v":0}]
[{"$f":"VLOOKUP(TableOfContents!B$1,ProgramIDs!A$2:C$38,3,FALSE)","v":{"$error":"#N/A"}},{"$f":"TableOfContents!K$5","v":2020},"",{"$f":"VLOOKUP($C168,ProjectRecords!$D$3:U$53,18,0)","v":"grant no"},{"$f":"VLOOKUP($C168,ProjectRecords!$D$3:V$53,19,0)","v":"amd no"},{"$f":"VLOOKUP($C168,ProjectRecords!$D$3:W$53,20,0)","v":"fund source"},{"$f":"INDIRECT(\"'TableOfContents'\"&CONCATENATE(\"!k\",TEXT((INT((ROW(B169)-3)/4))+7,\"###\")))","v":""},{"$f":"INDIRECT(\"'TableOfContents'\"&CONCATENATE(\"!l\",TEXT((INT((ROW(C169)-3)/4))+7,\"###\")))","v":""},null,{"$f":"IFERROR(IF(C168=\"\",\"\",TEXT(B168,\"####\")&\"-\"&TEXT(MONTH(VLOOKUP(C168,ProjectRecords!D$3:AB$52,25,0)),\"0#\")&\"-\"&TEXT(DAY(VLOOKUP(C168,ProjectRecords!D$3:AB$52,25,0)),\"0#\")),\"\")","v":""},"",{"$f":"IFERROR(VLOOKUP(C168,ProjectRecords!D$3:AO$52,38,0),\"\")","v":0}]
[{"$f":"VLOOKUP(TableOfContents!B$1,ProgramIDs!A$2:C$38,3,FALSE)","v":{"$error":"#N/A"}},{"$f":"TableOfContents!M$5","v":2021},"",{"$f":"VLOOKUP($C169,ProjectRecords!$D$3:U$53,18,0)","v":"grant no"},{"$f":"VLOOKUP($C169,ProjectRecords!$D$3:V$53,19,0)","v":"amd no"},{"$f":"VLOOKUP($C169,ProjectRecords!$D$3:W$53,20,0)","v":"fund source"},{"$f":"INDIRECT(\"'TableOfContents'\"&CONCATENATE(\"!m\",TEXT((INT((ROW(B170)-3)/4))+7,\"###\")))","v":""},{"$f":"INDIRECT(\"'TableOfContents'\"&CONCATENATE(\"!n\",TEXT((INT((ROW(C170)-3)/4))+7,\"###\")))","v":""},null,{"$f":"IFERROR(IF(C169=\"\",\"\",TEXT(B169,\"####\")&\"-\"&TEXT(MONTH(VLOOKUP(C169,ProjectRecords!D$3:AB$52,25,0)),\"0#\")&\"-\"&TEXT(DAY(VLOOKUP(C169,ProjectRecords!D$3:AB$52,25,0)),\"0#\")),\"\")","v":""},"",{"$f":"IFERROR(VLOOKUP(C169,ProjectRecords!D$3:AO$52,38,0),\"\")","v":0}]
[{"$f":"VLOOKUP(TableOfContents!B$1,ProgramIDs!A$2:C$38,3,FALSE)","v":{"$error":"#N/A"}},{"$f":"TableOfContents!G$5","v":2018},"",{"$f":"VLOOKUP($C170,ProjectRecords!$D$3:U$53,18,0)","v":"grant no"},{"$f":"VLOOKUP($C170,ProjectRecords!$D$3:V$53,19,0)","v":"amd no"},{"$f":"VLOOKUP($C170,ProjectRecords!$D$3:W$53,20,0)","v":"fund source"},{"$f":"INDIRECT(\"'TableOfContents'\"&CONCATENATE(\"!G\",TEXT((INT((ROW(B171)-3)/4))+7,\"###\")))","v":""},{"$f":"INDIRECT(\"'TableOfContents'\"&CONCATENATE(\"!H\",TEXT((INT((ROW(C171)-3)/4))+7,\"###\")))","v":""},null,{"$f":"IFERROR(IF(C170=\"\",\"\",TEXT(B170,\"####\")&\"-\"&TEXT(MONTH(VLOOKUP(C170,ProjectRecords!D$3:AB$52,25,0)),\"0#\")&\"-\"&TEXT(DAY(VLOOKUP(C170,ProjectRecords!D$3:AB$52,25,0)),\"0#\")),\"\")","v":""},"",{"$f":"IFERROR(VLOOKUP(C170,ProjectRecords!D$3:AO$52,38,0),\"\")","v":0}]
[{"$f":"VLOOKUP(TableOfContents!B$1,ProgramIDs!A$2:C$38,3,FALSE)","v":{"$error":"#N/A"}},{"$f":"TableOfContents!I$5","v":2019},"",{"$f":"VLOOKUP($C171,ProjectRecords!$D$3:U$53,18,0)","v":"grant no"},{"$f":"VLOOKUP($C171,ProjectRecords!$D$3:V$53,19,0)","v":"amd no"},{"$f":"VLOOKUP($C171,ProjectRecords!$D$3:W$53,20,0)","v":"fund source"},{"$f":"INDIRECT(\"'TableOfContents'\"&CONCATENATE(\"!i\",TEXT((INT((ROW(B172)-3)/4))+7,\"###\")))","v":""},{"$f":"INDIRECT(\"'TableOfContents'\"&CONCATENATE(\"!j\",TEXT((INT((ROW(C172)-3)/4))+7,\"###\")))","v":""},null,{"$f":"IFERROR(IF(C171=\"\",\"\",TEXT(B171,\"####\")&\"-\"&TEXT(MONTH(VLOOKUP(C171,ProjectRecords!D$3:AB$52,25,0)),\"0#\")&\"-\"&TEXT(DAY(VLOOKUP(C171,ProjectRecords!D$3:AB$52,25,0)),\"0#\")),\"\")","v":""},"",{"$f":"IFERROR(VLOOKUP(C171,ProjectRecords!D$3:AO$52,38,0),\"\")","v":0}]
[{"$f":"VLOOKUP(TableOfContents!B$1,ProgramIDs!A$2:C$38,3,FALSE)","v":{"$error":"#N/A"}},{"$f":"TableOfContents!K$5","v":2020},"",{"$f":"VLOOKUP($C172,ProjectRecords!$D$3:U$53,18,0)","v":"grant no"},{"$f":"VLOOKUP($C172,ProjectRecords!$D$3:V$53,19,0)","v":"amd no"},{"$f":"VLOOKUP($C172,ProjectRecords!$D$3:W$53,20,0)","v":"fund source"},{"$f":"INDIRECT(\"'TableOfContents'\"&CONCATENATE(\"!k\",TEXT((INT((ROW(B173)-3)/4))+7,\"###\")))","v":""},{"$f":"INDIRECT(\"'TableOfContents'\"&CONCATENATE(\"!l\",TEXT((INT((ROW(C173)-3)/4))+7,\"###\")))","v":""},null,{"$f":"IFERROR(IF(C172=\"\",\"\",TEXT(B172,\"####\")&\"-\"&TEXT(MONTH(VLOOKUP(C172,ProjectRecords!D$3:AB$52,25,0)),\"0#\")&\"-\"&TEXT(DAY(VLOOKUP(C172,ProjectRecords!D$3:AB$52,25,0)),\"0#\")),\"\")","v":""},"",{"$f":"IFERROR(VLOOKUP(C172,ProjectRecords!D$3:AO$52,38,0),\"\")","v":0}]
[{"$f":"VLOOKUP(TableOfContents!B$1,ProgramIDs!A$2:C$38,3,FALSE)","v":{"$error":"#N/A"}},{"$f":"TableOfContents!M$5","v":2021},"",{"$f":"VLOOKUP($C173,ProjectRecords!$D$3:U$53,18,0)","v":"grant no"},{"$f":"VLOOKUP($C173,ProjectRecords!$D$3:V$53,19,0)","v":"amd no"},{"$f":"VLOOKUP($C173,ProjectRecords!$D$3:W$53,20,0)","v":"fund source"},{"$f":"INDIRECT(\"'TableOfContents'\"&CONCATENATE(\"!m\",TEXT((INT((ROW(B174)-3)/4))+7,\"###\")))","v":""},{"$f":"INDIRECT(\"'TableOfContents'\"&CONCATENATE(\"!n\",TEXT((INT((ROW(C174)-3)/4))+7,\"###\")))","v":""},null,{"$f":"IFERROR(IF(C173=\"\",\"\",TEXT(B173,\"####\")&\"-\"&TEXT(MONTH(VLOOKUP(C173,ProjectRecords!D$3:AB$52,25,0)),\"0#\")&\"-\"&TEXT(DAY(VLOOKUP(C173,ProjectRecords!D$3:AB$52,25,0)),\"0#\")),\"\")","v":""},"",{"$f":"IFERROR(VLOOKUP(C173,ProjectRecords!D$3:AO$52,38,0),\"\")","v":0}]
[{"$f":"VLOOKUP(TableOfContents!B$1,ProgramIDs!A$2:C$38,3,FALSE)","v":{"$error":"#N/A"}},{"$f":"TableOfContents!G$5","v":2018},"",{"$f":"VLOOKUP($C174,ProjectRecords!$D$3:U$53,18,0)","v":"grant no"},{"$f":"VLOOKUP($C174,ProjectRecords!$D$3:V$53,19,0)","v":"amd no"},{"$f":"VLOOKUP($C174,ProjectRecords!$D$3:W$53,20,0)","v":"fund source"},{"$f":"INDIRECT(\"'TableOfContents'\"&CONCATENATE(\"!G\",TEXT((INT((ROW(B175)-3)/4))+7,\"###\")))","v":""},{"$f":"INDIRECT(\"'TableOfContents'\"&CONCATENATE(\"!H\",TEXT((INT((ROW(C175)-3)/4))+7,\"###\")))","v":""},null,{"$f":"IFERROR(IF(C174=\"\",\"\",TEXT(B174,\"####\")&\"-\"&TEXT(MONTH(VLOOKUP(C174,ProjectRecords!D$3:AB$52,25,0)),\"0#\")&\"-\"&TEXT(DAY(VLOOKUP(C174,ProjectRecords!D$3:AB$52,25,0)),\"0#\")),\"\")","v":""},"",{"$f":"IFERROR(VLOOKUP(C174,ProjectRecords!D$3:AO$52,38,0),\"\")","v":0}]
[{"$f":"VLOOKUP(TableOfContents!B$1,ProgramIDs!A$2:C$38,3,FALSE)","v":{"$error":"#N/A"}},{"$f":"TableOfContents!I$5","v":2019},"",{"$f":"VLOOKUP($C175,ProjectRecords!$D$3:U$53,18,0)","v":"grant no"},{"$f":"VLOOKUP($C175,ProjectRecords!$D$3:V$53,19,0)","v":"amd no"},{"$f":"VLOOKUP($C175,ProjectRecords!$D$3:W$53,20,0)","v":"fund source"},{"$f":"INDIRECT(\"'TableOfContents'\"&CONCATENATE(\"!i\",TEXT((INT((ROW(B176)-3)/4))+7,\"###\")))","v":""},{"$f":"INDIRECT(\"'TableOfContents'\"&CONCATENATE(\"!j\",TEXT((INT((ROW(C176)-3)/4))+7,\"###\")))","v":""},null,{"$f":"IFERROR(IF(C175=\"\",\"\",TEXT(B175,\"####\")&\"-\"&TEXT(MONTH(VLOOKUP(C175,ProjectRecords!D$3:AB$52,25,0)),\"0#\")&\"-\"&TEXT(DAY(VLOOKUP(C175,ProjectRecords!D$3:AB$52,25,0)),\"0#\")),\"\")","v":""},"",{"$f":"IFERROR(VLOOKUP(C175,ProjectRecords!D$3:AO$52,38,0),\"\")","v":0}]
[{"$f":"VLOOKUP(TableOfContents!B$1,ProgramIDs!A$2:C$38,3,FALSE)","v":{"$error":"#N/A"}},{"$f":"TableOfContents!K$5","v":2020},"",{"$f":"VLOOKUP($C176,ProjectRecords!$D$3:U$53,18,0)","v":"grant no"},{"$f":"VLOOKUP($C176,ProjectRecords!$D$3:V$53,19,0)","v":"amd no"},{"$f":"VLOOKUP($C176,ProjectRecords!$D$3:W$53,20,0)","v":"fund source"},{"$f":"INDIRECT(\"'TableOfContents'\"&CONCATENATE(\"!k\",TEXT((INT((ROW(B177)-3)/4))+7,\"###\")))","v":""},{"$f":"INDIRECT(\"'TableOfContents'\"&CONCATENATE(\"!l\",TEXT((INT((ROW(C177)-3)/4))+7,\"###\")))","v":""},null,{"$f":"IFERROR(IF(C176=\"\",\"\",TEXT(B176,\"####\")&\"-\"&TEXT(MONTH(VLOOKUP(C176,ProjectRecords!D$3:AB$52,25,0)),\"0#\")&\"-\"&TEXT(DAY(VLOOKUP(C176,ProjectRecords!D$3:AB$52,25,0)),\"0#\")),\"\")","v":""},"",{"$f":"IFERROR(VLOOKUP(C176,ProjectRecords!D$3:AO$52,38,0),\"\")","v":0}]
[{"$f":"VLOOKUP(TableOfContents!B$1,ProgramIDs!A$2:C$38,3,FALSE)","v":{"$error":"#N/A"}},{"$f":"TableOfContents!M$5","v":2021},"",{"$f":"VLOOKUP($C177,ProjectRecords!$D$3:U$53,18,0)","v":"grant no"},{"$f":"VLOOKUP($C177,ProjectRecords!$D$3:V$53,19,0)","v":"amd no"},{"$f":"VLOOKUP($C177,ProjectRecords!$D$3:W$53,20,0)","v":"fund source"},{"$f":"INDIRECT(\"'TableOfContents'\"&CONCATENATE(\"!m\",TEXT((INT((ROW(B178)-3)/4))+7,\"###\")))","v":""},{"$f":"INDIRECT(\"'TableOfContents'\"&CONCATENATE(\"!n\",TEXT((INT((ROW(C178)-3)/4))+7,\"###\")))","v":""},null,{"$f":"IFERROR(IF(C177=\"\",\"\",TEXT(B177,\"####\")&\"-\"&TEXT(MONTH(VLOOKUP(C177,ProjectRecords!D$3:AB$52,25,0)),\"0#\")&\"-\"&TEXT(DAY(VLOOKUP(C177,ProjectRecords!D$3:AB$52,25,0)),\"0#\")),\"\")","v":""},"",{"$f":"IFERROR(VLOOKUP(C177,ProjectRecords!D$3:AO$52,38,0),\"\")","v":0}]
[{"$f":"VLOOKUP(TableOfContents!B$1,ProgramIDs!A$2:C$38,3,FALSE)","v":{"$error":"#N/A"}},{"$f":"TableOfContents!G$5","v":2018},"",{"$f":"VLOOKUP($C178,ProjectRecords!$D$3:U$53,18,0)","v":"grant no"},{"$f":"VLOOKUP($C178,ProjectRecords!$D$3:V$53,19,0)","v":"amd no"},{"$f":"VLOOKUP($C178,ProjectRecords!$D$3:W$53,20,0)","v":"fund source"},{"$f":"INDIRECT(\"'TableOfContents'\"&CONCATENATE(\"!G\",TEXT((INT((ROW(B179)-3)/4))+7,\"###\")))","v":""},{"$f":"INDIRECT(\"'TableOfContents'\"&CONCATENATE(\"!H\",TEXT((INT((ROW(C179)-3)/4))+7,\"###\")))","v":""},null,{"$f":"IFERROR(IF(C178=\"\",\"\",TEXT(B178,\"####\")&\"-\"&TEXT(MONTH(VLOOKUP(C178,ProjectRecords!D$3:AB$52,25,0)),\"0#\")&\"-\"&TEXT(DAY(VLOOKUP(C178,ProjectRecords!D$3:AB$52,25,0)),\"0#\")),\"\")","v":""},"",{"$f":"IFERROR(VLOOKUP(C178,ProjectRecords!D$3:AO$52,38,0),\"\")","v":0}]
[{"$f":"VLOOKUP(TableOfContents!B$1,ProgramIDs!A$2:C$38,3,FALSE)","v":{"$error":"#N/A"}},{"$f":"TableOfContents!I$5","v":2019},"",{"$f":"VLOOKUP($C179,ProjectRecords!$D$3:U$53,18,0)","v":"grant no"},{"$f":"VLOOKUP($C179,ProjectRecords!$D$3:V$53,19,0)","v":"amd no"},{"$f":"VLOOKUP($C179,ProjectRecords!$D$3:W$53,20,0)","v":"fund source"},{"$f":"INDIRECT(\"'TableOfContents'\"&CONCATENATE(\"!i\",TEXT((INT((ROW(B180)-3)/4))+7,\"###\")))","v":""},{"$f":"INDIRECT(\"'TableOfContents'\"&CONCATENATE(\"!j\",TEXT((INT((ROW(C180)-3)/4))+7,\"###\")))","v":""},null,{"$f":"IFERROR(IF(C179=\"\",\"\",TEXT(B179,\"####\")&\"-\"&TEXT(MONTH(VLOOKUP(C179,ProjectRecords!D$3:AB$52,25,0)),\"0#\")&\"-\"&TEXT(DAY(VLOOKUP(C179,ProjectRecords!D$3:AB$52,25,0)),\"0#\")),\"\")","v":""},"",{"$f":"IFERROR(VLOOKUP(C179,ProjectRecords!D$3:AO$52,38,0),\"\")","v":0}]
[{"$f":"VLOOKUP(TableOfContents!B$1,ProgramIDs!A$2:C$38,3,FALSE)","v":{"$error":"#N/A"}},{"$f":"TableOfContents!K$5","v":2020},"",{"$f":"VLOOKUP($C180,ProjectRecords!$D$3:U$53,18,0)","v":"grant no"},{"$f":"VLOOKUP($C180,ProjectRecords!$D$3:V$53,19,0)","v":"amd no"},{"$f":"VLOOKUP($C180,ProjectRecords!$D$3:W$53,20,0)","v":"fund source"},{"$f":"INDIRECT(\"'TableOfContents'\"&CONCATENATE(\"!k\",TEXT((INT((ROW(B181)-3)/4))+7,\"###\")))","v":""},{"$f":"INDIRECT(\"'TableOfContents'\"&CONCATENATE(\"!l\",TEXT((INT((ROW(C181)-3)/4))+7,\"###\")))","v":""},null,{"$f":"IFERROR(IF(C180=\"\",\"\",TEXT(B180,\"####\")&\"-\"&TEXT(MONTH(VLOOKUP(C180,ProjectRecords!D$3:AB$52,25,0)),\"0#\")&\"-\"&TEXT(DAY(VLOOKUP(C180,ProjectRecords!D$3:AB$52,25,0)),\"0#\")),\"\")","v":""},"",{"$f":"IFERROR(VLOOKUP(C180,ProjectRecords!D$3:AO$52,38,0),\"\")","v":0}]
[{"$f":"VLOOKUP(TableOfContents!B$1,ProgramIDs!A$2:C$38,3,FALSE)","v":{"$error":"#N/A"}},{"$f":"TableOfContents!M$5","v":2021},"",{"$f":"VLOOKUP($C181,ProjectRecords!$D$3:U$53,18,0)","v":"grant no"},{"$f":"VLOOKUP($C181,ProjectRecords!$D$3:V$53,19,0)","v":"amd no"},{"$f":"VLOOKUP($C181,ProjectRecords!$D$3:W$53,20,0)","v":"fund source"},{"$f":"INDIRECT(\"'TableOfContents'\"&CONCATENATE(\"!m\",TEXT((INT((ROW(B182)-3)/4))+7,\"###\")))","v":""},{"$f":"INDIRECT(\"'TableOfContents'\"&CONCATENATE(\"!n\",TEXT((INT((ROW(C182)-3)/4))+7,\"###\")))","v":""},null,{"$f":"IFERROR(IF(C181=\"\",\"\",TEXT(B181,\"####\")&\"-\"&TEXT(MONTH(VLOOKUP(C181,ProjectRecords!D$3:AB$52,25,0)),\"0#\")&\"-\"&TEXT(DAY(VLOOKUP(C181,ProjectRecords!D$3:AB$52,25,0)),\"0#\")),\"\")","v":""},"",{"$f":"IFERROR(VLOOKUP(C181,ProjectRecords!D$3:AO$52,38,0),\"\")","v":0}]
[{"$f":"VLOOKUP(TableOfContents!B$1,ProgramIDs!A$2:C$38,3,FALSE)","v":{"$error":"#N/A"}},{"$f":"TableOfContents!G$5","v":2018},"",{"$f":"VLOOKUP($C182,ProjectRecords!$D$3:U$53,18,0)","v":"grant no"},{"$f":"VLOOKUP($C182,ProjectRecords!$D$3:V$53,19,0)","v":"amd no"},{"$f":"VLOOKUP($C182,ProjectRecords!$D$3:W$53,20,0)","v":"fund source"},{"$f":"INDIRECT(\"'TableOfContents'\"&CONCATENATE(\"!G\",TEXT((INT((ROW(B183)-3)/4))+7,\"###\")))","v":""},{"$f":"INDIRECT(\"'TableOfContents'\"&CONCATENATE(\"!H\",TEXT((INT((ROW(C183)-3)/4))+7,\"###\")))","v":""},null,{"$f":"IFERROR(IF(C182=\"\",\"\",TEXT(B182,\"####\")&\"-\"&TEXT(MONTH(VLOOKUP(C182,ProjectRecords!D$3:AB$52,25,0)),\"0#\")&\"-\"&TEXT(DAY(VLOOKUP(C182,ProjectRecords!D$3:AB$52,25,0)),\"0#\")),\"\")","v":""},"",{"$f":"IFERROR(VLOOKUP(C182,ProjectRecords!D$3:AO$52,38,0),\"\")","v":0}]
[{"$f":"VLOOKUP(TableOfContents!B$1,ProgramIDs!A$2:C$38,3,FALSE)","v":{"$error":"#N/A"}},{"$f":"TableOfContents!I$5","v":2019},"",{"$f":"VLOOKUP($C183,ProjectRecords!$D$3:U$53,18,0)","v":"grant no"},{"$f":"VLOOKUP($C183,ProjectRecords!$D$3:V$53,19,0)","v":"amd no"},{"$f":"VLOOKUP($C183,ProjectRecords!$D$3:W$53,20,0)","v":"fund source"},{"$f":"INDIRECT(\"'TableOfContents'\"&CONCATENATE(\"!i\",TEXT((INT((ROW(B184)-3)/4))+7,\"###\")))","v":""},{"$f":"INDIRECT(\"'TableOfContents'\"&CONCATENATE(\"!j\",TEXT((INT((ROW(C184)-3)/4))+7,\"###\")))","v":""},null,{"$f":"IFERROR(IF(C183=\"\",\"\",TEXT(B183,\"####\")&\"-\"&TEXT(MONTH(VLOOKUP(C183,ProjectRecords!D$3:AB$52,25,0)),\"0#\")&\"-\"&TEXT(DAY(VLOOKUP(C183,ProjectRecords!D$3:AB$52,25,0)),\"0#\")),\"\")","v":""},"",{"$f":"IFERROR(VLOOKUP(C183,ProjectRecords!D$3:AO$52,38,0),\"\")","v":0}]
[{"$f":"VLOOKUP(TableOfContents!B$1,ProgramIDs!A$2:C$38,3,FALSE)","v":{"$error":"#N/A"}},{"$f":"TableOfContents!K$5","v":2020},"",{"$f":"VLOOKUP($C184,ProjectRecords!$D$3:U$53,18,0)","v":"grant no"},{"$f":"VLOOKUP($C184,ProjectRecords!$D$3:V$53,19,0)","v":"amd no"},{"$f":"VLOOKUP($C184,ProjectRecords!$D$3:W$53,20,0)","v":"fund source"},{"$f":"INDIRECT(\"'TableOfContents'\"&CONCATENATE(\"!k\",TEXT((INT((ROW(B185)-3)/4))+7,\"###\")))","v":""},{"$f":"INDIRECT(\"'TableOfContents'\"&CONCATENATE(\"!l\",TEXT((INT((ROW(C185)-3)/4))+7,\"###\")))","v":""},null,{"$f":"IFERROR(IF(C184=\"\",\"\",TEXT(B184,\"####\")&\"-\"&TEXT(MONTH(VLOOKUP(C184,ProjectRecords!D$3:AB$52,25,0)),\"0#\")&\"-\"&TEXT(DAY(VLOOKUP(C184,ProjectRecords!D$3:AB$52,25,0)),\"0#\")),\"\")","v":""},"",{"$f":"IFERROR(VLOOKUP(C184,ProjectRecords!D$3:AO$52,38,0),\"\")","v":0}]
[{"$f":"VLOOKUP(TableOfContents!B$1,ProgramIDs!A$2:C$38,3,FALSE)","v":{"$error":"#N/A"}},{"$f":"TableOfContents!M$5","v":2021},"",{"$f":"VLOOKUP($C185,ProjectRecords!$D$3:U$53,18,0)","v":"grant no"},{"$f":"VLOOKUP($C185,ProjectRecords!$D$3:V$53,19,0)","v":"amd no"},{"$f":"VLOOKUP($C185,ProjectRecords!$D$3:W$53,20,0)","v":"fund source"},{"$f":"INDIRECT(\"'TableOfContents'\"&CONCATENATE(\"!m\",TEXT((INT((ROW(B186)-3)/4))+7,\"###\")))","v":""},{"$f":"INDIRECT(\"'TableOfContents'\"&CONCATENATE(\"!n\",TEXT((INT((ROW(C186)-3)/4))+7,\"###\")))","v":""},null,{"$f":"IFERROR(IF(C185=\"\",\"\",TEXT(B185,\"####\")&\"-\"&TEXT(MONTH(VLOOKUP(C185,ProjectRecords!D$3:AB$52,25,0)),\"0#\")&\"-\"&TEXT(DAY(VLOOKUP(C185,ProjectRecords!D$3:AB$52,25,0)),\"0#\")),\"\")","v":""},"",{"$f":"IFERROR(VLOOKUP(C185,ProjectRecords!D$3:AO$52,38,0),\"\")","v":0}]
[{"$f":"VLOOKUP(TableOfContents!B$1,ProgramIDs!A$2:C$38,3,FALSE)","v":{"$error":"#N/A"}},{"$f":"TableOfContents!G$5","v":2018},"",{"$f":"VLOOKUP($C186,ProjectRecords!$D$3:U$53,18,0)","v":"grant no"},{"$f":"VLOOKUP($C186,ProjectRecords!$D$3:V$53,19,0)","v":"amd no"},{"$f":"VLOOKUP($C186,ProjectRecords!$D$3:W$53,20,0)","v":"fund source"},{"$f":"INDIRECT(\"'TableOfContents'\"&CONCATENATE(\"!G\",TEXT((INT((ROW(B187)-3)/4))+7,\"###\")))","v":""},{"$f":"INDIRECT(\"'TableOfContents'\"&CONCATENATE(\"!H\",TEXT((INT((ROW(C187)-3)/4))+7,\"###\")))","v":""},null,{"$f":"IFERROR(IF(C186=\"\",\"\",TEXT(B186,\"####\")&\"-\"&TEXT(MONTH(VLOOKUP(C186,ProjectRecords!D$3:AB$52,25,0)),\"0#\")&\"-\"&TEXT(DAY(VLOOKUP(C186,ProjectRecords!D$3:AB$52,25,0)),\"0#\")),\"\")","v":""},"",{"$f":"IFERROR(VLOOKUP(C186,ProjectRecords!D$3:AO$52,38,0),\"\")","v":0}]
[{"$f":"VLOOKUP(TableOfContents!B$1,ProgramIDs!A$2:C$38,3,FALSE)","v":{"$error":"#N/A"}},{"$f":"TableOfContents!I$5","v":2019},"",{"$f":"VLOOKUP($C187,ProjectRecords!$D$3:U$53,18,0)","v":"grant no"},{"$f":"VLOOKUP($C187,ProjectRecords!$D$3:V$53,19,0)","v":"amd no"},{"$f":"VLOOKUP($C187,ProjectRecords!$D$3:W$53,20,0)","v":"fund source"},{"$f":"INDIRECT(\"'TableOfContents'\"&CONCATENATE(\"!i\",TEXT((INT((ROW(B188)-3)/4))+7,\"###\")))","v":""},{"$f":"INDIRECT(\"'TableOfContents'\"&CONCATENATE(\"!j\",TEXT((INT((ROW(C188)-3)/4))+7,\"###\")))","v":""},null,{"$f":"IFERROR(IF(C187=\"\",\"\",TEXT(B187,\"####\")&\"-\"&TEXT(MONTH(VLOOKUP(C187,ProjectRecords!D$3:AB$52,25,0)),\"0#\")&\"-\"&TEXT(DAY(VLOOKUP(C187,ProjectRecords!D$3:AB$52,25,0)),\"0#\")),\"\")","v":""},"",{"$f":"IFERROR(VLOOKUP(C187,ProjectRecords!D$3:AO$52,38,0),\"\")","v":0}]
[{"$f":"VLOOKUP(TableOfContents!B$1,ProgramIDs!A$2:C$38,3,FALSE)","v":{"$error":"#N/A"}},{"$f":"TableOfContents!K$5","v":2020},"",{"$f":"VLOOKUP($C188,ProjectRecords!$D$3:U$53,18,0)","v":"grant no"},{"$f":"VLOOKUP($C188,ProjectRecords!$D$3:V$53,19,0)","v":"amd no"},{"$f":"VLOOKUP($C188,ProjectRecords!$D$3:W$53,20,0)","v":"fund source"},{"$f":"INDIRECT(\"'TableOfContents'\"&CONCATENATE(\"!k\",TEXT((INT((ROW(B189)-3)/4))+7,\"###\")))","v":""},{"$f":"INDIRECT(\"'TableOfContents'\"&CONCATENATE(\"!l\",TEXT((INT((ROW(C189)-3)/4))+7,\"###\")))","v":""},null,{"$f":"IFERROR(IF(C188=\"\",\"\",TEXT(B188,\"####\")&\"-\"&TEXT(MONTH(VLOOKUP(C188,ProjectRecords!D$3:AB$52,25,0)),\"0#\")&\"-\"&TEXT(DAY(VLOOKUP(C188,ProjectRecords!D$3:AB$52,25,0)),\"0#\")),\"\")","v":""},"",{"$f":"IFERROR(VLOOKUP(C188,ProjectRecords!D$3:AO$52,38,0),\"\")","v":0}]
[{"$f":"VLOOKUP(TableOfContents!B$1,ProgramIDs!A$2:C$38,3,FALSE)","v":{"$error":"#N/A"}},{"$f":"TableOfContents!M$5","v":2021},"",{"$f":"VLOOKUP($C189,ProjectRecords!$D$3:U$53,18,0)","v":"grant no"},{"$f":"VLOOKUP($C189,ProjectRecords!$D$3:V$53,19,0)","v":"amd no"},{"$f":"VLOOKUP($C189,ProjectRecords!$D$3:W$53,20,0)","v":"fund source"},{"$f":"INDIRECT(\"'TableOfContents'\"&CONCATENATE(\"!m\",TEXT((INT((ROW(B190)-3)/4))+7,\"###\")))","v":""},{"$f":"INDIRECT(\"'TableOfContents'\"&CONCATENATE(\"!n\",TEXT((INT((ROW(C190)-3)/4))+7,\"###\")))","v":""},null,{"$f":"IFERROR(IF(C189=\"\",\"\",TEXT(B189,\"####\")&\"-\"&TEXT(MONTH(VLOOKUP(C189,ProjectRecords!D$3:AB$52,25,0)),\"0#\")&\"-\"&TEXT(DAY(VLOOKUP(C189,ProjectRecords!D$3:AB$52,25,0)),\"0#\")),\"\")","v":""},"",{"$f":"IFERROR(VLOOKUP(C189,ProjectRecords!D$3:AO$52,38,0),\"\")","v":0}]
[{"$f":"VLOOKUP(TableOfContents!B$1,ProgramIDs!A$2:C$38,3,FALSE)","v":{"$error":"#N/A"}},{"$f":"TableOfContents!G$5","v":2018},"",{"$f":"VLOOKUP($C190,ProjectRecords!$D$3:U$53,18,0)","v":"grant no"},{"$f":"VLOOKUP($C190,ProjectRecords!$D$3:V$53,19,0)","v":"amd no"},{"$f":"VLOOKUP($C190,ProjectRecords!$D$3:W$53,20,0)","v":"fund source"},{"$f":"INDIRECT(\"'TableOfContents'\"&CONCATENATE(\"!G\",TEXT((INT((ROW(B191)-3)/4))+7,\"###\")))","v":""},{"$f":"INDIRECT(\"'TableOfContents'\"&CONCATENATE(\"!H\",TEXT((INT((ROW(C191)-3)/4))+7,\"###\")))","v":""},null,{"$f":"IFERROR(IF(C190=\"\",\"\",TEXT(B190,\"####\")&\"-\"&TEXT(MONTH(VLOOKUP(C190,ProjectRecords!D$3:AB$52,25,0)),\"0#\")&\"-\"&TEXT(DAY(VLOOKUP(C190,ProjectRecords!D$3:AB$52,25,0)),\"0#\")),\"\")","v":""},"",{"$f":"IFERROR(VLOOKUP(C190,ProjectRecords!D$3:AO$52,38,0),\"\")","v":0}]
[{"$f":"VLOOKUP(TableOfContents!B$1,ProgramIDs!A$2:C$38,3,FALSE)","v":{"$error":"#N/A"}},{"$f":"TableOfContents!I$5","v":2019},"",{"$f":"VLOOKUP($C191,ProjectRecords!$D$3:U$53,18,0)","v":"grant no"},{"$f":"VLOOKUP($C191,ProjectRecords!$D$3:V$53,19,0)","v":"amd no"},{"$f":"VLOOKUP($C191,ProjectRecords!$D$3:W$53,20,0)","v":"fund source"},{"$f":"INDIRECT(\"'TableOfContents'\"&CONCATENATE(\"!i\",TEXT((INT((ROW(B192)-3)/4))+7,\"###\")))","v":""},{"$f":"INDIRECT(\"'TableOfContents'\"&CONCATENATE(\"!j\",TEXT((INT((ROW(C192)-3)/4))+7,\"###\")))","v":""},null,{"$f":"IFERROR(IF(C191=\"\",\"\",TEXT(B191,\"####\")&\"-\"&TEXT(MONTH(VLOOKUP(C191,ProjectRecords!D$3:AB$52,25,0)),\"0#\")&\"-\"&TEXT(DAY(VLOOKUP(C191,ProjectRecords!D$3:AB$52,25,0)),\"0#\")),\"\")","v":""},"",{"$f":"IFERROR(VLOOKUP(C191,ProjectRecords!D$3:AO$52,38,0),\"\")","v":0}]
[{"$f":"VLOOKUP(TableOfContents!B$1,ProgramIDs!A$2:C$38,3,FALSE)","v":{"$error":"#N/A"}},{"$f":"TableOfContents!K$5","v":2020},"",{"$f":"VLOOKUP($C192,ProjectRecords!$D$3:U$53,18,0)","v":"grant no"},{"$f":"VLOOKUP($C192,ProjectRecords!$D$3:V$53,19,0)","v":"amd no"},{"$f":"VLOOKUP($C192,ProjectRecords!$D$3:W$53,20,0)","v":"fund source"},{"$f":"INDIRECT(\"'TableOfContents'\"&CONCATENATE(\"!k\",TEXT((INT((ROW(B193)-3)/4))+7,\"###\")))","v":""},{"$f":"INDIRECT(\"'TableOfContents'\"&CONCATENATE(\"!l\",TEXT((INT((ROW(C193)-3)/4))+7,\"###\")))","v":""},null,{"$f":"IFERROR(IF(C192=\"\",\"\",TEXT(B192,\"####\")&\"-\"&TEXT(MONTH(VLOOKUP(C192,ProjectRecords!D$3:AB$52,25,0)),\"0#\")&\"-\"&TEXT(DAY(VLOOKUP(C192,ProjectRecords!D$3:AB$52,25,0)),\"0#\")),\"\")","v":""},"",{"$f":"IFERROR(VLOOKUP(C192,ProjectRecords!D$3:AO$52,38,0),\"\")","v":0}]
[{"$f":"VLOOKUP(TableOfContents!B$1,ProgramIDs!A$2:C$38,3,FALSE)","v":{"$error":"#N/A"}},{"$f":"TableOfContents!M$5","v":2021},"",{"$f":"VLOOKUP($C193,ProjectRecords!$D$3:U$53,18,0)","v":"grant no"},{"$f":"VLOOKUP($C193,ProjectRecords!$D$3:V$53,19,0)","v":"amd no"},{"$f":"VLOOKUP($C193,ProjectRecords!$D$3:W$53,20,0)","v":"fund source"},{"$f":"INDIRECT(\"'TableOfContents'\"&CONCATENATE(\"!m\",TEXT((INT((ROW(B194)-3)/4))+7,\"###\")))","v":""},{"$f":"INDIRECT(\"'TableOfContents'\"&CONCATENATE(\"!n\",TEXT((INT((ROW(C194)-3)/4))+7,\"###\")))","v":""},null,{"$f":"IFERROR(IF(C193=\"\",\"\",TEXT(B193,\"####\")&\"-\"&TEXT(MONTH(VLOOKUP(C193,ProjectRecords!D$3:AB$52,25,0)),\"0#\")&\"-\"&TEXT(DAY(VLOOKUP(C193,ProjectRecords!D$3:AB$52,25,0)),\"0#\")),\"\")","v":""},"",{"$f":"IFERROR(VLOOKUP(C193,ProjectRecords!D$3:AO$52,38,0),\"\")","v":0}]
[{"$f":"VLOOKUP(TableOfContents!B$1,ProgramIDs!A$2:C$38,3,FALSE)","v":{"$error":"#N/A"}},{"$f":"TableOfContents!M$5","v":2021},"",{"$f":"VLOOKUP($C194,ProjectRecords!$D$3:U$53,18,0)","v":"grant no"},{"$f":"VLOOKUP($C194,ProjectRecords!$D$3:V$53,19,0)","v":"amd no"},{"$f":"VLOOKUP($C194,ProjectRecords!$D$3:W$53,20,0)","v":"fund source"},{"$f":"INDIRECT(\"'TableOfContents'\"&CONCATENATE(\"!m\",TEXT((INT((ROW(B195)-3)/4))+7,\"###\")))","v":""},{"$f":"INDIRECT(\"'TableOfContents'\"&CONCATENATE(\"!n\",TEXT((INT((ROW(C195)-3)/4))+7,\"###\")))","v":""},null,{"$f":"IFERROR(IF(C194=\"\",\"\",TEXT(B194,\"####\")&\"-\"&TEXT(MONTH(VLOOKUP(C194,ProjectRecords!D$3:AB$52,25,0)),\"0#\")&\"-\"&TEXT(DAY(VLOOKUP(C194,ProjectRecords!D$3:AB$52,25,0)),\"0#\")),\"\")","v":""},"",{"$f":"IFERROR(VLOOKUP(C194,ProjectRecords!D$3:AO$52,38,0),\"\")","v":0}]
[{"$f":"VLOOKUP(TableOfContents!B$1,ProgramIDs!A$2:C$38,3,FALSE)","v":{"$error":"#N/A"}},{"$f":"TableOfContents!I$5","v":2019},{"$f":"CONCATENATE(INDIRECT(\"'TableOfContents'\"&CONCATENATE(\"!A\",TEXT((INT((ROW(B196)-3)/4))+7,\"###\"))),INDIRECT(\"'TableOfContents'\"&CONCATENATE(\"!B\",TEXT((INT((ROW(B196)-3)/4))+7,\"###\"))))","v":""},{"$f":"VLOOKUP($C195,ProjectRecords!$D$3:U$53,18,0)","v":"grant no"},{"$f":"VLOOKUP($C195,ProjectRecords!$D$3:V$53,19,0)","v":"amd no"},{"$f":"VLOOKUP($C195,ProjectRecords!$D$3:W$53,20,0)","v":"fund source"},{"$f":"INDIRECT(\"'TableOfContents'\"&CONCATENATE(\"!i\",TEXT((INT((ROW(B196)-3)/4))+7,\"###\")))","v":""},{"$f":"INDIRECT(\"'TableOfContents'\"&CONCATENATE(\"!j\",TEXT((INT((ROW(C196)-3)/4))+7,\"###\")))","v":""},null,{"$f":"IFERROR(IF(C195=\"\",\"\",TEXT(B195,\"####\")&\"-\"&TEXT(MONTH(VLOOKUP(C195,ProjectRecords!D$3:AB$52,25,0)),\"0#\")&\"-\"&TEXT(DAY(VLOOKUP(C195,ProjectRecords!D$3:AB$52,25,0)),\"0#\")),\"\")","v":""},{"$f":"IFERROR(IF(C195=\"\",\"\",DATE(YEAR(J195)+1,MONTH(DATEVALUE(J195)),DAY(DATEVALUE(J195)))-1),\"\")","v":""},{"$f":"IFERROR(VLOOKUP(C195,ProjectRecords!D$3:AO$52,38,0),\"\")","v":0}]
[{"$f":"VLOOKUP(TableOfContents!B$1,ProgramIDs!A$2:C$38,3,FALSE)","v":{"$error":"#N/A"}},{"$f":"TableOfContents!K$5","v":2020},"",{"$f":"VLOOKUP($C196,ProjectRecords!$D$3:U$53,18,0)","v":"grant no"},{"$f":"VLOOKUP($C196,ProjectRecords!$D$3:V$53,19,0)","v":"amd no"},{"$f":"VLOOKUP($C196,ProjectRecords!$D$3:W$53,20,0)","v":"fund source"},{"$f":"INDIRECT(\"'TableOfContents'\"&CONCATENATE(\"!k\",TEXT((INT((ROW(B197)-3)/4))+7,\"###\")))","v":""},{"$f":"INDIRECT(\"'TableOfContents'\"&CONCATENATE(\"!l\",TEXT((INT((ROW(C197)-3)/4))+7,\"###\")))","v":""},null,{"$f":"IFERROR(IF(C196=\"\",\"\",TEXT(B196,\"####\")&\"-\"&TEXT(MONTH(VLOOKUP(C196,ProjectRecords!D$3:AB$52,25,0)),\"0#\")&\"-\"&TEXT(DAY(VLOOKUP(C196,ProjectRecords!D$3:AB$52,25,0)),\"0#\")),\"\")","v":""},"",{"$f":"IFERROR(VLOOKUP(C196,ProjectRecords!D$3:AO$52,38,0),\"\")","v":0}]
[{"$f":"VLOOKUP(TableOfContents!B$1,ProgramIDs!A$2:C$38,3,FALSE)","v":{"$error":"#N/A"}},{"$f":"TableOfContents!M$5","v":2021},"",{"$f":"VLOOKUP($C197,ProjectRecords!$D$3:U$53,18,0)","v":"grant no"},{"$f":"VLOOKUP($C197,ProjectRecords!$D$3:V$53,19,0)","v":"amd no"},{"$f":"VLOOKUP($C197,ProjectRecords!$D$3:W$53,20,0)","v":"fund source"},{"$f":"INDIRECT(\"'TableOfContents'\"&CONCATENATE(\"!m\",TEXT((INT((ROW(B198)-3)/4))+7,\"###\")))","v":""},{"$f":"INDIRECT(\"'TableOfContents'\"&CONCATENATE(\"!n\",TEXT((INT((ROW(C198)-3)/4))+7,\"###\")))","v":""},null,{"$f":"IFERROR(IF(C197=\"\",\"\",TEXT(B197,\"####\")&\"-\"&TEXT(MONTH(VLOOKUP(C197,ProjectRecords!D$3:AB$52,25,0)),\"0#\")&\"-\"&TEXT(DAY(VLOOKUP(C197,ProjectRecords!D$3:AB$52,25,0)),\"0#\")),\"\")","v":""},"",{"$f":"IFERROR(VLOOKUP(C197,ProjectRecords!D$3:AO$52,38,0),\"\")","v":0}]
[{"$f":"VLOOKUP(TableOfContents!B$1,ProgramIDs!A$2:C$38,3,FALSE)","v":{"$error":"#N/A"}},{"$f":"TableOfContents!G$5","v":2018},"",{"$f":"VLOOKUP($C198,ProjectRecords!$D$3:U$53,18,0)","v":"grant no"},{"$f":"VLOOKUP($C198,ProjectRecords!$D$3:V$53,19,0)","v":"amd no"},{"$f":"VLOOKUP($C198,ProjectRecords!$D$3:W$53,20,0)","v":"fund source"},null,null,null,{"$f":"IFERROR(IF(C198=\"\",\"\",TEXT(B198,\"####\")&\"-\"&TEXT(MONTH(VLOOKUP(C198,ProjectRecords!D$3:AB$52,25,0)),\"0#\")&\"-\"&TEXT(DAY(VLOOKUP(C198,ProjectRecords!D$3:AB$52,25,0)),\"0#\")),\"\")","v":""},"",{"$f":"IFERROR(VLOOKUP(C198,ProjectRecords!D$3:AO$52,38,0),\"\")","v":0}]
[{"$f":"VLOOKUP(TableOfContents!B$1,ProgramIDs!A$2:C$38,3,FALSE)","v":{"$error":"#N/A"}},{"$f":"TableOfContents!I$5","v":2019},"",{"$f":"VLOOKUP($C199,ProjectRecords!$D$3:U$53,18,0)","v":"grant no"},{"$f":"VLOOKUP($C199,ProjectRecords!$D$3:V$53,19,0)","v":"amd no"},{"$f":"VLOOKUP($C199,ProjectRecords!$D$3:W$53,20,0)","v":"fund source"},null,null,null,{"$f":"IFERROR(IF(C199=\"\",\"\",TEXT(B199,\"####\")&\"-\"&TEXT(MONTH(VLOOKUP(C199,ProjectRecords!D$3:AB$52,25,0)),\"0#\")&\"-\"&TEXT(DAY(VLOOKUP(C199,ProjectRecords!D$3:AB$52,25,0)),\"0#\")),\"\")","v":""},"",{"$f":"IFERROR(VLOOKUP(C199,ProjectRecords!D$3:AO$52,38,0),\"\")","v":0}]
[{"$f":"VLOOKUP(TableOfContents!B$1,ProgramIDs!A$2:C$38,3,FALSE)","v":{"$error":"#N/A"}},{"$f":"TableOfContents!K$5","v":2020},"",{"$f":"VLOOKUP($C200,ProjectRecords!$D$3:U$53,18,0)","v":"grant no"},{"$f":"VLOOKUP($C200,ProjectRecords!$D$3:V$53,19,0)","v":"amd no"},{"$f":"VLOOKUP($C200,ProjectRecords!$D$3:W$53,20,0)","v":"fund source"},null,null,null,{"$f":"IFERROR(IF(C200=\"\",\"\",TEXT(B200,\"####\")&\"-\"&TEXT(MONTH(VLOOKUP(C200,ProjectRecords!D$3:AB$52,25,0)),\"0#\")&\"-\"&TEXT(DAY(VLOOKUP(C200,ProjectRecords!D$3:AB$52,25,0)),\"0#\")),\"\")","v":""},"",{"$f":"IFERROR(VLOOKUP(C200,ProjectRecords!D$3:AO$52,38,0),\"\")","v":0}]
[{"$f":"VLOOKUP(TableOfContents!B$1,ProgramIDs!A$2:C$38,3,FALSE)","v":{"$error":"#N/A"}},{"$f":"TableOfContents!M$5","v":2021},"",{"$f":"VLOOKUP($C201,ProjectRecords!$D$3:U$53,18,0)","v":"grant no"},{"$f":"VLOOKUP($C201,ProjectRecords!$D$3:V$53,19,0)","v":"amd no"},{"$f":"VLOOKUP($C201,ProjectRecords!$D$3:W$53,20,0)","v":"fund source"},null,null,null,{"$f":"IFERROR(IF(C201=\"\",\"\",TEXT(B201,\"####\")&\"-\"&TEXT(MONTH(VLOOKUP(C201,ProjectRecords!D$3:AB$52,25,0)),\"0#\")&\"-\"&TEXT(DAY(VLOOKUP(C201,ProjectRecords!D$3:AB$52,25,0)),\"0#\")),\"\")","v":""},"",{"$f":"IFERROR(VLOOKUP(C201,ProjectRecords!D$3:AO$52,38,0),\"\")","v":0}]
[null,null,"(no more than 50 projects)"]

{"sheet":"TOC generator worksheet","index":64,"n_rows":202,"n_cols":23,"rows_kept":202,"cut":false,"hidden":false,"merged":[]}
["Program ID number","Year","Proj No","Federal","Match","unique","row index","years","projects","PI","Title","FED","MATCH","FED","MATCH","FED","MATCH","FED","MATCH",null,null,"COMMENT",2018]
[{"$f":"FundDataInput!A2","v":0},{"$f":"FundDataInput!B2","v":0},{"$f":"FundDataInput!C2","v":0},{"$f":"FundDataInput!D2","v":0},{"$f":"FundDataInput!E2","v":0},1,{"$f":"MATCH(ROW(F2)-1,F$1:F$201,0)","v":2},{"$f":"YEAR(TableOfContents!$B$3)","v":2018},{"$f":"TableOfContents!A7&TableOfContents!B7","v":""},{"$f":"IF(ISERROR(VLOOKUP(I2,ProjDataInput!$B$2:$J$51,9,FALSE)),\"\",VLOOKUP(I2,ProjDataInput!$B$2:$J$51,9,FALSE))","v":""},{"$f":"IF(ISERROR(VLOOKUP(I2,ProjDataInput!$B$2:$C$51,2,FALSE)),\"\",VLOOKUP(I2,ProjDataInput!$B$2:$C$51,2,FALSE))","v":""},{"$f":"SUMIFS($D$2:$D$201,$C$2:$C$201,\"=\"&I2,$B$2:$B$201,\"=\"&H$2)","v":0},{"$f":"SUMIFS($E$2:$E$201,$C$2:$C$201,\"=\"&I2,$B$2:$B$201,\"=\"&H$2)","v":0},{"$f":"SUMIFS($D$2:$D$201,$C$2:$C$201,\"=\"&I2,$B$2:$B$201,\"=\"&H$3)","v":0},{"$f":"SUMIFS($E$2:$E$201,$C$2:$C$201,\"=\"&I2,$B$2:$B$201,\"=\"&H$3)","v":0},{"$f":"SUMIFS($D$2:$D$201,$C$2:$C$201,\"=\"&I2,$B$2:$B$201,\"=\"&H$4)","v":0},{"$f":"SUMIFS($E$2:$E$201,$C$2:$C$201,\"=\"&I2,$B$2:$B$201,\"=\"&H$4)","v":0},{"$f":"SUMIFS($D$2:$D$201,$C$2:$C$201,\"=\"&I2,$B$2:$B$201,\"=\"&H$5)","v":0},{"$f":"SUMIFS($E$2:$E$201,$C$2:$C$201,\"=\"&I2,$B$2:$B$201,\"=\"&H$5)","v":0},null,null,{"$f":"LEFT(ProjDataInput!S2,32000)","v":""},2018]
[{"$f":"FundDataInput!A3","v":0},{"$f":"FundDataInput!B3","v":0},{"$f":"FundDataInput!C3","v":0},{"$f":"FundDataInput!D3","v":0},{"$f":"FundDataInput!E3","v":0},{"$f":"IF(ISERROR(VLOOKUP(C3,C$2:C2,1,FALSE)),MAX(F$2:F2)+1,VLOOKUP(C3,C$2:F2,4,FALSE))","v":1},{"$f":"MATCH(ROW(F3)-1,F$1:F$201,0)","v":{"$error":"#N/A"}},{"$f":"H2+1","v":2019},{"$f":"TableOfContents!A8&TableOfContents!B8","v":""},{"$f":"IF(ISERROR(VLOOKUP(I3,ProjDataInput!$B$2:$J$51,9,FALSE)),\"\",VLOOKUP(I3,ProjDataInput!$B$2:$J$51,9,FALSE))","v":""},{"$f":"IF(ISERROR(VLOOKUP(I3,ProjDataInput!$B$2:$C$51,2,FALSE)),\"\",VLOOKUP(I3,ProjDataInput!$B$2:$C$51,2,FALSE))","v":""},0,0,0,0,0,0,0,0,null,null,{"$f":"LEFT(ProjDataInput!S3,32000)","v":""},{"$f":"IF(B3<2000,9999,B3)","v":9999}]
[{"$f":"FundDataInput!A4","v":0},{"$f":"FundDataInput!B4","v":0},{"$f":"FundDataInput!C4","v":0},{"$f":"FundDataInput!D4","v":0},{"$f":"FundDataInput!E4","v":0},{"$f":"IF(ISERROR(VLOOKUP(C4,C$2:C3,1,FALSE)),MAX(F$2:F3)+1,VLOOKUP(C4,C$2:F3,4,FALSE))","v":1},{"$error":"#N/A"},{"$f":"H3+1","v":2020},{"$f":"TableOfContents!A9&TableOfContents!B9","v":""},{"$f":"IF(ISERROR(VLOOKUP(I4,ProjDataInput!$B$2:$J$51,9,FALSE)),\"\",VLOOKUP(I4,ProjDataInput!$B$2:$J$51,9,FALSE))","v":""},{"$f":"IF(ISERROR(VLOOKUP(I4,ProjDataInput!$B$2:$C$51,2,FALSE)),\"\",VLOOKUP(I4,ProjDataInput!$B$2:$C$51,2,FALSE))","v":""},0,0,0,0,0,0,0,0,null,null,{"$f":"LEFT(ProjDataInput!S4,32000)","v":""},9999]
[{"$f":"FundDataInput!A5","v":0},{"$f":"FundDataInput!B5","v":0},{"$f":"FundDataInput!C5","v":0},{"$f":"FundDataInput!D5","v":0},{"$f":"FundDataInput!E5","v":0},{"$f":"IF(ISERROR(VLOOKUP(C5,C$2:C4,1,FALSE)),MAX(F$2:F4)+1,VLOOKUP(C5,C$2:F4,4,FALSE))","v":1},{"$error":"#N/A"},{"$f":"H4+1","v":2021},{"$f":"TableOfContents!A10&TableOfContents!B10","v":""},{"$f":"IF(ISERROR(VLOOKUP(I5,ProjDataInput!$B$2:$J$51,9,FALSE)),\"\",VLOOKUP(I5,ProjDataInput!$B$2:$J$51,9,FALSE))","v":""},{"$f":"IF(ISERROR(VLOOKUP(I5,ProjDataInput!$B$2:$C$51,2,FALSE)),\"\",VLOOKUP(I5,ProjDataInput!$B$2:$C$51,2,FALSE))","v":""},0,0,0,0,0,0,0,0,null,null,{"$f":"LEFT(ProjDataInput!S5,32000)","v":""},9999]
[{"$f":"FundDataInput!A6","v":0},{"$f":"FundDataInput!B6","v":0},{"$f":"FundDataInput!C6","v":0},{"$f":"FundDataInput!D6","v":0},{"$f":"FundDataInput!E6","v":0},{"$f":"IF(ISERROR(VLOOKUP(C6,C$2:C5,1,FALSE)),MAX(F$2:F5)+1,VLOOKUP(C6,C$2:F5,4,FALSE))","v":1},{"$error":"#N/A"},null,{"$f":"TableOfContents!A11&TableOfContents!B11","v":""},{"$f":"IF(ISERROR(VLOOKUP(I6,ProjDataInput!$B$2:$J$51,9,FALSE)),\"\",VLOOKUP(I6,ProjDataInput!$B$2:$J$51,9,FALSE))","v":""},{"$f":"IF(ISERROR(VLOOKUP(I6,ProjDataInput!$B$2:$C$51,2,FALSE)),\"\",VLOOKUP(I6,ProjDataInput!$B$2:$C$51,2,FALSE))","v":""},0,0,0,0,0,0,0,0,null,null,{"$f":"LEFT(ProjDataInput!S6,32000)","v":""},9999]
[{"$f":"FundDataInput!A7","v":0},{"$f":"FundDataInput!B7","v":0},{"$f":"FundDataInput!C7","v":0},{"$f":"FundDataInput!D7","v":0},{"$f":"FundDataInput!E7","v":0},{"$f":"IF(ISERROR(VLOOKUP(C7,C$2:C6,1,FALSE)),MAX(F$2:F6)+1,VLOOKUP(C7,C$2:F6,4,FALSE))","v":1},{"$error":"#N/A"},null,{"$f":"TableOfContents!A12&TableOfContents!B12","v":""},{"$f":"IF(ISERROR(VLOOKUP(I7,ProjDataInput!$B$2:$J$51,9,FALSE)),\"\",VLOOKUP(I7,ProjDataInput!$B$2:$J$51,9,FALSE))","v":""},{"$f":"IF(ISERROR(VLOOKUP(I7,ProjDataInput!$B$2:$C$51,2,FALSE)),\"\",VLOOKUP(I7,ProjDataInput!$B$2:$C$51,2,FALSE))","v":""},0,0,0,0,0,0,0,0,null,null,{"$f":"LEFT(ProjDataInput!S7,32000)","v":""},9999]
[{"$f":"FundDataInput!A8","v":0},{"$f":"FundDataInput!B8","v":0},{"$f":"FundDataInput!C8","v":0},{"$f":"FundDataInput!D8","v":0},{"$f":"FundDataInput!E8","v":0},{"$f":"IF(ISERROR(VLOOKUP(C8,C$2:C7,1,FALSE)),MAX(F$2:F7)+1,VLOOKUP(C8,C$2:F7,4,FALSE))","v":1},{"$error":"#N/A"},null,{"$f":"TableOfContents!A13&TableOfContents!B13","v":""},{"$f":"IF(ISERROR(VLOOKUP(I8,ProjDataInput!$B$2:$J$51,9,FALSE)),\"\",VLOOKUP(I8,ProjDataInput!$B$2:$J$51,9,FALSE))","v":""},{"$f":"IF(ISERROR(VLOOKUP(I8,ProjDataInput!$B$2:$C$51,2,FALSE)),\"\",VLOOKUP(I8,ProjDataInput!$B$2:$C$51,2,FALSE))","v":""},0,0,0,0,0,0,0,0,null,null,{"$f":"LEFT(ProjDataInput!S8,32000)","v":""},9999]
[{"$f":"FundDataInput!A9","v":0},{"$f":"FundDataInput!B9","v":0},{"$f":"FundDataInput!C9","v":0},{"$f":"FundDataInput!D9","v":0},{"$f":"FundDataInput!E9","v":0},{"$f":"IF(ISERROR(VLOOKUP(C9,C$2:C8,1,FALSE)),MAX(F$2:F8)+1,VLOOKUP(C9,C$2:F8,4,FALSE))","v":1},{"$error":"#N/A"},null,{"$f":"TableOfContents!A14&TableOfContents!B14","v":""},{"$f":"IF(ISERROR(VLOOKUP(I9,ProjDataInput!$B$2:$J$51,9,FALSE)),\"\",VLOOKUP(I9,ProjDataInput!$B$2:$J$51,9,FALSE))","v":""},{"$f":"IF(ISERROR(VLOOKUP(I9,ProjDataInput!$B$2:$C$51,2,FALSE)),\"\",VLOOKUP(I9,ProjDataInput!$B$2:$C$51,2,FALSE))","v":""},0,0,0,0,0,0,0,0,null,null,{"$f":"LEFT(ProjDataInput!S9,32000)","v":""},9999]
[{"$f":"FundDataInput!A10","v":0},{"$f":"FundDataInput!B10","v":0},{"$f":"FundDataInput!C10","v":0},{"$f":"FundDataInput!D10","v":0},{"$f":"FundDataInput!E10","v":0},{"$f":"IF(ISERROR(VLOOKUP(C10,C$2:C9,1,FALSE)),MAX(F$2:F9)+1,VLOOKUP(C10,C$2:F9,4,FALSE))","v":1},{"$error":"#N/A"},null,{"$f":"TableOfContents!A15&TableOfContents!B15","v":""},{"$f":"IF(ISERROR(VLOOKUP(I10,ProjDataInput!$B$2:$J$51,9,FALSE)),\"\",VLOOKUP(I10,ProjDataInput!$B$2:$J$51,9,FALSE))","v":""},{"$f":"IF(ISERROR(VLOOKUP(I10,ProjDataInput!$B$2:$C$51,2,FALSE)),\"\",VLOOKUP(I10,ProjDataInput!$B$2:$C$51,2,FALSE))","v":""},0,0,0,0,0,0,0,0,null,null,{"$f":"LEFT(ProjDataInput!S10,32000)","v":""},9999]
[{"$f":"FundDataInput!A11","v":0},{"$f":"FundDataInput!B11","v":0},{"$f":"FundDataInput!C11","v":0},{"$f":"FundDataInput!D11","v":0},{"$f":"FundDataInput!E11","v":0},{"$f":"IF(ISERROR(VLOOKUP(C11,C$2:C10,1,FALSE)),MAX(F$2:F10)+1,VLOOKUP(C11,C$2:F10,4,FALSE))","v":1},{"$error":"#N/A"},null,{"$f":"TableOfContents!A16&TableOfContents!B16","v":""},{"$f":"IF(ISERROR(VLOOKUP(I11,ProjDataInput!$B$2:$J$51,9,FALSE)),\"\",VLOOKUP(I11,ProjDataInput!$B$2:$J$51,9,FALSE))","v":""},{"$f":"IF(ISERROR(VLOOKUP(I11,ProjDataInput!$B$2:$C$51,2,FALSE)),\"\",VLOOKUP(I11,ProjDataInput!$B$2:$C$51,2,FALSE))","v":""},0,0,0,0,0,0,0,0,null,null,{"$f":"LEFT(ProjDataInput!S11,32000)","v":""},9999]
[{"$f":"FundDataInput!A12","v":0},{"$f":"FundDataInput!B12","v":0},{"$f":"FundDataInput!C12","v":0},{"$f":"FundDataInput!D12","v":0},{"$f":"FundDataInput!E12","v":0},{"$f":"IF(ISERROR(VLOOKUP(C12,C$2:C11,1,FALSE)),MAX(F$2:F11)+1,VLOOKUP(C12,C$2:F11,4,FALSE))","v":1},{"$error":"#N/A"},null,{"$f":"TableOfContents!A17&TableOfContents!B17","v":""},{"$f":"IF(ISERROR(VLOOKUP(I12,ProjDataInput!$B$2:$J$51,9,FALSE)),\"\",VLOOKUP(I12,ProjDataInput!$B$2:$J$51,9,FALSE))","v":""},{"$f":"IF(ISERROR(VLOOKUP(I12,ProjDataInput!$B$2:$C$51,2,FALSE)),\"\",VLOOKUP(I12,ProjDataInput!$B$2:$C$51,2,FALSE))","v":""},0,0,0,0,0,0,0,0,null,null,{"$f":"LEFT(ProjDataInput!S12,32000)","v":""},9999]
[{"$f":"FundDataInput!A13","v":0},{"$f":"FundDataInput!B13","v":0},{"$f":"FundDataInput!C13","v":0},{"$f":"FundDataInput!D13","v":0},{"$f":"FundDataInput!E13","v":0},{"$f":"IF(ISERROR(VLOOKUP(C13,C$2:C12,1,FALSE)),MAX(F$2:F12)+1,VLOOKUP(C13,C$2:F12,4,FALSE))","v":1},{"$error":"#N/A"},null,{"$f":"TableOfContents!A18&TableOfContents!B18","v":""},{"$f":"IF(ISERROR(VLOOKUP(I13,ProjDataInput!$B$2:$J$51,9,FALSE)),\"\",VLOOKUP(I13,ProjDataInput!$B$2:$J$51,9,FALSE))","v":""},{"$f":"IF(ISERROR(VLOOKUP(I13,ProjDataInput!$B$2:$C$51,2,FALSE)),\"\",VLOOKUP(I13,ProjDataInput!$B$2:$C$51,2,FALSE))","v":""},0,0,0,0,0,0,0,0,null,null,{"$f":"LEFT(ProjDataInput!S13,32000)","v":""},9999]
[{"$f":"FundDataInput!A14","v":0},{"$f":"FundDataInput!B14","v":0},{"$f":"FundDataInput!C14","v":0},{"$f":"FundDataInput!D14","v":0},{"$f":"FundDataInput!E14","v":0},{"$f":"IF(ISERROR(VLOOKUP(C14,C$2:C13,1,FALSE)),MAX(F$2:F13)+1,VLOOKUP(C14,C$2:F13,4,FALSE))","v":1},{"$error":"#N/A"},null,{"$f":"TableOfContents!A19&TableOfContents!B19","v":""},{"$f":"IF(ISERROR(VLOOKUP(I14,ProjDataInput!$B$2:$J$51,9,FALSE)),\"\",VLOOKUP(I14,ProjDataInput!$B$2:$J$51,9,FALSE))","v":""},{"$f":"IF(ISERROR(VLOOKUP(I14,ProjDataInput!$B$2:$C$51,2,FALSE)),\"\",VLOOKUP(I14,ProjDataInput!$B$2:$C$51,2,FALSE))","v":""},0,0,0,0,0,0,0,0,null,null,{"$f":"LEFT(ProjDataInput!S14,32000)","v":""},9999]
[{"$f":"FundDataInput!A15","v":0},{"$f":"FundDataInput!B15","v":0},{"$f":"FundDataInput!C15","v":0},{"$f":"FundDataInput!D15","v":0},{"$f":"FundDataInput!E15","v":0},{"$f":"IF(ISERROR(VLOOKUP(C15,C$2:C14,1,FALSE)),MAX(F$2:F14)+1,VLOOKUP(C15,C$2:F14,4,FALSE))","v":1},{"$error":"#N/A"},null,{"$f":"TableOfContents!A20&TableOfContents!B20","v":""},{"$f":"IF(ISERROR(VLOOKUP(I15,ProjDataInput!$B$2:$J$51,9,FALSE)),\"\",VLOOKUP(I15,ProjDataInput!$B$2:$J$51,9,FALSE))","v":""},{"$f":"IF(ISERROR(VLOOKUP(I15,ProjDataInput!$B$2:$C$51,2,FALSE)),\"\",VLOOKUP(I15,ProjDataInput!$B$2:$C$51,2,FALSE))","v":""},0,0,0,0,0,0,0,0,null,null,{"$f":"LEFT(ProjDataInput!S15,32000)","v":""},9999]
[{"$f":"FundDataInput!A16","v":0},{"$f":"FundDataInput!B16","v":0},{"$f":"FundDataInput!C16","v":0},{"$f":"FundDataInput!D16","v":0},{"$f":"FundDataInput!E16","v":0},{"$f":"IF(ISERROR(VLOOKUP(C16,C$2:C15,1,FALSE)),MAX(F$2:F15)+1,VLOOKUP(C16,C$2:F15,4,FALSE))","v":1},{"$error":"#N/A"},null,{"$f":"TableOfContents!A21&TableOfContents!B21","v":""},{"$f":"IF(ISERROR(VLOOKUP(I16,ProjDataInput!$B$2:$J$51,9,FALSE)),\"\",VLOOKUP(I16,ProjDataInput!$B$2:$J$51,9,FALSE))","v":""},{"$f":"IF(ISERROR(VLOOKUP(I16,ProjDataInput!$B$2:$C$51,2,FALSE)),\"\",VLOOKUP(I16,ProjDataInput!$B$2:$C$51,2,FALSE))","v":""},0,0,0,0,0,0,0,0,null,null,{"$f":"LEFT(ProjDataInput!S16,32000)","v":""},9999]
[{"$f":"FundDataInput!A17","v":0},{"$f":"FundDataInput!B17","v":0},{"$f":"FundDataInput!C17","v":0},{"$f":"FundDataInput!D17","v":0},{"$f":"FundDataInput!E17","v":0},{"$f":"IF(ISERROR(VLOOKUP(C17,C$2:C16,1,FALSE)),MAX(F$2:F16)+1,VLOOKUP(C17,C$2:F16,4,FALSE))","v":1},{"$error":"#N/A"},null,{"$f":"TableOfContents!A22&TableOfContents!B22","v":""},{"$f":"IF(ISERROR(VLOOKUP(I17,ProjDataInput!$B$2:$J$51,9,FALSE)),\"\",VLOOKUP(I17,ProjDataInput!$B$2:$J$51,9,FALSE))","v":""},{"$f":"IF(ISERROR(VLOOKUP(I17,ProjDataInput!$B$2:$C$51,2,FALSE)),\"\",VLOOKUP(I17,ProjDataInput!$B$2:$C$51,2,FALSE))","v":""},0,0,0,0,0,0,0,0,null,null,{"$f":"LEFT(ProjDataInput!S17,32000)","v":""},9999]
[{"$f":"FundDataInput!A18","v":0},{"$f":"FundDataInput!B18","v":0},{"$f":"FundDataInput!C18","v":0},{"$f":"FundDataInput!D18","v":0},{"$f":"FundDataInput!E18","v":0},{"$f":"IF(ISERROR(VLOOKUP(C18,C$2:C17,1,FALSE)),MAX(F$2:F17)+1,VLOOKUP(C18,C$2:F17,4,FALSE))","v":1},{"$error":"#N/A"},null,{"$f":"TableOfContents!A23&TableOfContents!B23","v":""},{"$f":"IF(ISERROR(VLOOKUP(I18,ProjDataInput!$B$2:$J$51,9,FALSE)),\"\",VLOOKUP(I18,ProjDataInput!$B$2:$J$51,9,FALSE))","v":""},{"$f":"IF(ISERROR(VLOOKUP(I18,ProjDataInput!$B$2:$C$51,2,FALSE)),\"\",VLOOKUP(I18,ProjDataInput!$B$2:$C$51,2,FALSE))","v":""},0,0,0,0,0,0,0,0,null,null,{"$f":"LEFT(ProjDataInput!S18,32000)","v":""},9999]
[{"$f":"FundDataInput!A19","v":0},{"$f":"FundDataInput!B19","v":0},{"$f":"FundDataInput!C19","v":0},{"$f":"FundDataInput!D19","v":0},{"$f":"FundDataInput!E19","v":0},{"$f":"IF(ISERROR(VLOOKUP(C19,C$2:C18,1,FALSE)),MAX(F$2:F18)+1,VLOOKUP(C19,C$2:F18,4,FALSE))","v":1},{"$error":"#N/A"},null,{"$f":"TableOfContents!A24&TableOfContents!B24","v":""},{"$f":"IF(ISERROR(VLOOKUP(I19,ProjDataInput!$B$2:$J$51,9,FALSE)),\"\",VLOOKUP(I19,ProjDataInput!$B$2:$J$51,9,FALSE))","v":""},{"$f":"IF(ISERROR(VLOOKUP(I19,ProjDataInput!$B$2:$C$51,2,FALSE)),\"\",VLOOKUP(I19,ProjDataInput!$B$2:$C$51,2,FALSE))","v":""},0,0,0,0,0,0,0,0,null,null,{"$f":"LEFT(ProjDataInput!S19,32000)","v":""},9999]
[{"$f":"FundDataInput!A20","v":0},{"$f":"FundDataInput!B20","v":0},{"$f":"FundDataInput!C20","v":0},{"$f":"FundDataInput!D20","v":0},{"$f":"FundDataInput!E20","v":0},{"$f":"IF(ISERROR(VLOOKUP(C20,C$2:C19,1,FALSE)),MAX(F$2:F19)+1,VLOOKUP(C20,C$2:F19,4,FALSE))","v":1},{"$error":"#N/A"},null,{"$f":"TableOfContents!A25&TableOfContents!B25","v":""},{"$f":"IF(ISERROR(VLOOKUP(I20,ProjDataInput!$B$2:$J$51,9,FALSE)),\"\",VLOOKUP(I20,ProjDataInput!$B$2:$J$51,9,FALSE))","v":""},{"$f":"IF(ISERROR(VLOOKUP(I20,ProjDataInput!$B$2:$C$51,2,FALSE)),\"\",VLOOKUP(I20,ProjDataInput!$B$2:$C$51,2,FALSE))","v":""},0,0,0,0,0,0,0,0,null,null,{"$f":"LEFT(ProjDataInput!S20,32000)","v":""},9999]
[{"$f":"FundDataInput!A21","v":0},{"$f":"FundDataInput!B21","v":0},{"$f":"FundDataInput!C21","v":0},{"$f":"FundDataInput!D21","v":0},{"$f":"FundDataInput!E21","v":0},{"$f":"IF(ISERROR(VLOOKUP(C21,C$2:C20,1,FALSE)),MAX(F$2:F20)+1,VLOOKUP(C21,C$2:F20,4,FALSE))","v":1},{"$error":"#N/A"},null,{"$f":"TableOfContents!A26&TableOfContents!B26","v":""},{"$f":"IF(ISERROR(VLOOKUP(I21,ProjDataInput!$B$2:$J$51,9,FALSE)),\"\",VLOOKUP(I21,ProjDataInput!$B$2:$J$51,9,FALSE))","v":""},{"$f":"IF(ISERROR(VLOOKUP(I21,ProjDataInput!$B$2:$C$51,2,FALSE)),\"\",VLOOKUP(I21,ProjDataInput!$B$2:$C$51,2,FALSE))","v":""},0,0,0,0,0,0,0,0,null,null,{"$f":"LEFT(ProjDataInput!S21,32000)","v":""},9999]
[{"$f":"FundDataInput!A22","v":0},{"$f":"FundDataInput!B22","v":0},{"$f":"FundDataInput!C22","v":0},{"$f":"FundDataInput!D22","v":0},{"$f":"FundDataInput!E22","v":0},{"$f":"IF(ISERROR(VLOOKUP(C22,C$2:C21,1,FALSE)),MAX(F$2:F21)+1,VLOOKUP(C22,C$2:F21,4,FALSE))","v":1},{"$error":"#N/A"},null,{"$f":"TableOfContents!A27&TableOfContents!B27","v":""},{"$f":"IF(ISERROR(VLOOKUP(I22,ProjDataInput!$B$2:$J$51,9,FALSE)),\"\",VLOOKUP(I22,ProjDataInput!$B$2:$J$51,9,FALSE))","v":""},{"$f":"IF(ISERROR(VLOOKUP(I22,ProjDataInput!$B$2:$C$51,2,FALSE)),\"\",VLOOKUP(I22,ProjDataInput!$B$2:$C$51,2,FALSE))","v":""},0,0,0,0,0,0,0,0,null,null,{"$f":"LEFT(ProjDataInput!S22,32000)","v":""},9999]
[{"$f":"FundDataInput!A23","v":0},{"$f":"FundDataInput!B23","v":0},{"$f":"FundDataInput!C23","v":0},{"$f":"FundDataInput!D23","v":0},{"$f":"FundDataInput!E23","v":0},{"$f":"IF(ISERROR(VLOOKUP(C23,C$2:C22,1,FALSE)),MAX(F$2:F22)+1,VLOOKUP(C23,C$2:F22,4,FALSE))","v":1},{"$error":"#N/A"},null,{"$f":"TableOfContents!A28&TableOfContents!B28","v":""},{"$f":"IF(ISERROR(VLOOKUP(I23,ProjDataInput!$B$2:$J$51,9,FALSE)),\"\",VLOOKUP(I23,ProjDataInput!$B$2:$J$51,9,FALSE))","v":""},{"$f":"IF(ISERROR(VLOOKUP(I23,ProjDataInput!$B$2:$C$51,2,FALSE)),\"\",VLOOKUP(I23,ProjDataInput!$B$2:$C$51,2,FALSE))","v":""},0,0,0,0,0,0,0,0,null,null,{"$f":"LEFT(ProjDataInput!S23,32000)","v":""},9999]
[{"$f":"FundDataInput!A24","v":0},{"$f":"FundDataInput!B24","v":0},{"$f":"FundDataInput!C24","v":0},{"$f":"FundDataInput!D24","v":0},{"$f":"FundDataInput!E24","v":0},{"$f":"IF(ISERROR(VLOOKUP(C24,C$2:C23,1,FALSE)),MAX(F$2:F23)+1,VLOOKUP(C24,C$2:F23,4,FALSE))","v":1},{"$error":"#N/A"},null,{"$f":"TableOfContents!A29&TableOfContents!B29","v":""},{"$f":"IF(ISERROR(VLOOKUP(I24,ProjDataInput!$B$2:$J$51,9,FALSE)),\"\",VLOOKUP(I24,ProjDataInput!$B$2:$J$51,9,FALSE))","v":""},{"$f":"IF(ISERROR(VLOOKUP(I24,ProjDataInput!$B$2:$C$51,2,FALSE)),\"\",VLOOKUP(I24,ProjDataInput!$B$2:$C$51,2,FALSE))","v":""},0,0,0,0,0,0,0,0,null,null,{"$f":"LEFT(ProjDataInput!S24,32000)","v":""},9999]
[{"$f":"FundDataInput!A25","v":0},{"$f":"FundDataInput!B25","v":0},{"$f":"FundDataInput!C25","v":0},{"$f":"FundDataInput!D25","v":0},{"$f":"FundDataInput!E25","v":0},{"$f":"IF(ISERROR(VLOOKUP(C25,C$2:C24,1,FALSE)),MAX(F$2:F24)+1,VLOOKUP(C25,C$2:F24,4,FALSE))","v":1},{"$error":"#N/A"},null,{"$f":"TableOfContents!A30&TableOfContents!B30","v":""},{"$f":"IF(ISERROR(VLOOKUP(I25,ProjDataInput!$B$2:$J$51,9,FALSE)),\"\",VLOOKUP(I25,ProjDataInput!$B$2:$J$51,9,FALSE))","v":""},{"$f":"IF(ISERROR(VLOOKUP(I25,ProjDataInput!$B$2:$C$51,2,FALSE)),\"\",VLOOKUP(I25,ProjDataInput!$B$2:$C$51,2,FALSE))","v":""},0,0,0,0,0,0,0,0,null,null,{"$f":"LEFT(ProjDataInput!S25,32000)","v":""},9999]
[{"$f":"FundDataInput!A26","v":0},{"$f":"FundDataInput!B26","v":0},{"$f":"FundDataInput!C26","v":0},{"$f":"FundDataInput!D26","v":0},{"$f":"FundDataInput!E26","v":0},{"$f":"IF(ISERROR(VLOOKUP(C26,C$2:C25,1,FALSE)),MAX(F$2:F25)+1,VLOOKUP(C26,C$2:F25,4,FALSE))","v":1},{"$error":"#N/A"},null,{"$f":"TableOfContents!A31&TableOfContents!B31","v":""},{"$f":"IF(ISERROR(VLOOKUP(I26,ProjDataInput!$B$2:$J$51,9,FALSE)),\"\",VLOOKUP(I26,ProjDataInput!$B$2:$J$51,9,FALSE))","v":""},{"$f":"IF(ISERROR(VLOOKUP(I26,ProjDataInput!$B$2:$C$51,2,FALSE)),\"\",VLOOKUP(I26,ProjDataInput!$B$2:$C$51,2,FALSE))","v":""},0,0,0,0,0,0,0,0,null,null,{"$f":"LEFT(ProjDataInput!S26,32000)","v":""},9999]
[{"$f":"FundDataInput!A27","v":0},{"$f":"FundDataInput!B27","v":0},{"$f":"FundDataInput!C27","v":0},{"$f":"FundDataInput!D27","v":0},{"$f":"FundDataInput!E27","v":0},{"$f":"IF(ISERROR(VLOOKUP(C27,C$2:C26,1,FALSE)),MAX(F$2:F26)+1,VLOOKUP(C27,C$2:F26,4,FALSE))","v":1},{"$error":"#N/A"},null,{"$f":"TableOfContents!A32&TableOfContents!B32","v":""},{"$f":"IF(ISERROR(VLOOKUP(I27,ProjDataInput!$B$2:$J$51,9,FALSE)),\"\",VLOOKUP(I27,ProjDataInput!$B$2:$J$51,9,FALSE))","v":""},{"$f":"IF(ISERROR(VLOOKUP(I27,ProjDataInput!$B$2:$C$51,2,FALSE)),\"\",VLOOKUP(I27,ProjDataInput!$B$2:$C$51,2,FALSE))","v":""},0,0,0,0,0,0,0,0,null,null,{"$f":"LEFT(ProjDataInput!S27,32000)","v":""},9999]
[{"$f":"FundDataInput!A28","v":0},{"$f":"FundDataInput!B28","v":0},{"$f":"FundDataInput!C28","v":0},{"$f":"FundDataInput!D28","v":0},{"$f":"FundDataInput!E28","v":0},{"$f":"IF(ISERROR(VLOOKUP(C28,C$2:C27,1,FALSE)),MAX(F$2:F27)+1,VLOOKUP(C28,C$2:F27,4,FALSE))","v":1},{"$error":"#N/A"},null,{"$f":"TableOfContents!A33&TableOfContents!B33","v":""},{"$f":"IF(ISERROR(VLOOKUP(I28,ProjDataInput!$B$2:$J$51,9,FALSE)),\"\",VLOOKUP(I28,ProjDataInput!$B$2:$J$51,9,FALSE))","v":""},{"$f":"IF(ISERROR(VLOOKUP(I28,ProjDataInput!$B$2:$C$51,2,FALSE)),\"\",VLOOKUP(I28,ProjDataInput!$B$2:$C$51,2,FALSE))","v":""},0,0,0,0,0,0,0,0,null,null,{"$f":"LEFT(ProjDataInput!S28,32000)","v":""},9999]
[{"$f":"FundDataInput!A29","v":0},{"$f":"FundDataInput!B29","v":0},{"$f":"FundDataInput!C29","v":0},{"$f":"FundDataInput!D29","v":0},{"$f":"FundDataInput!E29","v":0},{"$f":"IF(ISERROR(VLOOKUP(C29,C$2:C28,1,FALSE)),MAX(F$2:F28)+1,VLOOKUP(C29,C$2:F28,4,FALSE))","v":1},{"$error":"#N/A"},null,{"$f":"TableOfContents!A34&TableOfContents!B34","v":""},{"$f":"IF(ISERROR(VLOOKUP(I29,ProjDataInput!$B$2:$J$51,9,FALSE)),\"\",VLOOKUP(I29,ProjDataInput!$B$2:$J$51,9,FALSE))","v":""},{"$f":"IF(ISERROR(VLOOKUP(I29,ProjDataInput!$B$2:$C$51,2,FALSE)),\"\",VLOOKUP(I29,ProjDataInput!$B$2:$C$51,2,FALSE))","v":""},0,0,0,0,0,0,0,0,null,null,{"$f":"LEFT(ProjDataInput!S29,32000)","v":""},9999]
[{"$f":"FundDataInput!A30","v":0},{"$f":"FundDataInput!B30","v":0},{"$f":"FundDataInput!C30","v":0},{"$f":"FundDataInput!D30","v":0},{"$f":"FundDataInput!E30","v":0},{"$f":"IF(ISERROR(VLOOKUP(C30,C$2:C29,1,FALSE)),MAX(F$2:F29)+1,VLOOKUP(C30,C$2:F29,4,FALSE))","v":1},{"$error":"#N/A"},null,{"$f":"TableOfContents!A35&TableOfContents!B35","v":""},{"$f":"IF(ISERROR(VLOOKUP(I30,ProjDataInput!$B$2:$J$51,9,FALSE)),\"\",VLOOKUP(I30,ProjDataInput!$B$2:$J$51,9,FALSE))","v":""},{"$f":"IF(ISERROR(VLOOKUP(I30,ProjDataInput!$B$2:$C$51,2,FALSE)),\"\",VLOOKUP(I30,ProjDataInput!$B$2:$C$51,2,FALSE))","v":""},0,0,0,0,0,0,0,0,null,null,{"$f":"LEFT(ProjDataInput!S30,32000)","v":""},9999]
[{"$f":"FundDataInput!A31","v":0},{"$f":"FundDataInput!B31","v":0},{"$f":"FundDataInput!C31","v":0},{"$f":"FundDataInput!D31","v":0},{"$f":"FundDataInput!E31","v":0},{"$f":"IF(ISERROR(VLOOKUP(C31,C$2:C30,1,FALSE)),MAX(F$2:F30)+1,VLOOKUP(C31,C$2:F30,4,FALSE))","v":1},{"$error":"#N/A"},null,{"$f":"TableOfContents!A36&TableOfContents!B36","v":""},{"$f":"IF(ISERROR(VLOOKUP(I31,ProjDataInput!$B$2:$J$51,9,FALSE)),\"\",VLOOKUP(I31,ProjDataInput!$B$2:$J$51,9,FALSE))","v":""},{"$f":"IF(ISERROR(VLOOKUP(I31,ProjDataInput!$B$2:$C$51,2,FALSE)),\"\",VLOOKUP(I31,ProjDataInput!$B$2:$C$51,2,FALSE))","v":""},0,0,0,0,0,0,0,0,null,null,{"$f":"LEFT(ProjDataInput!S31,32000)","v":""},9999]
[{"$f":"FundDataInput!A32","v":0},{"$f":"FundDataInput!B32","v":0},{"$f":"FundDataInput!C32","v":0},{"$f":"FundDataInput!D32","v":0},{"$f":"FundDataInput!E32","v":0},{"$f":"IF(ISERROR(VLOOKUP(C32,C$2:C31,1,FALSE)),MAX(F$2:F31)+1,VLOOKUP(C32,C$2:F31,4,FALSE))","v":1},{"$error":"#N/A"},null,{"$f":"TableOfContents!A37&TableOfContents!B37","v":""},{"$f":"IF(ISERROR(VLOOKUP(I32,ProjDataInput!$B$2:$J$51,9,FALSE)),\"\",VLOOKUP(I32,ProjDataInput!$B$2:$J$51,9,FALSE))","v":""},{"$f":"IF(ISERROR(VLOOKUP(I32,ProjDataInput!$B$2:$C$51,2,FALSE)),\"\",VLOOKUP(I32,ProjDataInput!$B$2:$C$51,2,FALSE))","v":""},0,0,0,0,0,0,0,0,null,null,{"$f":"LEFT(ProjDataInput!S32,32000)","v":""},9999]
[{"$f":"FundDataInput!A33","v":0},{"$f":"FundDataInput!B33","v":0},{"$f":"FundDataInput!C33","v":0},{"$f":"FundDataInput!D33","v":0},{"$f":"FundDataInput!E33","v":0},{"$f":"IF(ISERROR(VLOOKUP(C33,C$2:C32,1,FALSE)),MAX(F$2:F32)+1,VLOOKUP(C33,C$2:F32,4,FALSE))","v":1},{"$error":"#N/A"},null,{"$f":"TableOfContents!A38&TableOfContents!B38","v":""},{"$f":"IF(ISERROR(VLOOKUP(I33,ProjDataInput!$B$2:$J$51,9,FALSE)),\"\",VLOOKUP(I33,ProjDataInput!$B$2:$J$51,9,FALSE))","v":""},{"$f":"IF(ISERROR(VLOOKUP(I33,ProjDataInput!$B$2:$C$51,2,FALSE)),\"\",VLOOKUP(I33,ProjDataInput!$B$2:$C$51,2,FALSE))","v":""},0,0,0,0,0,0,0,0,null,null,{"$f":"LEFT(ProjDataInput!S33,32000)","v":""},9999]
[{"$f":"FundDataInput!A34","v":0},{"$f":"FundDataInput!B34","v":0},{"$f":"FundDataInput!C34","v":0},{"$f":"FundDataInput!D34","v":0},{"$f":"FundDataInput!E34","v":0},{"$f":"IF(ISERROR(VLOOKUP(C34,C$2:C33,1,FALSE)),MAX(F$2:F33)+1,VLOOKUP(C34,C$2:F33,4,FALSE))","v":1},{"$error":"#N/A"},null,{"$f":"TableOfContents!A39&TableOfContents!B39","v":""},{"$f":"IF(ISERROR(VLOOKUP(I34,ProjDataInput!$B$2:$J$51,9,FALSE)),\"\",VLOOKUP(I34,ProjDataInput!$B$2:$J$51,9,FALSE))","v":""},{"$f":"IF(ISERROR(VLOOKUP(I34,ProjDataInput!$B$2:$C$51,2,FALSE)),\"\",VLOOKUP(I34,ProjDataInput!$B$2:$C$51,2,FALSE))","v":""},0,0,0,0,0,0,0,0,null,null,{"$f":"LEFT(ProjDataInput!S34,32000)","v":""},9999]
[{"$f":"FundDataInput!A35","v":0},{"$f":"FundDataInput!B35","v":0},{"$f":"FundDataInput!C35","v":0},{"$f":"FundDataInput!D35","v":0},{"$f":"FundDataInput!E35","v":0},{"$f":"IF(ISERROR(VLOOKUP(C35,C$2:C34,1,FALSE)),MAX(F$2:F34)+1,VLOOKUP(C35,C$2:F34,4,FALSE))","v":1},{"$error":"#N/A"},null,{"$f":"TableOfContents!A40&TableOfContents!B40","v":""},{"$f":"IF(ISERROR(VLOOKUP(I35,ProjDataInput!$B$2:$J$51,9,FALSE)),\"\",VLOOKUP(I35,ProjDataInput!$B$2:$J$51,9,FALSE))","v":""},{"$f":"IF(ISERROR(VLOOKUP(I35,ProjDataInput!$B$2:$C$51,2,FALSE)),\"\",VLOOKUP(I35,ProjDataInput!$B$2:$C$51,2,FALSE))","v":""},0,0,0,0,0,0,0,0,null,null,{"$f":"LEFT(ProjDataInput!S35,32000)","v":""},9999]
[{"$f":"FundDataInput!A36","v":0},{"$f":"FundDataInput!B36","v":0},{"$f":"FundDataInput!C36","v":0},{"$f":"FundDataInput!D36","v":0},{"$f":"FundDataInput!E36","v":0},{"$f":"IF(ISERROR(VLOOKUP(C36,C$2:C35,1,FALSE)),MAX(F$2:F35)+1,VLOOKUP(C36,C$2:F35,4,FALSE))","v":1},{"$error":"#N/A"},null,{"$f":"TableOfContents!A41&TableOfContents!B41","v":""},{"$f":"IF(ISERROR(VLOOKUP(I36,ProjDataInput!$B$2:$J$51,9,FALSE)),\"\",VLOOKUP(I36,ProjDataInput!$B$2:$J$51,9,FALSE))","v":""},{"$f":"IF(ISERROR(VLOOKUP(I36,ProjDataInput!$B$2:$C$51,2,FALSE)),\"\",VLOOKUP(I36,ProjDataInput!$B$2:$C$51,2,FALSE))","v":""},0,0,0,0,0,0,0,0,null,null,{"$f":"LEFT(ProjDataInput!S36,32000)","v":""},9999]
[{"$f":"FundDataInput!A37","v":0},{"$f":"FundDataInput!B37","v":0},{"$f":"FundDataInput!C37","v":0},{"$f":"FundDataInput!D37","v":0},{"$f":"FundDataInput!E37","v":0},{"$f":"IF(ISERROR(VLOOKUP(C37,C$2:C36,1,FALSE)),MAX(F$2:F36)+1,VLOOKUP(C37,C$2:F36,4,FALSE))","v":1},{"$error":"#N/A"},null,{"$f":"TableOfContents!A42&TableOfContents!B42","v":""},{"$f":"IF(ISERROR(VLOOKUP(I37,ProjDataInput!$B$2:$J$51,9,FALSE)),\"\",VLOOKUP(I37,ProjDataInput!$B$2:$J$51,9,FALSE))","v":""},{"$f":"IF(ISERROR(VLOOKUP(I37,ProjDataInput!$B$2:$C$51,2,FALSE)),\"\",VLOOKUP(I37,ProjDataInput!$B$2:$C$51,2,FALSE))","v":""},0,0,0,0,0,0,0,0,null,null,{"$f":"LEFT(ProjDataInput!S37,32000)","v":""},9999]
[{"$f":"FundDataInput!A38","v":0},{"$f":"FundDataInput!B38","v":0},{"$f":"FundDataInput!C38","v":0},{"$f":"FundDataInput!D38","v":0},{"$f":"FundDataInput!E38","v":0},{"$f":"IF(ISERROR(VLOOKUP(C38,C$2:C37,1,FALSE)),MAX(F$2:F37)+1,VLOOKUP(C38,C$2:F37,4,FALSE))","v":1},{"$error":"#N/A"},null,{"$f":"TableOfContents!A43&TableOfContents!B43","v":""},{"$f":"IF(ISERROR(VLOOKUP(I38,ProjDataInput!$B$2:$J$51,9,FALSE)),\"\",VLOOKUP(I38,ProjDataInput!$B$2:$J$51,9,FALSE))","v":""},{"$f":"IF(ISERROR(VLOOKUP(I38,ProjDataInput!$B$2:$C$51,2,FALSE)),\"\",VLOOKUP(I38,ProjDataInput!$B$2:$C$51,2,FALSE))","v":""},0,0,0,0,0,0,0,0,null,null,{"$f":"LEFT(ProjDataInput!S38,32000)","v":""},9999]
[{"$f":"FundDataInput!A39","v":0},{"$f":"FundDataInput!B39","v":0},{"$f":"FundDataInput!C39","v":0},{"$f":"FundDataInput!D39","v":0},{"$f":"FundDataInput!E39","v":0},{"$f":"IF(ISERROR(VLOOKUP(C39,C$2:C38,1,FALSE)),MAX(F$2:F38)+1,VLOOKUP(C39,C$2:F38,4,FALSE))","v":1},{"$error":"#N/A"},null,{"$f":"TableOfContents!A44&TableOfContents!B44","v":""},{"$f":"IF(ISERROR(VLOOKUP(I39,ProjDataInput!$B$2:$J$51,9,FALSE)),\"\",VLOOKUP(I39,ProjDataInput!$B$2:$J$51,9,FALSE))","v":""},{"$f":"IF(ISERROR(VLOOKUP(I39,ProjDataInput!$B$2:$C$51,2,FALSE)),\"\",VLOOKUP(I39,ProjDataInput!$B$2:$C$51,2,FALSE))","v":""},0,0,0,0,0,0,0,0,null,null,{"$f":"LEFT(ProjDataInput!S39,32000)","v":""},9999]
[{"$f":"FundDataInput!A40","v":0},{"$f":"FundDataInput!B40","v":0},{"$f":"FundDataInput!C40","v":0},{"$f":"FundDataInput!D40","v":0},{"$f":"FundDataInput!E40","v":0},{"$f":"IF(ISERROR(VLOOKUP(C40,C$2:C39,1,FALSE)),MAX(F$2:F39)+1,VLOOKUP(C40,C$2:F39,4,FALSE))","v":1},{"$error":"#N/A"},null,{"$f":"TableOfContents!A45&TableOfContents!B45","v":""},{"$f":"IF(ISERROR(VLOOKUP(I40,ProjDataInput!$B$2:$J$51,9,FALSE)),\"\",VLOOKUP(I40,ProjDataInput!$B$2:$J$51,9,FALSE))","v":""},{"$f":"IF(ISERROR(VLOOKUP(I40,ProjDataInput!$B$2:$C$51,2,FALSE)),\"\",VLOOKUP(I40,ProjDataInput!$B$2:$C$51,2,FALSE))","v":""},0,0,0,0,0,0,0,0,null,null,{"$f":"LEFT(ProjDataInput!S40,32000)","v":""},9999]
[{"$f":"FundDataInput!A41","v":0},{"$f":"FundDataInput!B41","v":0},{"$f":"FundDataInput!C41","v":0},{"$f":"FundDataInput!D41","v":0},{"$f":"FundDataInput!E41","v":0},{"$f":"IF(ISERROR(VLOOKUP(C41,C$2:C40,1,FALSE)),MAX(F$2:F40)+1,VLOOKUP(C41,C$2:F40,4,FALSE))","v":1},{"$error":"#N/A"},null,{"$f":"TableOfContents!A46&TableOfContents!B46","v":""},{"$f":"IF(ISERROR(VLOOKUP(I41,ProjDataInput!$B$2:$J$51,9,FALSE)),\"\",VLOOKUP(I41,ProjDataInput!$B$2:$J$51,9,FALSE))","v":""},{"$f":"IF(ISERROR(VLOOKUP(I41,ProjDataInput!$B$2:$C$51,2,FALSE)),\"\",VLOOKUP(I41,ProjDataInput!$B$2:$C$51,2,FALSE))","v":""},0,0,0,0,0,0,0,0,null,null,{"$f":"LEFT(ProjDataInput!S41,32000)","v":""},9999]
[{"$f":"FundDataInput!A42","v":0},{"$f":"FundDataInput!B42","v":0},{"$f":"FundDataInput!C42","v":0},{"$f":"FundDataInput!D42","v":0},{"$f":"FundDataInput!E42","v":0},{"$f":"IF(ISERROR(VLOOKUP(C42,C$2:C41,1,FALSE)),MAX(F$2:F41)+1,VLOOKUP(C42,C$2:F41,4,FALSE))","v":1},{"$error":"#N/A"},null,{"$f":"TableOfContents!A47&TableOfContents!B47","v":""},{"$f":"IF(ISERROR(VLOOKUP(I42,ProjDataInput!$B$2:$J$51,9,FALSE)),\"\",VLOOKUP(I42,ProjDataInput!$B$2:$J$51,9,FALSE))","v":""},{"$f":"IF(ISERROR(VLOOKUP(I42,ProjDataInput!$B$2:$C$51,2,FALSE)),\"\",VLOOKUP(I42,ProjDataInput!$B$2:$C$51,2,FALSE))","v":""},0,0,0,0,0,0,0,0,null,null,{"$f":"LEFT(ProjDataInput!S42,32000)","v":""},9999]
[{"$f":"FundDataInput!A43","v":0},{"$f":"FundDataInput!B43","v":0},{"$f":"FundDataInput!C43","v":0},{"$f":"FundDataInput!D43","v":0},{"$f":"FundDataInput!E43","v":0},{"$f":"IF(ISERROR(VLOOKUP(C43,C$2:C42,1,FALSE)),MAX(F$2:F42)+1,VLOOKUP(C43,C$2:F42,4,FALSE))","v":1},{"$error":"#N/A"},null,{"$f":"TableOfContents!A48&TableOfContents!B48","v":""},{"$f":"IF(ISERROR(VLOOKUP(I43,ProjDataInput!$B$2:$J$51,9,FALSE)),\"\",VLOOKUP(I43,ProjDataInput!$B$2:$J$51,9,FALSE))","v":""},{"$f":"IF(ISERROR(VLOOKUP(I43,ProjDataInput!$B$2:$C$51,2,FALSE)),\"\",VLOOKUP(I43,ProjDataInput!$B$2:$C$51,2,FALSE))","v":""},0,0,0,0,0,0,0,0,null,null,{"$f":"LEFT(ProjDataInput!S43,32000)","v":""},9999]
[{"$f":"FundDataInput!A44","v":0},{"$f":"FundDataInput!B44","v":0},{"$f":"FundDataInput!C44","v":0},{"$f":"FundDataInput!D44","v":0},{"$f":"FundDataInput!E44","v":0},{"$f":"IF(ISERROR(VLOOKUP(C44,C$2:C43,1,FALSE)),MAX(F$2:F43)+1,VLOOKUP(C44,C$2:F43,4,FALSE))","v":1},{"$error":"#N/A"},null,{"$f":"TableOfContents!A49&TableOfContents!B49","v":""},{"$f":"IF(ISERROR(VLOOKUP(I44,ProjDataInput!$B$2:$J$51,9,FALSE)),\"\",VLOOKUP(I44,ProjDataInput!$B$2:$J$51,9,FALSE))","v":""},{"$f":"IF(ISERROR(VLOOKUP(I44,ProjDataInput!$B$2:$C$51,2,FALSE)),\"\",VLOOKUP(I44,ProjDataInput!$B$2:$C$51,2,FALSE))","v":""},0,0,0,0,0,0,0,0,null,null,{"$f":"LEFT(ProjDataInput!S44,32000)","v":""},9999]
[{"$f":"FundDataInput!A45","v":0},{"$f":"FundDataInput!B45","v":0},{"$f":"FundDataInput!C45","v":0},{"$f":"FundDataInput!D45","v":0},{"$f":"FundDataInput!E45","v":0},{"$f":"IF(ISERROR(VLOOKUP(C45,C$2:C44,1,FALSE)),MAX(F$2:F44)+1,VLOOKUP(C45,C$2:F44,4,FALSE))","v":1},{"$error":"#N/A"},null,{"$f":"TableOfContents!A50&TableOfContents!B50","v":""},{"$f":"IF(ISERROR(VLOOKUP(I45,ProjDataInput!$B$2:$J$51,9,FALSE)),\"\",VLOOKUP(I45,ProjDataInput!$B$2:$J$51,9,FALSE))","v":""},{"$f":"IF(ISERROR(VLOOKUP(I45,ProjDataInput!$B$2:$C$51,2,FALSE)),\"\",VLOOKUP(I45,ProjDataInput!$B$2:$C$51,2,FALSE))","v":""},0,0,0,0,0,0,0,0,null,null,{"$f":"LEFT(ProjDataInput!S45,32000)","v":""},9999]
[{"$f":"FundDataInput!A46","v":0},{"$f":"FundDataInput!B46","v":0},{"$f":"FundDataInput!C46","v":0},{"$f":"FundDataInput!D46","v":0},{"$f":"FundDataInput!E46","v":0},{"$f":"IF(ISERROR(VLOOKUP(C46,C$2:C45,1,FALSE)),MAX(F$2:F45)+1,VLOOKUP(C46,C$2:F45,4,FALSE))","v":1},{"$error":"#N/A"},null,{"$f":"TableOfContents!A51&TableOfContents!B51","v":""},{"$f":"IF(ISERROR(VLOOKUP(I46,ProjDataInput!$B$2:$J$51,9,FALSE)),\"\",VLOOKUP(I46,ProjDataInput!$B$2:$J$51,9,FALSE))","v":""},{"$f":"IF(ISERROR(VLOOKUP(I46,ProjDataInput!$B$2:$C$51,2,FALSE)),\"\",VLOOKUP(I46,ProjDataInput!$B$2:$C$51,2,FALSE))","v":""},0,0,0,0,0,0,0,0,null,null,{"$f":"LEFT(ProjDataInput!S46,32000)","v":""},9999]
[{"$f":"FundDataInput!A47","v":0},{"$f":"FundDataInput!B47","v":0},{"$f":"FundDataInput!C47","v":0},{"$f":"FundDataInput!D47","v":0},{"$f":"FundDataInput!E47","v":0},{"$f":"IF(ISERROR(VLOOKUP(C47,C$2:C46,1,FALSE)),MAX(F$2:F46)+1,VLOOKUP(C47,C$2:F46,4,FALSE))","v":1},{"$error":"#N/A"},null,{"$f":"TableOfContents!A52&TableOfContents!B52","v":""},{"$f":"IF(ISERROR(VLOOKUP(I47,ProjDataInput!$B$2:$J$51,9,FALSE)),\"\",VLOOKUP(I47,ProjDataInput!$B$2:$J$51,9,FALSE))","v":""},{"$f":"IF(ISERROR(VLOOKUP(I47,ProjDataInput!$B$2:$C$51,2,FALSE)),\"\",VLOOKUP(I47,ProjDataInput!$B$2:$C$51,2,FALSE))","v":""},0,0,0,0,0,0,0,0,null,null,{"$f":"LEFT(ProjDataInput!S47,32000)","v":""},9999]
[{"$f":"FundDataInput!A48","v":0},{"$f":"FundDataInput!B48","v":0},{"$f":"FundDataInput!C48","v":0},{"$f":"FundDataInput!D48","v":0},{"$f":"FundDataInput!E48","v":0},{"$f":"IF(ISERROR(VLOOKUP(C48,C$2:C47,1,FALSE)),MAX(F$2:F47)+1,VLOOKUP(C48,C$2:F47,4,FALSE))","v":1},{"$error":"#N/A"},null,{"$f":"TableOfContents!A53&TableOfContents!B53","v":""},{"$f":"IF(ISERROR(VLOOKUP(I48,ProjDataInput!$B$2:$J$51,9,FALSE)),\"\",VLOOKUP(I48,ProjDataInput!$B$2:$J$51,9,FALSE))","v":""},{"$f":"IF(ISERROR(VLOOKUP(I48,ProjDataInput!$B$2:$C$51,2,FALSE)),\"\",VLOOKUP(I48,ProjDataInput!$B$2:$C$51,2,FALSE))","v":""},0,0,0,0,0,0,0,0,null,null,{"$f":"LEFT(ProjDataInput!S48,32000)","v":""},9999]
[{"$f":"FundDataInput!A49","v":0},{"$f":"FundDataInput!B49","v":0},{"$f":"FundDataInput!C49","v":0},{"$f":"FundDataInput!D49","v":0},{"$f":"FundDataInput!E49","v":0},{"$f":"IF(ISERROR(VLOOKUP(C49,C$2:C48,1,FALSE)),MAX(F$2:F48)+1,VLOOKUP(C49,C$2:F48,4,FALSE))","v":1},{"$error":"#N/A"},null,{"$f":"TableOfContents!A54&TableOfContents!B54","v":""},{"$f":"IF(ISERROR(VLOOKUP(I49,ProjDataInput!$B$2:$J$51,9,FALSE)),\"\",VLOOKUP(I49,ProjDataInput!$B$2:$J$51,9,FALSE))","v":""},{"$f":"IF(ISERROR(VLOOKUP(I49,ProjDataInput!$B$2:$C$51,2,FALSE)),\"\",VLOOKUP(I49,ProjDataInput!$B$2:$C$51,2,FALSE))","v":""},0,0,0,0,0,0,0,0,null,null,{"$f":"LEFT(ProjDataInput!S49,32000)","v":""},9999]
[{"$f":"FundDataInput!A50","v":0},{"$f":"FundDataInput!B50","v":0},{"$f":"FundDataInput!C50","v":0},{"$f":"FundDataInput!D50","v":0},{"$f":"FundDataInput!E50","v":0},{"$f":"IF(ISERROR(VLOOKUP(C50,C$2:C49,1,FALSE)),MAX(F$2:F49)+1,VLOOKUP(C50,C$2:F49,4,FALSE))","v":1},{"$error":"#N/A"},null,{"$f":"TableOfContents!A55&TableOfContents!B55","v":""},{"$f":"IF(ISERROR(VLOOKUP(I50,ProjDataInput!$B$2:$J$51,9,FALSE)),\"\",VLOOKUP(I50,ProjDataInput!$B$2:$J$51,9,FALSE))","v":""},{"$f":"IF(ISERROR(VLOOKUP(I50,ProjDataInput!$B$2:$C$51,2,FALSE)),\"\",VLOOKUP(I50,ProjDataInput!$B$2:$C$51,2,FALSE))","v":""},0,0,0,0,0,0,0,0,null,null,{"$f":"LEFT(ProjDataInput!S50,32000)","v":""},9999]
[{"$f":"FundDataInput!A51","v":0},{"$f":"FundDataInput!B51","v":0},{"$f":"FundDataInput!C51","v":0},{"$f":"FundDataInput!D51","v":0},{"$f":"FundDataInput!E51","v":0},{"$f":"IF(ISERROR(VLOOKUP(C51,C$2:C50,1,FALSE)),MAX(F$2:F50)+1,VLOOKUP(C51,C$2:F50,4,FALSE))","v":1},{"$error":"#N/A"},null,{"$f":"IF(ISERROR(INDEX($C$2:$C$201,    MATCH(ROW(#REF!)-1,#REF!,0),    1)),\"\",INDEX($C$2:$C$201,    MATCH(ROW(#REF!)-1,#REF!,0),    1))","v":""},{"$f":"IF(ISERROR(VLOOKUP(I51,ProjDataInput!$B$2:$J$51,9,FALSE)),\"\",VLOOKUP(I51,ProjDataInput!$B$2:$J$51,9,FALSE))","v":""},{"$f":"IF(ISERROR(VLOOKUP(I51,ProjDataInput!$B$2:$C$51,2,FALSE)),\"\",VLOOKUP(I51,ProjDataInput!$B$2:$C$51,2,FALSE))","v":""},0,0,0,0,0,0,0,0,null,null,{"$f":"LEFT(ProjDataInput!S51,32000)","v":""},9999]
[{"$f":"FundDataInput!A52","v":0},{"$f":"FundDataInput!B52","v":0},{"$f":"FundDataInput!C52","v":0},{"$f":"FundDataInput!D52","v":0},{"$f":"FundDataInput!E52","v":0},{"$f":"IF(ISERROR(VLOOKUP(C52,C$2:C51,1,FALSE)),MAX(F$2:F51)+1,VLOOKUP(C52,C$2:F51,4,FALSE))","v":1},null,null,null,null,null,null,null,null,null,null,null,null,null,null,null,null,9999]
[{"$f":"FundDataInput!A53","v":0},{"$f":"FundDataInput!B53","v":0},{"$f":"FundDataInput!C53","v":0},{"$f":"FundDataInput!D53","v":0},{"$f":"FundDataInput!E53","v":0},{"$f":"IF(ISERROR(VLOOKUP(C53,C$2:C52,1,FALSE)),MAX(F$2:F52)+1,VLOOKUP(C53,C$2:F52,4,FALSE))","v":1},null,null,null,null,null,null,null,null,null,null,null,null,null,null,null,null,9999]
[{"$f":"FundDataInput!A54","v":0},{"$f":"FundDataInput!B54","v":0},{"$f":"FundDataInput!C54","v":0},{"$f":"FundDataInput!D54","v":0},{"$f":"FundDataInput!E54","v":0},{"$f":"IF(ISERROR(VLOOKUP(C54,C$2:C53,1,FALSE)),MAX(F$2:F53)+1,VLOOKUP(C54,C$2:F53,4,FALSE))","v":1},null,null,null,null,null,null,null,null,null,null,null,null,null,null,null,null,9999]
[{"$f":"FundDataInput!A55","v":0},{"$f":"FundDataInput!B55","v":0},{"$f":"FundDataInput!C55","v":0},{"$f":"FundDataInput!D55","v":0},{"$f":"FundDataInput!E55","v":0},{"$f":"IF(ISERROR(VLOOKUP(C55,C$2:C54,1,FALSE)),MAX(F$2:F54)+1,VLOOKUP(C55,C$2:F54,4,FALSE))","v":1},null,null,null,null,null,null,null,null,null,null,null,null,null,null,null,null,9999]
[{"$f":"FundDataInput!A56","v":0},{"$f":"FundDataInput!B56","v":0},{"$f":"FundDataInput!C56","v":0},{"$f":"FundDataInput!D56","v":0},{"$f":"FundDataInput!E56","v":0},{"$f":"IF(ISERROR(VLOOKUP(C56,C$2:C55,1,FALSE)),MAX(F$2:F55)+1,VLOOKUP(C56,C$2:F55,4,FALSE))","v":1},null,null,null,null,null,null,null,null,null,null,null,null,null,null,null,null,9999]
[{"$f":"FundDataInput!A57","v":0},{"$f":"FundDataInput!B57","v":0},{"$f":"FundDataInput!C57","v":0},{"$f":"FundDataInput!D57","v":0},{"$f":"FundDataInput!E57","v":0},{"$f":"IF(ISERROR(VLOOKUP(C57,C$2:C56,1,FALSE)),MAX(F$2:F56)+1,VLOOKUP(C57,C$2:F56,4,FALSE))","v":1},null,null,null,null,null,null,null,null,null,null,null,null,null,null,null,null,9999]
[{"$f":"FundDataInput!A58","v":0},{"$f":"FundDataInput!B58","v":0},{"$f":"FundDataInput!C58","v":0},{"$f":"FundDataInput!D58","v":0},{"$f":"FundDataInput!E58","v":0},{"$f":"IF(ISERROR(VLOOKUP(C58,C$2:C57,1,FALSE)),MAX(F$2:F57)+1,VLOOKUP(C58,C$2:F57,4,FALSE))","v":1},null,null,null,null,null,null,null,null,null,null,null,null,null,null,null,null,9999]
[{"$f":"FundDataInput!A59","v":0},{"$f":"FundDataInput!B59","v":0},{"$f":"FundDataInput!C59","v":0},{"$f":"FundDataInput!D59","v":0},{"$f":"FundDataInput!E59","v":0},{"$f":"IF(ISERROR(VLOOKUP(C59,C$2:C58,1,FALSE)),MAX(F$2:F58)+1,VLOOKUP(C59,C$2:F58,4,FALSE))","v":1},null,null,null,null,null,null,null,null,null,null,null,null,null,null,null,null,9999]
[{"$f":"FundDataInput!A60","v":0},{"$f":"FundDataInput!B60","v":0},{"$f":"FundDataInput!C60","v":0},{"$f":"FundDataInput!D60","v":0},{"$f":"FundDataInput!E60","v":0},{"$f":"IF(ISERROR(VLOOKUP(C60,C$2:C59,1,FALSE)),MAX(F$2:F59)+1,VLOOKUP(C60,C$2:F59,4,FALSE))","v":1},null,null,null,null,null,null,null,null,null,null,null,null,null,null,null,null,9999]
[{"$f":"FundDataInput!A61","v":0},{"$f":"FundDataInput!B61","v":0},{"$f":"FundDataInput!C61","v":0},{"$f":"FundDataInput!D61","v":0},{"$f":"FundDataInput!E61","v":0},{"$f":"IF(ISERROR(VLOOKUP(C61,C$2:C60,1,FALSE)),MAX(F$2:F60)+1,VLOOKUP(C61,C$2:F60,4,FALSE))","v":1},null,null,null,null,null,null,null,null,null,null,null,null,null,null,null,null,9999]
[{"$f":"FundDataInput!A62","v":0},{"$f":"FundDataInput!B62","v":0},{"$f":"FundDataInput!C62","v":0},{"$f":"FundDataInput!D62","v":0},{"$f":"FundDataInput!E62","v":0},{"$f":"IF(ISERROR(VLOOKUP(C62,C$2:C61,1,FALSE)),MAX(F$2:F61)+1,VLOOKUP(C62,C$2:F61,4,FALSE))","v":1},null,null,null,null,null,null,null,null,null,null,null,null,null,null,null,null,9999]
[{"$f":"FundDataInput!A63","v":0},{"$f":"FundDataInput!B63","v":0},{"$f":"FundDataInput!C63","v":0},{"$f":"FundDataInput!D63","v":0},{"$f":"FundDataInput!E63","v":0},{"$f":"IF(ISERROR(VLOOKUP(C63,C$2:C62,1,FALSE)),MAX(F$2:F62)+1,VLOOKUP(C63,C$2:F62,4,FALSE))","v":1},null,null,null,null,null,null,null,null,null,null,null,null,null,null,null,null,9999]
[{"$f":"FundDataInput!A64","v":0},{"$f":"FundDataInput!B64","v":0},{"$f":"FundDataInput!C64","v":0},{"$f":"FundDataInput!D64","v":0},{"$f":"FundDataInput!E64","v":0},{"$f":"IF(ISERROR(VLOOKUP(C64,C$2:C63,1,FALSE)),MAX(F$2:F63)+1,VLOOKUP(C64,C$2:F63,4,FALSE))","v":1},null,null,null,null,null,null,null,null,null,null,null,null,null,null,null,null,9999]
[{"$f":"FundDataInput!A65","v":0},{"$f":"FundDataInput!B65","v":0},{"$f":"FundDataInput!C65","v":0},{"$f":"FundDataInput!D65","v":0},{"$f":"FundDataInput!E65","v":0},{"$f":"IF(ISERROR(VLOOKUP(C65,C$2:C64,1,FALSE)),MAX(F$2:F64)+1,VLOOKUP(C65,C$2:F64,4,FALSE))","v":1},null,null,null,null,null,null,null,null,null,null,null,null,null,null,null,null,9999]
[{"$f":"FundDataInput!A66","v":0},{"$f":"FundDataInput!B66","v":0},{"$f":"FundDataInput!C66","v":0},{"$f":"FundDataInput!D66","v":0},{"$f":"FundDataInput!E66","v":0},{"$f":"IF(ISERROR(VLOOKUP(C66,C$2:C65,1,FALSE)),MAX(F$2:F65)+1,VLOOKUP(C66,C$2:F65,4,FALSE))","v":1},null,null,null,null,null,null,null,null,null,null,null,null,null,null,null,null,9999]
[{"$f":"FundDataInput!A67","v":0},{"$f":"FundDataInput!B67","v":0},{"$f":"FundDataInput!C67","v":0},{"$f":"FundDataInput!D67","v":0},{"$f":"FundDataInput!E67","v":0},{"$f":"IF(ISERROR(VLOOKUP(C67,C$2:C66,1,FALSE)),MAX(F$2:F66)+1,VLOOKUP(C67,C$2:F66,4,FALSE))","v":1},null,null,null,null,null,null,null,null,null,null,null,null,null,null,null,null,{"$f":"IF(B67<2000,9999,B67)","v":9999}]
[{"$f":"FundDataInput!A68","v":0},{"$f":"FundDataInput!B68","v":0},{"$f":"FundDataInput!C68","v":0},{"$f":"FundDataInput!D68","v":0},{"$f":"FundDataInput!E68","v":0},{"$f":"IF(ISERROR(VLOOKUP(C68,C$2:C67,1,FALSE)),MAX(F$2:F67)+1,VLOOKUP(C68,C$2:F67,4,FALSE))","v":1},null,null,null,null,null,null,null,null,null,null,null,null,null,null,null,null,9999]
[{"$f":"FundDataInput!A69","v":0},{"$f":"FundDataInput!B69","v":0},{"$f":"FundDataInput!C69","v":0},{"$f":"FundDataInput!D69","v":0},{"$f":"FundDataInput!E69","v":0},{"$f":"IF(ISERROR(VLOOKUP(C69,C$2:C68,1,FALSE)),MAX(F$2:F68)+1,VLOOKUP(C69,C$2:F68,4,FALSE))","v":1},null,null,null,null,null,null,null,null,null,null,null,null,null,null,null,null,9999]
[{"$f":"FundDataInput!A70","v":0},{"$f":"FundDataInput!B70","v":0},{"$f":"FundDataInput!C70","v":0},{"$f":"FundDataInput!D70","v":0},{"$f":"FundDataInput!E70","v":0},{"$f":"IF(ISERROR(VLOOKUP(C70,C$2:C69,1,FALSE)),MAX(F$2:F69)+1,VLOOKUP(C70,C$2:F69,4,FALSE))","v":1},null,null,null,null,null,null,null,null,null,null,null,null,null,null,null,null,9999]
[{"$f":"FundDataInput!A71","v":0},{"$f":"FundDataInput!B71","v":0},{"$f":"FundDataInput!C71","v":0},{"$f":"FundDataInput!D71","v":0},{"$f":"FundDataInput!E71","v":0},{"$f":"IF(ISERROR(VLOOKUP(C71,C$2:C70,1,FALSE)),MAX(F$2:F70)+1,VLOOKUP(C71,C$2:F70,4,FALSE))","v":1},null,null,null,null,null,null,null,null,null,null,null,null,null,null,null,null,9999]
[{"$f":"FundDataInput!A72","v":0},{"$f":"FundDataInput!B72","v":0},{"$f":"FundDataInput!C72","v":0},{"$f":"FundDataInput!D72","v":0},{"$f":"FundDataInput!E72","v":0},{"$f":"IF(ISERROR(VLOOKUP(C72,C$2:C71,1,FALSE)),MAX(F$2:F71)+1,VLOOKUP(C72,C$2:F71,4,FALSE))","v":1},null,null,null,null,null,null,null,null,null,null,null,null,null,null,null,null,9999]
[{"$f":"FundDataInput!A73","v":0},{"$f":"FundDataInput!B73","v":0},{"$f":"FundDataInput!C73","v":0},{"$f":"FundDataInput!D73","v":0},{"$f":"FundDataInput!E73","v":0},{"$f":"IF(ISERROR(VLOOKUP(C73,C$2:C72,1,FALSE)),MAX(F$2:F72)+1,VLOOKUP(C73,C$2:F72,4,FALSE))","v":1},null,null,null,null,null,null,null,null,null,null,null,null,null,null,null,null,9999]
[{"$f":"FundDataInput!A74","v":0},{"$f":"FundDataInput!B74","v":0},{"$f":"FundDataInput!C74","v":0},{"$f":"FundDataInput!D74","v":0},{"$f":"FundDataInput!E74","v":0},{"$f":"IF(ISERROR(VLOOKUP(C74,C$2:C73,1,FALSE)),MAX(F$2:F73)+1,VLOOKUP(C74,C$2:F73,4,FALSE))","v":1},null,null,null,null,null,null,null,null,null,null,null,null,null,null,null,null,9999]
[{"$f":"FundDataInput!A75","v":0},{"$f":"FundDataInput!B75","v":0},{"$f":"FundDataInput!C75","v":0},{"$f":"FundDataInput!D75","v":0},{"$f":"FundDataInput!E75","v":0},{"$f":"IF(ISERROR(VLOOKUP(C75,C$2:C74,1,FALSE)),MAX(F$2:F74)+1,VLOOKUP(C75,C$2:F74,4,FALSE))","v":1},null,null,null,null,null,null,null,null,null,null,null,null,null,null,null,null,9999]
[{"$f":"FundDataInput!A76","v":0},{"$f":"FundDataInput!B76","v":0},{"$f":"FundDataInput!C76","v":0},{"$f":"FundDataInput!D76","v":0},{"$f":"FundDataInput!E76","v":0},{"$f":"IF(ISERROR(VLOOKUP(C76,C$2:C75,1,FALSE)),MAX(F$2:F75)+1,VLOOKUP(C76,C$2:F75,4,FALSE))","v":1},null,null,null,null,null,null,null,null,null,null,null,null,null,null,null,null,9999]
[{"$f":"FundDataInput!A77","v":0},{"$f":"FundDataInput!B77","v":0},{"$f":"FundDataInput!C77","v":0},{"$f":"FundDataInput!D77","v":0},{"$f":"FundDataInput!E77","v":0},{"$f":"IF(ISERROR(VLOOKUP(C77,C$2:C76,1,FALSE)),MAX(F$2:F76)+1,VLOOKUP(C77,C$2:F76,4,FALSE))","v":1},null,null,null,null,null,null,null,null,null,null,null,null,null,null,null,null,9999]
[{"$f":"FundDataInput!A78","v":0},{"$f":"FundDataInput!B78","v":0},{"$f":"FundDataInput!C78","v":0},{"$f":"FundDataInput!D78","v":0},{"$f":"FundDataInput!E78","v":0},{"$f":"IF(ISERROR(VLOOKUP(C78,C$2:C77,1,FALSE)),MAX(F$2:F77)+1,VLOOKUP(C78,C$2:F77,4,FALSE))","v":1},null,null,null,null,null,null,null,null,null,null,null,null,null,null,null,null,9999]
[{"$f":"FundDataInput!A79","v":0},{"$f":"FundDataInput!B79","v":0},{"$f":"FundDataInput!C79","v":0},{"$f":"FundDataInput!D79","v":0},{"$f":"FundDataInput!E79","v":0},{"$f":"IF(ISERROR(VLOOKUP(C79,C$2:C78,1,FALSE)),MAX(F$2:F78)+1,VLOOKUP(C79,C$2:F78,4,FALSE))","v":1},null,null,null,null,null,null,null,null,null,null,null,null,null,null,null,null,9999]
[{"$f":"FundDataInput!A80","v":0},{"$f":"FundDataInput!B80","v":0},{"$f":"FundDataInput!C80","v":0},{"$f":"FundDataInput!D80","v":0},{"$f":"FundDataInput!E80","v":0},{"$f":"IF(ISERROR(VLOOKUP(C80,C$2:C79,1,FALSE)),MAX(F$2:F79)+1,VLOOKUP(C80,C$2:F79,4,FALSE))","v":1},null,null,null,null,null,null,null,null,null,null,null,null,null,null,null,null,9999]
[{"$f":"FundDataInput!A81","v":0},{"$f":"FundDataInput!B81","v":0},{"$f":"FundDataInput!C81","v":0},{"$f":"FundDataInput!D81","v":0},{"$f":"FundDataInput!E81","v":0},{"$f":"IF(ISERROR(VLOOKUP(C81,C$2:C80,1,FALSE)),MAX(F$2:F80)+1,VLOOKUP(C81,C$2:F80,4,FALSE))","v":1},null,null,null,null,null,null,null,null,null,null,null,null,null,null,null,null,9999]
[{"$f":"FundDataInput!A82","v":0},{"$f":"FundDataInput!B82","v":0},{"$f":"FundDataInput!C82","v":0},{"$f":"FundDataInput!D82","v":0},{"$f":"FundDataInput!E82","v":0},{"$f":"IF(ISERROR(VLOOKUP(C82,C$2:C81,1,FALSE)),MAX(F$2:F81)+1,VLOOKUP(C82,C$2:F81,4,FALSE))","v":1},null,null,null,null,null,null,null,null,null,null,null,null,null,null,null,null,9999]
[{"$f":"FundDataInput!A83","v":0},{"$f":"FundDataInput!B83","v":0},{"$f":"FundDataInput!C83","v":0},{"$f":"FundDataInput!D83","v":0},{"$f":"FundDataInput!E83","v":0},{"$f":"IF(ISERROR(VLOOKUP(C83,C$2:C82,1,FALSE)),MAX(F$2:F82)+1,VLOOKUP(C83,C$2:F82,4,FALSE))","v":1},null,null,null,null,null,null,null,null,null,null,null,null,null,null,null,null,9999]
[{"$f":"FundDataInput!A84","v":0},{"$f":"FundDataInput!B84","v":0},{"$f":"FundDataInput!C84","v":0},{"$f":"FundDataInput!D84","v":0},{"$f":"FundDataInput!E84","v":0},{"$f":"IF(ISERROR(VLOOKUP(C84,C$2:C83,1,FALSE)),MAX(F$2:F83)+1,VLOOKUP(C84,C$2:F83,4,FALSE))","v":1},null,null,null,null,null,null,null,null,null,null,null,null,null,null,null,null,9999]
[{"$f":"FundDataInput!A85","v":0},{"$f":"FundDataInput!B85","v":0},{"$f":"FundDataInput!C85","v":0},{"$f":"FundDataInput!D85","v":0},{"$f":"FundDataInput!E85","v":0},{"$f":"IF(ISERROR(VLOOKUP(C85,C$2:C84,1,FALSE)),MAX(F$2:F84)+1,VLOOKUP(C85,C$2:F84,4,FALSE))","v":1},null,null,null,null,null,null,null,null,null,null,null,null,null,null,null,null,9999]
[{"$f":"FundDataInput!A86","v":0},{"$f":"FundDataInput!B86","v":0},{"$f":"FundDataInput!C86","v":0},{"$f":"FundDataInput!D86","v":0},{"$f":"FundDataInput!E86","v":0},{"$f":"IF(ISERROR(VLOOKUP(C86,C$2:C85,1,FALSE)),MAX(F$2:F85)+1,VLOOKUP(C86,C$2:F85,4,FALSE))","v":1},null,null,null,null,null,null,null,null,null,null,null,null,null,null,null,null,9999]
[{"$f":"FundDataInput!A87","v":0},{"$f":"FundDataInput!B87","v":0},{"$f":"FundDataInput!C87","v":0},{"$f":"FundDataInput!D87","v":0},{"$f":"FundDataInput!E87","v":0},{"$f":"IF(ISERROR(VLOOKUP(C87,C$2:C86,1,FALSE)),MAX(F$2:F86)+1,VLOOKUP(C87,C$2:F86,4,FALSE))","v":1},null,null,null,null,null,null,null,null,null,null,null,null,null,null,null,null,9999]
[{"$f":"FundDataInput!A88","v":0},{"$f":"FundDataInput!B88","v":0},{"$f":"FundDataInput!C88","v":0},{"$f":"FundDataInput!D88","v":0},{"$f":"FundDataInput!E88","v":0},{"$f":"IF(ISERROR(VLOOKUP(C88,C$2:C87,1,FALSE)),MAX(F$2:F87)+1,VLOOKUP(C88,C$2:F87,4,FALSE))","v":1},null,null,null,null,null,null,null,null,null,null,null,null,null,null,null,null,9999]
[{"$f":"FundDataInput!A89","v":0},{"$f":"FundDataInput!B89","v":0},{"$f":"FundDataInput!C89","v":0},{"$f":"FundDataInput!D89","v":0},{"$f":"FundDataInput!E89","v":0},{"$f":"IF(ISERROR(VLOOKUP(C89,C$2:C88,1,FALSE)),MAX(F$2:F88)+1,VLOOKUP(C89,C$2:F88,4,FALSE))","v":1},null,null,null,null,null,null,null,null,null,null,null,null,null,null,null,null,9999]
[{"$f":"FundDataInput!A90","v":0},{"$f":"FundDataInput!B90","v":0},{"$f":"FundDataInput!C90","v":0},{"$f":"FundDataInput!D90","v":0},{"$f":"FundDataInput!E90","v":0},{"$f":"IF(ISERROR(VLOOKUP(C90,C$2:C89,1,FALSE)),MAX(F$2:F89)+1,VLOOKUP(C90,C$2:F89,4,FALSE))","v":1},null,null,null,null,null,null,null,null,null,null,null,null,null,null,null,null,9999]
[{"$f":"FundDataInput!A91","v":0},{"$f":"FundDataInput!B91","v":0},{"$f":"FundDataInput!C91","v":0},{"$f":"FundDataInput!D91","v":0},{"$f":"FundDataInput!E91","v":0},{"$f":"IF(ISERROR(VLOOKUP(C91,C$2:C90,1,FALSE)),MAX(F$2:F90)+1,VLOOKUP(C91,C$2:F90,4,FALSE))","v":1},null,null,null,null,null,null,null,null,null,null,null,null,null,null,null,null,9999]
[{"$f":"FundDataInput!A92","v":0},{"$f":"FundDataInput!B92","v":0},{"$f":"FundDataInput!C92","v":0},{"$f":"FundDataInput!D92","v":0},{"$f":"FundDataInput!E92","v":0},{"$f":"IF(ISERROR(VLOOKUP(C92,C$2:C91,1,FALSE)),MAX(F$2:F91)+1,VLOOKUP(C92,C$2:F91,4,FALSE))","v":1},null,null,null,null,null,null,null,null,null,null,null,null,null,null,null,null,9999]
[{"$f":"FundDataInput!A93","v":0},{"$f":"FundDataInput!B93","v":0},{"$f":"FundDataInput!C93","v":0},{"$f":"FundDataInput!D93","v":0},{"$f":"FundDataInput!E93","v":0},{"$f":"IF(ISERROR(VLOOKUP(C93,C$2:C92,1,FALSE)),MAX(F$2:F92)+1,VLOOKUP(C93,C$2:F92,4,FALSE))","v":1},null,null,null,null,null,null,null,null,null,null,null,null,null,null,null,null,9999]
[{"$f":"FundDataInput!A94","v":0},{"$f":"FundDataInput!B94","v":0},{"$f":"FundDataInput!C94","v":0},{"$f":"FundDataInput!D94","v":0},{"$f":"FundDataInput!E94","v":0},{"$f":"IF(ISERROR(VLOOKUP(C94,C$2:C93,1,FALSE)),MAX(F$2:F93)+1,VLOOKUP(C94,C$2:F93,4,FALSE))","v":1},null,null,null,null,null,null,null,null,null,null,null,null,null,null,null,null,9999]
[{"$f":"FundDataInput!A95","v":0},{"$f":"FundDataInput!B95","v":0},{"$f":"FundDataInput!C95","v":0},{"$f":"FundDataInput!D95","v":0},{"$f":"FundDataInput!E95","v":0},{"$f":"IF(ISERROR(VLOOKUP(C95,C$2:C94,1,FALSE)),MAX(F$2:F94)+1,VLOOKUP(C95,C$2:F94,4,FALSE))","v":1},null,null,null,null,null,null,null,null,null,null,null,null,null,null,null,null,9999]
[{"$f":"FundDataInput!A96","v":0},{"$f":"FundDataInput!B96","v":0},{"$f":"FundDataInput!C96","v":0},{"$f":"FundDataInput!D96","v":0},{"$f":"FundDataInput!E96","v":0},{"$f":"IF(ISERROR(VLOOKUP(C96,C$2:C95,1,FALSE)),MAX(F$2:F95)+1,VLOOKUP(C96,C$2:F95,4,FALSE))","v":1},null,null,null,null,null,null,null,null,null,null,null,null,null,null,null,null,9999]
[{"$f":"FundDataInput!A97","v":0},{"$f":"FundDataInput!B97","v":0},{"$f":"FundDataInput!C97","v":0},{"$f":"FundDataInput!D97","v":0},{"$f":"FundDataInput!E97","v":0},{"$f":"IF(ISERROR(VLOOKUP(C97,C$2:C96,1,FALSE)),MAX(F$2:F96)+1,VLOOKUP(C97,C$2:F96,4,FALSE))","v":1},null,null,null,null,null,null,null,null,null,null,null,null,null,null,null,null,9999]
[{"$f":"FundDataInput!A98","v":0},{"$f":"FundDataInput!B98","v":0},{"$f":"FundDataInput!C98","v":0},{"$f":"FundDataInput!D98","v":0},{"$f":"FundDataInput!E98","v":0},{"$f":"IF(ISERROR(VLOOKUP(C98,C$2:C97,1,FALSE)),MAX(F$2:F97)+1,VLOOKUP(C98,C$2:F97,4,FALSE))","v":1},null,null,null,null,null,null,null,null,null,null,null,null,null,null,null,null,9999]
[{"$f":"FundDataInput!A99","v":0},{"$f":"FundDataInput!B99","v":0},{"$f":"FundDataInput!C99","v":0},{"$f":"FundDataInput!D99","v":0},{"$f":"FundDataInput!E99","v":0},{"$f":"IF(ISERROR(VLOOKUP(C99,C$2:C98,1,FALSE)),MAX(F$2:F98)+1,VLOOKUP(C99,C$2:F98,4,FALSE))","v":1},null,null,null,null,null,null,null,null,null,null,null,null,null,null,null,null,9999]
[{"$f":"FundDataInput!A100","v":0},{"$f":"FundDataInput!B100","v":0},{"$f":"FundDataInput!C100","v":0},{"$f":"FundDataInput!D100","v":0},{"$f":"FundDataInput!E100","v":0},{"$f":"IF(ISERROR(VLOOKUP(C100,C$2:C99,1,FALSE)),MAX(F$2:F99)+1,VLOOKUP(C100,C$2:F99,4,FALSE))","v":1},null,null,null,null,null,null,null,null,null,null,null,null,null,null,null,null,9999]
[{"$f":"FundDataInput!A101","v":0},{"$f":"FundDataInput!B101","v":0},{"$f":"FundDataInput!C101","v":0},{"$f":"FundDataInput!D101","v":0},{"$f":"FundDataInput!E101","v":0},{"$f":"IF(ISERROR(VLOOKUP(C101,C$2:C100,1,FALSE)),MAX(F$2:F100)+1,VLOOKUP(C101,C$2:F100,4,FALSE))","v":1},null,null,null,null,null,null,null,null,null,null,null,null,null,null,null,null,9999]
[{"$f":"FundDataInput!A102","v":0},{"$f":"FundDataInput!B102","v":0},{"$f":"FundDataInput!C102","v":0},{"$f":"FundDataInput!D102","v":0},{"$f":"FundDataInput!E102","v":0},{"$f":"IF(ISERROR(VLOOKUP(C102,C$2:C101,1,FALSE)),MAX(F$2:F101)+1,VLOOKUP(C102,C$2:F101,4,FALSE))","v":1},null,null,null,null,null,null,null,null,null,null,null,null,null,null,null,null,9999]
[{"$f":"FundDataInput!A103","v":0},{"$f":"FundDataInput!B103","v":0},{"$f":"FundDataInput!C103","v":0},{"$f":"FundDataInput!D103","v":0},{"$f":"FundDataInput!E103","v":0},{"$f":"IF(ISERROR(VLOOKUP(C103,C$2:C102,1,FALSE)),MAX(F$2:F102)+1,VLOOKUP(C103,C$2:F102,4,FALSE))","v":1},null,null,null,null,null,null,null,null,null,null,null,null,null,null,null,null,9999]
[{"$f":"FundDataInput!A104","v":0},{"$f":"FundDataInput!B104","v":0},{"$f":"FundDataInput!C104","v":0},{"$f":"FundDataInput!D104","v":0},{"$f":"FundDataInput!E104","v":0},{"$f":"IF(ISERROR(VLOOKUP(C104,C$2:C103,1,FALSE)),MAX(F$2:F103)+1,VLOOKUP(C104,C$2:F103,4,FALSE))","v":1},null,null,null,null,null,null,null,null,null,null,null,null,null,null,null,null,9999]
[{"$f":"FundDataInput!A105","v":0},{"$f":"FundDataInput!B105","v":0},{"$f":"FundDataInput!C105","v":0},{"$f":"FundDataInput!D105","v":0},{"$f":"FundDataInput!E105","v":0},{"$f":"IF(ISERROR(VLOOKUP(C105,C$2:C104,1,FALSE)),MAX(F$2:F104)+1,VLOOKUP(C105,C$2:F104,4,FALSE))","v":1},null,null,null,null,null,null,null,null,null,null,null,null,null,null,null,null,9999]
[{"$f":"FundDataInput!A106","v":0},{"$f":"FundDataInput!B106","v":0},{"$f":"FundDataInput!C106","v":0},{"$f":"FundDataInput!D106","v":0},{"$f":"FundDataInput!E106","v":0},{"$f":"IF(ISERROR(VLOOKUP(C106,C$2:C105,1,FALSE)),MAX(F$2:F105)+1,VLOOKUP(C106,C$2:F105,4,FALSE))","v":1},null,null,null,null,null,null,null,null,null,null,null,null,null,null,null,null,9999]
[{"$f":"FundDataInput!A107","v":0},{"$f":"FundDataInput!B107","v":0},{"$f":"FundDataInput!C107","v":0},{"$f":"FundDataInput!D107","v":0},{"$f":"FundDataInput!E107","v":0},{"$f":"IF(ISERROR(VLOOKUP(C107,C$2:C106,1,FALSE)),MAX(F$2:F106)+1,VLOOKUP(C107,C$2:F106,4,FALSE))","v":1},null,null,null,null,null,null,null,null,null,null,null,null,null,null,null,null,9999]
[{"$f":"FundDataInput!A108","v":0},{"$f":"FundDataInput!B108","v":0},{"$f":"FundDataInput!C108","v":0},{"$f":"FundDataInput!D108","v":0},{"$f":"FundDataInput!E108","v":0},{"$f":"IF(ISERROR(VLOOKUP(C108,C$2:C107,1,FALSE)),MAX(F$2:F107)+1,VLOOKUP(C108,C$2:F107,4,FALSE))","v":1},null,null,null,null,null,null,null,null,null,null,null,null,null,null,null,null,9999]
[{"$f":"FundDataInput!A109","v":0},{"$f":"FundDataInput!B109","v":0},{"$f":"FundDataInput!C109","v":0},{"$f":"FundDataInput!D109","v":0},{"$f":"FundDataInput!E109","v":0},{"$f":"IF(ISERROR(VLOOKUP(C109,C$2:C108,1,FALSE)),MAX(F$2:F108)+1,VLOOKUP(C109,C$2:F108,4,FALSE))","v":1},null,null,null,null,null,null,null,null,null,null,null,null,null,null,null,null,9999]
[{"$f":"FundDataInput!A110","v":0},{"$f":"FundDataInput!B110","v":0},{"$f":"FundDataInput!C110","v":0},{"$f":"FundDataInput!D110","v":0},{"$f":"FundDataInput!E110","v":0},{"$f":"IF(ISERROR(VLOOKUP(C110,C$2:C109,1,FALSE)),MAX(F$2:F109)+1,VLOOKUP(C110,C$2:F109,4,FALSE))","v":1},null,null,null,null,null,null,null,null,null,null,null,null,null,null,null,null,9999]
[{"$f":"FundDataInput!A111","v":0},{"$f":"FundDataInput!B111","v":0},{"$f":"FundDataInput!C111","v":0},{"$f":"FundDataInput!D111","v":0},{"$f":"FundDataInput!E111","v":0},{"$f":"IF(ISERROR(VLOOKUP(C111,C$2:C110,1,FALSE)),MAX(F$2:F110)+1,VLOOKUP(C111,C$2:F110,4,FALSE))","v":1},null,null,null,null,null,null,null,null,null,null,null,null,null,null,null,null,9999]
[{"$f":"FundDataInput!A112","v":0},{"$f":"FundDataInput!B112","v":0},{"$f":"FundDataInput!C112","v":0},{"$f":"FundDataInput!D112","v":0},{"$f":"FundDataInput!E112","v":0},{"$f":"IF(ISERROR(VLOOKUP(C112,C$2:C111,1,FALSE)),MAX(F$2:F111)+1,VLOOKUP(C112,C$2:F111,4,FALSE))","v":1},null,null,null,null,null,null,null,null,null,null,null,null,null,null,null,null,9999]
[{"$f":"FundDataInput!A113","v":0},{"$f":"FundDataInput!B113","v":0},{"$f":"FundDataInput!C113","v":0},{"$f":"FundDataInput!D113","v":0},{"$f":"FundDataInput!E113","v":0},{"$f":"IF(ISERROR(VLOOKUP(C113,C$2:C112,1,FALSE)),MAX(F$2:F112)+1,VLOOKUP(C113,C$2:F112,4,FALSE))","v":1},null,null,null,null,null,null,null,null,null,null,null,null,null,null,null,null,9999]
[{"$f":"FundDataInput!A114","v":0},{"$f":"FundDataInput!B114","v":0},{"$f":"FundDataInput!C114","v":0},{"$f":"FundDataInput!D114","v":0},{"$f":"FundDataInput!E114","v":0},{"$f":"IF(ISERROR(VLOOKUP(C114,C$2:C113,1,FALSE)),MAX(F$2:F113)+1,VLOOKUP(C114,C$2:F113,4,FALSE))","v":1},null,null,null,null,null,null,null,null,null,null,null,null,null,null,null,null,9999]
[{"$f":"FundDataInput!A115","v":0},{"$f":"FundDataInput!B115","v":0},{"$f":"FundDataInput!C115","v":0},{"$f":"FundDataInput!D115","v":0},{"$f":"FundDataInput!E115","v":0},{"$f":"IF(ISERROR(VLOOKUP(C115,C$2:C114,1,FALSE)),MAX(F$2:F114)+1,VLOOKUP(C115,C$2:F114,4,FALSE))","v":1},null,null,null,null,null,null,null,null,null,null,null,null,null,null,null,null,9999]
[{"$f":"FundDataInput!A116","v":0},{"$f":"FundDataInput!B116","v":0},{"$f":"FundDataInput!C116","v":0},{"$f":"FundDataInput!D116","v":0},{"$f":"FundDataInput!E116","v":0},{"$f":"IF(ISERROR(VLOOKUP(C116,C$2:C115,1,FALSE)),MAX(F$2:F115)+1,VLOOKUP(C116,C$2:F115,4,FALSE))","v":1},null,null,null,null,null,null,null,null,null,null,null,null,null,null,null,null,9999]
[{"$f":"FundDataInput!A117","v":0},{"$f":"FundDataInput!B117","v":0},{"$f":"FundDataInput!C117","v":0},{"$f":"FundDataInput!D117","v":0},{"$f":"FundDataInput!E117","v":0},{"$f":"IF(ISERROR(VLOOKUP(C117,C$2:C116,1,FALSE)),MAX(F$2:F116)+1,VLOOKUP(C117,C$2:F116,4,FALSE))","v":1},null,null,null,null,null,null,null,null,null,null,null,null,null,null,null,null,9999]
[{"$f":"FundDataInput!A118","v":0},{"$f":"FundDataInput!B118","v":0},{"$f":"FundDataInput!C118","v":0},{"$f":"FundDataInput!D118","v":0},{"$f":"FundDataInput!E118","v":0},{"$f":"IF(ISERROR(VLOOKUP(C118,C$2:C117,1,FALSE)),MAX(F$2:F117)+1,VLOOKUP(C118,C$2:F117,4,FALSE))","v":1},null,null,null,null,null,null,null,null,null,null,null,null,null,null,null,null,9999]
[{"$f":"FundDataInput!A119","v":0},{"$f":"FundDataInput!B119","v":0},{"$f":"FundDataInput!C119","v":0},{"$f":"FundDataInput!D119","v":0},{"$f":"FundDataInput!E119","v":0},{"$f":"IF(ISERROR(VLOOKUP(C119,C$2:C118,1,FALSE)),MAX(F$2:F118)+1,VLOOKUP(C119,C$2:F118,4,FALSE))","v":1},null,null,null,null,null,null,null,null,null,null,null,null,null,null,null,null,9999]
[{"$f":"FundDataInput!A120","v":0},{"$f":"FundDataInput!B120","v":0},{"$f":"FundDataInput!C120","v":0},{"$f":"FundDataInput!D120","v":0},{"$f":"FundDataInput!E120","v":0},{"$f":"IF(ISERROR(VLOOKUP(C120,C$2:C119,1,FALSE)),MAX(F$2:F119)+1,VLOOKUP(C120,C$2:F119,4,FALSE))","v":1},null,null,null,null,null,null,null,null,null,null,null,null,null,null,null,null,9999]
[{"$f":"FundDataInput!A121","v":0},{"$f":"FundDataInput!B121","v":0},{"$f":"FundDataInput!C121","v":0},{"$f":"FundDataInput!D121","v":0},{"$f":"FundDataInput!E121","v":0},{"$f":"IF(ISERROR(VLOOKUP(C121,C$2:C120,1,FALSE)),MAX(F$2:F120)+1,VLOOKUP(C121,C$2:F120,4,FALSE))","v":1},null,null,null,null,null,null,null,null,null,null,null,null,null,null,null,null,9999]
[{"$f":"FundDataInput!A122","v":0},{"$f":"FundDataInput!B122","v":0},{"$f":"FundDataInput!C122","v":0},{"$f":"FundDataInput!D122","v":0},{"$f":"FundDataInput!E122","v":0},{"$f":"IF(ISERROR(VLOOKUP(C122,C$2:C121,1,FALSE)),MAX(F$2:F121)+1,VLOOKUP(C122,C$2:F121,4,FALSE))","v":1},null,null,null,null,null,null,null,null,null,null,null,null,null,null,null,null,9999]
[{"$f":"FundDataInput!A123","v":0},{"$f":"FundDataInput!B123","v":0},{"$f":"FundDataInput!C123","v":0},{"$f":"FundDataInput!D123","v":0},{"$f":"FundDataInput!E123","v":0},{"$f":"IF(ISERROR(VLOOKUP(C123,C$2:C122,1,FALSE)),MAX(F$2:F122)+1,VLOOKUP(C123,C$2:F122,4,FALSE))","v":1},null,null,null,null,null,null,null,null,null,null,null,null,null,null,null,null,9999]
[{"$f":"FundDataInput!A124","v":0},{"$f":"FundDataInput!B124","v":0},{"$f":"FundDataInput!C124","v":0},{"$f":"FundDataInput!D124","v":0},{"$f":"FundDataInput!E124","v":0},{"$f":"IF(ISERROR(VLOOKUP(C124,C$2:C123,1,FALSE)),MAX(F$2:F123)+1,VLOOKUP(C124,C$2:F123,4,FALSE))","v":1},null,null,null,null,null,null,null,null,null,null,null,null,null,null,null,null,9999]
[{"$f":"FundDataInput!A125","v":0},{"$f":"FundDataInput!B125","v":0},{"$f":"FundDataInput!C125","v":0},{"$f":"FundDataInput!D125","v":0},{"$f":"FundDataInput!E125","v":0},{"$f":"IF(ISERROR(VLOOKUP(C125,C$2:C124,1,FALSE)),MAX(F$2:F124)+1,VLOOKUP(C125,C$2:F124,4,FALSE))","v":1},null,null,null,null,null,null,null,null,null,null,null,null,null,null,null,null,9999]
[{"$f":"FundDataInput!A126","v":0},{"$f":"FundDataInput!B126","v":0},{"$f":"FundDataInput!C126","v":0},{"$f":"FundDataInput!D126","v":0},{"$f":"FundDataInput!E126","v":0},{"$f":"IF(ISERROR(VLOOKUP(C126,C$2:C125,1,FALSE)),MAX(F$2:F125)+1,VLOOKUP(C126,C$2:F125,4,FALSE))","v":1},null,null,null,null,null,null,null,null,null,null,null,null,null,null,null,null,9999]
[{"$f":"FundDataInput!A127","v":0},{"$f":"FundDataInput!B127","v":0},{"$f":"FundDataInput!C127","v":0},{"$f":"FundDataInput!D127","v":0},{"$f":"FundDataInput!E127","v":0},{"$f":"IF(ISERROR(VLOOKUP(C127,C$2:C126,1,FALSE)),MAX(F$2:F126)+1,VLOOKUP(C127,C$2:F126,4,FALSE))","v":1},null,null,null,null,null,null,null,null,null,null,null,null,null,null,null,null,9999]
[{"$f":"FundDataInput!A128","v":0},{"$f":"FundDataInput!B128","v":0},{"$f":"FundDataInput!C128","v":0},{"$f":"FundDataInput!D128","v":0},{"$f":"FundDataInput!E128","v":0},{"$f":"IF(ISERROR(VLOOKUP(C128,C$2:C127,1,FALSE)),MAX(F$2:F127)+1,VLOOKUP(C128,C$2:F127,4,FALSE))","v":1},null,null,null,null,null,null,null,null,null,null,null,null,null,null,null,null,9999]
[{"$f":"FundDataInput!A129","v":0},{"$f":"FundDataInput!B129","v":0},{"$f":"FundDataInput!C129","v":0},{"$f":"FundDataInput!D129","v":0},{"$f":"FundDataInput!E129","v":0},{"$f":"IF(ISERROR(VLOOKUP(C129,C$2:C128,1,FALSE)),MAX(F$2:F128)+1,VLOOKUP(C129,C$2:F128,4,FALSE))","v":1},null,null,null,null,null,null,null,null,null,null,null,null,null,null,null,null,9999]
[{"$f":"FundDataInput!A130","v":0},{"$f":"FundDataInput!B130","v":0},{"$f":"FundDataInput!C130","v":0},{"$f":"FundDataInput!D130","v":0},{"$f":"FundDataInput!E130","v":0},{"$f":"IF(ISERROR(VLOOKUP(C130,C$2:C129,1,FALSE)),MAX(F$2:F129)+1,VLOOKUP(C130,C$2:F129,4,FALSE))","v":1},null,null,null,null,null,null,null,null,null,null,null,null,null,null,null,null,9999]
[{"$f":"FundDataInput!A131","v":0},{"$f":"FundDataInput!B131","v":0},{"$f":"FundDataInput!C131","v":0},{"$f":"FundDataInput!D131","v":0},{"$f":"FundDataInput!E131","v":0},{"$f":"IF(ISERROR(VLOOKUP(C131,C$2:C130,1,FALSE)),MAX(F$2:F130)+1,VLOOKUP(C131,C$2:F130,4,FALSE))","v":1},null,null,null,null,null,null,null,null,null,null,null,null,null,null,null,null,{"$f":"IF(B131<2000,9999,B131)","v":9999}]
[{"$f":"FundDataInput!A132","v":0},{"$f":"FundDataInput!B132","v":0},{"$f":"FundDataInput!C132","v":0},{"$f":"FundDataInput!D132","v":0},{"$f":"FundDataInput!E132","v":0},{"$f":"IF(ISERROR(VLOOKUP(C132,C$2:C131,1,FALSE)),MAX(F$2:F131)+1,VLOOKUP(C132,C$2:F131,4,FALSE))","v":1},null,null,null,null,null,null,null,null,null,null,null,null,null,null,null,null,9999]
[{"$f":"FundDataInput!A133","v":0},{"$f":"FundDataInput!B133","v":0},{"$f":"FundDataInput!C133","v":0},{"$f":"FundDataInput!D133","v":0},{"$f":"FundDataInput!E133","v":0},{"$f":"IF(ISERROR(VLOOKUP(C133,C$2:C132,1,FALSE)),MAX(F$2:F132)+1,VLOOKUP(C133,C$2:F132,4,FALSE))","v":1},null,null,null,null,null,null,null,null,null,null,null,null,null,null,null,null,9999]
[{"$f":"FundDataInput!A134","v":0},{"$f":"FundDataInput!B134","v":0},{"$f":"FundDataInput!C134","v":0},{"$f":"FundDataInput!D134","v":0},{"$f":"FundDataInput!E134","v":0},{"$f":"IF(ISERROR(VLOOKUP(C134,C$2:C133,1,FALSE)),MAX(F$2:F133)+1,VLOOKUP(C134,C$2:F133,4,FALSE))","v":1},null,null,null,null,null,null,null,null,null,null,null,null,null,null,null,null,9999]
[{"$f":"FundDataInput!A135","v":0},{"$f":"FundDataInput!B135","v":0},{"$f":"FundDataInput!C135","v":0},{"$f":"FundDataInput!D135","v":0},{"$f":"FundDataInput!E135","v":0},{"$f":"IF(ISERROR(VLOOKUP(C135,C$2:C134,1,FALSE)),MAX(F$2:F134)+1,VLOOKUP(C135,C$2:F134,4,FALSE))","v":1},null,null,null,null,null,null,null,null,null,null,null,null,null,null,null,null,9999]
[{"$f":"FundDataInput!A136","v":0},{"$f":"FundDataInput!B136","v":0},{"$f":"FundDataInput!C136","v":0},{"$f":"FundDataInput!D136","v":0},{"$f":"FundDataInput!E136","v":0},{"$f":"IF(ISERROR(VLOOKUP(C136,C$2:C135,1,FALSE)),MAX(F$2:F135)+1,VLOOKUP(C136,C$2:F135,4,FALSE))","v":1},null,null,null,null,null,null,null,null,null,null,null,null,null,null,null,null,9999]
[{"$f":"FundDataInput!A137","v":0},{"$f":"FundDataInput!B137","v":0},{"$f":"FundDataInput!C137","v":0},{"$f":"FundDataInput!D137","v":0},{"$f":"FundDataInput!E137","v":0},{"$f":"IF(ISERROR(VLOOKUP(C137,C$2:C136,1,FALSE)),MAX(F$2:F136)+1,VLOOKUP(C137,C$2:F136,4,FALSE))","v":1},null,null,null,null,null,null,null,null,null,null,null,null,null,null,null,null,9999]
[{"$f":"FundDataInput!A138","v":0},{"$f":"FundDataInput!B138","v":0},{"$f":"FundDataInput!C138","v":0},{"$f":"FundDataInput!D138","v":0},{"$f":"FundDataInput!E138","v":0},{"$f":"IF(ISERROR(VLOOKUP(C138,C$2:C137,1,FALSE)),MAX(F$2:F137)+1,VLOOKUP(C138,C$2:F137,4,FALSE))","v":1},null,null,null,null,null,null,null,null,null,null,null,null,null,null,null,null,9999]
[{"$f":"FundDataInput!A139","v":0},{"$f":"FundDataInput!B139","v":0},{"$f":"FundDataInput!C139","v":0},{"$f":"FundDataInput!D139","v":0},{"$f":"FundDataInput!E139","v":0},{"$f":"IF(ISERROR(VLOOKUP(C139,C$2:C138,1,FALSE)),MAX(F$2:F138)+1,VLOOKUP(C139,C$2:F138,4,FALSE))","v":1},null,null,null,null,null,null,null,null,null,null,null,null,null,null,null,null,9999]
[{"$f":"FundDataInput!A140","v":0},{"$f":"FundDataInput!B140","v":0},{"$f":"FundDataInput!C140","v":0},{"$f":"FundDataInput!D140","v":0},{"$f":"FundDataInput!E140","v":0},{"$f":"IF(ISERROR(VLOOKUP(C140,C$2:C139,1,FALSE)),MAX(F$2:F139)+1,VLOOKUP(C140,C$2:F139,4,FALSE))","v":1},null,null,null,null,null,null,null,null,null,null,null,null,null,null,null,null,9999]
[{"$f":"FundDataInput!A141","v":0},{"$f":"FundDataInput!B141","v":0},{"$f":"FundDataInput!C141","v":0},{"$f":"FundDataInput!D141","v":0},{"$f":"FundDataInput!E141","v":0},{"$f":"IF(ISERROR(VLOOKUP(C141,C$2:C140,1,FALSE)),MAX(F$2:F140)+1,VLOOKUP(C141,C$2:F140,4,FALSE))","v":1},null,null,null,null,null,null,null,null,null,null,null,null,null,null,null,null,9999]
[{"$f":"FundDataInput!A142","v":0},{"$f":"FundDataInput!B142","v":0},{"$f":"FundDataInput!C142","v":0},{"$f":"FundDataInput!D142","v":0},{"$f":"FundDataInput!E142","v":0},{"$f":"IF(ISERROR(VLOOKUP(C142,C$2:C141,1,FALSE)),MAX(F$2:F141)+1,VLOOKUP(C142,C$2:F141,4,FALSE))","v":1},null,null,null,null,null,null,null,null,null,null,null,null,null,null,null,null,9999]
[{"$f":"FundDataInput!A143","v":0},{"$f":"FundDataInput!B143","v":0},{"$f":"FundDataInput!C143","v":0},{"$f":"FundDataInput!D143","v":0},{"$f":"FundDataInput!E143","v":0},{"$f":"IF(ISERROR(VLOOKUP(C143,C$2:C142,1,FALSE)),MAX(F$2:F142)+1,VLOOKUP(C143,C$2:F142,4,FALSE))","v":1},null,null,null,null,null,null,null,null,null,null,null,null,null,null,null,null,9999]
[{"$f":"FundDataInput!A144","v":0},{"$f":"FundDataInput!B144","v":0},{"$f":"FundDataInput!C144","v":0},{"$f":"FundDataInput!D144","v":0},{"$f":"FundDataInput!E144","v":0},{"$f":"IF(ISERROR(VLOOKUP(C144,C$2:C143,1,FALSE)),MAX(F$2:F143)+1,VLOOKUP(C144,C$2:F143,4,FALSE))","v":1},null,null,null,null,null,null,null,null,null,null,null,null,null,null,null,null,9999]
[{"$f":"FundDataInput!A145","v":0},{"$f":"FundDataInput!B145","v":0},{"$f":"FundDataInput!C145","v":0},{"$f":"FundDataInput!D145","v":0},{"$f":"FundDataInput!E145","v":0},{"$f":"IF(ISERROR(VLOOKUP(C145,C$2:C144,1,FALSE)),MAX(F$2:F144)+1,VLOOKUP(C145,C$2:F144,4,FALSE))","v":1},null,null,null,null,null,null,null,null,null,null,null,null,null,null,null,null,9999]
[{"$f":"FundDataInput!A146","v":0},{"$f":"FundDataInput!B146","v":0},{"$f":"FundDataInput!C146","v":0},{"$f":"FundDataInput!D146","v":0},{"$f":"FundDataInput!E146","v":0},{"$f":"IF(ISERROR(VLOOKUP(C146,C$2:C145,1,FALSE)),MAX(F$2:F145)+1,VLOOKUP(C146,C$2:F145,4,FALSE))","v":1},null,null,null,null,null,null,null,null,null,null,null,null,null,null,null,null,9999]
[{"$f":"FundDataInput!A147","v":0},{"$f":"FundDataInput!B147","v":0},{"$f":"FundDataInput!C147","v":0},{"$f":"FundDataInput!D147","v":0},{"$f":"FundDataInput!E147","v":0},{"$f":"IF(ISERROR(VLOOKUP(C147,C$2:C146,1,FALSE)),MAX(F$2:F146)+1,VLOOKUP(C147,C$2:F146,4,FALSE))","v":1},null,null,null,null,null,null,null,null,null,null,null,null,null,null,null,null,9999]
[{"$f":"FundDataInput!A148","v":0},{"$f":"FundDataInput!B148","v":0},{"$f":"FundDataInput!C148","v":0},{"$f":"FundDataInput!D148","v":0},{"$f":"FundDataInput!E148","v":0},{"$f":"IF(ISERROR(VLOOKUP(C148,C$2:C147,1,FALSE)),MAX(F$2:F147)+1,VLOOKUP(C148,C$2:F147,4,FALSE))","v":1},null,null,null,null,null,null,null,null,null,null,null,null,null,null,null,null,9999]
[{"$f":"FundDataInput!A149","v":0},{"$f":"FundDataInput!B149","v":0},{"$f":"FundDataInput!C149","v":0},{"$f":"FundDataInput!D149","v":0},{"$f":"FundDataInput!E149","v":0},{"$f":"IF(ISERROR(VLOOKUP(C149,C$2:C148,1,FALSE)),MAX(F$2:F148)+1,VLOOKUP(C149,C$2:F148,4,FALSE))","v":1},null,null,null,null,null,null,null,null,null,null,null,null,null,null,null,null,9999]
[{"$f":"FundDataInput!A150","v":0},{"$f":"FundDataInput!B150","v":0},{"$f":"FundDataInput!C150","v":0},{"$f":"FundDataInput!D150","v":0},{"$f":"FundDataInput!E150","v":0},{"$f":"IF(ISERROR(VLOOKUP(C150,C$2:C149,1,FALSE)),MAX(F$2:F149)+1,VLOOKUP(C150,C$2:F149,4,FALSE))","v":1},null,null,null,null,null,null,null,null,null,null,null,null,null,null,null,null,9999]
[{"$f":"FundDataInput!A151","v":0},{"$f":"FundDataInput!B151","v":0},{"$f":"FundDataInput!C151","v":0},{"$f":"FundDataInput!D151","v":0},{"$f":"FundDataInput!E151","v":0},{"$f":"IF(ISERROR(VLOOKUP(C151,C$2:C150,1,FALSE)),MAX(F$2:F150)+1,VLOOKUP(C151,C$2:F150,4,FALSE))","v":1},null,null,null,null,null,null,null,null,null,null,null,null,null,null,null,null,9999]
[{"$f":"FundDataInput!A152","v":0},{"$f":"FundDataInput!B152","v":0},{"$f":"FundDataInput!C152","v":0},{"$f":"FundDataInput!D152","v":0},{"$f":"FundDataInput!E152","v":0},{"$f":"IF(ISERROR(VLOOKUP(C152,C$2:C151,1,FALSE)),MAX(F$2:F151)+1,VLOOKUP(C152,C$2:F151,4,FALSE))","v":1},null,null,null,null,null,null,null,null,null,null,null,null,null,null,null,null,9999]
[{"$f":"FundDataInput!A153","v":0},{"$f":"FundDataInput!B153","v":0},{"$f":"FundDataInput!C153","v":0},{"$f":"FundDataInput!D153","v":0},{"$f":"FundDataInput!E153","v":0},{"$f":"IF(ISERROR(VLOOKUP(C153,C$2:C152,1,FALSE)),MAX(F$2:F152)+1,VLOOKUP(C153,C$2:F152,4,FALSE))","v":1},null,null,null,null,null,null,null,null,null,null,null,null,null,null,null,null,9999]
[{"$f":"FundDataInput!A154","v":0},{"$f":"FundDataInput!B154","v":0},{"$f":"FundDataInput!C154","v":0},{"$f":"FundDataInput!D154","v":0},{"$f":"FundDataInput!E154","v":0},{"$f":"IF(ISERROR(VLOOKUP(C154,C$2:C153,1,FALSE)),MAX(F$2:F153)+1,VLOOKUP(C154,C$2:F153,4,FALSE))","v":1},null,null,null,null,null,null,null,null,null,null,null,null,null,null,null,null,9999]
[{"$f":"FundDataInput!A155","v":0},{"$f":"FundDataInput!B155","v":0},{"$f":"FundDataInput!C155","v":0},{"$f":"FundDataInput!D155","v":0},{"$f":"FundDataInput!E155","v":0},{"$f":"IF(ISERROR(VLOOKUP(C155,C$2:C154,1,FALSE)),MAX(F$2:F154)+1,VLOOKUP(C155,C$2:F154,4,FALSE))","v":1},null,null,null,null,null,null,null,null,null,null,null,null,null,null,null,null,9999]
[{"$f":"FundDataInput!A156","v":0},{"$f":"FundDataInput!B156","v":0},{"$f":"FundDataInput!C156","v":0},{"$f":"FundDataInput!D156","v":0},{"$f":"FundDataInput!E156","v":0},{"$f":"IF(ISERROR(VLOOKUP(C156,C$2:C155,1,FALSE)),MAX(F$2:F155)+1,VLOOKUP(C156,C$2:F155,4,FALSE))","v":1},null,null,null,null,null,null,null,null,null,null,null,null,null,null,null,null,9999]
[{"$f":"FundDataInput!A157","v":0},{"$f":"FundDataInput!B157","v":0},{"$f":"FundDataInput!C157","v":0},{"$f":"FundDataInput!D157","v":0},{"$f":"FundDataInput!E157","v":0},{"$f":"IF(ISERROR(VLOOKUP(C157,C$2:C156,1,FALSE)),MAX(F$2:F156)+1,VLOOKUP(C157,C$2:F156,4,FALSE))","v":1},null,null,null,null,null,null,null,null,null,null,null,null,null,null,null,null,9999]
[{"$f":"FundDataInput!A158","v":0},{"$f":"FundDataInput!B158","v":0},{"$f":"FundDataInput!C158","v":0},{"$f":"FundDataInput!D158","v":0},{"$f":"FundDataInput!E158","v":0},{"$f":"IF(ISERROR(VLOOKUP(C158,C$2:C157,1,FALSE)),MAX(F$2:F157)+1,VLOOKUP(C158,C$2:F157,4,FALSE))","v":1},null,null,null,null,null,null,null,null,null,null,null,null,null,null,null,null,9999]
[{"$f":"FundDataInput!A159","v":0},{"$f":"FundDataInput!B159","v":0},{"$f":"FundDataInput!C159","v":0},{"$f":"FundDataInput!D159","v":0},{"$f":"FundDataInput!E159","v":0},{"$f":"IF(ISERROR(VLOOKUP(C159,C$2:C158,1,FALSE)),MAX(F$2:F158)+1,VLOOKUP(C159,C$2:F158,4,FALSE))","v":1},null,null,null,null,null,null,null,null,null,null,null,null,null,null,null,null,9999]
[{"$f":"FundDataInput!A160","v":0},{"$f":"FundDataInput!B160","v":0},{"$f":"FundDataInput!C160","v":0},{"$f":"FundDataInput!D160","v":0},{"$f":"FundDataInput!E160","v":0},{"$f":"IF(ISERROR(VLOOKUP(C160,C$2:C159,1,FALSE)),MAX(F$2:F159)+1,VLOOKUP(C160,C$2:F159,4,FALSE))","v":1},null,null,null,null,null,null,null,null,null,null,null,null,null,null,null,null,9999]
[{"$f":"FundDataInput!A161","v":0},{"$f":"FundDataInput!B161","v":0},{"$f":"FundDataInput!C161","v":0},{"$f":"FundDataInput!D161","v":0},{"$f":"FundDataInput!E161","v":0},{"$f":"IF(ISERROR(VLOOKUP(C161,C$2:C160,1,FALSE)),MAX(F$2:F160)+1,VLOOKUP(C161,C$2:F160,4,FALSE))","v":1},null,null,null,null,null,null,null,null,null,null,null,null,null,null,null,null,9999]
[{"$f":"FundDataInput!A162","v":0},{"$f":"FundDataInput!B162","v":0},{"$f":"FundDataInput!C162","v":0},{"$f":"FundDataInput!D162","v":0},{"$f":"FundDataInput!E162","v":0},{"$f":"IF(ISERROR(VLOOKUP(C162,C$2:C161,1,FALSE)),MAX(F$2:F161)+1,VLOOKUP(C162,C$2:F161,4,FALSE))","v":1},null,null,null,null,null,null,null,null,null,null,null,null,null,null,null,null,9999]
[{"$f":"FundDataInput!A163","v":0},{"$f":"FundDataInput!B163","v":0},{"$f":"FundDataInput!C163","v":0},{"$f":"FundDataInput!D163","v":0},{"$f":"FundDataInput!E163","v":0},{"$f":"IF(ISERROR(VLOOKUP(C163,C$2:C162,1,FALSE)),MAX(F$2:F162)+1,VLOOKUP(C163,C$2:F162,4,FALSE))","v":1},null,null,null,null,null,null,null,null,null,null,null,null,null,null,null,null,9999]
[{"$f":"FundDataInput!A164","v":0},{"$f":"FundDataInput!B164","v":0},{"$f":"FundDataInput!C164","v":0},{"$f":"FundDataInput!D164","v":0},{"$f":"FundDataInput!E164","v":0},{"$f":"IF(ISERROR(VLOOKUP(C164,C$2:C163,1,FALSE)),MAX(F$2:F163)+1,VLOOKUP(C164,C$2:F163,4,FALSE))","v":1},null,null,null,null,null,null,null,null,null,null,null,null,null,null,null,null,9999]
[{"$f":"FundDataInput!A165","v":0},{"$f":"FundDataInput!B165","v":0},{"$f":"FundDataInput!C165","v":0},{"$f":"FundDataInput!D165","v":0},{"$f":"FundDataInput!E165","v":0},{"$f":"IF(ISERROR(VLOOKUP(C165,C$2:C164,1,FALSE)),MAX(F$2:F164)+1,VLOOKUP(C165,C$2:F164,4,FALSE))","v":1},null,null,null,null,null,null,null,null,null,null,null,null,null,null,null,null,9999]
[{"$f":"FundDataInput!A166","v":0},{"$f":"FundDataInput!B166","v":0},{"$f":"FundDataInput!C166","v":0},{"$f":"FundDataInput!D166","v":0},{"$f":"FundDataInput!E166","v":0},{"$f":"IF(ISERROR(VLOOKUP(C166,C$2:C165,1,FALSE)),MAX(F$2:F165)+1,VLOOKUP(C166,C$2:F165,4,FALSE))","v":1},null,null,null,null,null,null,null,null,null,null,null,null,null,null,null,null,9999]
[{"$f":"FundDataInput!A167","v":0},{"$f":"FundDataInput!B167","v":0},{"$f":"FundDataInput!C167","v":0},{"$f":"FundDataInput!D167","v":0},{"$f":"FundDataInput!E167","v":0},{"$f":"IF(ISERROR(VLOOKUP(C167,C$2:C166,1,FALSE)),MAX(F$2:F166)+1,VLOOKUP(C167,C$2:F166,4,FALSE))","v":1},null,null,null,null,null,null,null,null,null,null,null,null,null,null,null,null,9999]
[{"$f":"FundDataInput!A168","v":0},{"$f":"FundDataInput!B168","v":0},{"$f":"FundDataInput!C168","v":0},{"$f":"FundDataInput!D168","v":0},{"$f":"FundDataInput!E168","v":0},{"$f":"IF(ISERROR(VLOOKUP(C168,C$2:C167,1,FALSE)),MAX(F$2:F167)+1,VLOOKUP(C168,C$2:F167,4,FALSE))","v":1},null,null,null,null,null,null,null,null,null,null,null,null,null,null,null,null,9999]
[{"$f":"FundDataInput!A169","v":0},{"$f":"FundDataInput!B169","v":0},{"$f":"FundDataInput!C169","v":0},{"$f":"FundDataInput!D169","v":0},{"$f":"FundDataInput!E169","v":0},{"$f":"IF(ISERROR(VLOOKUP(C169,C$2:C168,1,FALSE)),MAX(F$2:F168)+1,VLOOKUP(C169,C$2:F168,4,FALSE))","v":1},null,null,null,null,null,null,null,null,null,null,null,null,null,null,null,null,9999]
[{"$f":"FundDataInput!A170","v":0},{"$f":"FundDataInput!B170","v":0},{"$f":"FundDataInput!C170","v":0},{"$f":"FundDataInput!D170","v":0},{"$f":"FundDataInput!E170","v":0},{"$f":"IF(ISERROR(VLOOKUP(C170,C$2:C169,1,FALSE)),MAX(F$2:F169)+1,VLOOKUP(C170,C$2:F169,4,FALSE))","v":1},null,null,null,null,null,null,null,null,null,null,null,null,null,null,null,null,9999]
[{"$f":"FundDataInput!A171","v":0},{"$f":"FundDataInput!B171","v":0},{"$f":"FundDataInput!C171","v":0},{"$f":"FundDataInput!D171","v":0},{"$f":"FundDataInput!E171","v":0},{"$f":"IF(ISERROR(VLOOKUP(C171,C$2:C170,1,FALSE)),MAX(F$2:F170)+1,VLOOKUP(C171,C$2:F170,4,FALSE))","v":1},null,null,null,null,null,null,null,null,null,null,null,null,null,null,null,null,9999]
[{"$f":"FundDataInput!A172","v":0},{"$f":"FundDataInput!B172","v":0},{"$f":"FundDataInput!C172","v":0},{"$f":"FundDataInput!D172","v":0},{"$f":"FundDataInput!E172","v":0},{"$f":"IF(ISERROR(VLOOKUP(C172,C$2:C171,1,FALSE)),MAX(F$2:F171)+1,VLOOKUP(C172,C$2:F171,4,FALSE))","v":1},null,null,null,null,null,null,null,null,null,null,null,null,null,null,null,null,9999]
[{"$f":"FundDataInput!A173","v":0},{"$f":"FundDataInput!B173","v":0},{"$f":"FundDataInput!C173","v":0},{"$f":"FundDataInput!D173","v":0},{"$f":"FundDataInput!E173","v":0},{"$f":"IF(ISERROR(VLOOKUP(C173,C$2:C172,1,FALSE)),MAX(F$2:F172)+1,VLOOKUP(C173,C$2:F172,4,FALSE))","v":1},null,null,null,null,null,null,null,null,null,null,null,null,null,null,null,null,9999]
[{"$f":"FundDataInput!A174","v":0},{"$f":"FundDataInput!B174","v":0},{"$f":"FundDataInput!C174","v":0},{"$f":"FundDataInput!D174","v":0},{"$f":"FundDataInput!E174","v":0},{"$f":"IF(ISERROR(VLOOKUP(C174,C$2:C173,1,FALSE)),MAX(F$2:F173)+1,VLOOKUP(C174,C$2:F173,4,FALSE))","v":1},null,null,null,null,null,null,null,null,null,null,null,null,null,null,null,null,9999]
[{"$f":"FundDataInput!A175","v":0},{"$f":"FundDataInput!B175","v":0},{"$f":"FundDataInput!C175","v":0},{"$f":"FundDataInput!D175","v":0},{"$f":"FundDataInput!E175","v":0},{"$f":"IF(ISERROR(VLOOKUP(C175,C$2:C174,1,FALSE)),MAX(F$2:F174)+1,VLOOKUP(C175,C$2:F174,4,FALSE))","v":1},null,null,null,null,null,null,null,null,null,null,null,null,null,null,null,null,9999]
[{"$f":"FundDataInput!A176","v":0},{"$f":"FundDataInput!B176","v":0},{"$f":"FundDataInput!C176","v":0},{"$f":"FundDataInput!D176","v":0},{"$f":"FundDataInput!E176","v":0},{"$f":"IF(ISERROR(VLOOKUP(C176,C$2:C175,1,FALSE)),MAX(F$2:F175)+1,VLOOKUP(C176,C$2:F175,4,FALSE))","v":1},null,null,null,null,null,null,null,null,null,null,null,null,null,null,null,null,9999]
[{"$f":"FundDataInput!A177","v":0},{"$f":"FundDataInput!B177","v":0},{"$f":"FundDataInput!C177","v":0},{"$f":"FundDataInput!D177","v":0},{"$f":"FundDataInput!E177","v":0},{"$f":"IF(ISERROR(VLOOKUP(C177,C$2:C176,1,FALSE)),MAX(F$2:F176)+1,VLOOKUP(C177,C$2:F176,4,FALSE))","v":1},null,null,null,null,null,null,null,null,null,null,null,null,null,null,null,null,9999]
[{"$f":"FundDataInput!A178","v":0},{"$f":"FundDataInput!B178","v":0},{"$f":"FundDataInput!C178","v":0},{"$f":"FundDataInput!D178","v":0},{"$f":"FundDataInput!E178","v":0},{"$f":"IF(ISERROR(VLOOKUP(C178,C$2:C177,1,FALSE)),MAX(F$2:F177)+1,VLOOKUP(C178,C$2:F177,4,FALSE))","v":1},null,null,null,null,null,null,null,null,null,null,null,null,null,null,null,null,9999]
[{"$f":"FundDataInput!A179","v":0},{"$f":"FundDataInput!B179","v":0},{"$f":"FundDataInput!C179","v":0},{"$f":"FundDataInput!D179","v":0},{"$f":"FundDataInput!E179","v":0},{"$f":"IF(ISERROR(VLOOKUP(C179,C$2:C178,1,FALSE)),MAX(F$2:F178)+1,VLOOKUP(C179,C$2:F178,4,FALSE))","v":1},null,null,null,null,null,null,null,null,null,null,null,null,null,null,null,null,9999]
[{"$f":"FundDataInput!A180","v":0},{"$f":"FundDataInput!B180","v":0},{"$f":"FundDataInput!C180","v":0},{"$f":"FundDataInput!D180","v":0},{"$f":"FundDataInput!E180","v":0},{"$f":"IF(ISERROR(VLOOKUP(C180,C$2:C179,1,FALSE)),MAX(F$2:F179)+1,VLOOKUP(C180,C$2:F179,4,FALSE))","v":1},null,null,null,null,null,null,null,null,null,null,null,null,null,null,null,null,9999]
[{"$f":"FundDataInput!A181","v":0},{"$f":"FundDataInput!B181","v":0},{"$f":"FundDataInput!C181","v":0},{"$f":"FundDataInput!D181","v":0},{"$f":"FundDataInput!E181","v":0},{"$f":"IF(ISERROR(VLOOKUP(C181,C$2:C180,1,FALSE)),MAX(F$2:F180)+1,VLOOKUP(C181,C$2:F180,4,FALSE))","v":1},null,null,null,null,null,null,null,null,null,null,null,null,null,null,null,null,9999]
[{"$f":"FundDataInput!A182","v":0},{"$f":"FundDataInput!B182","v":0},{"$f":"FundDataInput!C182","v":0},{"$f":"FundDataInput!D182","v":0},{"$f":"FundDataInput!E182","v":0},{"$f":"IF(ISERROR(VLOOKUP(C182,C$2:C181,1,FALSE)),MAX(F$2:F181)+1,VLOOKUP(C182,C$2:F181,4,FALSE))","v":1},null,null,null,null,null,null,null,null,null,null,null,null,null,null,null,null,9999]
[{"$f":"FundDataInput!A183","v":0},{"$f":"FundDataInput!B183","v":0},{"$f":"FundDataInput!C183","v":0},{"$f":"FundDataInput!D183","v":0},{"$f":"FundDataInput!E183","v":0},{"$f":"IF(ISERROR(VLOOKUP(C183,C$2:C182,1,FALSE)),MAX(F$2:F182)+1,VLOOKUP(C183,C$2:F182,4,FALSE))","v":1},null,null,null,null,null,null,null,null,null,null,null,null,null,null,null,null,9999]
[{"$f":"FundDataInput!A184","v":0},{"$f":"FundDataInput!B184","v":0},{"$f":"FundDataInput!C184","v":0},{"$f":"FundDataInput!D184","v":0},{"$f":"FundDataInput!E184","v":0},{"$f":"IF(ISERROR(VLOOKUP(C184,C$2:C183,1,FALSE)),MAX(F$2:F183)+1,VLOOKUP(C184,C$2:F183,4,FALSE))","v":1},null,null,null,null,null,null,null,null,null,null,null,null,null,null,null,null,9999]
[{"$f":"FundDataInput!A185","v":0},{"$f":"FundDataInput!B185","v":0},{"$f":"FundDataInput!C185","v":0},{"$f":"FundDataInput!D185","v":0},{"$f":"FundDataInput!E185","v":0},{"$f":"IF(ISERROR(VLOOKUP(C185,C$2:C184,1,FALSE)),MAX(F$2:F184)+1,VLOOKUP(C185,C$2:F184,4,FALSE))","v":1},null,null,null,null,null,null,null,null,null,null,null,null,null,null,null,null,9999]
[{"$f":"FundDataInput!A186","v":0},{"$f":"FundDataInput!B186","v":0},{"$f":"FundDataInput!C186","v":0},{"$f":"FundDataInput!D186","v":0},{"$f":"FundDataInput!E186","v":0},{"$f":"IF(ISERROR(VLOOKUP(C186,C$2:C185,1,FALSE)),MAX(F$2:F185)+1,VLOOKUP(C186,C$2:F185,4,FALSE))","v":1},null,null,null,null,null,null,null,null,null,null,null,null,null,null,null,null,9999]
[{"$f":"FundDataInput!A187","v":0},{"$f":"FundDataInput!B187","v":0},{"$f":"FundDataInput!C187","v":0},{"$f":"FundDataInput!D187","v":0},{"$f":"FundDataInput!E187","v":0},{"$f":"IF(ISERROR(VLOOKUP(C187,C$2:C186,1,FALSE)),MAX(F$2:F186)+1,VLOOKUP(C187,C$2:F186,4,FALSE))","v":1},null,null,null,null,null,null,null,null,null,null,null,null,null,null,null,null,9999]
[{"$f":"FundDataInput!A188","v":0},{"$f":"FundDataInput!B188","v":0},{"$f":"FundDataInput!C188","v":0},{"$f":"FundDataInput!D188","v":0},{"$f":"FundDataInput!E188","v":0},{"$f":"IF(ISERROR(VLOOKUP(C188,C$2:C187,1,FALSE)),MAX(F$2:F187)+1,VLOOKUP(C188,C$2:F187,4,FALSE))","v":1},null,null,null,null,null,null,null,null,null,null,null,null,null,null,null,null,9999]
[{"$f":"FundDataInput!A189","v":0},{"$f":"FundDataInput!B189","v":0},{"$f":"FundDataInput!C189","v":0},{"$f":"FundDataInput!D189","v":0},{"$f":"FundDataInput!E189","v":0},{"$f":"IF(ISERROR(VLOOKUP(C189,C$2:C188,1,FALSE)),MAX(F$2:F188)+1,VLOOKUP(C189,C$2:F188,4,FALSE))","v":1},null,null,null,null,null,null,null,null,null,null,null,null,null,null,null,null,9999]
[{"$f":"FundDataInput!A190","v":0},{"$f":"FundDataInput!B190","v":0},{"$f":"FundDataInput!C190","v":0},{"$f":"FundDataInput!D190","v":0},{"$f":"FundDataInput!E190","v":0},{"$f":"IF(ISERROR(VLOOKUP(C190,C$2:C189,1,FALSE)),MAX(F$2:F189)+1,VLOOKUP(C190,C$2:F189,4,FALSE))","v":1},null,null,null,null,null,null,null,null,null,null,null,null,null,null,null,null,9999]
[{"$f":"FundDataInput!A191","v":0},{"$f":"FundDataInput!B191","v":0},{"$f":"FundDataInput!C191","v":0},{"$f":"FundDataInput!D191","v":0},{"$f":"FundDataInput!E191","v":0},{"$f":"IF(ISERROR(VLOOKUP(C191,C$2:C190,1,FALSE)),MAX(F$2:F190)+1,VLOOKUP(C191,C$2:F190,4,FALSE))","v":1},null,null,null,null,null,null,null,null,null,null,null,null,null,null,null,null,9999]
[{"$f":"FundDataInput!A192","v":0},{"$f":"FundDataInput!B192","v":0},{"$f":"FundDataInput!C192","v":0},{"$f":"FundDataInput!D192","v":0},{"$f":"FundDataInput!E192","v":0},{"$f":"IF(ISERROR(VLOOKUP(C192,C$2:C191,1,FALSE)),MAX(F$2:F191)+1,VLOOKUP(C192,C$2:F191,4,FALSE))","v":1},null,null,null,null,null,null,null,null,null,null,null,null,null,null,null,null,9999]
[{"$f":"FundDataInput!A193","v":0},{"$f":"FundDataInput!B193","v":0},{"$f":"FundDataInput!C193","v":0},{"$f":"FundDataInput!D193","v":0},{"$f":"FundDataInput!E193","v":0},{"$f":"IF(ISERROR(VLOOKUP(C193,C$2:C192,1,FALSE)),MAX(F$2:F192)+1,VLOOKUP(C193,C$2:F192,4,FALSE))","v":1},null,null,null,null,null,null,null,null,null,null,null,null,null,null,null,null,9999]
[{"$f":"FundDataInput!A194","v":0},{"$f":"FundDataInput!B194","v":0},{"$f":"FundDataInput!C194","v":0},{"$f":"FundDataInput!D194","v":0},{"$f":"FundDataInput!E194","v":0},{"$f":"IF(ISERROR(VLOOKUP(C194,C$2:C193,1,FALSE)),MAX(F$2:F193)+1,VLOOKUP(C194,C$2:F193,4,FALSE))","v":1},null,null,null,null,null,null,null,null,null,null,null,null,null,null,null,null,9999]
[{"$f":"FundDataInput!A195","v":0},{"$f":"FundDataInput!B195","v":0},{"$f":"FundDataInput!C195","v":0},{"$f":"FundDataInput!D195","v":0},{"$f":"FundDataInput!E195","v":0},{"$f":"IF(ISERROR(VLOOKUP(C195,C$2:C194,1,FALSE)),MAX(F$2:F194)+1,VLOOKUP(C195,C$2:F194,4,FALSE))","v":1},null,null,null,null,null,null,null,null,null,null,null,null,null,null,null,null,{"$f":"IF(B195<2000,9999,B195)","v":9999}]
[{"$f":"FundDataInput!A196","v":0},{"$f":"FundDataInput!B196","v":0},{"$f":"FundDataInput!C196","v":0},{"$f":"FundDataInput!D196","v":0},{"$f":"FundDataInput!E196","v":0},{"$f":"IF(ISERROR(VLOOKUP(C196,C$2:C195,1,FALSE)),MAX(F$2:F195)+1,VLOOKUP(C196,C$2:F195,4,FALSE))","v":1},null,null,null,null,null,null,null,null,null,null,null,null,null,null,null,null,9999]
[{"$f":"FundDataInput!A197","v":0},{"$f":"FundDataInput!B197","v":0},{"$f":"FundDataInput!C197","v":0},{"$f":"FundDataInput!D197","v":0},{"$f":"FundDataInput!E197","v":0},{"$f":"IF(ISERROR(VLOOKUP(C197,C$2:C196,1,FALSE)),MAX(F$2:F196)+1,VLOOKUP(C197,C$2:F196,4,FALSE))","v":1},null,null,null,null,null,null,null,null,null,null,null,null,null,null,null,null,9999]
[{"$f":"FundDataInput!A198","v":0},{"$f":"FundDataInput!B198","v":0},{"$f":"FundDataInput!C198","v":0},{"$f":"FundDataInput!D198","v":0},{"$f":"FundDataInput!E198","v":0},{"$f":"IF(ISERROR(VLOOKUP(C198,C$2:C197,1,FALSE)),MAX(F$2:F197)+1,VLOOKUP(C198,C$2:F197,4,FALSE))","v":1},null,null,null,null,null,null,null,null,null,null,null,null,null,null,null,null,9999]
[{"$f":"FundDataInput!A199","v":0},{"$f":"FundDataInput!B199","v":0},{"$f":"FundDataInput!C199","v":0},{"$f":"FundDataInput!D199","v":0},{"$f":"FundDataInput!E199","v":0},{"$f":"IF(ISERROR(VLOOKUP(C199,C$2:C198,1,FALSE)),MAX(F$2:F198)+1,VLOOKUP(C199,C$2:F198,4,FALSE))","v":1},null,null,null,null,null,null,null,null,null,null,null,null,null,null,null,null,9999]
[{"$f":"FundDataInput!A200","v":0},{"$f":"FundDataInput!B200","v":0},{"$f":"FundDataInput!C200","v":0},{"$f":"FundDataInput!D200","v":0},{"$f":"FundDataInput!E200","v":0},{"$f":"IF(ISERROR(VLOOKUP(C200,C$2:C199,1,FALSE)),MAX(F$2:F199)+1,VLOOKUP(C200,C$2:F199,4,FALSE))","v":1},null,null,null,null,null,null,null,null,null,null,null,null,null,null,null,null,9999]
[{"$f":"FundDataInput!A201","v":0},{"$f":"FundDataInput!B201","v":0},{"$f":"FundDataInput!C201","v":0},{"$f":"FundDataInput!D201","v":0},{"$f":"FundDataInput!E201","v":0},{"$f":"IF(ISERROR(VLOOKUP(C201,C$2:C200,1,FALSE)),MAX(F$2:F200)+1,VLOOKUP(C201,C$2:F200,4,FALSE))","v":1},null,null,null,null,null,null,null,null,null,null,null,null,null,null,null,null,9999]
[null,null,"(no more than 50 projects X 4 years/project = 200 rows)"]

{"sheet":"CHECK DATA FIT","index":65,"n_rows":27,"n_cols":10,"rows_kept":27,"cut":false,"hidden":false,"merged":[]}
["CHECK FIT OF SYSTEM DATA "]
[]
["PROJECT RECORDS (into \"ProjDataInput\" Tab)",null,null,null,null,null,"FUND RECORDS (into \"FundDataInput\" Tab)"]
[]
["NOTE: Field names don't have to match the name of your column header, the",null,null,null,null,null,"NOTE: Field names don't have to match the name of your column header, the"]
["columns just have to be in the correct order",null,null,null,null,null,"columns just have to be in the correct order"]
[null,null,null,"Data row shown:"]
["FIELD NAME","YOUR COLUMN HEADER","YOUR Nth DATA ROW",{"$f":"\"N = \"","v":"N = "},1,null,"FIELD NAME","YOUR COLUMN HEADER","YOUR Nth DATA ROW"]
["ProgramName",{"$f":"LEFT(INDIRECT(ADDRESS(1,ROW(B9)-8,1,TRUE,\"ProjDataInput\")),48)","v":"ProgramName"},{"$f":"LEFT(INDIRECT(ADDRESS($E$8+1,ROW(B9)-8,1,TRUE,\"ProjDataInput\")),48)","v":""},{"$f":"\" \"","v":" "},null,null,"ProgramID",{"$f":"LEFT(INDIRECT(ADDRESS(1,ROW(B9)-8,1,TRUE,\"FundDataInput\")),48)","v":"Program ID number"},{"$f":"INDIRECT(ADDRESS($E$8+1,ROW(B9)-8,1,TRUE,\"FundDataInput\"))","v":0},{"$f":"\" \"","v":" "}]
["ProjectNumber",{"$f":"LEFT(INDIRECT(ADDRESS(1,ROW(B10)-8,1,TRUE,\"ProjDataInput\")),48)","v":"ProjectNumber"},{"$f":"LEFT(INDIRECT(ADDRESS($E$8+1,ROW(B10)-8,1,TRUE,\"ProjDataInput\")),48)","v":""},{"$f":"\" \"","v":" "},null,null,"Year",{"$f":"LEFT(INDIRECT(ADDRESS(1,ROW(B10)-8,1,TRUE,\"FundDataInput\")),48)","v":"Year"},{"$f":"INDIRECT(ADDRESS($E$8+1,ROW(B10)-8,1,TRUE,\"FundDataInput\"))","v":0},{"$f":"\" \"","v":" "}]
["ProjectTitle","ProjectTitle",""," ",null,null,"ProjectNumber","Proj No",{"$f":"LEFT(INDIRECT(ADDRESS($E$8+1,ROW(B11)-8,1,TRUE,\"FundDataInput\")),48)","v":""}," "]
["ProgramFocusAreas","ProgramFocusArea",""," ",null,null,"Federal","Federal",0," "]
["ProgramPartners","ProgramPartners",""," ",null,null,"Match","Match",0," "]
["ClassificationCodes","ClassificationCodes",""," ",null,null,"Comments ","Comments",{"$f":"LEFT(INDIRECT(ADDRESS($E$8+1,ROW(B14)-8,1,TRUE,\"FundDataInput\")),48)","v":""}," "]
["Abstract","Abstract",""," "]
["TotalFederal","TotalFederal",{"$f":"INDIRECT(ADDRESS($E$8+1,ROW(B16)-8,1,TRUE,\"ProjDataInput\"))","v":0}," "]
["TotalMatch","TotalMatch",{"$f":"INDIRECT(ADDRESS($E$8+1,ROW(B17)-8,1,TRUE,\"ProjDataInput\"))","v":0}," "]
["PI1","PI1",""," "]
["Affiliation1","Affiliation1",""," "]
["PI2","PI2",""," "]
["Affiliation2","Affiliation2",""," "]
["PI3","PI3",""," "]
["Affiliation3","Affiliation3",""," "]
["PI4","PI4",""," "]
["Affiliation4","AFFIL4",""," "]
["DataSharingPlan","Data Sharing Plan",""," "]
["Comments","COMMENTS",""," "]

{"sheet":"ProjDataInput","index":66,"n_rows":1,"n_cols":19,"rows_kept":1,"cut":false,"hidden":false,"merged":[]}
["ProgramName","ProjectNumber","ProjectTitle","ProgramFocusArea","ProgramPartners","ClassificationCodes","Abstract","TotalFederal","TotalMatch","PI1","Affiliation1","PI2","Affiliation2","PI3","Affiliation3","PI4","AFFIL4","Data Sharing Plan","COMMENTS"]

{"sheet":"FundDataInput","index":67,"n_rows":1,"n_cols":6,"rows_kept":1,"cut":false,"hidden":false,"merged":[]}
["Program ID number","Year","Proj No","Federal","Match","Comments"]